Report for SNA-Network-0.21

Back
From: metabase:user:30f4dfbe-2aae-11df-837a-5e0a49663a4f
Subject: PASS SNA-Network-0.21 v5.8.9 GNU/Linux
Date: 2016-01-30T10:43:40Z

This distribution has been tested as part of the CPAN Testers
project, supporting the Perl programming language.  See
http://wiki.cpantesters.org/ for more information or email
questions to cpan-testers-discuss@perl.org


--
Dear Darko Obradovic,

This is a computer-generated report for SNA-Network-0.21
on perl 5.8.9, created by CPAN-Reporter-1.2015.

Thank you for uploading your work to CPAN.  Congratulations!
All tests were successful.

Sections of this report:

    * Tester comments
    * Program output
    * Prerequisites
    * Environment and other context

------------------------------
TESTER COMMENTS
------------------------------

Additional comments from tester:

this report is from an automated smoke testing program
and was not reviewed by a human for accuracy

------------------------------
PROGRAM OUTPUT
------------------------------

Output from './Build test':

# Testing SNA::Network 0.21, Perl 5.008009, /home/njh/perl5/perlbrew/perls/perl-5.8.9/bin/perl5.8.9
t/00-load.t ........................... ok
t/01-network-basics.t ................. ok
t/02-filter-pajek.t ................... ok
t/03-filter-guess.t ................... ok
t/04-algorithm-hits.t ................. ok
t/05-plugins.t ........................ ok
t/06-algorithm-connectivity.t ......... ok
t/07-generator-by-density.t ........... ok
t/08-generator-configuration-model.t .. ok
t/09-algorithm-pagerank.t ............. ok
t/10-algorithm-betweenness.t .......... ok
t/11-algorithm-cores.t ................ ok
t/12-algorithm-louvain.t .............. ok
t/13-generator-mcmc.t ................. ok
t/boilerplate.t ....................... ok
t/pod-coverage.t ...................... ok
t/pod.t ............................... ok
All tests successful.

Test Summary Report
-------------------
t/boilerplate.t                     (Wstat: 0 Tests: 5 Failed: 0)
  TODO passed:   2, 4
Files=17, Tests=182,  1 wallclock secs ( 0.00 usr  0.00 sys +  1.07 cusr  0.07 csys =  1.14 CPU)
Result: PASS

------------------------------
PREREQUISITES
------------------------------

Prerequisite modules loaded:

build_requires:

    Module                  Need Have    
    ----------------------- ---- --------
    Carp                    0    1.38    
    List::MoreUtils         0    0.413   
    List::Util              0    1.42    
    Module::List::Pluggable 0    0.08    
    Object::Tiny::XS        0    1.01    
    Test::Memory::Cycle     0    1.06    
    Test::More              0    1.001014

configure_requires:

    Module                  Need Have    
    ----------------------- ---- --------
    Module::Build           0.42 0.4214  


------------------------------
ENVIRONMENT AND OTHER CONTEXT
------------------------------

Environment variables:

    AUTOMATED_TESTING = 1
    LANG = en_US.UTF-8
    PATH = /home/njh/perl5/perlbrew/bin:/home/njh/perl5/perlbrew/perls/perl-5.8.9/bin:/home/njh/perl5/perlbrew/bin:/usr/bin:/bin
    PERL5LIB = /home/njh/.cpan/build/Module-List-Pluggable-0.08-Vryu9d/blib/arch:/home/njh/.cpan/build/Module-List-Pluggable-0.08-Vryu9d/blib/lib:/home/njh/.cpan/build/Module-List-0.003-tXgBLO/blib/arch:/home/njh/.cpan/build/Module-List-0.003-tXgBLO/blib/lib:/home/njh/.cpan/build/Class-Base-0.06-M9jBOK/blib/arch:/home/njh/.cpan/build/Class-Base-0.06-M9jBOK/blib/lib:/home/njh/.cpan/build/Object-Tiny-XS-1.01-jn_nTR/blib/arch:/home/njh/.cpan/build/Object-Tiny-XS-1.01-jn_nTR/blib/lib:/home/njh/.cpan/build/Test-Memory-Cycle-1.06-HZAUTJ/blib/arch:/home/njh/.cpan/build/Test-Memory-Cycle-1.06-HZAUTJ/blib/lib:/home/njh/.cpan/build/Devel-Cycle-1.12-FVABLt/blib/arch:/home/njh/.cpan/build/Devel-Cycle-1.12-FVABLt/blib/lib:/home/njh/.cpan/build/PadWalker-2.2-yKw_qa/blib/arch:/home/njh/.cpan/build/PadWalker-2.2-yKw_qa/blib/lib
    PERL5OPT = 
    PERL5_CPANPLUS_IS_RUNNING = 9792
    PERL5_CPAN_IS_RUNNING = 9792
    PERL5_MINISMOKEBOX = 0.58
    PERLBREW_BASHRC_VERSION = 0.74
    PERLBREW_LIB = 
    PERLBREW_MANPATH = /home/njh/perl5/perlbrew/perls/perl-5.8.9/man
    PERLBREW_PATH = /home/njh/perl5/perlbrew/bin:/home/njh/perl5/perlbrew/perls/perl-5.8.9/bin
    PERLBREW_PERL = perl-5.8.9
    PERLBREW_ROOT = /home/njh/perl5/perlbrew
    PERLBREW_VERSION = 0.74
    PERL_EXTUTILS_AUTOINSTALL = --defaultdeps
    PERL_LOCAL_LIB_ROOT = 
    PERL_MM_USE_DEFAULT = 1
    SHELL = /bin/sh

Perl special variables (and OS-specific diagnostics, for MSWin32):

    $^X = /home/njh/perl5/perlbrew/perls/perl-5.8.9/bin/perl5.8.9
    $UID/$EUID = 1000 / 1000
    $GID = 1000 4 24 25 29 30 44 46 103 104 107 110 1000
    $EGID = 1000 4 24 25 29 30 44 46 103 104 107 110 1000

Perl module toolchain versions installed:

    Module              Have    
    ------------------- --------
    CPAN                1.9800  
    CPAN::Meta          2.150005
    Cwd                 3.47    
    ExtUtils::CBuilder  0.280224
    ExtUtils::Command   7.10    
    ExtUtils::Install   2.04    
    ExtUtils::MakeMaker 7.10    
    ExtUtils::Manifest  1.70    
    ExtUtils::ParseXS   3.30    
    File::Spec          3.47    
    JSON                2.90    
    JSON::PP            2.27300 
    Module::Build       0.4214  
    Module::Signature   n/a     
    Parse::CPAN::Meta   1.4417  
    Test::Harness       3.35    
    Test::More          1.001014
    YAML                1.15    
    YAML::Syck          1.29    
    version             0.9912  


--

Summary of my perl5 (revision 5 version 8 subversion 9) configuration:
  Platform:
    osname=linux, osvers=3.16-2-amd64, archname=x86_64-linux-thread-multi
    uname='linux cyberpower2 3.16-2-amd64 #1 smp debian 3.16.3-2 (2014-09-20) x86_64 gnulinux '
    config_args='-de -Dprefix=/home/njh/perl5/perlbrew/perls/perl-5.8.9 -Duseithreads -Dusemultiplicity -Dusedevel -Accflags=-O2 -W -Wformat=2 -Wswitch -Wshadow -Wwrite-strings -Wuninitialized -Wall -pipe -mtune=native -march=native -fomit-frame-pointer -msse2 -msse -mmmx -mfpmath=sse -pedantic -D_FORTIFY_SOURCE=2 -Wpointer-arith -Wstrict-prototypes -fstack-protector -Wstack-protector -Wextra -Wbad-function-cast -Wcast-align -Wcast-qual -Wdisabled-optimization -Wendif-labels -Wfloat-equal -Wformat-nonliteral -Winline -Wmissing-declarations -Wmissing-prototypes -Wnested-externs -Wpointer-arith -Wundef -Wformat-security -ftree-vectorize -fdiagnostics-color=auto -Aeval:scriptdir=/home/njh/perl5/perlbrew/perls/perl-5.8.9/bin'
    hint=recommended, useposix=true, d_sigaction=define
    usethreads=define use5005threads=undef useithreads=define usemultiplicity=define
    useperlio=define d_sfio=undef uselargefiles=define usesocks=undef
    use64bitint=define use64bitall=define uselongdouble=undef
    usemymalloc=n, bincompat5005=undef
  Compiler:
    cc='cc', ccflags ='-D_REENTRANT -D_GNU_SOURCE -O2 -W -Wformat=2 -Wswitch -Wshadow -Wwrite-strings -Wuninitialized -Wall -pipe -mtune=native -march=native -fomit-frame-pointer -msse2 -msse -mmmx -mfpmath=sse -pedantic -D_FORTIFY_SOURCE=2 -Wpointer-arith -Wstrict-prototypes -fstack-protector -Wstack-protector -Wextra -Wbad-function-cast -Wcast-align -Wcast-qual -Wdisabled-optimization -Wendif-labels -Wfloat-equal -Wformat-nonliteral -Winline -Wmissing-declarations -Wmissing-prototypes -Wnested-externs -Wpointer-arith -Wundef -Wformat-security -ftree-vectorize -fdiagnostics-color=auto -fno-strict-aliasing -I/usr/local/include -D_LARGEFILE_SOURCE -D_FILE_OFFSET_BITS=64',
    optimize='-O2',
    cppflags='-D_REENTRANT -D_GNU_SOURCE -O2 -W -Wformat=2 -Wswitch -Wshadow -Wwrite-strings -Wuninitialized -Wall -pipe -mtune=native -march=native -fomit-frame-pointer -msse2 -msse -mmmx -mfpmath=sse -pedantic -D_FORTIFY_SOURCE=2 -Wpointer-arith -Wstrict-prototypes -fstack-protector -Wstack-protector -Wextra -Wbad-function-cast -Wcast-align -Wcast-qual -Wdisabled-optimization -Wendif-labels -Wfloat-equal -Wformat-nonliteral -Winline -Wmissing-declarations -Wmissing-prototypes -Wnested-externs -Wpointer-arith -Wundef -Wformat-security -ftree-vectorize -fdiagnostics-color=auto -fno-strict-aliasing -I/usr/local/include'
    ccversion='', gccversion='4.9.1', gccosandvers=''
    intsize=4, longsize=8, ptrsize=8, doublesize=8, byteorder=12345678
    d_longlong=define, longlongsize=8, d_longdbl=define, longdblsize=16
    ivtype='long', ivsize=8, nvtype='double', nvsize=8, Off_t='off_t', lseeksize=8
    alignbytes=8, prototype=define
  Linker and Libraries:
    ld='cc', ldflags =' -L/usr/local/lib'
    libpth=/usr/local/lib /lib/x86_64-linux-gnu /lib/../lib /usr/lib/x86_64-linux-gnu /usr/lib/../lib /lib /usr/lib
    libs=-lnsl -lgdbm -ldb -ldl -lm -lcrypt -lutil -lpthread -lc -lgdbm_compat
    perllibs=-lnsl -ldl -lm -lcrypt -lutil -lpthread -lc -lgdbm_compat
    libc=libc-2.19.so, so=so, useshrplib=false, libperl=libperl.a
    gnulibc_version='2.19'
  Dynamic Linking:
    dlsrc=dl_dlopen.xs, dlext=so, d_dlsymun=undef, ccdlflags='-Wl,-E'
    cccdlflags='-fPIC', lddlflags='-shared -O2 -L/usr/local/lib'


Characteristics of this binary (from libperl): 
  Compile-time options: MULTIPLICITY PERL_IMPLICIT_CONTEXT PERL_MALLOC_WRAP
                        USE_64_BIT_ALL USE_64_BIT_INT USE_FAST_STDIO
                        USE_ITHREADS USE_LARGE_FILES USE_PERLIO
                        USE_REENTRANT_API
  Built under linux
  Compiled at Oct 15 2014 10:06:00
  %ENV:
    PERL5LIB="/home/njh/.cpan/build/Module-List-Pluggable-0.08-Vryu9d/blib/arch:/home/njh/.cpan/build/Module-List-Pluggable-0.08-Vryu9d/blib/lib:/home/njh/.cpan/build/Module-List-0.003-tXgBLO/blib/arch:/home/njh/.cpan/build/Module-List-0.003-tXgBLO/blib/lib:/home/njh/.cpan/build/Class-Base-0.06-M9jBOK/blib/arch:/home/njh/.cpan/build/Class-Base-0.06-M9jBOK/blib/lib:/home/njh/.cpan/build/Object-Tiny-XS-1.01-jn_nTR/blib/arch:/home/njh/.cpan/build/Object-Tiny-XS-1.01-jn_nTR/blib/lib:/home/njh/.cpan/build/Test-Memory-Cycle-1.06-HZAUTJ/blib/arch:/home/njh/.cpan/build/Test-Memory-Cycle-1.06-HZAUTJ/blib/lib:/home/njh/.cpan/build/Devel-Cycle-1.12-FVABLt/blib/arch:/home/njh/.cpan/build/Devel-Cycle-1.12-FVABLt/blib/lib:/home/njh/.cpan/build/PadWalker-2.2-yKw_qa/blib/arch:/home/njh/.cpan/build/PadWalker-2.2-yKw_qa/blib/lib"
    PERL5OPT=""
    PERL5_CPANPLUS_IS_RUNNING="9792"
    PERL5_CPAN_IS_RUNNING="9792"
    PERL5_MINISMOKEBOX="0.58"
    PERLBREW_BASHRC_VERSION="0.74"
    PERLBREW_LIB=""
    PERLBREW_MANPATH="/home/njh/perl5/perlbrew/perls/perl-5.8.9/man"
    PERLBREW_PATH="/home/njh/perl5/perlbrew/bin:/home/njh/perl5/perlbrew/perls/perl-5.8.9/bin"
    PERLBREW_PERL="perl-5.8.9"
    PERLBREW_ROOT="/home/njh/perl5/perlbrew"
    PERLBREW_VERSION="0.74"
    PERL_EXTUTILS_AUTOINSTALL="--defaultdeps"
    PERL_LOCAL_LIB_ROOT=""
    PERL_MM_USE_DEFAULT="1"
  @INC:
    /home/njh/.cpan/build/Module-List-Pluggable-0.08-Vryu9d/blib/arch
    /home/njh/.cpan/build/Module-List-Pluggable-0.08-Vryu9d/blib/lib
    /home/njh/.cpan/build/Module-List-0.003-tXgBLO/blib/arch
    /home/njh/.cpan/build/Module-List-0.003-tXgBLO/blib/lib
    /home/njh/.cpan/build/Class-Base-0.06-M9jBOK/blib/arch
    /home/njh/.cpan/build/Class-Base-0.06-M9jBOK/blib/lib
    /home/njh/.cpan/build/Object-Tiny-XS-1.01-jn_nTR/blib/arch
    /home/njh/.cpan/build/Object-Tiny-XS-1.01-jn_nTR/blib/lib
    /home/njh/.cpan/build/Test-Memory-Cycle-1.06-HZAUTJ/blib/arch
    /home/njh/.cpan/build/Test-Memory-Cycle-1.06-HZAUTJ/blib/lib
    /home/njh/.cpan/build/Devel-Cycle-1.12-FVABLt/blib/arch
    /home/njh/.cpan/build/Devel-Cycle-1.12-FVABLt/blib/lib
    /home/njh/.cpan/build/PadWalker-2.2-yKw_qa/blib/arch
    /home/njh/.cpan/build/PadWalker-2.2-yKw_qa/blib/lib
    /home/njh/perl5/perlbrew/perls/perl-5.8.9/lib/5.8.9/x86_64-linux-thread-multi
    /home/njh/perl5/perlbrew/perls/perl-5.8.9/lib/5.8.9
    /home/njh/perl5/perlbrew/perls/perl-5.8.9/lib/site_perl/5.8.9/x86_64-linux-thread-multi
    /home/njh/perl5/perlbrew/perls/perl-5.8.9/lib/site_perl/5.8.9
    .