Report for Text-VimColor-0.24

Back
From: metabase:user:b53c7f44-4c0e-11e4-9ced-a04ade49192c
Subject: PASS Text-VimColor-0.24 v5.21.8 GNU/Linux
Date: 2015-02-18T11:00:18Z

This distribution has been tested as part of the CPAN Testers
project, supporting the Perl programming language.  See
http://wiki.cpantesters.org/ for more information or email
questions to cpan-testers-discuss@perl.org


--
Dear Randy Stauner,

This is a computer-generated report for Text-VimColor-0.24
on perl 5.21.8, created by CPAN-Reporter-1.2011.

Thank you for uploading your work to CPAN.  Congratulations!
All tests were successful.

Sections of this report:

    * Tester comments
    * Program output
    * Prerequisites
    * Environment and other context

------------------------------
TESTER COMMENTS
------------------------------

Additional comments from tester:

this report is from an automated smoke testing program
and was not reviewed by a human for accuracy

------------------------------
PROGRAM OUTPUT
------------------------------

Output from '/usr/bin/make test':

Skip blib/lib/auto/share/dist/Text-VimColor/light.css (unchanged)
Skip blib/lib/auto/share/dist/Text-VimColor/light.xsl (unchanged)
Skip blib/lib/auto/share/dist/Text-VimColor/mark.vim (unchanged)
PERL_DL_NONLAZY=1 "/opt/perl492-32-O0-5.21.8/bin/perl" "-MExtUtils::Command::MM" "-MTest::Harness" "-e" "undef *Test::Harness::Switches; test_harness(0, 'blib/lib', 'blib/arch')" t/*.t
t/00-compile.t ......... ok
# 
# Versions for all modules listed in MYMETA.json (including optional ones):
#    Version Module                  
#   -------- ------------------------
#   2.143240 CPAN::Meta              
#      2.132 CPAN::Meta::Requirements
#     1.3301 Carp                    
#       5.70 Exporter                
#       7.04 ExtUtils::MakeMaker     
#       2.30 File::Copy              
#      1.102 File::ShareDir          
#       0.10 File::ShareDir::Install 
#       3.47 File::Spec              
#       3.47 File::Spec::Functions   
#     0.2304 File::Temp              
#       2.43 Getopt::Long            
#       1.14 IO::File                
#       1.28 IO::Handle              
#       1.18 IPC::Open3              
#       1.41 List::Util              
#       0.35 Path::Class             
#       1.07 Symbol                  
#       4.03 Term::ANSIColor         
#   1.001014 Test::More              
#       1.27 constant                
#       0.63 lib                     
#       1.09 strict                  
#     0.9912 version                 
#       1.30 warnings                
t/00-report-prereqs.t .. ok
# vim --version
# 
# VIM - Vi IMproved 7.2 (2008 Aug 9, compiled Dec  1 2008 10:41:29)
# Included patches: 1-60
# Modified by <bugzilla@redhat.com>
# Compiled by <bugzilla@redhat.com>
# Huge version without GUI.  Features included (+) or not (-):
# +arabic +autocmd -balloon_eval -browse ++builtin_terms +byte_offset +cindent 
# -clientserver -clipboard +cmdline_compl +cmdline_hist +cmdline_info +comments 
# +cryptv +cscope +cursorshape +dialog_con +diff +digraphs -dnd -ebcdic 
# +emacs_tags +eval +ex_extra +extra_search +farsi +file_in_path +find_in_path 
# +float +folding -footer +fork() +gettext -hangul_input +iconv +insert_expand 
# +jumplist +keymap +langmap +libcall +linebreak +lispindent +listcmds +localmap 
# +menu +mksession +modify_fname +mouse -mouseshape +mouse_dec +mouse_gpm 
# -mouse_jsbterm +mouse_netterm -mouse_sysmouse +mouse_xterm +multi_byte 
# +multi_lang -mzscheme -netbeans_intg -osfiletype +path_extra +perl +postscript 
# +printer +profile +python +quickfix +reltime +rightleft -ruby +scrollbind 
# +signs +smartindent -sniff +statusline -sun_workshop +syntax +tag_binary 
# +tag_old_static -tag_any_white -tcl +terminfo +termresponse +textobjects +title
#  -toolbar +user_commands +vertsplit +virtualedit +visual +visualextra +viminfo 
# +vreplace +wildignore +wildmenu +windows +writebackup -X11 -xfontset -xim -xsmp
#  -xterm_clipboard -xterm_save 
#    system vimrc file: "/etc/vimrc"
#      user vimrc file: "$HOME/.vimrc"
#       user exrc file: "$HOME/.exrc"
#   fall-back for $VIM: "/usr/share/vim"
# Compilation: gcc -c -I. -Iproto -DHAVE_CONFIG_H     -O2 -g -pipe -Wall -Wp,-D_FORTIFY_SOURCE=2 -fexceptions -fstack-protector --param=ssp-buffer-size=4 -m32 -march=i386 -mtune=generic -fasynchronous-unwind-tables -D_GNU_SOURCE -D_FILE_OFFSET_BITS=64 -D_FORTIFY_SOURCE=2 -D_FORTIFY_SOURCE=1    -D_REENTRANT -D_GNU_SOURCE -DDEBUGGING  -I/usr/local/include -D_LARGEFILE_SOURCE -D_FILE_OFFSET_BITS=64 -I/usr/include/gdbm  -I/usr/lib/perl5/5.10.0/i386-linux-thread-multi/CORE  -I/usr/include/python2.5 -pthread   
# Linking: gcc   -Wl,-E -Wl,-rpath,/usr/lib/perl5/5.10.0/i386-linux-thread-multi/CORE   -L/usr/local/lib -o vim       -lselinux  -lncurses -lacl -lgpm   -Wl,-E -Wl,-rpath,/usr/lib/perl5/5.10.0/i386-linux-thread-multi/CORE  -L/usr/local/lib  -L/usr/lib/perl5/5.10.0/i386-linux-thread-multi/CORE -lperl -lresolv -lutil -lc -L/usr/lib/python2.5/config -lpython2.5 -lutil -lm -Xlinker -export-dynamic    
# 
t/000-vim-version.t .... ok
t/ansi.t ............... ok
t/bin.t ................ ok
t/compare-formats.t .... ok
t/encoding.t ........... ok
t/html.t ............... ok
t/input_filename.t ..... ok
t/new.t ................ ok
t/override-options.t ... ok
t/share-dir.t .......... ok
t/tvctestsyn.t ......... ok
t/untie-std-handles.t .. ok
t/vim_let.t ............ ok
t/vim_options.t ........ ok
t/xml.t ................ ok
All tests successful.

Test Summary Report
-------------------
t/encoding.t         (Wstat: 0 Tests: 8 Failed: 0)
  TODO passed:   5-6
Files=17, Tests=136, 21 wallclock secs ( 0.45 usr  0.06 sys + 14.56 cusr  1.32 csys = 16.39 CPU)
Result: PASS

------------------------------
PREREQUISITES
------------------------------

Prerequisite modules loaded:

requires:

    Module                   Need     Have    
    ------------------------ -------- --------
    Carp                     0        1.3301  
    constant                 0        1.27    
    File::Copy               0        2.30    
    File::ShareDir           0        1.102   
    File::Temp               0        0.2304  
    Getopt::Long             0        2.43    
    IO::File                 0        1.14    
    IPC::Open3               0        1.18    
    Path::Class              0.04     0.35    
    strict                   0        1.09    
    Symbol                   0        1.07    
    Term::ANSIColor          1.03     4.03    
    warnings                 0        1.30    

build_requires:

    Module                   Need     Have    
    ------------------------ -------- --------
    Exporter                 0        5.70    
    ExtUtils::MakeMaker      0        7.04    
    File::Spec               0        3.47    
    File::Spec::Functions    0        3.47    
    File::Temp               0        0.2304  
    IO::Handle               0        1.28    
    IPC::Open3               0        1.18    
    lib                      0        0.63    
    List::Util               0        1.41    
    Path::Class              0.04     0.35    
    Test::More               0.88     1.001014
    version                  0        0.9912  

configure_requires:

    Module                   Need     Have    
    ------------------------ -------- --------
    ExtUtils::MakeMaker      6.30     7.04    
    File::ShareDir::Install  0.03     0.10    
    File::Temp               0        0.2304  
    IO::File                 0        1.14    
    IPC::Open3               0        1.18    
    strict                   0        1.09    
    warnings                 0        1.30    

opt_requires:

    Module                   Need     Have    
    ------------------------ -------- --------
    Term::ANSIColor          3        4.03    

opt_build_requires:

    Module                   Need     Have    
    ------------------------ -------- --------
    CPAN::Meta               0        2.143240
    CPAN::Meta::Requirements 2.120900 2.132   


------------------------------
ENVIRONMENT AND OTHER CONTEXT
------------------------------

Environment variables:

    AUTOMATED_TESTING = 1
    LANG = en_US.utf8
    MB_TEST_EXPERIMENTAL = 1
    NONINTERACTIVE_TESTING = 1
    PATH = /usr/lib/qt-3.3/bin:/usr/kerberos/sbin:/usr/kerberos/bin:/usr/lib/ccache:/usr/local/sbin:/usr/sbin:/sbin:/usr/local/bin:/usr/bin:/bin:/usr/lib/firebird/bin:/opt/real/RealPlayer:/root/bin:/usr/lib/firebird/bin:/opt/real/RealPlayer
    PERL5LIB = 
    PERL5OPT = 
    PERL5_CPANPLUS_IS_RUNNING = 5433
    PERL5_CPAN_IS_RUNNING = 5433
    PERL_ANYEVENT_MODEL = POE
    PERL_EXTUTILS_AUTOINSTALL = --defaultdeps
    PERL_MM_USE_DEFAULT = 1
    SHELL = /bin/bash
    TERM = xterm

Perl special variables (and OS-specific diagnostics, for MSWin32):

    $^X = /opt/perl492-32-O0-5.21.8/bin/perl
    $UID/$EUID = 0 / 0
    $GID = 0 0 1 2 3 4 6 10
    $EGID = 0 0 1 2 3 4 6 10

Perl module toolchain versions installed:

    Module              Have    
    ------------------- --------
    CPAN                2.05    
    CPAN::Meta          2.143240
    Cwd                 3.47    
    ExtUtils::CBuilder  0.280220
    ExtUtils::Command   1.20    
    ExtUtils::Install   2.04    
    ExtUtils::MakeMaker 7.04    
    ExtUtils::Manifest  1.70    
    ExtUtils::ParseXS   3.24    
    File::Spec          3.47    
    JSON                2.90    
    JSON::PP            2.27300 
    Module::Build       0.4211  
    Module::Signature   0.73    
    Parse::CPAN::Meta   1.4414  
    Test::Harness       3.35    
    Test::More          1.001014
    YAML                1.14    
    YAML::Syck          1.29    
    version             0.9912  


--

Summary of my perl5 (revision 5 version 21 subversion 8) configuration:
   
  Platform:
    osname=linux, osvers=2.6.32.63, archname=i686-linux-thread-multi-64int-ld
    uname='linux localhost.localdomain 2.6.32.63 #2 smp fri jan 30 10:45:01 pst 2015 i686 i686 i386 gnulinux '
    config_args='-Dcc=/opt/492/bin/gcc -Dprefix=/opt/perl492-32-O0-5.21.8 -DDEBUGGING'
    hint=recommended, useposix=true, d_sigaction=define
    useithreads=define, usemultiplicity=define
    use64bitint=define, use64bitall=undef, uselongdouble=define
    usemymalloc=y, bincompat5005=undef
  Compiler:
    cc='/opt/492/bin/gcc', ccflags ='-D_REENTRANT -D_GNU_SOURCE -fwrapv -DDEBUGGING -fno-strict-aliasing -pipe -fstack-protector-strong -I/usr/local/include -D_LARGEFILE_SOURCE -D_FILE_OFFSET_BITS=64 -D_FORTIFY_SOURCE=2',
    optimize='-O0 -g',
    cppflags='-D_REENTRANT -D_GNU_SOURCE -fwrapv -DDEBUGGING -fno-strict-aliasing -pipe -fstack-protector-strong -I/usr/local/include'
    ccversion='', gccversion='4.9.2', gccosandvers=''
    intsize=4, longsize=4, ptrsize=4, doublesize=8, byteorder=12345678, doublekind=3
    d_longlong=define, longlongsize=8, d_longdbl=define, longdblsize=12, longdblkind=3
    ivtype='long long', ivsize=8, nvtype='long double', nvsize=12, Off_t='off_t', lseeksize=8
    alignbytes=4, prototype=define
  Linker and Libraries:
    ld='/opt/492/bin/gcc', ldflags =' -fstack-protector-strong -L/usr/local/lib'
    libpth=/usr/local/lib /opt/492/lib /opt/492/lib/gcc/i686-pc-linux-gnu/4.9.2/include-fixed /usr/lib /lib
    libs=-lpthread -lnsl -lgdbm -ldb -ldl -lm -lcrypt -lutil -lc
    perllibs=-lpthread -lnsl -ldl -lm -lcrypt -lutil -lc
    libc=libc-2.8.so, so=so, useshrplib=true, libperl=libperl.so
    gnulibc_version='2.8'
  Dynamic Linking:
    dlsrc=dl_dlopen.xs, dlext=so, d_dlsymun=undef, ccdlflags='-Wl,-E -Wl,-rpath,/opt/perl492-32-O0-5.21.8/lib/5.21.8/i686-linux-thread-multi-64int-ld/CORE'
    cccdlflags='-fPIC', lddlflags='-shared -O0 -g -L/usr/local/lib -fstack-protector-strong'


Characteristics of this binary (from libperl): 
  Compile-time options: DEBUGGING HAS_TIMES MULTIPLICITY MYMALLOC
                        PERLIO_LAYERS PERL_DONT_CREATE_GVSV
                        PERL_HASH_FUNC_ONE_AT_A_TIME_HARD
                        PERL_IMPLICIT_CONTEXT PERL_MALLOC_WRAP
                        PERL_NEW_COPY_ON_WRITE PERL_PRESERVE_IVUV
                        PERL_TRACK_MEMPOOL USE_64_BIT_INT USE_FAST_STDIO
                        USE_ITHREADS USE_LARGE_FILES USE_LOCALE
                        USE_LOCALE_COLLATE USE_LOCALE_CTYPE
                        USE_LOCALE_NUMERIC USE_LOCALE_TIME USE_LONG_DOUBLE
                        USE_PERLIO USE_PERL_ATOF USE_REENTRANT_API
  Built under linux
  Compiled at Feb 13 2015 20:10:30
  %ENV:
    PERL5LIB=""
    PERL5OPT=""
    PERL5_CPANPLUS_IS_RUNNING="5433"
    PERL5_CPAN_IS_RUNNING="5433"
    PERL_ANYEVENT_MODEL="POE"
    PERL_EXTUTILS_AUTOINSTALL="--defaultdeps"
    PERL_MM_USE_DEFAULT="1"
  @INC:
    /opt/perl492-32-O0-5.21.8/lib/site_perl/5.21.8/i686-linux-thread-multi-64int-ld
    /opt/perl492-32-O0-5.21.8/lib/site_perl/5.21.8
    /opt/perl492-32-O0-5.21.8/lib/5.21.8/i686-linux-thread-multi-64int-ld
    /opt/perl492-32-O0-5.21.8/lib/5.21.8
    .