FileHandle-Unget v0.1629 Perl 5 v5.14.2 x86_64-linux-thread-multi

Status
Pass
From
Nigel Horne
Dist
FileHandle-Unget v0.1629
Platform
Perl 5 v5.14.2 x86_64-linux-thread-multi
Date
2018-07-03 03:58:21
ID
5368c096-7e75-11e8-8fb1-ef5133556b3f
This distribution has been tested as part of the CPAN Testers
project, supporting the Perl programming language.  See
http://wiki.cpantesters.org/ for more information or email
questions to cpan-testers-discuss@perl.org


--
Dear David Coppit,

This is a computer-generated report for FileHandle-Unget-0.1629
on perl 5.14.2, created by CPAN-Reporter-1.2018.

Thank you for uploading your work to CPAN.  Congratulations!
All tests were successful.

Sections of this report:

    * Tester comments
    * Program output
    * Prerequisites
    * Environment and other context

------------------------------
TESTER COMMENTS
------------------------------

Additional comments from tester:

this report is from an automated smoke testing program
and was not reviewed by a human for accuracy

------------------------------
PROGRAM OUTPUT
------------------------------

Output from '/usr/bin/make test':

PERL_DL_NONLAZY=1 "/home/njh/perl5/perlbrew/perls/perl-5.14.2/bin/perl" "-MExtUtils::Command::MM" "-MTest::Harness" "-e" "undef *Test::Harness::Switches; test_harness(1, 'blib/lib', 'blib/arch')" t/*.t
t/000_standard__perl_critic.t .. skipped: Author test. Set $ENV{TEST_AUTHOR} to a true value to run.
t/000_standard__compile.t ...... 
1..1
ok 1 - Compile test for blib/lib/FileHandle/Unget.pm
ok
t/000_standard__pod.t .......... 
1..1
ok 1 - POD test for blib/lib/FileHandle/Unget.pm
ok
Under windows, calling binmode after eof exposes a bug that exists in some versions of Perl.
t/binmode_bug.t ................ 
1..2
ok 1
ok 2
ok
t/class_pipe.t ................. 
1..2
ok 1 - Fork succeeded
ok 2 - Child output
ok
t/buffer.t ..................... 
1..3
ok 1
ok 2
ok 3
ok
t/core_pipe.t .................. 
1..2
ok 1 - Fork succeeded
ok 2 - Child output
ok
t/dumper.t ..................... 
1..1
ok 1 - Dumped Filehandle::Unget
ok
t/eof.t ........................ 
1..4
ok 1 - Read first line
ok 2 - Read second line
ok 3 - EOF getline
ok 4 - EOF getlines
ok
t/filehandle.t ................. 
1..13
ok 1 - No eol separator
ok 2 - Input line number at start
ok 3 - First line
ok 4 - Input line number at middle
ok 5 - Getlines size
ok 6 - First line
ok 7 - Second line
ok 8 - EOF
ok 9 - read() function
ok 10 - Number of bytes read
ok 11 - read() method
ok 12 - Number of bytes read
ok 13 - new from fd
ok
t/fileno.t ..................... 
1..1
ok 1 - fileno()
ok
t/gensym.t ..................... 
1..12
ok 1 - syswrite()
ok 2 - input_line_number()
ok 3 - getline()
ok 4 - input_line_number() after reading
ok 5 - getlines() size
ok 6 - First line
ok 7 - Second line
ok 8 - EOF
ok 9 - read() function
ok 10 - Number of bytes read
ok 11 - read() method
ok 12 - Number of bytes read
ok
t/input_record_separator.t ..... 
1..7
ok 1 - First line
ok 2 - No eol separator
ok 3 - First line
ok 4 - Second line
ok 5 - Newline end of file
ok 6 - First line
ok 7 - Undef end of line
ok
t/loop_bug.t ................... 
1..1
ok 1 - Loop bug
ok
t/memory_leak.t ................ 
1..1
ok 1 # skip Devel::Leak not installed
ok
t/multiple_handles.t ........... 
1..4
ok 1 - Unget 1
ok 2 - Unget 2
ok 3 - Get 1
ok 4 - Get 2
ok
t/overridden_pipe.t ............ 
1..2
ok 1 - Fork succeeded
ok 2 - Child output
ok
t/new.t ........................ 
1..12
ok 1 - syswrite()
ok 2 - input_line_number()
ok 3 - First line
ok 4 - Second line
ok 5 - getlines()
ok 6 - First line
ok 7 - Second line
ok 8 - EOF
ok 9 - read() function (filehandle)
ok 10 - Number of bytes read (filehandle)
ok 11 - read() method (filehandle)
ok 12 - Number of bytes read (filehandle)
ok
t/seek.t ....................... 
1..3
ok 1 - Seek absolute
ok 2 - Seek to front
ok 3 - Seek backward
ok
t/stdin_tell_bug.t ............. 
1..3
ok 1 - Executing external program
ok 2 - Output matches
ok 3 - Stderr matches
ok
t/tell.t ....................... 
1..5
ok 1 - Tell 1
ok 2 - Tell 2
ok 3 - Tell 3
ok 4 - Tell 4
ok 5 - Tell 5
ok
t/ungetc.t ..................... 
1..5
ok 1 - Ungetc
ok 2 - getline()
ok 3 - read() after insert
ok 4 - getline() 1
ok 5 - getline() 2
ok
t/ungets.t ..................... 
1..9
ok 1 - ungets() 1
ok 2 - getline()
ok 3 - ungets() 2
ok 4 - getline()
ok 5 - getline() 2
ok 6 - ungets()
ok 7 - getline() 1
ok 8 - getline() 2
ok 9 - getline() 3
ok
All tests successful.
Files=23, Tests=94,  2 wallclock secs ( 0.08 usr  0.02 sys +  1.90 cusr  0.30 csys =  2.30 CPU)
Result: PASS

------------------------------
PREREQUISITES
------------------------------

Prerequisite modules loaded:

requires:

    Module                Need  Have    
    --------------------- ----- --------
    perl                  5.005 5.014002
    Scalar::Util          1.14  1.48    

build_requires:

    Module                Need  Have    
    --------------------- ----- --------
    ExtUtils::MakeMaker   6.36  7.30    
    File::Slurp           0     9999.19 
    File::Spec::Functions 0     3.33    
    Test::Compile         0     v1.3.0  
    Test::More            0     1.302136
    UNIVERSAL::require    0     0.18    
    URI::Escape           0     3.31    

configure_requires:

    Module                Need  Have    
    --------------------- ----- --------
    ExtUtils::MakeMaker   6.36  7.30    
    URI::Escape           0     3.31    


------------------------------
ENVIRONMENT AND OTHER CONTEXT
------------------------------

Environment variables:

    AUTOMATED_TESTING = 1
    HARNESS_OPTIONS = j2
    LANG = en_US.UTF-8
    PATH = /home/njh/perl5/perlbrew/bin:/home/njh/perl5/perlbrew/perls/perl-5.14.2/bin:/home/njh/src/njh/smoker/bin:/usr/bin:/bin
    PERL5LIB = /home/njh/.cpan/build/Benchmark-Timer-0.7108-0/blib/arch:/home/njh/.cpan/build/Benchmark-Timer-0.7108-0/blib/lib
    PERL5OPT = 
    PERL5_CPANPLUS_IS_RUNNING = 28239
    PERL5_CPAN_IS_RUNNING = 28239
    PERLBREW_HOME = /home/njh/.perlbrew
    PERLBREW_MANPATH = /home/njh/perl5/perlbrew/perls/perl-5.14.2/man
    PERLBREW_PATH = /home/njh/perl5/perlbrew/bin:/home/njh/perl5/perlbrew/perls/perl-5.14.2/bin
    PERLBREW_PERL = perl-5.14.2
    PERLBREW_ROOT = /home/njh/perl5/perlbrew
    PERLBREW_SHELLRC_VERSION = 0.83
    PERLBREW_VERSION = 0.83
    SHELL = /bin/sh
    TEMP = /tmp/user/1000
    TMPDIR = /tmp/user/1000/testwrapper.28227

Perl special variables (and OS-specific diagnostics, for MSWin32):

    $^X = /home/njh/perl5/perlbrew/perls/perl-5.14.2/bin/perl
    $UID/$EUID = 1000 / 1000
    $GID = 1000 4 24 25 29 30 44 46 103 108 115 123 1000
    $EGID = 1000 4 24 25 29 30 44 46 103 108 115 123 1000

Perl module toolchain versions installed:

    Module              Have    
    ------------------- --------
    CPAN                2.16    
    CPAN::Meta          2.143240
    Cwd                 3.36    
    ExtUtils::CBuilder  0.280203
    ExtUtils::Command   7.30    
    ExtUtils::Install   2.06    
    ExtUtils::MakeMaker 7.30    
    ExtUtils::Manifest  1.70    
    ExtUtils::ParseXS   3.35    
    File::Spec          3.33    
    JSON                2.97001 
    JSON::PP            2.94    
    Module::Build       0.4224  
    Module::Signature   n/a     
    Parse::CPAN::Meta   1.4414  
    Test::Harness       3.39    
    Test::More          1.302136
    YAML                1.26    
    YAML::Syck          1.30    
    version             0.88    


--

Summary of my perl5 (revision 5 version 14 subversion 2) configuration:
   
  Platform:
    osname=linux, osvers=4.9.0-3-amd64, archname=x86_64-linux-thread-multi
    uname='linux amelia 4.9.0-3-amd64 #1 smp debian 4.9.25-1 (2017-05-02) x86_64 gnulinux '
    config_args='-de -Dprefix=/home/njh/perl5/perlbrew/perls/perl-5.14.2 -Duseithreads -Dusemultiplicity -Dusedevel -Accflags=-O2 -W -Wformat=2 -Wswitch -Wshadow -Wwrite-strings -Wuninitialized -Wall -pipe -fomit-frame-pointer -pedantic -D_FORTIFY_SOURCE=2 -Wpointer-arith -Wstrict-prototypes -fstack-protector -Wstack-protector -Wextra -Wbad-function-cast -Wcast-align -Wcast-qual -Wdisabled-optimization -Wendif-labels -Wfloat-equal -Wformat-nonliteral -Winline -Wmissing-declarations -Wmissing-prototypes -Wnested-externs -Wpointer-arith -Wundef -Wformat-security -ftree-vectorize -msse -mfpmath=sse -msse2 -mssse3 -msse4.1 -fdiagnostics-color=auto -mtune=native -march=native -Acc=gcc-7 -Aeval:scriptdir=/home/njh/perl5/perlbrew/perls/perl-5.14.2/bin'
    hint=recommended, useposix=true, d_sigaction=define
    useithreads=define, usemultiplicity=define
    useperlio=define, d_sfio=undef, uselargefiles=define, usesocks=undef
    use64bitint=define, use64bitall=define, uselongdouble=undef
    usemymalloc=n, bincompat5005=undef
  Compiler:
    cc=' gcc-7', ccflags ='-D_REENTRANT -D_GNU_SOURCE -O2 -W -Wformat=2 -Wswitch -Wshadow -Wwrite-strings -Wuninitialized -Wall -pipe -fomit-frame-pointer -pedantic -D_FORTIFY_SOURCE=2 -Wpointer-arith -Wstrict-prototypes -fstack-protector -Wstack-protector -Wextra -Wbad-function-cast -Wcast-align -Wcast-qual -Wdisabled-optimization -Wendif-labels -Wfloat-equal -Wformat-nonliteral -Winline -Wmissing-declarations -Wmissing-prototypes -Wnested-externs -Wpointer-arith -Wundef -Wformat-security -ftree-vectorize -msse -mfpmath=sse -msse2 -mssse3 -msse4.1 -fdiagnostics-color=auto -mtune=native -march=native -fno-strict-aliasing -I/usr/local/include -D_LARGEFILE_SOURCE -D_FILE_OFFSET_BITS=64',
    optimize='-O2',
    cppflags='-D_REENTRANT -D_GNU_SOURCE -O2 -W -Wformat=2 -Wswitch -Wshadow -Wwrite-strings -Wuninitialized -Wall -pipe -fomit-frame-pointer -pedantic -D_FORTIFY_SOURCE=2 -Wpointer-arith -Wstrict-prototypes -fstack-protector -Wstack-protector -Wextra -Wbad-function-cast -Wcast-align -Wcast-qual -Wdisabled-optimization -Wendif-labels -Wfloat-equal -Wformat-nonliteral -Winline -Wmissing-declarations -Wmissing-prototypes -Wnested-externs -Wpointer-arith -Wundef -Wformat-security -ftree-vectorize -msse -mfpmath=sse -msse2 -mssse3 -msse4.1 -fdiagnostics-color=auto -mtune=native -march=native -fno-strict-aliasing -I/usr/local/include'
    ccversion='', gccversion='7.1.0', gccosandvers=''
    intsize=4, longsize=8, ptrsize=8, doublesize=8, byteorder=12345678
    d_longlong=define, longlongsize=8, d_longdbl=define, longdblsize=16
    ivtype='long', ivsize=8, nvtype='double', nvsize=8, Off_t='off_t', lseeksize=8
    alignbytes=8, prototype=define
  Linker and Libraries:
    ld=' gcc-7', ldflags =' -fstack-protector -L/usr/local/lib'
    libpth=/usr/local/lib /lib/x86_64-linux-gnu /lib/../lib /usr/lib/x86_64-linux-gnu /usr/lib/../lib /lib /usr/lib /lib64 /usr/lib64
    libs=-lnsl -lgdbm -ldb -ldl -lm -lcrypt -lutil -lpthread -lc -lgdbm_compat
    perllibs=-lnsl -ldl -lm -lcrypt -lutil -lpthread -lc
    libc=libc-2.24.so, so=so, useshrplib=false, libperl=libperl.a
    gnulibc_version='2.24'
  Dynamic Linking:
    dlsrc=dl_dlopen.xs, dlext=so, d_dlsymun=undef, ccdlflags='-Wl,-E'
    cccdlflags='-fPIC', lddlflags='-shared -O2 -L/usr/local/lib -fstack-protector'


Characteristics of this binary (from libperl): 
  Compile-time options: MULTIPLICITY PERL_DONT_CREATE_GVSV
                        PERL_IMPLICIT_CONTEXT PERL_MALLOC_WRAP
                        PERL_PRESERVE_IVUV PERL_USE_DEVEL USE_64_BIT_ALL
                        USE_64_BIT_INT USE_ITHREADS USE_LARGE_FILES
                        USE_PERLIO USE_PERL_ATOF USE_REENTRANT_API
  Built under linux
  Compiled at Jul 24 2017 09:29:03
  %ENV:
    PERL5LIB="/home/njh/.cpan/build/Benchmark-Timer-0.7108-0/blib/arch:/home/njh/.cpan/build/Benchmark-Timer-0.7108-0/blib/lib"
    PERL5OPT=""
    PERL5_CPANPLUS_IS_RUNNING="28239"
    PERL5_CPAN_IS_RUNNING="28239"
    PERLBREW_HOME="/home/njh/.perlbrew"
    PERLBREW_MANPATH="/home/njh/perl5/perlbrew/perls/perl-5.14.2/man"
    PERLBREW_PATH="/home/njh/perl5/perlbrew/bin:/home/njh/perl5/perlbrew/perls/perl-5.14.2/bin"
    PERLBREW_PERL="perl-5.14.2"
    PERLBREW_ROOT="/home/njh/perl5/perlbrew"
    PERLBREW_SHELLRC_VERSION="0.83"
    PERLBREW_VERSION="0.83"
  @INC:
    /home/njh/.cpan/build/Benchmark-Timer-0.7108-0/blib/arch
    /home/njh/.cpan/build/Benchmark-Timer-0.7108-0/blib/lib
    /home/njh/perl5/perlbrew/perls/perl-5.14.2/lib/site_perl/5.14.2/x86_64-linux-thread-multi
    /home/njh/perl5/perlbrew/perls/perl-5.14.2/lib/site_perl/5.14.2
    /home/njh/perl5/perlbrew/perls/perl-5.14.2/lib/5.14.2/x86_64-linux-thread-multi
    /home/njh/perl5/perlbrew/perls/perl-5.14.2/lib/5.14.2
    .