Pod-Strip v1.100 Perl 5 v5.18.4 darwin-thread-multi-2level
- Status
- Pass
- From
- Roland van Ipenburg (IPENBURG)
- Dist
-
Pod-Strip v1.100
- Platform
- Perl 5 v5.18.4 darwin-thread-multi-2level
- Date
- 2021-01-12 14:49:08
- ID
- 537afb28-54e5-11eb-af91-e455dd1ae63c
This distribution has been tested as part of the CPAN Testers
project, supporting the Perl programming language. See
http://wiki.cpantesters.org/ for more information or email
questions to cpan-testers-discuss@perl.org
--
Dear Thomas Klausner,
This is a computer-generated report for Pod-Strip-1.100
on perl 5.18.4, created by CPAN-Reporter-1.2018.
Thank you for uploading your work to CPAN. Congratulations!
All tests were successful.
Sections of this report:
* Tester comments
* Program output
* Prerequisites
* Environment and other context
------------------------------
TESTER COMMENTS
------------------------------
Additional comments from tester:
none provided
------------------------------
PROGRAM OUTPUT
------------------------------
Output from './Build test':
t/00-compile.t ................ ok
t/10_strip.t .................. ok
t/11_replace_with_comments.t .. ok
All tests successful.
Files=3, Tests=7, 1 wallclock secs ( 0.03 usr 0.02 sys + 0.47 cusr 0.16 csys = 0.68 CPU)
Result: PASS
------------------------------
PREREQUISITES
------------------------------
Prerequisite modules loaded:
requires:
Module Need Have
------------- ----- --------
base 0 2.23
build_requires:
Module Need Have
------------- ----- --------
File::Spec 0 3.62
File::Temp 0 0.2311
IO::Handle 0 1.45
IPC::Open3 0 1.13
Module::Build 0.28 0.4224
perl 5.006 5.018004
Test::More 0 1.302183
------------------------------
ENVIRONMENT AND OTHER CONTEXT
------------------------------
Environment variables:
LANG = en_US.UTF-8
LC_ALL = en_US.UTF-8
LC_CTYPE = UTF-8
PATH = /usr/bin:/bin
PERL5LIB = /Users/roland/.cpan/build/Pod-Checker-1.74-93mj6p/blib/arch:/Users/roland/.cpan/build/Pod-Checker-1.74-93mj6p/blib/lib:/Users/roland/.cpan/build/Net-DNS-1.29-n0sjvH/blib/arch:/Users/roland/.cpan/build/Net-DNS-1.29-n0sjvH/blib/lib:/Users/roland/.cpan/build/Locale-Maketext-1.29-C5jzdM/blib/arch:/Users/roland/.cpan/build/Locale-Maketext-1.29-C5jzdM/blib/lib:/Users/roland/.cpan/build/IO-Zlib-1.11-yl2E6E/blib/arch:/Users/roland/.cpan/build/IO-Zlib-1.11-yl2E6E/blib/lib:/Users/roland/.cpan/build/CPAN-2.28-0IT4DH/blib/arch:/Users/roland/.cpan/build/CPAN-2.28-0IT4DH/blib/lib
PERL5OPT =
PERL5_CPANPLUS_IS_RUNNING = 61494
PERL5_CPAN_IS_RUNNING = 61494
SHELL = /bin/sh
TERM = xterm-256color
VERSIONER_PERL_VERSION = 5.18
Perl special variables (and OS-specific diagnostics, for MSWin32):
$^X = /usr/bin/perl
$UID/$EUID = 0 / 0
$GID = 0 0 1 2 3 4 5 8 9 12 20 29 61 80 702 701 33 98 100 204 250 395 398 399 400
$EGID = 0 0 1 2 3 4 5 8 9 12 20 29 61 80 702 701 33 98 100 204 250 395 398 399 400
Perl module toolchain versions installed:
Module Have
------------------- --------
CPAN 2.28
CPAN::Meta 2.150010
Cwd 3.62
ExtUtils::CBuilder 0.280235
ExtUtils::Command 7.58
ExtUtils::Install 2.20
ExtUtils::MakeMaker 7.58
ExtUtils::Manifest 1.72
ExtUtils::ParseXS 3.35
File::Spec 3.62
JSON 4.02
JSON::PP 4.05
Module::Build 0.4224
Module::Signature 0.87
Parse::CPAN::Meta 2.150010
Test::Harness 3.42
Test::More 1.302183
YAML 1.23
YAML::Syck 1.29
version 0.9917
--
Summary of my perl5 (revision 5 version 18 subversion 4) configuration:
Platform:
osname=darwin, osvers=19.0, archname=darwin-thread-multi-2level
uname='darwin osx397.sd.apple.com 19.0 darwin kernel version 18.0.0: tue jul 9 11:12:08 pdt 2019; root:xnu-4903.201.2.100.7~1release_x86_64 x86_64 '
config_args='-ds -e -Dprefix=/usr -Dccflags=-g -pipe -Dldflags= -Dman3ext=3pm -Duseithreads -Duseshrplib -Dinc_version_list=none -Dcc=cc'
hint=recommended, useposix=true, d_sigaction=define
useithreads=define, usemultiplicity=define
useperlio=define, d_sfio=undef, uselargefiles=define, usesocks=undef
use64bitint=define, use64bitall=define, uselongdouble=undef
usemymalloc=n, bincompat5005=undef
Compiler:
cc='cc', ccflags =' -g -pipe -fno-common -DPERL_DARWIN -fno-strict-aliasing -fstack-protector',
optimize='-Os',
cppflags='-g -pipe -fno-common -DPERL_DARWIN -fno-strict-aliasing -fstack-protector'
ccversion='', gccversion='4.2.1 Compatible Apple LLVM 11.0.3 (clang-1103.0.29.20) (-macos10.15-objc-selector-opts)', gccosandvers=''
intsize=4, longsize=8, ptrsize=8, doublesize=8, byteorder=12345678
d_longlong=define, longlongsize=8, d_longdbl=define, longdblsize=16
ivtype='long', ivsize=8, nvtype='double', nvsize=8, Off_t='off_t', lseeksize=8
alignbytes=8, prototype=define
Linker and Libraries:
ld='cc', ldflags =' -fstack-protector'
libpth=/usr/lib /usr/local/lib
libs=
perllibs=
libc=, so=dylib, useshrplib=true, libperl=libperl.dylib
gnulibc_version=''
Dynamic Linking:
dlsrc=dl_dlopen.xs, dlext=bundle, d_dlsymun=undef, ccdlflags=' '
cccdlflags=' ', lddlflags=' -bundle -undefined dynamic_lookup -fstack-protector'
Characteristics of this binary (from libperl):
Compile-time options: HAS_TIMES MULTIPLICITY PERLIO_LAYERS
PERL_DONT_CREATE_GVSV
PERL_HASH_FUNC_ONE_AT_A_TIME_HARD
PERL_IMPLICIT_CONTEXT PERL_MALLOC_WRAP
PERL_PRESERVE_IVUV PERL_SAWAMPERSAND USE_64_BIT_ALL
USE_64_BIT_INT USE_ITHREADS USE_LARGE_FILES
USE_LOCALE USE_LOCALE_COLLATE USE_LOCALE_CTYPE
USE_LOCALE_NUMERIC USE_PERLIO USE_PERL_ATOF
USE_REENTRANT_API
Locally applied patches:
/Library/Perl/Updates/<version> comes before system perl directories
installprivlib and installarchlib points to the Updates directory
Built under darwin
Compiled at Jun 5 2020 17:34:07
%ENV:
PERL5LIB="/Users/roland/.cpan/build/Pod-Checker-1.74-93mj6p/blib/arch:/Users/roland/.cpan/build/Pod-Checker-1.74-93mj6p/blib/lib:/Users/roland/.cpan/build/Net-DNS-1.29-n0sjvH/blib/arch:/Users/roland/.cpan/build/Net-DNS-1.29-n0sjvH/blib/lib:/Users/roland/.cpan/build/Locale-Maketext-1.29-C5jzdM/blib/arch:/Users/roland/.cpan/build/Locale-Maketext-1.29-C5jzdM/blib/lib:/Users/roland/.cpan/build/IO-Zlib-1.11-yl2E6E/blib/arch:/Users/roland/.cpan/build/IO-Zlib-1.11-yl2E6E/blib/lib:/Users/roland/.cpan/build/CPAN-2.28-0IT4DH/blib/arch:/Users/roland/.cpan/build/CPAN-2.28-0IT4DH/blib/lib"
PERL5OPT=""
PERL5_CPANPLUS_IS_RUNNING="61494"
PERL5_CPAN_IS_RUNNING="61494"
@INC:
/Users/roland/.cpan/build/Pod-Checker-1.74-93mj6p/blib/arch
/Users/roland/.cpan/build/Pod-Checker-1.74-93mj6p/blib/lib
/Users/roland/.cpan/build/Net-DNS-1.29-n0sjvH/blib/arch
/Users/roland/.cpan/build/Net-DNS-1.29-n0sjvH/blib/lib
/Users/roland/.cpan/build/Locale-Maketext-1.29-C5jzdM/blib/arch
/Users/roland/.cpan/build/Locale-Maketext-1.29-C5jzdM/blib/lib
/Users/roland/.cpan/build/IO-Zlib-1.11-yl2E6E/blib/arch
/Users/roland/.cpan/build/IO-Zlib-1.11-yl2E6E/blib/lib
/Users/roland/.cpan/build/CPAN-2.28-0IT4DH/blib/arch
/Users/roland/.cpan/build/CPAN-2.28-0IT4DH/blib/lib
/Library/Perl/5.18/darwin-thread-multi-2level
/Library/Perl/5.18
/Network/Library/Perl/5.18/darwin-thread-multi-2level
/Network/Library/Perl/5.18
/Library/Perl/Updates/5.18.4/darwin-thread-multi-2level
/Library/Perl/Updates/5.18.4
/System/Library/Perl/5.18/darwin-thread-multi-2level
/System/Library/Perl/5.18
/System/Library/Perl/Extras/5.18/darwin-thread-multi-2level
/System/Library/Perl/Extras/5.18
.