Debug-Client v0.31 Perl 5 v5.31.8 x86_64-linux-thread-multi-ld

Status
Pass
From
Andreas J. König (ANDK)
Dist
Debug-Client v0.31
Platform
Perl 5 v5.31.8 x86_64-linux-thread-multi-ld
Date
2019-12-29 15:17:28
ID
5384ec2c-2a4e-11ea-89db-445c2d40ec4b
This distribution has been tested as part of the CPAN Testers
project, supporting the Perl programming language.  See
http://wiki.cpantesters.org/ for more information or email
questions to cpan-testers-discuss@perl.org


--
Dear Mohammad S Anwar,

This is a computer-generated report for Debug-Client-0.31
on perl 5.31.8, created by CPAN-Reporter-1.2018.

Thank you for uploading your work to CPAN.  Congratulations!
All tests were successful.

Sections of this report:

    * Tester comments
    * Program output
    * Prerequisites
    * Environment and other context

------------------------------
TESTER COMMENTS
------------------------------

Additional comments from tester:

this report is from an automated smoke testing program
and was not reviewed by a human for accuracy

------------------------------
PROGRAM OUTPUT
------------------------------

Output from '/usr/bin/make test':

PERL_DL_NONLAZY=1 "/tmp/basesmoker-reloperl-hGgT/bin/perl" "-MExtUtils::Command::MM" "-MTest::Harness" "-e" "undef *Test::Harness::Switches; test_harness(0, 'inc', 'blib/lib', 'blib/arch')" t/*.t
t/00-check-deps.t ...... ok
# Prerequisite Report:
#    Version Module               
#   -------- ---------------------
#       1.50 Carp                 
#       5.74 Exporter             
#       7.42 ExtUtils::MakeMaker  
#      1.004 File::HomeDir        
#       3.78 File::Spec           
#       3.78 File::Spec::Functions
#     0.2309 File::Temp           
#       0.39 IO::Socket::IP       
#       1.53 List::Util           
#        2.3 PadWalker            
#       1.17 Term::ReadLine       
#       1.36 Term::ReadLine::Gnu  
#      0.010 Test::CheckDeps      
#       0.50 Test::Class          
#      1.128 Test::Deep           
#   1.302170 Test::More           
#       1.52 Test::Pod            
#       1.10 Test::Pod::Coverage  
#       0.10 Test::Requires       
#    missing Win32                
#    missing Win32::Process       
#       1.33 constant             
#      0.237 parent               
#     0.9924 version              
t/00-report-prereqs.t .. ok
# Info: Testing Debug::Client 0.31
# Info: Perl v5.31.8
t/01-compile.t ......... ok
t/02-exports.t ......... ok
t/03-pod.t ............. skipped: Author tests, not required for installation.
t/04-pod-coverage.t .... skipped: Author tests, not required for installation.
# 
# Info: Perl v5.31.8
# Info: OS linux
# Info: Term::ReadLine::Gnu installed
# Info: Using ReadLine implementation -> Term::ReadLine::Gnu
# INFO: $ENV{TERM} -> screen
t/06-term.t ............ ok
t/07-initialize.t ...... ok
t/08-io.t .............. ok
t/10-top_tail.t ........ ok
t/10-top_tail_old.t .... ok
t/11-add.t ............. ok
t/13-return.t .......... ok
t/14-run.t ............. ok
# Info: perl5db version 1.55
t/15-run_to_line.t ..... ok
t/16-run_to_sub.t ...... ok
t/17-stepin.t .......... ok
t/18-stepout.t ......... ok
t/19-stepover.t ........ ok
t/20-get_value.t ....... ok
t/21-toggle_trace.t .... ok
t/22-subnames.t ........ ok
t/23-breakpoints.t ..... ok
t/24-y_zero.t .......... ok
t/25-get_v_vars.t ...... ok
t/26-get_x_vars.t ...... ok
t/27-get_p_exp.t ....... ok
t/28-get_h_var.t ....... ok
# Info: ComamandSet = '580'
t/29-options.t ......... ok
t/40-test_1415-old.t ... ok
t/40-test_1415.t ....... ok
t/99-perldb.t .......... ok
# Prerequisite Report:
#    Version Module               
#   -------- ---------------------
#       1.50 Carp                 
#       5.74 Exporter             
#       7.42 ExtUtils::MakeMaker  
#      1.004 File::HomeDir        
#       3.78 File::Spec           
#       3.78 File::Spec::Functions
#     0.2309 File::Temp           
#       0.39 IO::Socket::IP       
#       1.53 List::Util           
#        2.3 PadWalker            
#       1.17 Term::ReadLine       
#       1.36 Term::ReadLine::Gnu  
#      0.010 Test::CheckDeps      
#       0.50 Test::Class          
#      1.128 Test::Deep           
#   1.302170 Test::More           
#       1.52 Test::Pod            
#       1.10 Test::Pod::Coverage  
#       0.10 Test::Requires       
#    missing Win32                
#    missing Win32::Process       
#       1.33 constant             
#      0.237 parent               
#     0.9924 version              
t/report-prereqs.t ..... ok
All tests successful.
Files=33, Tests=182, 34 wallclock secs ( 0.11 usr  0.10 sys +  3.75 cusr  1.08 csys =  5.04 CPU)
Result: PASS

------------------------------
PREREQUISITES
------------------------------

Prerequisite modules loaded:

requires:

    Module                Need     Have    
    --------------------- -------- --------
    Carp                  1.3301   1.50    
    constant              1.27     1.33    
    Exporter              5.70     5.74    
    IO::Socket::IP        0.29     0.39    
    PadWalker             1.98     2.3     
    perl                  5.010001 5.031008
    Term::ReadLine        1.14     1.17    
    Term::ReadLine::Gnu   1.20     1.36    

build_requires:

    Module                Need     Have    
    --------------------- -------- --------
    ExtUtils::MakeMaker   6.59     7.42    
    File::HomeDir         1        1.004   
    File::Temp            0.2304   0.2309  
    List::Util            1.38     1.53    
    parent                0.228    0.237   
    Test::CheckDeps       0.01     0.010   
    Test::Class           0.42     0.50    
    Test::Deep            0.112    1.128   
    Test::More            1.001003 1.302170
    Test::Requires        0.07     0.10    
    version               0.9908   0.9924  

configure_requires:

    Module                Need     Have    
    --------------------- -------- --------
    ExtUtils::MakeMaker   6.59     7.42    

opt_requires:

    Module                Need     Have    
    --------------------- -------- --------
    ExtUtils::MakeMaker   6.66     7.42    
    File::Spec::Functions 3.4      3.78    
    List::Util            1.27     1.53    
    Test::Pod             1.48     1.52    
    Test::Pod::Coverage   1.08     1.10    


------------------------------
ENVIRONMENT AND OTHER CONTEXT
------------------------------

Environment variables:

    AUTOMATED_TESTING = 1
    LANG = en_US.UTF-8
    PATH = /home/sand/bin:/usr/local/bin:/usr/bin:/bin:/usr/games:/usr/local/perl/bin:/usr/X11/bin:/sbin:/usr/sbin
    PERL5LIB = 
    PERL5OPT = 
    PERL5_CPANPLUS_IS_RUNNING = 3413094
    PERL5_CPAN_IS_RUNNING = 3413094
    PERL_CANARY_STABILITY_NOPROMPT = 1
    PERL_MM_USE_DEFAULT = 1
    PERL_USE_UNSAFE_INC = 1
    SHELL = /usr/bin/zsh
    TERM = screen

Perl special variables (and OS-specific diagnostics, for MSWin32):

    $^X = /tmp/basesmoker-reloperl-hGgT/bin/perl
    $UID/$EUID = 1005 / 1005
    $GID = 1005 1005
    $EGID = 1005 1005

Perl module toolchain versions installed:

    Module              Have    
    ------------------- --------
    CPAN                2.27    
    CPAN::Meta          2.150010
    Cwd                 3.78    
    ExtUtils::CBuilder  0.280233
    ExtUtils::Command   7.42    
    ExtUtils::Install   2.14    
    ExtUtils::MakeMaker 7.42    
    ExtUtils::Manifest  1.72    
    ExtUtils::ParseXS   3.40    
    File::Spec          3.78    
    JSON                4.02    
    JSON::PP            4.04    
    Module::Build       0.4229  
    Module::Signature   0.83    
    Parse::CPAN::Meta   2.150010
    Test::Harness       3.42    
    Test::More          1.302170
    YAML                1.29    
    YAML::Syck          1.31    
    version             0.9924  


--

Summary of my perl5 (revision 5 version 31 subversion 8) configuration:
  Commit id: 57d341ff6c3e402a11df37bde1bd84dfbb3bef99
  Platform:
    osname=linux
    osvers=5.3.0-2-amd64
    archname=x86_64-linux-thread-multi-ld
    uname='linux k93msid 5.3.0-2-amd64 #1 smp debian 5.3.9-3 (2019-11-19) x86_64 gnulinux '
    config_args='-Dprefix=/home/sand/src/perl/repoperls/installed-perls/host/k93msid/v5.31.7-38-g57d341ff6c/ac75 -Dmyhostname=k93msid -Dinstallusrbinperl=n -Uversiononly -Dusedevel -des -Ui_db -Dlibswanted=cl pthread socket inet nsl gdbm dbm malloc dl ld sun m crypt sec util c cposix posix ucb BSD gdbm_compat -Duseithreads -Duselongdouble -DEBUGGING=both'
    hint=recommended
    useposix=true
    d_sigaction=define
    useithreads=define
    usemultiplicity=define
    use64bitint=define
    use64bitall=define
    uselongdouble=define
    usemymalloc=n
    default_inc_excludes_dot=define
    bincompat5005=undef
  Compiler:
    cc='cc'
    ccflags ='-D_REENTRANT -D_GNU_SOURCE -fwrapv -DDEBUGGING -fno-strict-aliasing -pipe -fstack-protector-strong -I/usr/local/include -D_LARGEFILE_SOURCE -D_FILE_OFFSET_BITS=64 -D_FORTIFY_SOURCE=2'
    optimize='-O2 -g'
    cppflags='-D_REENTRANT -D_GNU_SOURCE -fwrapv -DDEBUGGING -fno-strict-aliasing -pipe -fstack-protector-strong -I/usr/local/include'
    ccversion=''
    gccversion='9.2.1 20191109'
    gccosandvers=''
    intsize=4
    longsize=8
    ptrsize=8
    doublesize=8
    byteorder=12345678
    doublekind=3
    d_longlong=define
    longlongsize=8
    d_longdbl=define
    longdblsize=16
    longdblkind=3
    ivtype='long'
    ivsize=8
    nvtype='long double'
    nvsize=16
    Off_t='off_t'
    lseeksize=8
    alignbytes=16
    prototype=define
  Linker and Libraries:
    ld='cc'
    ldflags =' -fstack-protector-strong -L/usr/local/lib'
    libpth=/usr/local/lib /usr/lib/gcc/x86_64-linux-gnu/9/include-fixed /usr/include/x86_64-linux-gnu /usr/lib /lib/x86_64-linux-gnu /lib/../lib /usr/lib/x86_64-linux-gnu /usr/lib/../lib /lib
    libs=-lpthread -lnsl -ldl -lm -lcrypt -lutil -lc
    perllibs=-lpthread -lnsl -ldl -lm -lcrypt -lutil -lc
    libc=libc-2.29.so
    so=so
    useshrplib=false
    libperl=libperl.a
    gnulibc_version='2.29'
  Dynamic Linking:
    dlsrc=dl_dlopen.xs
    dlext=so
    d_dlsymun=undef
    ccdlflags='-Wl,-E'
    cccdlflags='-fPIC'
    lddlflags='-shared -O2 -g -L/usr/local/lib -fstack-protector-strong'


Characteristics of this binary (from libperl): 
  Compile-time options:
    DEBUGGING
    HAS_TIMES
    MULTIPLICITY
    PERLIO_LAYERS
    PERL_COPY_ON_WRITE
    PERL_DONT_CREATE_GVSV
    PERL_IMPLICIT_CONTEXT
    PERL_MALLOC_WRAP
    PERL_OP_PARENT
    PERL_PRESERVE_IVUV
    PERL_TRACK_MEMPOOL
    PERL_USE_DEVEL
    USE_64_BIT_ALL
    USE_64_BIT_INT
    USE_ITHREADS
    USE_LARGE_FILES
    USE_LOCALE
    USE_LOCALE_COLLATE
    USE_LOCALE_CTYPE
    USE_LOCALE_NUMERIC
    USE_LOCALE_TIME
    USE_LONG_DOUBLE
    USE_PERLIO
    USE_PERL_ATOF
    USE_REENTRANT_API
    USE_THREAD_SAFE_LOCALE
  Built under linux
  Compiled at Dec 28 2019 15:12:46
  %ENV:
    PERL5LIB=""
    PERL5OPT=""
    PERL5_CPANPLUS_IS_RUNNING="3413094"
    PERL5_CPAN_IS_RUNNING="3413094"
    PERL_CANARY_STABILITY_NOPROMPT="1"
    PERL_MM_USE_DEFAULT="1"
    PERL_USE_UNSAFE_INC="1"
  @INC:
    /home/sand/src/perl/repoperls/installed-perls/host/k93msid/v5.31.7-38-g57d341ff6c/ac75/lib/site_perl/5.31.8/x86_64-linux-thread-multi-ld
    /home/sand/src/perl/repoperls/installed-perls/host/k93msid/v5.31.7-38-g57d341ff6c/ac75/lib/site_perl/5.31.8
    /home/sand/src/perl/repoperls/installed-perls/host/k93msid/v5.31.7-38-g57d341ff6c/ac75/lib/5.31.8/x86_64-linux-thread-multi-ld
    /home/sand/src/perl/repoperls/installed-perls/host/k93msid/v5.31.7-38-g57d341ff6c/ac75/lib/5.31.8
    .