Math-LongDouble v0.23 Perl 5 v5.39.6 amd64-midnightbsd-thread-multi
- Status
- Pass
- From
- Carlos Guevara
- Dist
-
Math-LongDouble v0.23
- Platform
- Perl 5 v5.39.6 amd64-midnightbsd-thread-multi
- Date
- 2023-12-05 13:08:04
- ID
- 53a1f5b8-936f-11ee-bf9c-7fe923f48afc
This distribution has been tested as part of the CPAN Testers
project, supporting the Perl programming language. See
http://wiki.cpantesters.org/ for more information or email
questions to cpan-testers-discuss@perl.org
--
Dear Sisyphus,
This is a computer-generated report for Math-LongDouble-0.23
on perl 5.39.6, created by CPAN-Reporter-1.2019.
Thank you for uploading your work to CPAN. Congratulations!
All tests were successful.
Sections of this report:
* Tester comments
* Program output
* Prerequisites
* Environment and other context
------------------------------
TESTER COMMENTS
------------------------------
Additional comments from tester:
this report is from an automated smoke testing program
and was not reviewed by a human for accuracy
------------------------------
PROGRAM OUTPUT
------------------------------
Output from '/usr/bin/make test':
"/usr/home/cpan/bin/perl/bin/perl5.39.6" -MExtUtils::Command::MM -e 'cp_nonempty' -- LongDouble.bs blib/arch/auto/Math/LongDouble/LongDouble.bs 644
PERL_DL_NONLAZY=1 "/usr/home/cpan/bin/perl/bin/perl5.39.6" "-MExtUtils::Command::MM" "-MTest::Harness" "-e" "undef *Test::Harness::Switches; test_harness(0, 'blib/lib', 'blib/arch')" t/*.t
No tests with this file. Instead, mainly for the benefit
of the author, we (hopefully) see some diagnostics from some
test executables that were run during the Makefile.PL stage.
CC = cc
OPTMIZE = -O
erfl & isnanl check (build): try.in:14:8: warning: implicit declaration of function 'isnanl' is invalid in C99 [-Wimplicit-function-declaration]
ret = isnanl(op);
^
1 warning generated.
ld: error: undefined symbol: isnanl
>>> referenced by try.in
>>> /home/cpan/tmp/try-c0bbae.o:(main)
>>> did you mean: isnanf
>>> defined in: /usr/lib/libm.so
cc: error: linker command failed with exit code 1 (use -v to see invocation)
build output (nanl check):
execution output (nanl check): rop set as expected
build output (nan**0 check):
try2.in:50:38: warning: format specifies type 'unsigned int' but the argument has type 'unsigned long' [-Wformat]
printf("size of long double: %u\n", ul);
~~ ^~
%lu
1 warning generated.
nan**0 check diagnostic: 1.0L
1.0L
1.0L
size of long double: 16
build output (signbitl check): try4.in:13:8: warning: implicit declaration of function 'signbitl' is invalid in C99 [-Wimplicit-function-declaration]
ret = signbitl(op);
^
1 warning generated.
ld: error: undefined symbol: signbitl
>>> referenced by try4.in
>>> /home/cpan/tmp/try4-b189ec.o:(main)
cc: error: linker command failed with exit code 1 (use -v to see invocation)
build output (sincosl check):
execution output (sincosl check): output: 0.000000e+00 1.000000e+00
t/01config_xtra.t .......... ok
NAN_POW_BUG is NOT defined
NANL_IS_UNAVAILABLE is NOT defined
ISNANL_IS_UNAVAILABLE is defined
SIGNBITL_IS_UNAVAILABLE is defined
SINCOSL_IS_UNAVAILABLE is NOT defined
Actual nvsize == 8
Actual long double size = 10
t/aab_basic.t .............. ok
Math::LongDouble::_have_isnanl() returns 0
Math::LongDouble::_have_nanl() returns 1
Math::LongDouble::_have_signbitl() returns 0
t/abs.t .................... ok
t/arith.t .................. ok
t/base_conversion.t ........ ok
t/bool.t ................... ok
t/cmp.t .................... ok
LD_DBL_DENORM_MIN not implemented
LD_LDBL_DENORM_MIN not implemented
t/constants.t .............. ok
t/inc_dec.t ................ ok
t/int.t .................... ok
Skipping all tests - nvtype ('double') is not 'long double'
t/ld_bytes.t ............... ok
t/log_exp.t ................ ok
Math:LongDouble::_nan_pow_bug() returns 0
t/nan_pow.t ................ ok
t/new.t .................... ok
t/nnum.t ................... ok
t/overload.t ............... ok
t/overload_cmp_reversal.t .. ok
t/overload_switch.t ........ ok
Test::Pod version: 1.52
Pod::Simple version: 3.45
t/pod.t .................... ok
t/pow.t .................... ok
FYI:
DBL_DIG = 15
LDBL_DIG = 18
Default precison = 21
t/prec.t ................... ok
t/signbit.t ................ ok
t/special.t ................ ok
t/stringification.t ........ ok
built with sincosl function
t/trig.t ................... ok
All tests successful.
Files=25, Tests=336, 1 wallclock secs ( 0.05 usr 0.01 sys + 0.41 cusr 0.12 csys = 0.59 CPU)
Result: PASS
------------------------------
PREREQUISITES
------------------------------
Prerequisite modules loaded:
build_requires:
Module Need Have
------------------- ---- ----
ExtUtils::MakeMaker 0 7.70
configure_requires:
Module Need Have
------------------- ---- ----
ExtUtils::MakeMaker 0 7.70
------------------------------
ENVIRONMENT AND OTHER CONTEXT
------------------------------
Environment variables:
AUTOMATED_TESTING = 1
DATE_MANIP_TEST_DM5 = 1
LC_ALL = C
NONINTERACTIVE_TESTING = 1
NO_NETWORK_TESTING = 1
PATH = /home/cpan/bin/perl/bin:/home/cpan/bin:/sbin:/bin:/usr/sbin:/usr/bin:/usr/games:/usr/local/sbin:/usr/local/bin:/home/cpan/bin
PERL5LIB =
PERL5OPT =
PERL5_CPANPLUS_IS_RUNNING = 94364
PERL5_CPAN_IS_RUNNING = 94364
PERL_MM_USE_DEFAULT = 1
PERL_USE_UNSAFE_INC = 1
SHELL = /usr/local/bin/bash
TERM = screen
TMPDIR = /home/cpan/tmp
Perl special variables (and OS-specific diagnostics, for MSWin32):
$^X = /usr/home/cpan/bin/perl/bin/perl5.39.6
$UID/$EUID = 1002 / 1002
$GID = 1002 1002
$EGID = 1002 1002
Perl module toolchain versions installed:
Module Have
------------------- --------
CPAN 2.36
CPAN::Meta 2.150010
Cwd 3.90
ExtUtils::CBuilder 0.280240
ExtUtils::Command 7.70
ExtUtils::Install 2.22
ExtUtils::MakeMaker 7.70
ExtUtils::Manifest 1.75
ExtUtils::ParseXS 3.51
File::Spec 3.90
JSON 4.10
JSON::PP 4.16
Module::Build 0.4234
Module::Signature n/a
Parse::CPAN::Meta 2.150010
Test2 1.302198
Test::Harness 3.48
Test::More 1.302198
YAML 1.30
YAML::Syck 1.34
version 0.9930
--
Summary of my perl5 (revision 5 version 39 subversion 6) configuration:
Commit id: 20b9297558d49b1ea3a549afe4f753b148f26f99
Platform:
osname=midnightbsd
osvers=3.1.1
archname=amd64-midnightbsd-thread-multi
uname='midnightbsd cjg-midnightbsd3 3.1.1 midnightbsd 3.1.1 #7n12801-7389a9228b(stable3.1)-dirty: wed nov 8 16:02:55 est 2023 root@m3164b:usrobjusrsrcamd64.amd64sysgeneric amd64 '
config_args='-des -Dprefix=/home/cpan/bin/perl -Dscriptdir=/home/cpan/bin/perl/bin -Dusedevel -Duse64bitall -Duseithreads'
hint=recommended
useposix=true
d_sigaction=define
useithreads=define
usemultiplicity=define
use64bitint=define
use64bitall=define
uselongdouble=undef
usemymalloc=n
default_inc_excludes_dot=define
Compiler:
cc='cc'
ccflags ='-DHAS_FPSETMASK -DHAS_FLOATINGPOINT_H -fno-strict-aliasing -pipe -fstack-protector-strong -I/usr/local/include'
optimize='-O'
cppflags='-DHAS_FPSETMASK -DHAS_FLOATINGPOINT_H -fno-strict-aliasing -pipe -fstack-protector-strong -I/usr/local/include'
ccversion=''
gccversion='MidnightBSD Clang 13.0.0 (git@github.com:llvm/llvm-project.git llvmorg-13.0.0-0-gd7b669b3a303)'
gccosandvers=''
intsize=4
longsize=8
ptrsize=8
doublesize=8
byteorder=12345678
doublekind=3
d_longlong=define
longlongsize=8
d_longdbl=define
longdblsize=16
longdblkind=3
ivtype='long'
ivsize=8
nvtype='double'
nvsize=8
Off_t='off_t'
lseeksize=8
alignbytes=8
prototype=define
Linker and Libraries:
ld='cc'
ldflags ='-pthread -Wl,-E -fstack-protector-strong -L/usr/local/lib'
libpth=/usr/lib /usr/local/lib /usr/lib/clang/13.0.0/lib
libs=-lpthread -ldl -lm -lcrypt
perllibs=-lpthread -ldl -lm -lcrypt
libc=
so=so
useshrplib=false
libperl=libperl.a
gnulibc_version=''
Dynamic Linking:
dlsrc=dl_dlopen.xs
dlext=so
d_dlsymun=undef
ccdlflags=' '
cccdlflags='-DPIC -fPIC'
lddlflags='-shared -L/usr/local/lib -fstack-protector-strong'
Characteristics of this binary (from libperl):
Compile-time options:
HAS_LONG_DOUBLE
HAS_STRTOLD
HAS_TIMES
MULTIPLICITY
PERLIO_LAYERS
PERL_COPY_ON_WRITE
PERL_DONT_CREATE_GVSV
PERL_HASH_FUNC_SIPHASH13
PERL_HASH_USE_SBOX32
PERL_MALLOC_WRAP
PERL_OP_PARENT
PERL_PRESERVE_IVUV
PERL_USE_DEVEL
PERL_USE_SAFE_PUTENV
USE_64_BIT_ALL
USE_64_BIT_INT
USE_ITHREADS
USE_LARGE_FILES
USE_LOCALE
USE_LOCALE_COLLATE
USE_LOCALE_CTYPE
USE_LOCALE_NUMERIC
USE_LOCALE_TIME
USE_PERLIO
USE_PERL_ATOF
USE_REENTRANT_API
USE_THREAD_SAFE_LOCALE
Built under midnightbsd
Compiled at Dec 5 2023 01:51:45
%ENV:
PERL5LIB=""
PERL5OPT=""
PERL5_CPANPLUS_IS_RUNNING="94364"
PERL5_CPAN_IS_RUNNING="94364"
PERL_MM_USE_DEFAULT="1"
PERL_USE_UNSAFE_INC="1"
@INC:
/home/cpan/bin/perl/lib/site_perl/5.39.6/amd64-midnightbsd-thread-multi
/home/cpan/bin/perl/lib/site_perl/5.39.6
/home/cpan/bin/perl/lib/5.39.6/amd64-midnightbsd-thread-multi
/home/cpan/bin/perl/lib/5.39.6
.