Back
From: metabase:user:5814c648-1635-11e2-b848-5610edc752f8
Subject: PASS Catalyst-Plugin-Static-Simple-0.30 v5.16.2 GNU/Linux
Date: 2013-05-18T23:04:43Z
This distribution has been tested as part of the CPAN Testers
project, supporting the Perl programming language. See
http://wiki.cpantesters.org/ for more information or email
questions to cpan-testers-discuss@perl.org
--
Dear Alexander Hartmaier,
This is a computer-generated report for Catalyst-Plugin-Static-Simple-0.30
on perl 5.16.2, created by CPAN-Reporter-1.2009.
Thank you for uploading your work to CPAN. Congratulations!
All tests were successful.
Sections of this report:
* Tester comments
* Program output
* Prerequisites
* Environment and other context
------------------------------
TESTER COMMENTS
------------------------------
Additional comments from tester:
none provided
------------------------------
PROGRAM OUTPUT
------------------------------
Output from '/usr/bin/make test':
PERL_DL_NONLAZY=1 /home/mauke/usr/bin/perl "-MExtUtils::Command::MM" "-e" "test_harness(0, 'inc', 'blib/lib', 'blib/arch')" t/01use.t t/04static.t t/05dirs.t t/06include_path.t t/07mime_types.t t/08subreq.t t/09ignore_ext.t t/10ignore_dirs.t t/11serve_static.t t/12check_error_scope.t t/20debug.t
t/01use.t ................ ok
t/04static.t ............. ok
t/05dirs.t ............... ok
t/06include_path.t ....... ok
t/07mime_types.t ......... ok
t/08subreq.t ............. ok
t/09ignore_ext.t ......... ok
t/10ignore_dirs.t ........ ok
t/11serve_static.t ....... ok
t/12check_error_scope.t .. ok
t/20debug.t .............. ok
All tests successful.
Files=11, Tests=60, 17 wallclock secs ( 0.02 usr 0.26 sys + 4.16 cusr 11.87 csys = 16.31 CPU)
Result: PASS
------------------------------
PREREQUISITES
------------------------------
Prerequisite modules loaded:
requires:
Module Need Have
-------------------- ------- -------
Catalyst::Runtime 5.80008 5.90030
MIME::Types 1.25 1.38
Moose 0 2.0604
MooseX::Types 0 0.35
namespace::autoclean 0 0.13
Test::More 0 0.98
build_requires:
Module Need Have
-------------------- ------- -------
ExtUtils::MakeMaker 6.36 6.64
Test::More 0 0.98
configure_requires:
Module Need Have
-------------------- ------- -------
ExtUtils::MakeMaker 6.36 6.64
------------------------------
ENVIRONMENT AND OTHER CONTEXT
------------------------------
Environment variables:
LANG = en_US.utf8
LC_COLLATE = POSIX
LD_LIBRARY_PATH = /home/mauke/usr/lib
PATH = /home/mauke/perl5/perlbrew/bin:/home/mauke/.cabal/bin:/home/mauke/usr/bin:/usr/local/bin:/usr/bin:/bin:/usr/local/games:/usr/games
PERL5LIB =
PERL5OPT =
PERL5_CPANPLUS_IS_RUNNING = 2054
PERL5_CPAN_IS_RUNNING = 2054
PERLBREW_BASHRC_VERSION = 0.58
PERLBREW_HOME = /home/mauke/.perlbrew
PERLBREW_ROOT = /home/mauke/perl5/perlbrew
PERL_UNICODE = SAL
SHELL = /bin/bash
TERM = tmux
Perl special variables (and OS-specific diagnostics, for MSWin32):
$^X = /home/mauke/usr/bin/perl
$UID/$EUID = 1000 / 1000
$GID = 1000 8 24 25 29 30 44 46 108 109 115 1000
$EGID = 1000 8 24 25 29 30 44 46 108 109 115 1000
Perl module toolchain versions installed:
Module Have
------------------- --------
CPAN 1.9800
CPAN::Meta 2.120921
Cwd 3.40
ExtUtils::CBuilder 0.280206
ExtUtils::Command 1.17
ExtUtils::Install 1.58
ExtUtils::MakeMaker 6.64
ExtUtils::Manifest 1.61
ExtUtils::ParseXS 3.18
File::Spec 3.40
JSON 2.53
JSON::PP 2.27200
Module::Build 0.4005
Module::Signature n/a
Parse::CPAN::Meta 1.4404
Test::Harness 3.25
Test::More 0.98
YAML 0.84
YAML::Syck n/a
version 0.9901
--
Summary of my perl5 (revision 5 version 16 subversion 2) configuration:
Platform:
osname=linux, osvers=2.6.32-5-686, archname=i686-linux
uname='linux debian-vb 2.6.32-5-686 #1 smp sun sep 23 09:49:36 utc 2012 i686 gnulinux '
config_args='-Dprefix=/home/mauke/usr -Doptimize=-O2 -flto -Dldflags=-fstack-protector -L/usr/local/lib -O2 -flto -Dlddlflags=-shared -O2 -flto -L/usr/local/lib -fstack-protector -Dcf_email=l.mai@web.de -Dperladmin=none -de'
hint=recommended, useposix=true, d_sigaction=define
useithreads=undef, usemultiplicity=undef
useperlio=define, d_sfio=undef, uselargefiles=define, usesocks=undef
use64bitint=undef, use64bitall=undef, uselongdouble=undef
usemymalloc=n, bincompat5005=undef
Compiler:
cc='cc', ccflags ='-fno-strict-aliasing -pipe -fstack-protector -I/usr/local/include -D_LARGEFILE_SOURCE -D_FILE_OFFSET_BITS=64',
optimize='-O2 -flto',
cppflags='-fno-strict-aliasing -pipe -fstack-protector -I/usr/local/include'
ccversion='', gccversion='4.7.1', gccosandvers=''
intsize=4, longsize=4, ptrsize=4, doublesize=8, byteorder=1234
d_longlong=define, longlongsize=8, d_longdbl=define, longdblsize=12
ivtype='long', ivsize=4, nvtype='double', nvsize=8, Off_t='off_t', lseeksize=8
alignbytes=4, prototype=define
Linker and Libraries:
ld='cc', ldflags ='-fstack-protector -L/usr/local/lib -O2 -flto'
libpth=/usr/local/lib /lib/../lib /usr/lib/../lib /lib /usr/lib /usr/lib/i486-linux-gnu /usr/lib64
libs=-lnsl -ldl -lm -lcrypt -lutil -lc
perllibs=-lnsl -ldl -lm -lcrypt -lutil -lc
libc=/lib/libc-2.11.3.so, so=so, useshrplib=false, libperl=libperl.a
gnulibc_version='2.11.3'
Dynamic Linking:
dlsrc=dl_dlopen.xs, dlext=so, d_dlsymun=undef, ccdlflags='-Wl,-E'
cccdlflags='-fPIC', lddlflags='-shared -O2 -flto -L/usr/local/lib -fstack-protector'
Characteristics of this binary (from libperl):
Compile-time options: HAS_TIMES PERLIO_LAYERS PERL_DONT_CREATE_GVSV
PERL_MALLOC_WRAP PERL_PRESERVE_IVUV USE_LARGE_FILES
USE_LOCALE USE_LOCALE_COLLATE USE_LOCALE_CTYPE
USE_LOCALE_NUMERIC USE_PERLIO USE_PERL_ATOF
Locally applied patches:
SAVEARGV0 - disable magic open in <ARGV>
Built under linux
Compiled at Nov 1 2012 15:49:08
%ENV:
PERL5LIB=""
PERL5OPT=""
PERL5_CPANPLUS_IS_RUNNING="2054"
PERL5_CPAN_IS_RUNNING="2054"
PERLBREW_BASHRC_VERSION="0.58"
PERLBREW_HOME="/home/mauke/.perlbrew"
PERLBREW_ROOT="/home/mauke/perl5/perlbrew"
PERL_UNICODE="SAL"
@INC:
/home/mauke/usr/lib/perl5/site_perl/5.16.2/i686-linux
/home/mauke/usr/lib/perl5/site_perl/5.16.2
/home/mauke/usr/lib/perl5/5.16.2/i686-linux
/home/mauke/usr/lib/perl5/5.16.2
/home/mauke/usr/lib/perl5/site_perl/5.16.1/i686-linux
/home/mauke/usr/lib/perl5/site_perl/5.16.1
/home/mauke/usr/lib/perl5/site_perl
.