Google-AJAX-Library v0.022 Perl 5 v5.28.2 x86_64-linux
- Status
- Pass
- From
- Andreas J. König (ANDK)
- Dist
-
Google-AJAX-Library v0.022
- Platform
- Perl 5 v5.28.2 x86_64-linux
- Date
- 2020-05-13 02:34:54
- ID
- 53e593f4-94c2-11ea-a8db-fe2f15088e0c
This distribution has been tested as part of the CPAN Testers
project, supporting the Perl programming language. See
http://wiki.cpantesters.org/ for more information or email
questions to cpan-testers-discuss@perl.org
--
Dear Robert Krimen,
This is a computer-generated report for Google-AJAX-Library-0.022
on perl 5.28.2, created by CPAN-Reporter-1.2018.
Thank you for uploading your work to CPAN. Congratulations!
All tests were successful.
Sections of this report:
* Tester comments
* Program output
* Prerequisites
* Environment and other context
------------------------------
TESTER COMMENTS
------------------------------
Additional comments from tester:
this report is from an automated smoke testing program
and was not reviewed by a human for accuracy
------------------------------
PROGRAM OUTPUT
------------------------------
Output from '/usr/bin/make test':
PERL_DL_NONLAZY=1 "/tmp/basesmoker-reloperl-SlYX/bin/perl" "-MExtUtils::Command::MM" "-MTest::Harness" "-e" "undef *Test::Harness::Switches; test_harness(0, 'blib/lib', 'blib/arch')" t/*.t
You are overwriting a locally defined function (file) with an accessor at /home/sand/src/perl/repoperls/installed-perls/host/k93msid/v5.28.2/da1c/lib/site_perl/5.28.2/x86_64-linux/Moose/Meta/Attribute.pm line 1111.
Moose::Meta::Attribute::_process_accessors(Moose::Meta::Attribute=HASH(0x56464e5803e8), "reader", "file", undef) called at /home/sand/src/perl/repoperls/installed-perls/host/k93msid/v5.28.2/da1c/lib/site_perl/5.28.2/x86_64-linux/Class/MOP/Attribute.pm line 450
Class::MOP::Attribute::install_accessors(Moose::Meta::Attribute=HASH(0x56464e5803e8)) called at /home/sand/src/perl/repoperls/installed-perls/host/k93msid/v5.28.2/da1c/lib/site_perl/5.28.2/x86_64-linux/Moose/Meta/Attribute.pm line 1014
Moose::Meta::Attribute::install_accessors(Moose::Meta::Attribute=HASH(0x56464e5803e8)) called at /home/sand/src/perl/repoperls/installed-perls/host/k93msid/v5.28.2/da1c/lib/site_perl/5.28.2/x86_64-linux/Class/MOP/Class.pm line 899
Class::MOP::Class::try {...} () called at /home/sand/src/perl/repoperls/installed-perls/host/k93msid/v5.28.2/da1c/lib/site_perl/5.28.2/Try/Tiny.pm line 102
eval {...} called at /home/sand/src/perl/repoperls/installed-perls/host/k93msid/v5.28.2/da1c/lib/site_perl/5.28.2/Try/Tiny.pm line 93
Try::Tiny::try(CODE(0x56464f8f4238), Try::Tiny::Catch=REF(0x56464f8f4790)) called at /home/sand/src/perl/repoperls/installed-perls/host/k93msid/v5.28.2/da1c/lib/site_perl/5.28.2/x86_64-linux/Class/MOP/Class.pm line 904
Class::MOP::Class::_post_add_attribute(Moose::Meta::Class=HASH(0x56464f207e60), Moose::Meta::Attribute=HASH(0x56464e5803e8)) called at /home/sand/src/perl/repoperls/installed-perls/host/k93msid/v5.28.2/da1c/lib/site_perl/5.28.2/x86_64-linux/Class/MOP/Mixin/HasAttributes.pm line 39
Class::MOP::Mixin::HasAttributes::add_attribute(Moose::Meta::Class=HASH(0x56464f207e60), Moose::Meta::Attribute=HASH(0x56464e5803e8)) called at /home/sand/src/perl/repoperls/installed-perls/host/k93msid/v5.28.2/da1c/lib/site_perl/5.28.2/x86_64-linux/Moose/Meta/Class.pm line 585
Moose::Meta::Class::add_attribute(Moose::Meta::Class=HASH(0x56464f207e60), "file", "definition_context", HASH(0x56464e5805f8), "is", "ro") called at /home/sand/src/perl/repoperls/installed-perls/host/k93msid/v5.28.2/da1c/lib/site_perl/5.28.2/x86_64-linux/Moose.pm line 74
Moose::has(Moose::Meta::Class=HASH(0x56464f207e60), "file", "is", "ro") called at /home/sand/src/perl/repoperls/installed-perls/host/k93msid/v5.28.2/da1c/lib/site_perl/5.28.2/x86_64-linux/Moose/Exporter.pm line 419
Moose::has("file", "is", "ro") called at /home/sand/.cpan/privbuild/k93msid/Google-AJAX-Library-0.022-4/blib/lib/Google/AJAX/Library.pm line 32
require Google/AJAX/Library.pm called at t/01-basic.t line 5
main::BEGIN() called at /home/sand/.cpan/privbuild/k93msid/Google-AJAX-Library-0.022-4/blib/lib/Google/AJAX/Library.pm line 0
eval {...} called at /home/sand/.cpan/privbuild/k93msid/Google-AJAX-Library-0.022-4/blib/lib/Google/AJAX/Library.pm line 0
t/01-basic.t .... ok
You are overwriting a locally defined function (file) with an accessor at /home/sand/src/perl/repoperls/installed-perls/host/k93msid/v5.28.2/da1c/lib/site_perl/5.28.2/x86_64-linux/Moose/Meta/Attribute.pm line 1111.
Moose::Meta::Attribute::_process_accessors(Moose::Meta::Attribute=HASH(0x56179fd6a158), "reader", "file", undef) called at /home/sand/src/perl/repoperls/installed-perls/host/k93msid/v5.28.2/da1c/lib/site_perl/5.28.2/x86_64-linux/Class/MOP/Attribute.pm line 450
Class::MOP::Attribute::install_accessors(Moose::Meta::Attribute=HASH(0x56179fd6a158)) called at /home/sand/src/perl/repoperls/installed-perls/host/k93msid/v5.28.2/da1c/lib/site_perl/5.28.2/x86_64-linux/Moose/Meta/Attribute.pm line 1014
Moose::Meta::Attribute::install_accessors(Moose::Meta::Attribute=HASH(0x56179fd6a158)) called at /home/sand/src/perl/repoperls/installed-perls/host/k93msid/v5.28.2/da1c/lib/site_perl/5.28.2/x86_64-linux/Class/MOP/Class.pm line 899
Class::MOP::Class::try {...} () called at /home/sand/src/perl/repoperls/installed-perls/host/k93msid/v5.28.2/da1c/lib/site_perl/5.28.2/Try/Tiny.pm line 102
eval {...} called at /home/sand/src/perl/repoperls/installed-perls/host/k93msid/v5.28.2/da1c/lib/site_perl/5.28.2/Try/Tiny.pm line 93
Try::Tiny::try(CODE(0x5617a1790318), Try::Tiny::Catch=REF(0x5617a1790870)) called at /home/sand/src/perl/repoperls/installed-perls/host/k93msid/v5.28.2/da1c/lib/site_perl/5.28.2/x86_64-linux/Class/MOP/Class.pm line 904
Class::MOP::Class::_post_add_attribute(Moose::Meta::Class=HASH(0x5617a10a3d20), Moose::Meta::Attribute=HASH(0x56179fd6a158)) called at /home/sand/src/perl/repoperls/installed-perls/host/k93msid/v5.28.2/da1c/lib/site_perl/5.28.2/x86_64-linux/Class/MOP/Mixin/HasAttributes.pm line 39
Class::MOP::Mixin::HasAttributes::add_attribute(Moose::Meta::Class=HASH(0x5617a10a3d20), Moose::Meta::Attribute=HASH(0x56179fd6a158)) called at /home/sand/src/perl/repoperls/installed-perls/host/k93msid/v5.28.2/da1c/lib/site_perl/5.28.2/x86_64-linux/Moose/Meta/Class.pm line 585
Moose::Meta::Class::add_attribute(Moose::Meta::Class=HASH(0x5617a10a3d20), "file", "definition_context", HASH(0x5617a0f9db48), "is", "ro") called at /home/sand/src/perl/repoperls/installed-perls/host/k93msid/v5.28.2/da1c/lib/site_perl/5.28.2/x86_64-linux/Moose.pm line 74
Moose::has(Moose::Meta::Class=HASH(0x5617a10a3d20), "file", "is", "ro") called at /home/sand/src/perl/repoperls/installed-perls/host/k93msid/v5.28.2/da1c/lib/site_perl/5.28.2/x86_64-linux/Moose/Exporter.pm line 419
Moose::has("file", "is", "ro") called at /home/sand/.cpan/privbuild/k93msid/Google-AJAX-Library-0.022-4/blib/lib/Google/AJAX/Library.pm line 32
require Google/AJAX/Library.pm called at t/02-library.t line 5
main::BEGIN() called at /home/sand/.cpan/privbuild/k93msid/Google-AJAX-Library-0.022-4/blib/lib/Google/AJAX/Library.pm line 0
eval {...} called at /home/sand/.cpan/privbuild/k93msid/Google-AJAX-Library-0.022-4/blib/lib/Google/AJAX/Library.pm line 0
t/02-library.t .. ok
You are overwriting a locally defined function (file) with an accessor at /home/sand/src/perl/repoperls/installed-perls/host/k93msid/v5.28.2/da1c/lib/site_perl/5.28.2/x86_64-linux/Moose/Meta/Attribute.pm line 1111.
Moose::Meta::Attribute::_process_accessors(Moose::Meta::Attribute=HASH(0x55bbe03aa2b8), "reader", "file", undef) called at /home/sand/src/perl/repoperls/installed-perls/host/k93msid/v5.28.2/da1c/lib/site_perl/5.28.2/x86_64-linux/Class/MOP/Attribute.pm line 450
Class::MOP::Attribute::install_accessors(Moose::Meta::Attribute=HASH(0x55bbe03aa2b8)) called at /home/sand/src/perl/repoperls/installed-perls/host/k93msid/v5.28.2/da1c/lib/site_perl/5.28.2/x86_64-linux/Moose/Meta/Attribute.pm line 1014
Moose::Meta::Attribute::install_accessors(Moose::Meta::Attribute=HASH(0x55bbe03aa2b8)) called at /home/sand/src/perl/repoperls/installed-perls/host/k93msid/v5.28.2/da1c/lib/site_perl/5.28.2/x86_64-linux/Class/MOP/Class.pm line 899
Class::MOP::Class::try {...} () called at /home/sand/src/perl/repoperls/installed-perls/host/k93msid/v5.28.2/da1c/lib/site_perl/5.28.2/Try/Tiny.pm line 102
eval {...} called at /home/sand/src/perl/repoperls/installed-perls/host/k93msid/v5.28.2/da1c/lib/site_perl/5.28.2/Try/Tiny.pm line 93
Try::Tiny::try(CODE(0x55bbe171d368), Try::Tiny::Catch=REF(0x55bbe171d8c0)) called at /home/sand/src/perl/repoperls/installed-perls/host/k93msid/v5.28.2/da1c/lib/site_perl/5.28.2/x86_64-linux/Class/MOP/Class.pm line 904
Class::MOP::Class::_post_add_attribute(Moose::Meta::Class=HASH(0x55bbe1067c40), Moose::Meta::Attribute=HASH(0x55bbe03aa2b8)) called at /home/sand/src/perl/repoperls/installed-perls/host/k93msid/v5.28.2/da1c/lib/site_perl/5.28.2/x86_64-linux/Class/MOP/Mixin/HasAttributes.pm line 39
Class::MOP::Mixin::HasAttributes::add_attribute(Moose::Meta::Class=HASH(0x55bbe1067c40), Moose::Meta::Attribute=HASH(0x55bbe03aa2b8)) called at /home/sand/src/perl/repoperls/installed-perls/host/k93msid/v5.28.2/da1c/lib/site_perl/5.28.2/x86_64-linux/Moose/Meta/Class.pm line 585
Moose::Meta::Class::add_attribute(Moose::Meta::Class=HASH(0x55bbe1067c40), "file", "definition_context", HASH(0x55bbe03aa4c8), "is", "ro") called at /home/sand/src/perl/repoperls/installed-perls/host/k93msid/v5.28.2/da1c/lib/site_perl/5.28.2/x86_64-linux/Moose.pm line 74
Moose::has(Moose::Meta::Class=HASH(0x55bbe1067c40), "file", "is", "ro") called at /home/sand/src/perl/repoperls/installed-perls/host/k93msid/v5.28.2/da1c/lib/site_perl/5.28.2/x86_64-linux/Moose/Exporter.pm line 419
Moose::has("file", "is", "ro") called at /home/sand/.cpan/privbuild/k93msid/Google-AJAX-Library-0.022-4/blib/lib/Google/AJAX/Library.pm line 32
require Google/AJAX/Library.pm called at t/03-fetch.t line 5
main::BEGIN() called at /home/sand/.cpan/privbuild/k93msid/Google-AJAX-Library-0.022-4/blib/lib/Google/AJAX/Library.pm line 0
eval {...} called at /home/sand/.cpan/privbuild/k93msid/Google-AJAX-Library-0.022-4/blib/lib/Google/AJAX/Library.pm line 0
t/03-fetch.t .... skipped: Not going out to http://ajax.googleapis.com to test fetching/writing
All tests successful.
Files=3, Tests=61, 1 wallclock secs ( 0.01 usr 0.03 sys + 0.62 cusr 0.14 csys = 0.80 CPU)
Result: PASS
------------------------------
PREREQUISITES
------------------------------
Prerequisite modules loaded:
requires:
Module Need Have
------------------- ---- ------
Carp::Clan::Share 0 0.013
HTML::Declare 0 2.6
LWP::UserAgent 0 6.44
Moose 0 2.2012
Path::Class 0 0.37
URI 0 1.76
build_requires:
Module Need Have
------------------- ---- ------
File::Temp 0 0.2309
Test::Most 0 0.37
configure_requires:
Module Need Have
------------------- ---- ------
ExtUtils::MakeMaker 6.31 7.44
------------------------------
ENVIRONMENT AND OTHER CONTEXT
------------------------------
Environment variables:
AUTOMATED_TESTING = 1
LANG = en_US.UTF-8
PATH = /home/sand/bin:/usr/local/bin:/usr/bin:/bin:/usr/games:/usr/local/perl/bin:/usr/X11/bin:/sbin:/usr/sbin
PERL5LIB = /home/sand/.cpan/privbuild/k93msid/Devel-Required-0.16-5/blib/arch:/home/sand/.cpan/privbuild/k93msid/Devel-Required-0.16-5/blib/lib:/home/sand/.cpan/privbuild/k93msid/ProjectBuilder-0.14.1-5/blib/arch:/home/sand/.cpan/privbuild/k93msid/ProjectBuilder-0.14.1-5/blib/lib
PERL5OPT =
PERL5_CPANPLUS_IS_RUNNING = 3095621
PERL5_CPAN_IS_RUNNING = 3095621
PERL_CANARY_STABILITY_NOPROMPT = 1
PERL_MM_USE_DEFAULT = 1
PERL_USE_UNSAFE_INC = 1
SHELL = /usr/bin/zsh
TERM = screen
Perl special variables (and OS-specific diagnostics, for MSWin32):
$^X = /tmp/basesmoker-reloperl-SlYX/bin/perl
$UID/$EUID = 1005 / 1005
$GID = 1005 1005
$EGID = 1005 1005
Perl module toolchain versions installed:
Module Have
------------------- --------
CPAN 2.20
CPAN::Meta 2.150010
Cwd 3.75
ExtUtils::CBuilder 0.280234
ExtUtils::Command 7.44
ExtUtils::Install 2.14
ExtUtils::MakeMaker 7.44
ExtUtils::Manifest 1.72
ExtUtils::ParseXS 3.39
File::Spec 3.75
JSON 4.02
JSON::PP 4.04
Module::Build 0.4231
Module::Signature 0.83
Parse::CPAN::Meta 2.150010
Test::Harness 3.42
Test::More 1.302175
YAML 1.30
YAML::Syck 1.32
version 0.9924
--
Summary of my perl5 (revision 5 version 28 subversion 2) configuration:
Derived from: c763da0e1c4ed5f24d490617b5a28c81fb69f6c4
Platform:
osname=linux
osvers=5.3.0-2-amd64
archname=x86_64-linux
uname='linux k93msid 5.3.0-2-amd64 #1 smp debian 5.3.9-3 (2019-11-19) x86_64 gnulinux '
config_args='-Dprefix=/home/sand/src/perl/repoperls/installed-perls/host/k93msid/v5.28.2/da1c -Dmyhostname=k93msid -Dinstallusrbinperl=n -Uversiononly -Dusedevel -des -Ui_db -Dlibswanted=cl pthread socket inet nsl gdbm dbm malloc dl ld sun m crypt sec util c cposix posix ucb BSD gdbm_compat -Uuseithreads -Uuselongdouble -DEBUGGING=-g'
hint=recommended
useposix=true
d_sigaction=define
useithreads=undef
usemultiplicity=undef
use64bitint=define
use64bitall=define
uselongdouble=undef
usemymalloc=n
default_inc_excludes_dot=define
bincompat5005=undef
Compiler:
cc='cc'
ccflags ='-fwrapv -fno-strict-aliasing -pipe -fstack-protector-strong -I/usr/local/include -D_LARGEFILE_SOURCE -D_FILE_OFFSET_BITS=64'
optimize='-O2 -g'
cppflags='-fwrapv -fno-strict-aliasing -pipe -fstack-protector-strong -I/usr/local/include'
ccversion=''
gccversion='9.2.1 20191109'
gccosandvers=''
intsize=4
longsize=8
ptrsize=8
doublesize=8
byteorder=12345678
doublekind=3
d_longlong=define
longlongsize=8
d_longdbl=define
longdblsize=16
longdblkind=3
ivtype='long'
ivsize=8
nvtype='double'
nvsize=8
Off_t='off_t'
lseeksize=8
alignbytes=8
prototype=define
Linker and Libraries:
ld='cc'
ldflags =' -fstack-protector-strong -L/usr/local/lib'
libpth=/usr/local/lib /usr/lib/gcc/x86_64-linux-gnu/9/include-fixed /usr/include/x86_64-linux-gnu /usr/lib /lib/x86_64-linux-gnu /lib/../lib /usr/lib/x86_64-linux-gnu /usr/lib/../lib /lib
libs=-lpthread -lnsl -ldl -lm -lcrypt -lutil -lc
perllibs=-lpthread -lnsl -ldl -lm -lcrypt -lutil -lc
libc=libc-2.29.so
so=so
useshrplib=false
libperl=libperl.a
gnulibc_version='2.29'
Dynamic Linking:
dlsrc=dl_dlopen.xs
dlext=so
d_dlsymun=undef
ccdlflags='-Wl,-E'
cccdlflags='-fPIC'
lddlflags='-shared -O2 -g -L/usr/local/lib -fstack-protector-strong'
Characteristics of this binary (from libperl):
Compile-time options:
HAS_TIMES
PERLIO_LAYERS
PERL_COPY_ON_WRITE
PERL_DONT_CREATE_GVSV
PERL_MALLOC_WRAP
PERL_OP_PARENT
PERL_PRESERVE_IVUV
PERL_USE_DEVEL
USE_64_BIT_ALL
USE_64_BIT_INT
USE_LARGE_FILES
USE_LOCALE
USE_LOCALE_COLLATE
USE_LOCALE_CTYPE
USE_LOCALE_NUMERIC
USE_LOCALE_TIME
USE_PERLIO
USE_PERL_ATOF
Locally applied patches:
uncommitted-changes
Built under linux
Compiled at May 8 2020 09:10:29
%ENV:
PERL5LIB="/home/sand/.cpan/privbuild/k93msid/Devel-Required-0.16-5/blib/arch:/home/sand/.cpan/privbuild/k93msid/Devel-Required-0.16-5/blib/lib:/home/sand/.cpan/privbuild/k93msid/ProjectBuilder-0.14.1-5/blib/arch:/home/sand/.cpan/privbuild/k93msid/ProjectBuilder-0.14.1-5/blib/lib"
PERL5OPT=""
PERL5_CPANPLUS_IS_RUNNING="3095621"
PERL5_CPAN_IS_RUNNING="3095621"
PERL_CANARY_STABILITY_NOPROMPT="1"
PERL_MM_USE_DEFAULT="1"
PERL_USE_UNSAFE_INC="1"
@INC:
/home/sand/.cpan/privbuild/k93msid/Devel-Required-0.16-5/blib/arch
/home/sand/.cpan/privbuild/k93msid/Devel-Required-0.16-5/blib/lib
/home/sand/.cpan/privbuild/k93msid/ProjectBuilder-0.14.1-5/blib/arch
/home/sand/.cpan/privbuild/k93msid/ProjectBuilder-0.14.1-5/blib/lib
/home/sand/src/perl/repoperls/installed-perls/host/k93msid/v5.28.2/da1c/lib/site_perl/5.28.2/x86_64-linux
/home/sand/src/perl/repoperls/installed-perls/host/k93msid/v5.28.2/da1c/lib/site_perl/5.28.2
/home/sand/src/perl/repoperls/installed-perls/host/k93msid/v5.28.2/da1c/lib/5.28.2/x86_64-linux
/home/sand/src/perl/repoperls/installed-perls/host/k93msid/v5.28.2/da1c/lib/5.28.2
.