Report for Net-SSH-Perl-2.09.01

Back
From: metabase:user:d49cdc72-1559-11e3-9efd-e82414baadac
Subject: PASS Net-SSH-Perl-2.09.01 v5.25.10 GNU/Linux
Date: 2017-03-23T13:47:59Z

This distribution has been tested as part of the CPAN Testers
project, supporting the Perl programming language.  See
http://wiki.cpantesters.org/ for more information or email
questions to cpan-testers-discuss@perl.org


--
Dear SCHWIGON,

This is a computer-generated report for Net-SSH-Perl-2.09
on perl 5.25.10, created by App::cpanminus::reporter 0.17 (1.7042).

Thank you for uploading your work to CPAN.  Congratulations!
All tests were successful.

Sections of this report:

    * Tester comments
    * Program output
    * Prerequisites
    * Environment and other context

------------------------------
TESTER COMMENTS
------------------------------

Additional comments from tester:

none provided

------------------------------
PROGRAM OUTPUT
------------------------------

Output from '':

Building and testing Net-SSH-Perl-2.09
cp lib/Net/SSH/Perl/Cipher/AES128_CBC.pm blib/lib/Net/SSH/Perl/Cipher/AES128_CBC.pm
cp lib/Net/SSH/Perl/Auth/KeyboardInt.pm blib/lib/Net/SSH/Perl/Auth/KeyboardInt.pm
cp lib/Net/SSH/Perl/Cipher/ChachaPoly.pm blib/lib/Net/SSH/Perl/Cipher/ChachaPoly.pm
cp lib/Net/SSH/Perl/Channel.pm blib/lib/Net/SSH/Perl/Channel.pm
cp lib/Net/SSH/Perl/Cipher/IDEA.pm blib/lib/Net/SSH/Perl/Cipher/IDEA.pm
cp lib/Net/SSH/Perl/Cipher/AES192_CBC.pm blib/lib/Net/SSH/Perl/Cipher/AES192_CBC.pm
cp lib/Net/SSH/Perl/Cipher/CFB.pm blib/lib/Net/SSH/Perl/Cipher/CFB.pm
cp lib/Net/SSH/Perl/Auth.pm blib/lib/Net/SSH/Perl/Auth.pm
cp lib/Net/SSH/Perl/Cipher/AES_CTR.pm blib/lib/Net/SSH/Perl/Cipher/AES_CTR.pm
cp lib/Net/SSH/Perl/Auth/Password.pm blib/lib/Net/SSH/Perl/Auth/Password.pm
cp lib/Net/SSH/Perl/ChannelMgr.pm blib/lib/Net/SSH/Perl/ChannelMgr.pm
cp lib/Net/SSH/Perl/Cipher/CBC.pm blib/lib/Net/SSH/Perl/Cipher/CBC.pm
cp lib/Net/SSH/Perl.pm blib/lib/Net/SSH/Perl.pm
cp lib/Net/SSH/Perl/Auth/ChallengeResponse.pm blib/lib/Net/SSH/Perl/Auth/ChallengeResponse.pm
cp lib/Net/SSH/Perl/Cipher/AES128_CTR.pm blib/lib/Net/SSH/Perl/Cipher/AES128_CTR.pm
cp lib/Net/SSH/Perl/AuthMgr.pm blib/lib/Net/SSH/Perl/AuthMgr.pm
cp lib/Net/SSH/Perl/Cipher/AES256_CTR.pm blib/lib/Net/SSH/Perl/Cipher/AES256_CTR.pm
cp lib/Net/SSH/Perl/Buffer.pm blib/lib/Net/SSH/Perl/Buffer.pm
cp lib/Net/SSH/Perl/Cipher/RC4.pm blib/lib/Net/SSH/Perl/Cipher/RC4.pm
cp lib/Net/SSH/Perl/Auth/KeyboardInteractive.pm blib/lib/Net/SSH/Perl/Auth/KeyboardInteractive.pm
cp lib/Net/SSH/Perl/Cipher/CTR.pm blib/lib/Net/SSH/Perl/Cipher/CTR.pm
cp lib/Net/SSH/Perl/Cipher/Blowfish.pm blib/lib/Net/SSH/Perl/Cipher/Blowfish.pm
cp lib/Net/SSH/Perl/Cipher/AES256_CBC.pm blib/lib/Net/SSH/Perl/Cipher/AES256_CBC.pm
cp lib/Net/SSH/Perl/Auth/Rhosts.pm blib/lib/Net/SSH/Perl/Auth/Rhosts.pm
cp lib/Net/SSH/Perl/Auth/RSA.pm blib/lib/Net/SSH/Perl/Auth/RSA.pm
cp lib/Net/SSH/Perl/Cipher.pm blib/lib/Net/SSH/Perl/Cipher.pm
cp lib/Net/SSH/Perl/Auth/PublicKey.pm blib/lib/Net/SSH/Perl/Auth/PublicKey.pm
cp lib/Net/SSH/Perl/Cipher/AES192_CTR.pm blib/lib/Net/SSH/Perl/Cipher/AES192_CTR.pm
cp lib/Net/SSH/Perl/Cipher/DES.pm blib/lib/Net/SSH/Perl/Cipher/DES.pm
cp lib/Net/SSH/Perl/Cipher/DES3.pm blib/lib/Net/SSH/Perl/Cipher/DES3.pm
cp lib/Net/SSH/Perl/Cipher/ChachaPoly.xs blib/lib/Net/SSH/Perl/Cipher/ChachaPoly.xs
cp lib/Net/SSH/Perl/Auth/Rhosts_RSA.pm blib/lib/Net/SSH/Perl/Auth/Rhosts_RSA.pm
cp lib/Net/SSH/Perl/Agent.pm blib/lib/Net/SSH/Perl/Agent.pm
cp lib/Net/SSH/Perl/Cipher/AES_CBC.pm blib/lib/Net/SSH/Perl/Cipher/AES_CBC.pm
cp lib/Net/SSH/Perl/Kex/DH14SHA256.pm blib/lib/Net/SSH/Perl/Kex/DH14SHA256.pm
cp lib/Net/SSH/Perl/SSH2.pm blib/lib/Net/SSH/Perl/SSH2.pm
cp lib/Net/SSH/Perl/Comp/Zlib.pm blib/lib/Net/SSH/Perl/Comp/Zlib.pm
cp lib/Net/SSH/Perl/Handle/SSH1.pm blib/lib/Net/SSH/Perl/Handle/SSH1.pm
cp lib/Net/SSH/Perl/Kex/DHGEXSHA256.pm blib/lib/Net/SSH/Perl/Kex/DHGEXSHA256.pm
cp lib/Net/SSH/Perl/Key/ECDSA521.pm blib/lib/Net/SSH/Perl/Key/ECDSA521.pm
cp lib/Net/SSH/Perl/Key.pm blib/lib/Net/SSH/Perl/Key.pm
cp lib/Net/SSH/Perl/Key/ECDSA.pm blib/lib/Net/SSH/Perl/Key/ECDSA.pm
cp lib/Net/SSH/Perl/Kex.pm blib/lib/Net/SSH/Perl/Kex.pm
cp lib/Net/SSH/Perl/Subsystem/Server.pm blib/lib/Net/SSH/Perl/Subsystem/Server.pm
cp lib/Net/SSH/Perl/Constants.pm blib/lib/Net/SSH/Perl/Constants.pm
cp lib/Net/SSH/Perl/Key/DSA.pm blib/lib/Net/SSH/Perl/Key/DSA.pm
cp lib/Net/SSH/Perl/Kex/DHGEX.pm blib/lib/Net/SSH/Perl/Kex/DHGEX.pm
cp lib/Net/SSH/Perl/Key/Ed25519.pm blib/lib/Net/SSH/Perl/Key/Ed25519.pm
cp lib/Net/SSH/Perl/Handle/SSH2.pm blib/lib/Net/SSH/Perl/Handle/SSH2.pm
cp lib/Net/SSH/Perl/Key/RSA1.pm blib/lib/Net/SSH/Perl/Key/RSA1.pm
cp lib/Net/SSH/Perl/Kex/DH.pm blib/lib/Net/SSH/Perl/Kex/DH.pm
cp lib/Net/SSH/Perl/Util.pm blib/lib/Net/SSH/Perl/Util.pm
cp lib/Net/SSH/Perl/Kex/C25519.pm blib/lib/Net/SSH/Perl/Kex/C25519.pm
cp lib/Net/SSH/Perl/Kex/DH16SHA512.pm blib/lib/Net/SSH/Perl/Kex/DH16SHA512.pm
cp lib/Net/SSH/Perl/Config.pm blib/lib/Net/SSH/Perl/Config.pm
cp lib/Net/SSH/Perl/Kex/DH18SHA512.pm blib/lib/Net/SSH/Perl/Kex/DH18SHA512.pm
cp lib/Net/SSH/Perl/Mac.pm blib/lib/Net/SSH/Perl/Mac.pm
cp lib/Net/SSH/Perl/Comp.pm blib/lib/Net/SSH/Perl/Comp.pm
cp lib/Net/SSH/Perl/Subsystem/Client.pm blib/lib/Net/SSH/Perl/Subsystem/Client.pm
cp lib/Net/SSH/Perl/Packet.pm blib/lib/Net/SSH/Perl/Packet.pm
cp lib/Net/SSH/Perl/Kex/DHGEXSHA1.pm blib/lib/Net/SSH/Perl/Kex/DHGEXSHA1.pm
cp lib/Net/SSH/Perl/Kex/DH14SHA1.pm blib/lib/Net/SSH/Perl/Kex/DH14SHA1.pm
cp lib/Net/SSH/Perl/Key/Ed25519.xs blib/lib/Net/SSH/Perl/Key/Ed25519.xs
cp lib/Net/SSH/Perl/Proxy.pm blib/lib/Net/SSH/Perl/Proxy.pm
cp lib/Net/SSH/Perl/Util/Authfile.pm blib/lib/Net/SSH/Perl/Util/Authfile.pm
cp lib/Net/SSH/Perl/Key/ECDSA384.pm blib/lib/Net/SSH/Perl/Key/ECDSA384.pm
cp lib/Net/SSH/Perl/SSH1.pm blib/lib/Net/SSH/Perl/SSH1.pm
cp lib/Net/SSH/Perl/Key/RSA.pm blib/lib/Net/SSH/Perl/Key/RSA.pm
cp lib/Net/SSH/Perl/Handle.pm blib/lib/Net/SSH/Perl/Handle.pm
cp lib/Net/SSH/Perl/Kex/DH1.pm blib/lib/Net/SSH/Perl/Kex/DH1.pm
cp lib/Net/SSH/Perl/Key/ECDSA256.pm blib/lib/Net/SSH/Perl/Key/ECDSA256.pm
cp lib/Net/SSH/Perl/Util/RSA.pm blib/lib/Net/SSH/Perl/Util/RSA.pm
cp lib/Net/SSH/Perl/Util/Win32.pm blib/lib/Net/SSH/Perl/Util/Win32.pm
cp lib/Net/SSH/Perl/Util/SSH1MP.pm blib/lib/Net/SSH/Perl/Util/SSH1MP.pm
cp lib/Net/SSH/Perl/Util/Hosts.pm blib/lib/Net/SSH/Perl/Util/Hosts.pm
cp lib/Net/SSH/Perl/Util/Term.pm blib/lib/Net/SSH/Perl/Util/Term.pm
cp lib/Net/SSH/Perl/Util/SSH1Misc.pm blib/lib/Net/SSH/Perl/Util/SSH1Misc.pm
Running Mkbootstrap for Perl ()
chmod 644 "Perl.bs"
"/home/kent/perl5/perlbrew/perls/5.25.10-nossp-sdbm-nopmc-nodot/bin/perl5.25.10" -MExtUtils::Command::MM -e 'cp_nonempty' -- Perl.bs blib/arch/auto/Net/SSH/Perl/Perl.bs 644
"/home/kent/perl5/perlbrew/perls/5.25.10-nossp-sdbm-nopmc-nodot/bin/perl5.25.10" "/home/kent/perl5/perlbrew/perls/5.25.10-nossp-sdbm-nopmc-nodot/lib/5.25.10/ExtUtils/xsubpp"  -typemap '/home/kent/perl5/perlbrew/perls/5.25.10-nossp-sdbm-nopmc-nodot/lib/5.25.10/ExtUtils/typemap' -typemap '/home/kent/.cpanm/work/1490276872.23835/Net-SSH-Perl-2.09/typemap'  Perl.xs > Perl.xsc
mv Perl.xsc Perl.c
cc -c   -fstack-protector-strong -fno-stack-protector -DPERL_HASH_FUNC_SDBM -DPERL_DISABLE_PMC -fwrapv -fno-strict-aliasing -pipe -D_LARGEFILE_SOURCE -D_FILE_OFFSET_BITS=64 -fstack-protector-strong -fno-stack-protector -O3 -march=native -mtune=native   -DVERSION=\"2.09\" -DXS_VERSION=\"2.09\" -fPIC "-I/home/kent/perl5/perlbrew/perls/5.25.10-nossp-sdbm-nopmc-nodot/lib/5.25.10/x86_64-linux/CORE"   Perl.c
In file included from src/chacha/chacha.c:9:0,
                 from Perl.c:191:
src/chacha/chacha.h:25:5: warning: ‘__bounded__’ attribute directive ignored [-Wattributes]
     __attribute__((__bounded__(__minbytes__, 2, CHACHA_MINKEYLEN)));
     ^
src/chacha/chacha.h:28:5: warning: ‘__bounded__’ attribute directive ignored [-Wattributes]
     __attribute__((__bounded__(__minbytes__, 3, CHACHA_CTRLEN)));
     ^
src/chacha/chacha.h:28:5: warning: ‘__bounded__’ attribute directive ignored [-Wattributes]
src/chacha/chacha.h:32:5: warning: ‘__bounded__’ attribute directive ignored [-Wattributes]
     __attribute__((__bounded__(__buffer__, 3, 4)));
     ^
src/chacha/chacha.h:32:5: warning: ‘__bounded__’ attribute directive ignored [-Wattributes]
In file included from src/chacha/poly1305.c:10:0,
                 from Perl.c:193:
src/chacha/poly1305.h:20:5: warning: ‘__bounded__’ attribute directive ignored [-Wattributes]
     __attribute__((__bounded__(__minbytes__, 4, POLY1305_KEYLEN)));
     ^
src/chacha/poly1305.h:20:5: warning: ‘__bounded__’ attribute directive ignored [-Wattributes]
src/chacha/poly1305.h:20:5: warning: ‘__bounded__’ attribute directive ignored [-Wattributes]
rm -f blib/arch/auto/Net/SSH/Perl/Perl.so
cc  -shared  -fstack-protector-strong -fno-stack-protector -O3 -march=native -mtune=native -L/usr/local/lib Perl.o  -o blib/arch/auto/Net/SSH/Perl/Perl.so  \
      \
  
chmod 755 blib/arch/auto/Net/SSH/Perl/Perl.so
"/home/kent/perl5/perlbrew/perls/5.25.10-nossp-sdbm-nopmc-nodot/bin/perl5.25.10" -MExtUtils::Command::MM -e 'cp_nonempty' -- Perl.bs blib/arch/auto/Net/SSH/Perl/Perl.bs 644
PERL_DL_NONLAZY=1 "/home/kent/perl5/perlbrew/perls/5.25.10-nossp-sdbm-nopmc-nodot/bin/perl5.25.10" "-MExtUtils::Command::MM" "-MTest::Harness" "-e" "undef *Test::Harness::Switches; test_harness(0, 'blib/lib', 'blib/arch')" t/*.t
t/00-signature.t ... skipped: Set the environment variable TEST_SIGNATURE to enable this test
t/02-buffer.t ...... ok
t/06-circular.t .... ok
t/01-compile.t ..... ok
t/99-spellcheck.t .. skipped: Set the environment variable TEST_SPELL to enable this test
t/05-cipher.t ...... ok
t/99-pod.t ......... skipped: Test not ready yet.
t/99-perlcritic.t .. skipped: Set the environment variable TEST_CRITIC to enable this test
t/04-config.t ...... ok
t/03-packet.t ...... ok
t/06-auth.t ........ skipped: Test not enabled yet
t/99-yaml.t ........ skipped: Set the environment variable TEST_AUTHOR to enable this test
t/07-ed25519.t ..... ok
All tests successful.
Files=13, Tests=157,  1 wallclock secs ( 0.09 usr  0.02 sys +  1.53 cusr  0.28 csys =  1.92 CPU)
Result: PASS

------------------------------
PREREQUISITES
------------------------------

Prerequisite modules loaded:

    No requirements found

------------------------------
ENVIRONMENT AND OTHER CONTEXT
------------------------------

Environment variables:

    HARNESS_OPTIONS = j10:c
    LANG = en_NZ.UTF8
    LC_CTYPE = en_NZ.UTF8
    LC_TIME = en_NZ.UTF8
    PATH = /home/kent/.rvm/gems/ruby-2.1.2/bin:/home/kent/.rvm/gems/ruby-2.1.2@global/bin:/home/kent/.rvm/rubies/ruby-2.1.2/bin:/home/kent/perl5/perlbrew/bin:/home/kent/perl5/perlbrew/perls/5.25.10-nossp-sdbm-nopmc-nodot/bin:/home/kent/.perl6/2013.04/bin:/home/kent/.gem/ruby/1.8/bin/:/usr/local/bin:/usr/bin:/bin:/opt/bin:/usr/x86_64-pc-linux-gnu/gcc-bin/5.4.0:/usr/games/bin:/home/kent/.rvm/bin:/home/kent/.rvm/bin
    PERLBREW_BASHRC_VERSION = 0.74
    PERLBREW_HOME = /home/kent/.perlbrew
    PERLBREW_MANPATH = /home/kent/perl5/perlbrew/perls/5.25.10-nossp-sdbm-nopmc-nodot/man
    PERLBREW_PATH = /home/kent/perl5/perlbrew/bin:/home/kent/perl5/perlbrew/perls/5.25.10-nossp-sdbm-nopmc-nodot/bin
    PERLBREW_PERL = 5.25.10-nossp-sdbm-nopmc-nodot
    PERLBREW_ROOT = /home/kent/perl5/perlbrew
    PERLBREW_VERSION = 0.74
    PERL_CPANM_OPT =  --prompt --reinstall --interactive --with-recommends --with-suggests --with-develop --mirror http://cpan.metacpan.org/ --no-lwp
    PERL_MM_OPT =  INSTALLDIRS=site
    SHELL = /bin/bash
    TERM = rxvt-unicode-256color

Perl special variables (and OS-specific diagnostics, for MSWin32):

    EGID = 1000 4 6 10 16 18 19 27 35 78 80 85 100 102 103 104 105 114 115 116 117 118 250 965 968 974 976 994 1000
    EUID = 1000
    EXECUTABLE_NAME = /home/kent/perl5/perlbrew/perls/5.25.10-nossp-sdbm-nopmc-nodot/bin/perl5.25.10
    GID = 1000 4 6 10 16 18 19 27 35 78 80 85 100 102 103 104 105 114 115 116 117 118 250 965 968 974 976 994 1000
    UID = 1000

Perl module toolchain versions installed:

    Module              Have      
    ------------------- ----------
    CPAN                2.17      
    CPAN::Meta          2.150010  
    Cwd                 3.66      
    ExtUtils::CBuilder  0.280225  
    ExtUtils::Command   7.24      
    ExtUtils::Install   2.04      
    ExtUtils::MakeMaker 7.24      
    ExtUtils::Manifest  1.70      
    ExtUtils::ParseXS   3.33      
    File::Spec          3.66      
    JSON                2.90      
    JSON::PP            2.27400_02
    Module::Build       0.4220    
    Module::Signature   0.81      
    Parse::CPAN::Meta   2.150010  
    Test::Harness       3.36_01   
    Test::More          1.302073  
    YAML                1.23      
    YAML::Syck          1.29      
    version             0.9917    


--

Summary of my perl5 (revision 5 version 25 subversion 10) configuration:
   
  Platform:
    osname=linux
    osvers=4.8.5-gentoo
    archname=x86_64-linux
    uname='linux katipo2 4.8.5-gentoo #43 smp preempt tue nov 1 19:41:26 nzdt 2016 x86_64 intel(r) core(tm) i5-2410m cpu @ 2.30ghz genuineintel gnulinux '
    config_args='-de -Dprefix=/home/kent/perl5/perlbrew/perls/5.25.10-nossp-sdbm-nopmc-nodot -Ddefault_inc_excludes_dot -Doptimize= -fstack-protector-strong -fno-stack-protector -O3 -march=native -mtune=native -Dman1dir=none -Dman3dir=none -Dusedevel -Accflags= -fstack-protector-strong -fno-stack-protector -DPERL_HASH_FUNC_SDBM -DPERL_DISABLE_PMC -Aldflags= -fstack-protector-strong -fno-stack-protector -Aeval:scriptdir=/home/kent/perl5/perlbrew/perls/5.25.10-nossp-sdbm-nopmc-nodot/bin'
    hint=recommended
    useposix=true
    d_sigaction=define
    useithreads=undef
    usemultiplicity=undef
    use64bitint=define
    use64bitall=define
    uselongdouble=undef
    usemymalloc=n
    bincompat5005=undef
  Compiler:
    cc='cc'
    ccflags ='-fstack-protector-strong -fno-stack-protector -DPERL_HASH_FUNC_SDBM -DPERL_DISABLE_PMC -fwrapv -fno-strict-aliasing -pipe -D_LARGEFILE_SOURCE -D_FILE_OFFSET_BITS=64'
    optimize=' -fstack-protector-strong -fno-stack-protector -O3 -march=native -mtune=native'
    cppflags='-fstack-protector-strong -fno-stack-protector -DPERL_HASH_FUNC_SDBM -DPERL_DISABLE_PMC -fwrapv -fno-strict-aliasing -pipe'
    ccversion=''
    gccversion='5.4.0'
    gccosandvers=''
    intsize=4
    longsize=8
    ptrsize=8
    doublesize=8
    byteorder=12345678
    doublekind=3
    d_longlong=define
    longlongsize=8
    d_longdbl=define
    longdblsize=16
    longdblkind=3
    ivtype='long'
    ivsize=8
    nvtype='double'
    nvsize=8
    Off_t='off_t'
    lseeksize=8
    alignbytes=8
    prototype=define
  Linker and Libraries:
    ld='cc'
    ldflags ='  -fstack-protector-strong -fno-stack-protector -L/usr/local/lib'
    libpth=/usr/lib/gcc/x86_64-pc-linux-gnu/5.4.0/include-fixed /usr/lib /usr/local/lib /lib/../lib64 /usr/lib/../lib64 /lib /lib64 /usr/lib64 /usr/local/lib64
    libs=-lpthread -lnsl -lndbm -lgdbm -ldb -ldl -lm -lcrypt -lutil -lc -lgdbm_compat
    perllibs=-lpthread -lnsl -ldl -lm -lcrypt -lutil -lc
    libc=libc-2.24.so
    so=so
    useshrplib=false
    libperl=libperl.a
    gnulibc_version='2.24'
  Dynamic Linking:
    dlsrc=dl_dlopen.xs
    dlext=so
    d_dlsymun=undef
    ccdlflags='-Wl,-E'
    cccdlflags='-fPIC'
    lddlflags='-shared  -fstack-protector-strong -fno-stack-protector -O3 -march=native -mtune=native -L/usr/local/lib'


Characteristics of this binary (from libperl): 
  Compile-time options:
    HAS_TIMES
    PERLIO_LAYERS
    PERL_COPY_ON_WRITE
    PERL_DISABLE_PMC
    PERL_DONT_CREATE_GVSV
    PERL_HASH_FUNC_SDBM
    PERL_MALLOC_WRAP
    PERL_OP_PARENT
    PERL_PRESERVE_IVUV
    PERL_USE_DEVEL
    USE_64_BIT_ALL
    USE_64_BIT_INT
    USE_LARGE_FILES
    USE_LOCALE
    USE_LOCALE_COLLATE
    USE_LOCALE_CTYPE
    USE_LOCALE_NUMERIC
    USE_LOCALE_TIME
    USE_PERLIO
    USE_PERL_ATOF
  Built under linux
  Compiled at Feb 27 2017 18:17:29
  %ENV:
    PERLBREW_BASHRC_VERSION="0.74"
    PERLBREW_HOME="/home/kent/.perlbrew"
    PERLBREW_MANPATH="/home/kent/perl5/perlbrew/perls/5.25.10-nossp-sdbm-nopmc-nodot/man"
    PERLBREW_PATH="/home/kent/perl5/perlbrew/bin:/home/kent/perl5/perlbrew/perls/5.25.10-nossp-sdbm-nopmc-nodot/bin"
    PERLBREW_PERL="5.25.10-nossp-sdbm-nopmc-nodot"
    PERLBREW_ROOT="/home/kent/perl5/perlbrew"
    PERLBREW_VERSION="0.74"
    PERL_CPANM_OPT=" --prompt --reinstall --interactive --with-recommends --with-suggests --with-develop --mirror http://cpan.metacpan.org/ --no-lwp"
    PERL_MM_OPT=" INSTALLDIRS=site"
  @INC:
    /home/kent/perl5/perlbrew/perls/5.25.10-nossp-sdbm-nopmc-nodot/lib/site_perl/5.25.10/x86_64-linux
    /home/kent/perl5/perlbrew/perls/5.25.10-nossp-sdbm-nopmc-nodot/lib/site_perl/5.25.10
    /home/kent/perl5/perlbrew/perls/5.25.10-nossp-sdbm-nopmc-nodot/lib/5.25.10/x86_64-linux
    /home/kent/perl5/perlbrew/perls/5.25.10-nossp-sdbm-nopmc-nodot/lib/5.25.10