Back
From: metabase:user:22aae7b2-408d-11e2-bb68-a565085fdbec
Subject: PASS Pod-Weaver-Section-CollectWithIntro-0.001 v5.16.3 GNU/Linux
Date: 2013-04-26T23:09:21Z
This distribution has been tested as part of the CPAN Testers
project, supporting the Perl programming language. See
http://wiki.cpantesters.org/ for more information or email
questions to cpan-testers-discuss@perl.org
--
Dear Chris Weyl,
This is a computer-generated report for Pod-Weaver-Section-CollectWithIntro-0.001
on perl 5.16.3, created by CPAN-Reporter-1.2009.
Thank you for uploading your work to CPAN. Congratulations!
All tests were successful.
Sections of this report:
* Tester comments
* Program output
* Prerequisites
* Environment and other context
------------------------------
TESTER COMMENTS
------------------------------
Additional comments from tester:
none provided
------------------------------
PROGRAM OUTPUT
------------------------------
Output from '/usr/bin/make test':
PERL_DL_NONLAZY=1 /usr/local/bin/perl "-MExtUtils::Command::MM" "-e" "test_harness(0, 'blib/lib', 'blib/arch')" t/*.t
t/00-compile.t .................. ok
#
#
# Generated by Dist::Zilla::Plugin::ReportVersions::Tiny v1.08
# perl: 5.016003 (wanted 5.006) on linux from /usr/local/bin/perl
#
# ExtUtils::MakeMaker => 6.66 (want 6.30)
# File::Find => 1.20 (want any version)
# File::Temp => 0.2301 (want any version)
# Moose => 2.0801 (want any version)
# Moose::Autobox => 0.13 (want 0.10)
# PPI => 1.215 (want any version)
# Pod::Coverage::TrustPod => 0.100002 (want any version)
# Pod::Elemental => 0.102362 (want any version)
# Pod::Elemental::Element::Pod5::Ordinary => 0.102362 (want any version)
# Pod::Elemental::Selectors => 0.102362 (want any version)
# Pod::Elemental::Transformer::Nester => 0.102362 (want any version)
# Pod::Elemental::Transformer::Pod5 => 0.102362 (want any version)
# Pod::Weaver => 3.101638 (want any version)
# Pod::Weaver::Section::Collect => 3.101638 (want any version)
# Test::Differences => 0.61 (want any version)
# Test::More => 0.98 (want 0.88)
# Test::Pod => 1.46 (want 1.41)
# Test::Pod::Coverage => 1.08 (want 1.08)
# aliased => 0.31 (want any version)
# autobox::Core => 1.24 (want any version)
# namespace::autoclean => 0.13 (want any version)
# strict => 1.07 (want any version)
# version => 0.9902 (want 0.9901)
# warnings => 1.13 (want any version)
#
# Thanks for using my code. I hope it works for you.
# If not, please try and include this output in the bug report.
# That will help me reproduce the issue and solve your problem.
#
t/000-report-versions-tiny.t .... ok
t/author-pod-spell.t ............ skipped: these tests are for testing by the author
t/basic.t ....................... ok
t/release-consistent-version.t .. skipped: these tests are for release candidate testing
t/release-eol.t ................. skipped: these tests are for release candidate testing
t/release-has-version.t ......... skipped: these tests are for release candidate testing
t/release-no-smart-comments.t ... skipped: these tests are for release candidate testing
t/release-no-tabs.t ............. skipped: these tests are for release candidate testing
t/release-pod-coverage.t ........ skipped: these tests are for release candidate testing
t/release-pod-syntax.t .......... skipped: these tests are for release candidate testing
t/release-portability.t ......... skipped: these tests are for release candidate testing
All tests successful.
Files=12, Tests=3, 3 wallclock secs ( 0.05 usr 0.01 sys + 2.37 cusr 0.13 csys = 2.56 CPU)
Result: PASS
------------------------------
PREREQUISITES
------------------------------
Prerequisite modules loaded:
requires:
Module Need Have
--------------------------------------- ---- --------
aliased 0 0.31
autobox::Core 0 1.24
Moose 0 2.0801
namespace::autoclean 0 0.13
Pod::Elemental::Element::Pod5::Ordinary 0 0.102362
Pod::Weaver::Section::Collect 0 3.101638
build_requires:
Module Need Have
--------------------------------------- ---- --------
File::Find 0 1.20
File::Temp 0 0.2301
Moose::Autobox 0.10 0.13
Pod::Elemental 0 0.102362
Pod::Elemental::Selectors 0 0.102362
Pod::Elemental::Transformer::Nester 0 0.102362
Pod::Elemental::Transformer::Pod5 0 0.102362
Pod::Weaver 0 3.101638
PPI 0 1.215
strict 0 1.07
Test::Differences 0 0.61
Test::More 0.88 0.98
warnings 0 1.13
configure_requires:
Module Need Have
--------------------------------------- ---- --------
ExtUtils::MakeMaker 6.30 6.66
------------------------------
ENVIRONMENT AND OTHER CONTEXT
------------------------------
Environment variables:
LANG = en_GB.UTF-8
PATH = /usr/local/sbin:/usr/local/bin:/sbin:/bin:/usr/sbin:/usr/bin:/root/bin
PERL5LIB =
PERL5OPT =
PERL5_CPANPLUS_IS_RUNNING = 3552
PERL5_CPAN_IS_RUNNING = 3552
SHELL = /bin/bash
TERM = xterm
Perl special variables (and OS-specific diagnostics, for MSWin32):
$^X = /usr/local/bin/perl
$UID/$EUID = 0 / 0
$GID = 0 0 1 2 3 4 6 10
$EGID = 0 0 1 2 3 4 6 10
Perl module toolchain versions installed:
Module Have
------------------- --------
CPAN 2.00
CPAN::Meta 2.130880
Cwd 3.40
ExtUtils::CBuilder 0.280206
ExtUtils::Command 1.17
ExtUtils::Install 1.58
ExtUtils::MakeMaker 6.66
ExtUtils::Manifest 1.61
ExtUtils::ParseXS 3.18_03
File::Spec 3.40
JSON 2.53
JSON::PP 2.27200
Module::Build 0.4004
Module::Signature 0.70
Parse::CPAN::Meta 1.4404
Test::Harness 3.23
Test::More 0.98
YAML 0.84
YAML::Syck 1.25
version 0.9902
--
Summary of my perl5 (revision 5 version 16 subversion 3) configuration:
Platform:
osname=linux, osvers=2.6.32.33-kvm-i386-20111128-dirty, archname=i686-linux
uname='linux cogendo2.vm.bytemark.co.uk 2.6.32.33-kvm-i386-20111128-dirty #5 smp mon nov 28 20:23:39 gmt 2011 i686 i686 i386 gnulinux '
config_args='-Dprefix=/usr/local'
hint=recommended, useposix=true, d_sigaction=define
useithreads=undef, usemultiplicity=undef
useperlio=define, d_sfio=undef, uselargefiles=define, usesocks=undef
use64bitint=undef, use64bitall=undef, uselongdouble=undef
usemymalloc=n, bincompat5005=undef
Compiler:
cc='gcc', ccflags ='-fno-strict-aliasing -pipe -fstack-protector -I/usr/local/include -D_LARGEFILE_SOURCE -D_FILE_OFFSET_BITS=64',
optimize='-O2',
cppflags='-fno-strict-aliasing -pipe -fstack-protector -I/usr/local/include'
ccversion='', gccversion='4.4.6 20120305 (Red Hat 4.4.6-4)', gccosandvers=''
intsize=4, longsize=4, ptrsize=4, doublesize=8, byteorder=1234
d_longlong=define, longlongsize=8, d_longdbl=define, longdblsize=12
ivtype='long', ivsize=4, nvtype='double', nvsize=8, Off_t='off_t', lseeksize=8
alignbytes=4, prototype=define
Linker and Libraries:
ld='gcc', ldflags =' -fstack-protector -L/usr/local/lib'
libpth=/usr/local/lib /lib /usr/lib
libs=-lnsl -ldl -lm -lcrypt -lutil -lc
perllibs=-lnsl -ldl -lm -lcrypt -lutil -lc
libc=/lib/libc-2.12.so, so=so, useshrplib=false, libperl=libperl.a
gnulibc_version='2.12'
Dynamic Linking:
dlsrc=dl_dlopen.xs, dlext=so, d_dlsymun=undef, ccdlflags='-Wl,-E'
cccdlflags='-fPIC', lddlflags='-shared -O2 -L/usr/local/lib -fstack-protector'
Characteristics of this binary (from libperl):
Compile-time options: HAS_TIMES PERLIO_LAYERS PERL_DONT_CREATE_GVSV
PERL_MALLOC_WRAP PERL_PRESERVE_IVUV USE_LARGE_FILES
USE_LOCALE USE_LOCALE_COLLATE USE_LOCALE_CTYPE
USE_LOCALE_NUMERIC USE_PERLIO USE_PERL_ATOF
Built under linux
Compiled at Mar 16 2013 22:14:25
%ENV:
PERL5LIB=""
PERL5OPT=""
PERL5_CPANPLUS_IS_RUNNING="3552"
PERL5_CPAN_IS_RUNNING="3552"
@INC:
/usr/local/lib/perl5/site_perl/5.16.3/i686-linux
/usr/local/lib/perl5/site_perl/5.16.3
/usr/local/lib/perl5/5.16.3/i686-linux
/usr/local/lib/perl5/5.16.3
/usr/local/lib/perl5/site_perl
.