Neo4j-Error v0.02 Perl 5 v5.38.0 OpenBSD.amd64-openbsd-ld
- Status
- Pass
- From
- Nigel Horne
- Dist
-
Neo4j-Error v0.02
- Platform
- Perl 5 v5.38.0 OpenBSD.amd64-openbsd-ld
- Date
- 2024-02-17 21:13:00
- ID
- 546c5200-cdd9-11ee-bb8a-e4b7a8b5fb0e
This distribution has been tested as part of the CPAN Testers
project, supporting the Perl programming language. See
http://wiki.cpantesters.org/ for more information or email
questions to cpan-testers-discuss@perl.org
--
Dear Arne Johannessen,
This is a computer-generated report for Neo4j-Error-0.02
on perl 5.38.0, created by CPAN-Reporter-1.2019.
Thank you for uploading your work to CPAN. Congratulations!
All tests were successful.
Sections of this report:
* Tester comments
* Program output
* Prerequisites
* Environment and other context
------------------------------
TESTER COMMENTS
------------------------------
Additional comments from tester:
this report is from an automated smoke testing program
and was not reviewed by a human for accuracy
------------------------------
PROGRAM OUTPUT
------------------------------
Output from '/usr/bin/make test':
PERL_DL_NONLAZY=1 "/home/njh/perl5/perlbrew/perls/perl-5.38.0-ld/bin/perl5.38.0" "-MExtUtils::Command::MM" "-MTest::Harness" "-e" "undef *Test::Harness::Switches; test_harness(0, 'blib/lib', 'blib/arch')" t/*.t
t/constructor.t .. ok
t/internal.t ..... ok
t/network.t ...... ok
t/server.t ....... ok
t/usage.t ........ ok
All tests successful.
Files=5, Tests=28, 1 wallclock secs ( 0.09 usr 0.02 sys + 0.70 cusr 0.24 csys = 1.05 CPU)
Result: PASS
------------------------------
PREREQUISITES
------------------------------
Prerequisite modules loaded:
requires:
Module Need Have
------------------- -------- --------
Devel::StackTrace 1.34 2.04
List::Util 1.33 1.63
parent 0 0.241
perl 5.010000 5.038000
build_requires:
Module Need Have
------------------- -------- --------
ExtUtils::MakeMaker 0 7.70
Test::Exception 0 0.43
Test::More 0.94 1.302195
Test::Warnings 0.010 0.031
configure_requires:
Module Need Have
------------------- -------- --------
ExtUtils::MakeMaker 0 7.70
------------------------------
ENVIRONMENT AND OTHER CONTEXT
------------------------------
Environment variables:
AUTOMATED_TESTING = 1
PATH = /home/njh/perl5/perlbrew/bin:/home/njh/perl5/perlbrew/perls/perl-5.38.0-ld/bin:/home/njh/perl5/perlbrew/bin:/home/njh/src/njh/smoker/bin:/usr/bin:/bin:/usr/sbin:/sbin:/usr/X11R6/bin:/usr/local/bin:/usr/local/sbin
PERL5LIB = /home/njh/.cpan/build/Mock-Quick-1.111-28/blib/arch:/home/njh/.cpan/build/Mock-Quick-1.111-28/blib/lib:/home/njh/.cpan/build/Exporter-Declare-0.114-28/blib/arch:/home/njh/.cpan/build/Exporter-Declare-0.114-28/blib/lib:/home/njh/.cpan/build/aliased-0.34-26/blib/arch:/home/njh/.cpan/build/aliased-0.34-26/blib/lib:/home/njh/.cpan/build/Meta-Builder-0.004-28/blib/arch:/home/njh/.cpan/build/Meta-Builder-0.004-28/blib/lib:/home/njh/.cpan/build/Fennec-Lite-0.004-28/blib/arch:/home/njh/.cpan/build/Fennec-Lite-0.004-28/blib/lib
PERL5OPT =
PERL5_CPANPLUS_IS_RUNNING = 9422
PERL5_CPAN_IS_RUNNING = 9422
PERL5_CPAN_IS_RUNNING_IN_RECURSION = 17337,9422
PERLBREW_LIB =
PERLBREW_MANPATH = /home/njh/perl5/perlbrew/perls/perl-5.38.0-ld/man
PERLBREW_PATH = /home/njh/perl5/perlbrew/bin:/home/njh/perl5/perlbrew/perls/perl-5.38.0-ld/bin
PERLBREW_PERL = perl-5.38.0-ld
PERLBREW_ROOT = /home/njh/perl5/perlbrew
PERLBREW_SHELLRC_VERSION = 0.98
PERLBREW_VERSION = 0.98
PERL_LOCAL_LIB_ROOT =
PERL_MM_USE_DEFAULT = 1
PERL_USE_UNSAFE_INC = 1
SHELL = /usr/local/bin/bash
TMPDIR = /tmp/testwrapper.9126
Perl special variables (and OS-specific diagnostics, for MSWin32):
$^X = /home/njh/perl5/perlbrew/perls/perl-5.38.0-ld/bin/perl5.38.0
$UID/$EUID = 1000 / 1000
$GID = 1000 1000 0
$EGID = 1000 1000 0
Perl module toolchain versions installed:
Module Have
------------------- --------
CPAN 2.36
CPAN::Meta 2.150010
Cwd 3.89
ExtUtils::CBuilder 0.280238
ExtUtils::Command 7.70
ExtUtils::Install 2.22
ExtUtils::MakeMaker 7.70
ExtUtils::Manifest 1.75
ExtUtils::ParseXS 3.51
File::Spec 3.88
JSON n/a
JSON::PP 4.16
Module::Build 0.4234
Module::Signature n/a
Parse::CPAN::Meta 2.150010
Test2 1.302195
Test::Harness 3.47
Test::More 1.302195
YAML 1.31
YAML::Syck 1.34
version 0.9929
--
Summary of my perl5 (revision 5 version 38 subversion 0) configuration:
Platform:
osname=openbsd
osvers=7.3
archname=OpenBSD.amd64-openbsd-ld
uname='openbsd vultr2.bandsman.co.uk 7.3 generic#1072 amd64 '
config_args='-de -Dprefix=/home/njh/perl5/perlbrew/perls/perl-5.38.0-ld -Dusedevel -Duselongdouble -Accflags=-O2 -W -Wformat=2 -Wswitch -Wshadow -Wwrite-strings -Wuninitialized -Wall -pipe -fomit-frame-pointer -pedantic -D_FORTIFY_SOURCE=2 -Wpointer-arith -Wstrict-prototypes -fstack-protector -Wstack-protector -Wextra -Wbad-function-cast -Wcast-align -Wcast-qual -Wdisabled-optimization -Wendif-labels -Wfloat-equal -Wformat-nonliteral -Winline -Wmissing-declarations -Wmissing-prototypes -Wnested-externs -Wpointer-arith -Wundef -Wformat-security -ftree-vectorize -mmmx -msse -mfpmath=sse -msse2 -msse3 -mtune=native -Aeval:scriptdir=/home/njh/perl5/perlbrew/perls/perl-5.38.0-ld/bin'
hint=recommended
useposix=true
d_sigaction=define
useithreads=undef
usemultiplicity=undef
use64bitint=define
use64bitall=define
uselongdouble=define
usemymalloc=n
default_inc_excludes_dot=define
Compiler:
cc='cc'
ccflags ='-O2 -W -Wformat=2 -Wswitch -Wshadow -Wwrite-strings -Wuninitialized -Wall -pipe -fomit-frame-pointer -pedantic -D_FORTIFY_SOURCE=2 -Wpointer-arith -Wstrict-prototypes -fstack-protector -Wstack-protector -Wextra -Wbad-function-cast -Wcast-align -Wcast-qual -Wdisabled-optimization -Wendif-labels -Wfloat-equal -Wformat-nonliteral -Winline -Wmissing-declarations -Wmissing-prototypes -Wnested-externs -Wpointer-arith -Wundef -Wformat-security -ftree-vectorize -mmmx -msse -mfpmath=sse -msse2 -msse3 -mtune=native -fno-strict-aliasing -fstack-protector-strong -I/usr/local/include'
optimize='-O2'
cppflags='-O2 -W -Wformat=2 -Wswitch -Wshadow -Wwrite-strings -Wuninitialized -Wall -pipe -fomit-frame-pointer -pedantic -D_FORTIFY_SOURCE=2 -Wpointer-arith -Wstrict-prototypes -fstack-protector -Wstack-protector -Wextra -Wbad-function-cast -Wcast-align -Wcast-qual -Wdisabled-optimization -Wendif-labels -Wfloat-equal -Wformat-nonliteral -Winline -Wmissing-declarations -Wmissing-prototypes -Wnested-externs -Wpointer-arith -Wundef -Wformat-security -ftree-vectorize -mmmx -msse -mfpmath=sse -msse2 -msse3 -mtune=native -fno-strict-aliasing -fstack-protector-strong -I/usr/local/include'
ccversion=''
gccversion='OpenBSD Clang 13.0.0'
gccosandvers=''
intsize=4
longsize=8
ptrsize=8
doublesize=8
byteorder=12345678
doublekind=3
d_longlong=define
longlongsize=8
d_longdbl=define
longdblsize=16
longdblkind=3
ivtype='long'
ivsize=8
nvtype='long double'
nvsize=16
Off_t='off_t'
lseeksize=8
alignbytes=16
prototype=define
Linker and Libraries:
ld='cc'
ldflags ='-Wl,-E -fstack-protector-strong -L/usr/local/lib'
libpth=/usr/lib/clang/13.0.0/lib /usr/lib /usr/local/lib
libs=-lpthread -lm -lutil -lc
perllibs=-lpthread -lm -lutil -lc
libc=/usr/lib/libc.so.97.0
so=so
useshrplib=false
libperl=libperl.a
gnulibc_version=''
Dynamic Linking:
dlsrc=dl_dlopen.xs
dlext=so
d_dlsymun=undef
ccdlflags=' '
cccdlflags='-DPIC -fPIC '
lddlflags='-shared -fPIC -L/usr/local/lib -fstack-protector-strong'
Characteristics of this binary (from libperl):
Compile-time options:
HAS_LONG_DOUBLE
HAS_STRTOLD
HAS_TIMES
PERLIO_LAYERS
PERL_COPY_ON_WRITE
PERL_DONT_CREATE_GVSV
PERL_HASH_FUNC_SIPHASH13
PERL_HASH_USE_SBOX32
PERL_MALLOC_WRAP
PERL_OP_PARENT
PERL_PRESERVE_IVUV
PERL_USE_DEVEL
PERL_USE_SAFE_PUTENV
USE_64_BIT_ALL
USE_64_BIT_INT
USE_LARGE_FILES
USE_LOCALE
USE_LOCALE_COLLATE
USE_LOCALE_CTYPE
USE_LOCALE_NUMERIC
USE_LOCALE_TIME
USE_LONG_DOUBLE
USE_PERLIO
USE_PERL_ATOF
Built under openbsd
Compiled at Jul 3 2023 11:55:21
%ENV:
PERL5LIB="/home/njh/.cpan/build/Mock-Quick-1.111-28/blib/arch:/home/njh/.cpan/build/Mock-Quick-1.111-28/blib/lib:/home/njh/.cpan/build/Exporter-Declare-0.114-28/blib/arch:/home/njh/.cpan/build/Exporter-Declare-0.114-28/blib/lib:/home/njh/.cpan/build/aliased-0.34-26/blib/arch:/home/njh/.cpan/build/aliased-0.34-26/blib/lib:/home/njh/.cpan/build/Meta-Builder-0.004-28/blib/arch:/home/njh/.cpan/build/Meta-Builder-0.004-28/blib/lib:/home/njh/.cpan/build/Fennec-Lite-0.004-28/blib/arch:/home/njh/.cpan/build/Fennec-Lite-0.004-28/blib/lib"
PERL5OPT=""
PERL5_CPANPLUS_IS_RUNNING="9422"
PERL5_CPAN_IS_RUNNING="9422"
PERL5_CPAN_IS_RUNNING_IN_RECURSION="17337,9422"
PERLBREW_LIB=""
PERLBREW_MANPATH="/home/njh/perl5/perlbrew/perls/perl-5.38.0-ld/man"
PERLBREW_PATH="/home/njh/perl5/perlbrew/bin:/home/njh/perl5/perlbrew/perls/perl-5.38.0-ld/bin"
PERLBREW_PERL="perl-5.38.0-ld"
PERLBREW_ROOT="/home/njh/perl5/perlbrew"
PERLBREW_SHELLRC_VERSION="0.98"
PERLBREW_VERSION="0.98"
PERL_LOCAL_LIB_ROOT=""
PERL_MM_USE_DEFAULT="1"
PERL_USE_UNSAFE_INC="1"
@INC:
/home/njh/.cpan/build/Mock-Quick-1.111-28/blib/arch
/home/njh/.cpan/build/Mock-Quick-1.111-28/blib/lib
/home/njh/.cpan/build/Exporter-Declare-0.114-28/blib/arch
/home/njh/.cpan/build/Exporter-Declare-0.114-28/blib/lib
/home/njh/.cpan/build/aliased-0.34-26/blib/arch
/home/njh/.cpan/build/aliased-0.34-26/blib/lib
/home/njh/.cpan/build/Meta-Builder-0.004-28/blib/arch
/home/njh/.cpan/build/Meta-Builder-0.004-28/blib/lib
/home/njh/.cpan/build/Fennec-Lite-0.004-28/blib/arch
/home/njh/.cpan/build/Fennec-Lite-0.004-28/blib/lib
/home/njh/perl5/perlbrew/perls/perl-5.38.0-ld/lib/site_perl/5.38.0/OpenBSD.amd64-openbsd-ld
/home/njh/perl5/perlbrew/perls/perl-5.38.0-ld/lib/site_perl/5.38.0
/home/njh/perl5/perlbrew/perls/perl-5.38.0-ld/lib/5.38.0/OpenBSD.amd64-openbsd-ld
/home/njh/perl5/perlbrew/perls/perl-5.38.0-ld/lib/5.38.0
.