SOAP-Lite v1.27 Perl 5 v5.31.5 x86_64-linux-thread-multi-ld

Status
Pass
From
Andreas J. König (ANDK)
Dist
SOAP-Lite v1.27
Platform
Perl 5 v5.31.5 x86_64-linux-thread-multi-ld
Date
2019-09-24 08:43:07
ID
5488d130-dea7-11e9-ab92-1f03863a99cc
This distribution has been tested as part of the CPAN Testers
project, supporting the Perl programming language.  See
http://wiki.cpantesters.org/ for more information or email
questions to cpan-testers-discuss@perl.org


--
Dear Fred Moyer,

This is a computer-generated report for SOAP-Lite-1.27
on perl 5.31.5, created by CPAN-Reporter-1.2018.

Thank you for uploading your work to CPAN.  Congratulations!
All tests were successful.

Sections of this report:

    * Tester comments
    * Program output
    * Prerequisites
    * Environment and other context

------------------------------
TESTER COMMENTS
------------------------------

Additional comments from tester:

this report is from an automated smoke testing program
and was not reviewed by a human for accuracy

------------------------------
PROGRAM OUTPUT
------------------------------

Output from '/usr/bin/make test':

PERL_DL_NONLAZY=1 "/tmp/basesmoker-reloperl-xfaw/bin/perl" "-MExtUtils::Command::MM" "-MTest::Harness" "-e" "undef *Test::Harness::Switches; test_harness(0, 'blib/lib', 'blib/arch')" t/*.t t/Issues/*.t t/SOAP/*.t t/SOAP/Lite/*.t t/SOAP/Lite/Deserializer/*.t t/SOAP/Schema/*.t t/SOAP/Transport/*.t t/SOAP/Transport/HTTP/*.t
t/01-core.t .................................. ok
t/010-serializer.t ........................... ok
t/012-cloneable.t ............................ ok
t/013-array-deserialization.t ................ ok
t/014_UNIVERSAL_use.t ........................ ok
t/015_UNIVERSAL_can.t ........................ ok
t/02-payload.t ............................... ok
t/03-server.t ................................ ok
t/04-attach-cid-encoded.t .................... ok
t/04-attach.t ................................ ok
t/05-customxml.t ............................. ok
t/06-modules.t ............................... ok
t/08-schema.t ................................ ok
t/11-cgi.t ................................... skipped: 500 Can't connect to localhost:80 (Connection refused)
t/12-cgi_https.t ............................. skipped: 500 Can't connect to localhost:443 (Connection refused)
t/13-mod_perl.t .............................. skipped: 500 Can't connect to localhost:80 (Connection refused)
t/14-cgi_apache.t ............................ skipped: 500 Can't connect to localhost:80 (Connection refused)
t/15-daemon.t ................................ skipped: 500 Can't connect to localhost:80 (Connection refused)
t/17-mod_soap.t .............................. skipped: 500 Can't connect to localhost:80 (Connection refused)
t/19-apachesoap.t ............................ skipped: 500 Can't connect to localhost:8080 (Connection refused)
t/21-public.t ................................ skipped: 500 Can't connect to services.xmethods.net:80 (Name or service not known)
t/22-interop_apache.t ........................ skipped: 500 Can't connect to nagoya.apache.org:5049 (Name or service not known)
t/23-ppm.t ................................... skipped: ActiveState's ppmserver.pl server seems to be broken - skipping tests
t/24-wsdl.t .................................. skipped: 500 Can't connect to services.xmethods.net:80 (Name or service not known)
t/36-leaks.t ................................. skipped: 500 Can't connect to services.soaplite.com:80 (Temporary failure in name resolution)
t/38-packager.t .............................. ok
t/40-loopback.t .............................. ok
t/author-pod-syntax.t ........................ skipped: these tests are for testing by the author
t/Issues/rt107924.t .......................... ok
t/Issues/rt15176.t ........................... ok
t/Issues/rt53375.t ........................... ok
t/Issues/rt70329.t ........................... ok
t/Issues/rt70381.t ........................... skipped: This is a performance test. Set PROFILE_PERFORMANCE env var to a true value to run
t/Issues/rt72836.t ........................... ok
t/Issues/rt74029.t ........................... skipped: not fixed yet
t/Issues/rt74308.t ........................... ok
t/Issues/rt75169.t ........................... ok
t/Issues/rt78588.t ........................... ok
t/Issues/rt88915.t ........................... ok
t/release-kwalitee.t ......................... skipped: these tests are for release candidate testing
t/SOAP/Data.t ................................ ok
t/SOAP/Lite/Deserializer/XMLSchema1999.t ..... ok
t/SOAP/Lite/Deserializer/XMLSchema2001.t ..... ok
t/SOAP/Lite/Deserializer/XMLSchemaSOAP1_1.t .. ok
t/SOAP/Lite/Deserializer/XMLSchemaSOAP1_2.t .. ok
t/SOAP/Lite/Packager.t ....................... ok
t/SOAP/Schema/WSDL.t ......................... ok
t/SOAP/Serializer.t .......................... ok
t/SOAP/Transport/HTTP.t ...................... ok
t/SOAP/Transport/HTTP/CGI.t .................. ok
t/SOAP/Transport/IO.t ........................ ok
t/SOAP/Transport/LOCAL.t ..................... ok
t/SOAP/Transport/LOOPBACK.t .................. ok
t/SOAP/Transport/MAILTO.t .................... ok
t/SOAP/Transport/POP3.t ...................... ok
t/SOAP/Transport/TCP.t ....................... ok
All tests successful.
Files=56, Tests=895, 10 wallclock secs ( 0.14 usr  0.27 sys +  4.73 cusr  1.20 csys =  6.34 CPU)
Result: PASS

------------------------------
PREREQUISITES
------------------------------

Prerequisite modules loaded:

requires:

    Module               Need     Have    
    -------------------- -------- --------
    Class::Inspector     0        1.36    
    Compress::Zlib       0        2.087   
    constant             0        1.33    
    IO::SessionData      1.03     1.03    
    IO::Socket::SSL      0        2.066   
    LWP::Protocol::https 0        6.07    
    LWP::UserAgent       0        6.39    
    MIME::Base64         0        3.15    
    perl                 5.006000 5.031005
    Scalar::Util         0        1.52    
    Task::Weaken         0        1.06    
    URI                  0        1.76    
    XML::Parser          2.23     2.44    

build_requires:

    Module               Need     Have    
    -------------------- -------- --------
    ExtUtils::MakeMaker  0        7.38    
    IO::File             0        1.41    
    Test::More           0        1.302168
    Test::Warn           0        0.36    
    XML::Parser::Lite    0.715    0.722   

configure_requires:

    Module               Need     Have    
    -------------------- -------- --------
    ExtUtils::MakeMaker  0        7.38    

opt_requires:

    Module               Need     Have    
    -------------------- -------- --------
  ! Apache               0        n/a     
    DIME::Tools          0.03     0.04    
    FCGI                 0        0.78    
    HTTP::Daemon         0        6.06    
    IO::File             0        1.41    
    MIME::Tools          0        5.509   
    Net::POP3            0        3.11    


------------------------------
ENVIRONMENT AND OTHER CONTEXT
------------------------------

Environment variables:

    AUTOMATED_TESTING = 1
    LANG = en_US.UTF-8
    PATH = /home/sand/bin:/usr/local/bin:/usr/bin:/bin:/usr/games:/usr/local/perl/bin:/usr/X11/bin:/sbin:/usr/sbin
    PERL5LIB = 
    PERL5OPT = 
    PERL5_CPANPLUS_IS_RUNNING = 11658
    PERL5_CPAN_IS_RUNNING = 11658
    PERL_CANARY_STABILITY_NOPROMPT = 1
    PERL_MM_USE_DEFAULT = 1
    PERL_USE_UNSAFE_INC = 1
    SHELL = /usr/bin/zsh
    TERM = screen

Perl special variables (and OS-specific diagnostics, for MSWin32):

    $^X = /tmp/basesmoker-reloperl-xfaw/bin/perl
    $UID/$EUID = 1005 / 1005
    $GID = 1005 1005
    $EGID = 1005 1005

Perl module toolchain versions installed:

    Module              Have    
    ------------------- --------
    CPAN                2.27    
    CPAN::Meta          2.150010
    Cwd                 3.78    
    ExtUtils::CBuilder  0.280232
    ExtUtils::Command   7.38    
    ExtUtils::Install   2.14    
    ExtUtils::MakeMaker 7.38    
    ExtUtils::Manifest  1.72    
    ExtUtils::ParseXS   3.40    
    File::Spec          3.78    
    JSON                4.02    
    JSON::PP            4.04    
    Module::Build       0.4229  
    Module::Signature   0.83    
    Parse::CPAN::Meta   2.150010
    Test::Harness       3.42    
    Test::More          1.302168
    YAML                1.29    
    YAML::Syck          1.31    
    version             0.9924  


--

Summary of my perl5 (revision 5 version 31 subversion 5) configuration:
  Commit id: 9fb6174d0878e31d3a34bc4d96336f405f349ff0
  Platform:
    osname=linux
    osvers=4.18.0-2-amd64
    archname=x86_64-linux-thread-multi-ld
    uname='linux k93msid 4.18.0-2-amd64 #1 smp debian 4.18.10-2 (2018-10-07) x86_64 gnulinux '
    config_args='-Dprefix=/home/sand/src/perl/repoperls/installed-perls/host/k93msid/v5.31.4-18-g9fb6174d08/496c -Dmyhostname=k93msid -Dinstallusrbinperl=n -Uversiononly -Dusedevel -des -Ui_db -Dlibswanted=cl pthread socket inet nsl gdbm dbm malloc dl ld sun m crypt sec util c cposix posix ucb BSD gdbm_compat -Duseithreads -Duselongdouble -DEBUGGING=none'
    hint=recommended
    useposix=true
    d_sigaction=define
    useithreads=define
    usemultiplicity=define
    use64bitint=define
    use64bitall=define
    uselongdouble=define
    usemymalloc=n
    default_inc_excludes_dot=define
    bincompat5005=undef
  Compiler:
    cc='cc'
    ccflags ='-D_REENTRANT -D_GNU_SOURCE -fwrapv -fno-strict-aliasing -pipe -fstack-protector-strong -I/usr/local/include -D_LARGEFILE_SOURCE -D_FILE_OFFSET_BITS=64 -D_FORTIFY_SOURCE=2'
    optimize='-O2'
    cppflags='-D_REENTRANT -D_GNU_SOURCE -fwrapv -fno-strict-aliasing -pipe -fstack-protector-strong -I/usr/local/include'
    ccversion=''
    gccversion='8.2.0'
    gccosandvers=''
    intsize=4
    longsize=8
    ptrsize=8
    doublesize=8
    byteorder=12345678
    doublekind=3
    d_longlong=define
    longlongsize=8
    d_longdbl=define
    longdblsize=16
    longdblkind=3
    ivtype='long'
    ivsize=8
    nvtype='long double'
    nvsize=16
    Off_t='off_t'
    lseeksize=8
    alignbytes=16
    prototype=define
  Linker and Libraries:
    ld='cc'
    ldflags =' -fstack-protector-strong -L/usr/local/lib'
    libpth=/usr/local/lib /usr/lib/gcc/x86_64-linux-gnu/8/include-fixed /usr/include/x86_64-linux-gnu /usr/lib /lib/x86_64-linux-gnu /lib/../lib /usr/lib/x86_64-linux-gnu /usr/lib/../lib /lib
    libs=-lpthread -lnsl -ldl -lm -lcrypt -lutil -lc
    perllibs=-lpthread -lnsl -ldl -lm -lcrypt -lutil -lc
    libc=libc-2.27.so
    so=so
    useshrplib=false
    libperl=libperl.a
    gnulibc_version='2.27'
  Dynamic Linking:
    dlsrc=dl_dlopen.xs
    dlext=so
    d_dlsymun=undef
    ccdlflags='-Wl,-E'
    cccdlflags='-fPIC'
    lddlflags='-shared -O2 -L/usr/local/lib -fstack-protector-strong'


Characteristics of this binary (from libperl): 
  Compile-time options:
    HAS_TIMES
    MULTIPLICITY
    PERLIO_LAYERS
    PERL_COPY_ON_WRITE
    PERL_DONT_CREATE_GVSV
    PERL_IMPLICIT_CONTEXT
    PERL_MALLOC_WRAP
    PERL_OP_PARENT
    PERL_PRESERVE_IVUV
    PERL_USE_DEVEL
    USE_64_BIT_ALL
    USE_64_BIT_INT
    USE_ITHREADS
    USE_LARGE_FILES
    USE_LOCALE
    USE_LOCALE_COLLATE
    USE_LOCALE_CTYPE
    USE_LOCALE_NUMERIC
    USE_LOCALE_TIME
    USE_LONG_DOUBLE
    USE_PERLIO
    USE_PERL_ATOF
    USE_REENTRANT_API
    USE_THREAD_SAFE_LOCALE
  Built under linux
  Compiled at Sep 23 2019 15:44:47
  %ENV:
    PERL5LIB=""
    PERL5OPT=""
    PERL5_CPANPLUS_IS_RUNNING="11658"
    PERL5_CPAN_IS_RUNNING="11658"
    PERL_CANARY_STABILITY_NOPROMPT="1"
    PERL_MM_USE_DEFAULT="1"
    PERL_USE_UNSAFE_INC="1"
  @INC:
    /home/sand/src/perl/repoperls/installed-perls/host/k93msid/v5.31.4-18-g9fb6174d08/496c/lib/site_perl/5.31.5/x86_64-linux-thread-multi-ld
    /home/sand/src/perl/repoperls/installed-perls/host/k93msid/v5.31.4-18-g9fb6174d08/496c/lib/site_perl/5.31.5
    /home/sand/src/perl/repoperls/installed-perls/host/k93msid/v5.31.4-18-g9fb6174d08/496c/lib/5.31.5/x86_64-linux-thread-multi-ld
    /home/sand/src/perl/repoperls/installed-perls/host/k93msid/v5.31.4-18-g9fb6174d08/496c/lib/5.31.5
    .