Soar-Production v0.03 Perl 5 v5.32.1 amd64-openbsd

Status
Pass
From
Alceu Rodrigues de Freitas Junior
Dist
Soar-Production v0.03
Platform
Perl 5 v5.32.1 amd64-openbsd
Date
2023-05-06 11:15:38
ID
54a4d4ca-ebff-11ed-9991-4d495858adf6
This distribution has been tested as part of the CPAN Testers
project, supporting the Perl programming language.  See
http://wiki.cpantesters.org/ for more information or email
questions to cpan-testers-discuss@perl.org


--
Dear Nathan Gary Glenn,

This is a computer-generated report for Soar-Production-0.03
on perl 5.32.1, created by CPAN-Reporter-1.2019.

Thank you for uploading your work to CPAN.  Congratulations!
All tests were successful.

Sections of this report:

    * Tester comments
    * Program output
    * Prerequisites
    * Environment and other context

------------------------------
TESTER COMMENTS
------------------------------

Additional comments from tester:

this report is from an automated smoke testing program
and was not reviewed by a human for accuracy

If you would like to try to reproduce this report results or even to work with
the same environment for a bug fix, please refer to
https://github.com/glasswalk3r/cpan-openbsd-smoker to see how to use the
prebuilt virtual machines available.

------------------------------
PROGRAM OUTPUT
------------------------------

Output from './Build test':

t/0-use.t ........................ ok
t/00-compile.t ................... ok
# 
# 
# Generated by Dist::Zilla::Plugin::ReportVersions::Tiny v1.08
# perl: 5.032001 (wanted 5.010) on openbsd from /usr/bin/perl
# 
# Carp                                          => 1.50       (want any version)
# Data::Diver                                   => 1.0101     (want any version)
# Data::Dumper                                  => 2.183      (want any version)
# Exporter::Easy                                => 0.18       (want any version)
# File::Find                                    => 1.37       (want any version)
# File::Spec                                    => 3.78       (want any version)
# File::Spec::Functions                         => 3.78       (want any version)
# File::Temp                                    => 0.2311     (want any version)
# FindBin                                       => 1.53       (want any version)
# Module::Build                                 => 0.4234     (want 0.3601) 
# Parse::RecDescent                             => 1.967015   (want any version)
# Path::Tiny                                    => 0.144      (want any version)
# Pod::Coverage::TrustPod                       => 0.100006   (want any version)
# Test::Base                                    => 0.89       (want any version)
# Test::Base::Filter                            => <undef>    (want any version)
# Test::CPAN::Meta                              => 0.25       (want any version)
# Test::Deep                                    => 1.204      (want any version)
# Test::Exception                               => 0.43       (want any version)
# Test::LongString                              => 0.17       (want any version)
# Test::More                                    => 1.302195   (want 0.88)   
# Test::Pod                                     => 1.52       (want 1.41)   
# Test::Pod::Coverage                           => 1.10       (want 1.08)   
# Test::Warn                                    => 0.37       (want any version)
# strict                                        => 1.11       (want any version)
# utf8                                          => 1.22       (want any version)
# version                                       => 0.9929     (want 0.9901) 
# warnings                                      => 1.47       (want any version)
# 
# Thanks for using my code.  I hope it works for you.
# If not, please try and include this output in the bug report.
# That will help me reproduce the issue and solve your problem.
# 
t/000-report-versions-tiny.t ..... ok
t/1-basic.t ...................... ok
t/parser/00-use.t ................ ok
t/parser/01-bad_input.t .......... ok
t/parser/01_5-comments.t ......... ok
t/parser/02-split-productions.t .. ok
t/parser/03-production-names.t ... ok
t/parser/04-documentation.t ...... ok
t/parser/05-Flags.t .............. ok
t/parser/06-State.t .............. ok
t/parser/07-variables.t .......... ok
t/parser/08-attributes.t ......... ok
t/parser/09-int.t ................ ok
t/parser/10-float.t .............. ok
t/parser/11-string.t ............. ok
t/parser/12-quoted.t ............. ok
t/parser/13-disjunct.t ........... ok
t/parser/14-conjunct.t ........... ok
t/parser/15-predicate.t .......... ok
t/parser/16-preference.t ......... ok
t/parser/17-function.t ........... ok
t/parser/18-negative.t ........... ok
t/parser/19-conjunctiveCond.t .... ok
t/parser/20-test_data.t .......... ok
t/printer/0-use.t ................ ok
t/printer/1-test_data.t .......... ok
All tests successful.
Files=28, Tests=1816, 84 wallclock secs ( 0.31 usr  0.07 sys + 81.66 cusr  1.38 csys = 83.42 CPU)
Result: PASS

------------------------------
PREREQUISITES
------------------------------

Prerequisite modules loaded:

requires:

    Module                Need   Have    
    --------------------- ------ --------
    Carp                  0      1.50    
    Data::Dumper          0      2.183   
    Exporter::Easy        0      0.18    
    Parse::RecDescent     0      1.967015
    perl                  5.010  5.032001
    strict                0      1.11    
    warnings              0      1.47    

build_requires:

    Module                Need   Have    
    --------------------- ------ --------
    Data::Diver           0      1.0101  
    File::Find            0      1.37    
    File::Spec            0      3.78    
    File::Spec::Functions 0      3.78    
    File::Temp            0      0.2311  
    FindBin               0      1.53    
    Module::Build         0.3601 0.4234  
    Path::Tiny            0      0.144   
    Test::Base            0      0.89    
    Test::Base::Filter    0      0       
    Test::Deep            0      1.204   
    Test::Exception       0      0.43    
    Test::LongString      0      0.17    
    Test::More            0.88   1.302195
    Test::Warn            0      0.37    
    utf8                  0      1.22    

configure_requires:

    Module                Need   Have    
    --------------------- ------ --------
    Module::Build         0.3601 0.4234  


------------------------------
ENVIRONMENT AND OTHER CONTEXT
------------------------------

Environment variables:

    AUTOMATED_TESTING = 1
    PATH = /home/goku/perl5/bin:/usr/bin:/bin:/usr/sbin:/sbin:/usr/X11R6/bin:/usr/local/bin:/usr/local/sbin
    PERL5LIB = /home/goku/perl5/lib/perl5
    PERL5OPT = 
    PERL5_CPANPLUS_IS_RUNNING = 54802
    PERL5_CPAN_IS_RUNNING = 54802
    PERL5_CPAN_IS_RUNNING_IN_RECURSION = 2100,54802
    PERL_CR_SMOKER_CURRENT = Soar-Production-0.03
    PERL_EXTUTILS_AUTOINSTALL = --defaultdeps
    PERL_LOCAL_LIB_ROOT = /home/goku/perl5
    PERL_MB_OPT = --install_base "/home/goku/perl5"
    PERL_MM_OPT = INSTALL_BASE=/home/goku/perl5
    PERL_MM_USE_DEFAULT = 1
    PERL_USE_UNSAFE_INC = 1
    SHELL = /bin/ksh
    TERM = xterm-256color

Perl special variables (and OS-specific diagnostics, for MSWin32):

    $^X = /usr/bin/perl
    $UID/$EUID = 1001 / 1001
    $GID = 1002 1002 1001
    $EGID = 1002 1002 1001

Perl module toolchain versions installed:

    Module              Have    
    ------------------- --------
    CPAN                2.35    
    CPAN::Meta          2.150010
    Cwd                 3.78    
    ExtUtils::CBuilder  0.280236
    ExtUtils::Command   7.70    
    ExtUtils::Install   2.22    
    ExtUtils::MakeMaker 7.70    
    ExtUtils::Manifest  1.75    
    ExtUtils::ParseXS   3.44    
    File::Spec          3.78    
    JSON                4.10    
    JSON::PP            4.16    
    Module::Build       0.4234  
    Module::Signature   0.88    
    Parse::CPAN::Meta   2.150010
    Test2               1.302195
    Test::Harness       3.44    
    Test::More          1.302195
    YAML                1.30    
    YAML::Syck          1.34    
    version             0.9929  


--

Summary of my perl5 (revision 5 version 32 subversion 1) configuration:
   
  Platform:
    osname=openbsd
    osvers=7.2
    archname=amd64-openbsd
    uname='openbsd'
    config_args='-dse -Dopenbsd_distribution=defined -Dmksymlinks'
    hint=recommended
    useposix=true
    d_sigaction=define
    useithreads=undef
    usemultiplicity=undef
    use64bitint=define
    use64bitall=define
    uselongdouble=undef
    usemymalloc=n
    default_inc_excludes_dot=define
    bincompat5005=undef
  Compiler:
    cc='cc'
    ccflags ='-DNO_LOCALE_NUMERIC -DNO_LOCALE_COLLATE -fno-strict-aliasing -fno-delete-null-pointer-checks -pipe -fstack-protector-strong -I/usr/local/include'
    optimize='-O2'
    cppflags='-DBIG_TIME -DNO_LOCALE_NUMERIC -DNO_LOCALE_COLLATE -fno-strict-aliasing -fno-delete-null-pointer-checks -pipe -fstack-protector-strong -I/usr/local/include'
    ccversion=''
    gccversion='OpenBSD Clang 13.0.0'
    gccosandvers=''
    intsize=4
    longsize=8
    ptrsize=8
    doublesize=8
    byteorder=12345678
    doublekind=3
    d_longlong=define
    longlongsize=8
    d_longdbl=define
    longdblsize=16
    longdblkind=3
    ivtype='long'
    ivsize=8
    nvtype='double'
    nvsize=8
    Off_t='off_t'
    lseeksize=8
    alignbytes=8
    prototype=define
  Linker and Libraries:
    ld='cc'
    ldflags ='-Wl,-E  -fstack-protector-strong -L/usr/local/lib'
    libpth=/usr/lib /usr/lib/clang/13.0.0/lib /usr/lib
    libs=-lm -lc
    perllibs=-lm -lc
    libc=/usr/lib/libc.so.96.2
    so=so
    useshrplib=true
    libperl=libperl.so.22.0
    gnulibc_version=''
  Dynamic Linking:
    dlsrc=dl_dlopen.xs
    dlext=so
    d_dlsymun=undef
    ccdlflags='-Wl,-R/usr/libdata/perl5/amd64-openbsd/CORE'
    cccdlflags='-DPIC -fpic '
    lddlflags='-shared -fpic  -fstack-protector-strong -L/usr/local/lib'


Characteristics of this binary (from libperl): 
  Compile-time options:
    HAS_TIMES
    PERLIO_LAYERS
    PERL_COPY_ON_WRITE
    PERL_DONT_CREATE_GVSV
    PERL_MALLOC_WRAP
    PERL_OP_PARENT
    PERL_PRESERVE_IVUV
    USE_64_BIT_ALL
    USE_64_BIT_INT
    USE_LARGE_FILES
    USE_LOCALE
    USE_LOCALE_CTYPE
    USE_LOCALE_TIME
    USE_PERLIO
    USE_PERL_ATOF
  Built under openbsd
  %ENV:
    PERL5LIB="/home/goku/perl5/lib/perl5"
    PERL5OPT=""
    PERL5_CPANPLUS_IS_RUNNING="54802"
    PERL5_CPAN_IS_RUNNING="54802"
    PERL5_CPAN_IS_RUNNING_IN_RECURSION="2100,54802"
    PERL_CR_SMOKER_CURRENT="Soar-Production-0.03"
    PERL_EXTUTILS_AUTOINSTALL="--defaultdeps"
    PERL_LOCAL_LIB_ROOT="/home/goku/perl5"
    PERL_MB_OPT="--install_base "/home/goku/perl5""
    PERL_MM_OPT="INSTALL_BASE=/home/goku/perl5"
    PERL_MM_USE_DEFAULT="1"
    PERL_USE_UNSAFE_INC="1"
  @INC:
    /home/goku/perl5/lib/perl5/5.32.1/amd64-openbsd
    /home/goku/perl5/lib/perl5/5.32.1
    /home/goku/perl5/lib/perl5/amd64-openbsd
    /home/goku/perl5/lib/perl5
    /usr/local/libdata/perl5/site_perl/amd64-openbsd
    /usr/local/libdata/perl5/site_perl
    /usr/libdata/perl5/amd64-openbsd
    /usr/libdata/perl5
    .