Report for Data-Session-1.13

Back
From: metabase:user:320bfe00-2aae-11df-837a-5e0a49663a4f
Subject: PASS Data-Session-1.13 v5.17.2 GNU/Linux
Date: 2012-06-30T18:49:32Z

This distribution has been tested as part of the CPAN Testers
project, supporting the Perl programming language.  See
http://wiki.cpantesters.org/ for more information or email
questions to cpan-testers-discuss@perl.org


--
Dear Ron Savage,

This is a computer-generated report for Data-Session-1.13
on perl 5.17.2, created by CPAN-Reporter-1.2006.

Thank you for uploading your work to CPAN.  Congratulations!
All tests were successful.

Sections of this report:

    * Tester comments
    * Program output
    * Prerequisites
    * Environment and other context

------------------------------
TESTER COMMENTS
------------------------------

Additional comments from tester:

this report is from an automated smoke testing program
and was not reviewed by a human for accuracy

------------------------------
PROGRAM OUTPUT
------------------------------

Output from './Build test':

# Test: File.1. DSN: dbi:File:. ID generator: AutoIncrement. Serializer: DataDumper
# type: driver:File;id:AutoIncrement;serialize:DataDumper
# id 1: 1002
# type: driver:File;id:AutoIncrement;serialize:DataDumper
# type: driver:File;id:AutoIncrement;serialize:DataDumper
# type: driver:File;id:AutoIncrement;serialize:DataDumper
# type: driver:File;id:AutoIncrement;serialize:DataDumper
# type: driver:File;id:AutoIncrement;serialize:DataDumper
# Test: File.1. DSN: dbi:File:. ID generator: AutoIncrement. Serializer: FreezeThaw
# type: driver:File;id:AutoIncrement;serialize:FreezeThaw
# id 1: 1008
# type: driver:File;id:AutoIncrement;serialize:FreezeThaw
# type: driver:File;id:AutoIncrement;serialize:FreezeThaw
# type: driver:File;id:AutoIncrement;serialize:FreezeThaw
# type: driver:File;id:AutoIncrement;serialize:FreezeThaw
# type: driver:File;id:AutoIncrement;serialize:FreezeThaw
# Test: File.1. DSN: dbi:File:. ID generator: AutoIncrement. Serializer: JSON
# type: driver:File;id:AutoIncrement;serialize:JSON
# id 1: 1014
# type: driver:File;id:AutoIncrement;serialize:JSON
# type: driver:File;id:AutoIncrement;serialize:JSON
# type: driver:File;id:AutoIncrement;serialize:JSON
# type: driver:File;id:AutoIncrement;serialize:JSON
# type: driver:File;id:AutoIncrement;serialize:JSON
# Test: File.1. DSN: dbi:File:. ID generator: AutoIncrement. Serializer: Storable
# type: driver:File;id:AutoIncrement;serialize:Storable
# id 1: 1020
# type: driver:File;id:AutoIncrement;serialize:Storable
# type: driver:File;id:AutoIncrement;serialize:Storable
# type: driver:File;id:AutoIncrement;serialize:Storable
# type: driver:File;id:AutoIncrement;serialize:Storable
# type: driver:File;id:AutoIncrement;serialize:Storable
# Test: File.1. DSN: dbi:File:. ID generator: AutoIncrement. Serializer: YAML
# type: driver:File;id:AutoIncrement;serialize:YAML
# id 1: 1026
# type: driver:File;id:AutoIncrement;serialize:YAML
# type: driver:File;id:AutoIncrement;serialize:YAML
# type: driver:File;id:AutoIncrement;serialize:YAML
# type: driver:File;id:AutoIncrement;serialize:YAML
# type: driver:File;id:AutoIncrement;serialize:YAML
# Test: File.1. DSN: dbi:File:. ID generator: MD5. Serializer: DataDumper
# type: driver:File;id:MD5;serialize:DataDumper
# id 1: 0cb99e5ef72e7acd1ab1f86336615f54
# type: driver:File;id:MD5;serialize:DataDumper
# type: driver:File;id:MD5;serialize:DataDumper
# type: driver:File;id:MD5;serialize:DataDumper
# type: driver:File;id:MD5;serialize:DataDumper
# type: driver:File;id:MD5;serialize:DataDumper
# Test: File.1. DSN: dbi:File:. ID generator: MD5. Serializer: FreezeThaw
# type: driver:File;id:MD5;serialize:FreezeThaw
# id 1: 3770cc5cdadf4c13dd7df4c7a44504d0
# type: driver:File;id:MD5;serialize:FreezeThaw
# type: driver:File;id:MD5;serialize:FreezeThaw
# type: driver:File;id:MD5;serialize:FreezeThaw
# type: driver:File;id:MD5;serialize:FreezeThaw
# type: driver:File;id:MD5;serialize:FreezeThaw
# Test: File.1. DSN: dbi:File:. ID generator: MD5. Serializer: JSON
# type: driver:File;id:MD5;serialize:JSON
# id 1: 4b2147bfeb957b3eb1ec6abd887eebb9
# type: driver:File;id:MD5;serialize:JSON
# type: driver:File;id:MD5;serialize:JSON
# type: driver:File;id:MD5;serialize:JSON
# type: driver:File;id:MD5;serialize:JSON
# type: driver:File;id:MD5;serialize:JSON
# Test: File.1. DSN: dbi:File:. ID generator: MD5. Serializer: Storable
# type: driver:File;id:MD5;serialize:Storable
# id 1: 8cf2f090dbd3b91f50ee26f4bd4da6d9
# type: driver:File;id:MD5;serialize:Storable
# type: driver:File;id:MD5;serialize:Storable
# type: driver:File;id:MD5;serialize:Storable
# type: driver:File;id:MD5;serialize:Storable
# type: driver:File;id:MD5;serialize:Storable
# Test: File.1. DSN: dbi:File:. ID generator: MD5. Serializer: YAML
# type: driver:File;id:MD5;serialize:YAML
# id 1: 4cb53e7fad2bce0e2ba7838a3a8067ad
# type: driver:File;id:MD5;serialize:YAML
# type: driver:File;id:MD5;serialize:YAML
# type: driver:File;id:MD5;serialize:YAML
# type: driver:File;id:MD5;serialize:YAML
# type: driver:File;id:MD5;serialize:YAML
# Test: File.1. DSN: dbi:File:. ID generator: SHA1. Serializer: DataDumper
# type: driver:File;id:SHA1;serialize:DataDumper
# id 1: 7d213a9df736a23d5ed6448245af63c34caa3912
# type: driver:File;id:SHA1;serialize:DataDumper
# type: driver:File;id:SHA1;serialize:DataDumper
# type: driver:File;id:SHA1;serialize:DataDumper
# type: driver:File;id:SHA1;serialize:DataDumper
# type: driver:File;id:SHA1;serialize:DataDumper
# Test: File.1. DSN: dbi:File:. ID generator: SHA1. Serializer: FreezeThaw
# type: driver:File;id:SHA1;serialize:FreezeThaw
# id 1: dd38c738a71253135d4840ce2c9aee81f5f04e6b
# type: driver:File;id:SHA1;serialize:FreezeThaw
# type: driver:File;id:SHA1;serialize:FreezeThaw
# type: driver:File;id:SHA1;serialize:FreezeThaw
# type: driver:File;id:SHA1;serialize:FreezeThaw
# type: driver:File;id:SHA1;serialize:FreezeThaw
# Test: File.1. DSN: dbi:File:. ID generator: SHA1. Serializer: JSON
# type: driver:File;id:SHA1;serialize:JSON
# id 1: 5f4bd6daa24c156bee04801f644156a00d6503d2
# type: driver:File;id:SHA1;serialize:JSON
# type: driver:File;id:SHA1;serialize:JSON
# type: driver:File;id:SHA1;serialize:JSON
# type: driver:File;id:SHA1;serialize:JSON
# type: driver:File;id:SHA1;serialize:JSON
# Test: File.1. DSN: dbi:File:. ID generator: SHA1. Serializer: Storable
# type: driver:File;id:SHA1;serialize:Storable
# id 1: db64f7d1b96c6489b72f4483175cfdf3a98c9d3e
# type: driver:File;id:SHA1;serialize:Storable
# type: driver:File;id:SHA1;serialize:Storable
# type: driver:File;id:SHA1;serialize:Storable
# type: driver:File;id:SHA1;serialize:Storable
# type: driver:File;id:SHA1;serialize:Storable
# Test: File.1. DSN: dbi:File:. ID generator: SHA1. Serializer: YAML
# type: driver:File;id:SHA1;serialize:YAML
# id 1: 4c43149912fd5f641932c49550e8a1aab1af6eb0
# type: driver:File;id:SHA1;serialize:YAML
# type: driver:File;id:SHA1;serialize:YAML
# type: driver:File;id:SHA1;serialize:YAML
# type: driver:File;id:SHA1;serialize:YAML
# type: driver:File;id:SHA1;serialize:YAML
# Test: File.1. DSN: dbi:File:. ID generator: SHA256. Serializer: DataDumper
# type: driver:File;id:SHA256;serialize:DataDumper
# id 1: 87d6a2b154c92207ed5d89edd35a9ae4b92cff64f38828143ee7c0c84875ad85
# type: driver:File;id:SHA256;serialize:DataDumper
# type: driver:File;id:SHA256;serialize:DataDumper
# type: driver:File;id:SHA256;serialize:DataDumper
# type: driver:File;id:SHA256;serialize:DataDumper
# type: driver:File;id:SHA256;serialize:DataDumper
# Test: File.1. DSN: dbi:File:. ID generator: SHA256. Serializer: FreezeThaw
# type: driver:File;id:SHA256;serialize:FreezeThaw
# id 1: d35deed89925a0f8ccfbe652fba838c5e7fc3ad50da3fd48c0a37b37d388454f
# type: driver:File;id:SHA256;serialize:FreezeThaw
# type: driver:File;id:SHA256;serialize:FreezeThaw
# type: driver:File;id:SHA256;serialize:FreezeThaw
# type: driver:File;id:SHA256;serialize:FreezeThaw
# type: driver:File;id:SHA256;serialize:FreezeThaw
# Test: File.1. DSN: dbi:File:. ID generator: SHA256. Serializer: JSON
# type: driver:File;id:SHA256;serialize:JSON
# id 1: 59fd16fe224d35dc58b1b1694e055e45a8b0b3f56804040a8b64fd0ed00b559a
# type: driver:File;id:SHA256;serialize:JSON
# type: driver:File;id:SHA256;serialize:JSON
# type: driver:File;id:SHA256;serialize:JSON
# type: driver:File;id:SHA256;serialize:JSON
# type: driver:File;id:SHA256;serialize:JSON
# Test: File.1. DSN: dbi:File:. ID generator: SHA256. Serializer: Storable
# type: driver:File;id:SHA256;serialize:Storable
# id 1: dfa725085cedcda5102454fbae96adf6e95447c22dca53bf8486e2042c66d117
# type: driver:File;id:SHA256;serialize:Storable
# type: driver:File;id:SHA256;serialize:Storable
# type: driver:File;id:SHA256;serialize:Storable
# type: driver:File;id:SHA256;serialize:Storable
# type: driver:File;id:SHA256;serialize:Storable
# Test: File.1. DSN: dbi:File:. ID generator: SHA256. Serializer: YAML
# type: driver:File;id:SHA256;serialize:YAML
# id 1: 3d72beb1caaa2d4f60e9240eef63393946c927857090b4b2ac9fec6ba4893b47
# type: driver:File;id:SHA256;serialize:YAML
# type: driver:File;id:SHA256;serialize:YAML
# type: driver:File;id:SHA256;serialize:YAML
# type: driver:File;id:SHA256;serialize:YAML
# type: driver:File;id:SHA256;serialize:YAML
# Test: File.1. DSN: dbi:File:. ID generator: SHA512. Serializer: DataDumper
# type: driver:File;id:SHA512;serialize:DataDumper
# id 1: e8dfe843b7fd51b7d65d2b7182f50e7bb45120e61cc89523475d54aaec0a6a8513c3727c56b866733711541bccc68a6cea825c9f07fb6e9b160230c13cb5b94c
# type: driver:File;id:SHA512;serialize:DataDumper
# type: driver:File;id:SHA512;serialize:DataDumper
# type: driver:File;id:SHA512;serialize:DataDumper
# type: driver:File;id:SHA512;serialize:DataDumper
# type: driver:File;id:SHA512;serialize:DataDumper
# Test: File.1. DSN: dbi:File:. ID generator: SHA512. Serializer: FreezeThaw
# type: driver:File;id:SHA512;serialize:FreezeThaw
# id 1: de8b6bdb6793f197dc2249d76bfbb10ad2697650786d1614a2a88699d55f1c9025eaf58831de4d2c915af30a11db3efca50cd3b212ec5035acc2b88323098ce1
# type: driver:File;id:SHA512;serialize:FreezeThaw
# type: driver:File;id:SHA512;serialize:FreezeThaw
# type: driver:File;id:SHA512;serialize:FreezeThaw
# type: driver:File;id:SHA512;serialize:FreezeThaw
# type: driver:File;id:SHA512;serialize:FreezeThaw
# Test: File.1. DSN: dbi:File:. ID generator: SHA512. Serializer: JSON
# type: driver:File;id:SHA512;serialize:JSON
# id 1: f2819f2f2e59c01f4773f108e7871f7b9b780ae2f285a5085de7ac7ba3e01c479b5ec547dabebdd78372d6899842c6848611133c8ddbd2dd5c7c6133b984e31c
# type: driver:File;id:SHA512;serialize:JSON
# type: driver:File;id:SHA512;serialize:JSON
# type: driver:File;id:SHA512;serialize:JSON
# type: driver:File;id:SHA512;serialize:JSON
# type: driver:File;id:SHA512;serialize:JSON
# Test: File.1. DSN: dbi:File:. ID generator: SHA512. Serializer: Storable
# type: driver:File;id:SHA512;serialize:Storable
# id 1: b610556c4106be5644753d99d2a12bc376c3c4b904203d6c7b7b377e7c45f8199618556fd831526155a91e2d0db8d0643a2c419c17c43737a46a9cc53b301324
# type: driver:File;id:SHA512;serialize:Storable
# type: driver:File;id:SHA512;serialize:Storable
# type: driver:File;id:SHA512;serialize:Storable
# type: driver:File;id:SHA512;serialize:Storable
# type: driver:File;id:SHA512;serialize:Storable
# Test: File.1. DSN: dbi:File:. ID generator: SHA512. Serializer: YAML
# type: driver:File;id:SHA512;serialize:YAML
# id 1: 2c4b2ee39a43fd802b2ff6c6044f059922bac6dda33586126572bf1a4f72026c12e9e1d513c8823f0c5a6b0b623a66c7ea8189fe25579e7a011081f1b69d1a1a
# type: driver:File;id:SHA512;serialize:YAML
# type: driver:File;id:SHA512;serialize:YAML
# type: driver:File;id:SHA512;serialize:YAML
# type: driver:File;id:SHA512;serialize:YAML
# type: driver:File;id:SHA512;serialize:YAML
# Test: File.1. DSN: dbi:File:. ID generator: Static. Serializer: DataDumper
# type: driver:File;id:Static;serialize:DataDumper
# id 1: 1234
# type: driver:File;id:Static;serialize:DataDumper
# type: driver:File;id:Static;serialize:DataDumper
# type: driver:File;id:Static;serialize:DataDumper
# type: driver:File;id:Static;serialize:DataDumper
# type: driver:File;id:Static;serialize:DataDumper
# Test: File.1. DSN: dbi:File:. ID generator: Static. Serializer: FreezeThaw
# type: driver:File;id:Static;serialize:FreezeThaw
# id 1: 1234
# type: driver:File;id:Static;serialize:FreezeThaw
# type: driver:File;id:Static;serialize:FreezeThaw
# type: driver:File;id:Static;serialize:FreezeThaw
# type: driver:File;id:Static;serialize:FreezeThaw
# type: driver:File;id:Static;serialize:FreezeThaw
# Test: File.1. DSN: dbi:File:. ID generator: Static. Serializer: JSON
# type: driver:File;id:Static;serialize:JSON
# id 1: 1234
# type: driver:File;id:Static;serialize:JSON
# type: driver:File;id:Static;serialize:JSON
# type: driver:File;id:Static;serialize:JSON
# type: driver:File;id:Static;serialize:JSON
# type: driver:File;id:Static;serialize:JSON
# Test: File.1. DSN: dbi:File:. ID generator: Static. Serializer: Storable
# type: driver:File;id:Static;serialize:Storable
# id 1: 1234
# type: driver:File;id:Static;serialize:Storable
# type: driver:File;id:Static;serialize:Storable
# type: driver:File;id:Static;serialize:Storable
# type: driver:File;id:Static;serialize:Storable
# type: driver:File;id:Static;serialize:Storable
# Test: File.1. DSN: dbi:File:. ID generator: Static. Serializer: YAML
# type: driver:File;id:Static;serialize:YAML
# id 1: 1234
# type: driver:File;id:Static;serialize:YAML
# type: driver:File;id:Static;serialize:YAML
# type: driver:File;id:Static;serialize:YAML
# type: driver:File;id:Static;serialize:YAML
# type: driver:File;id:Static;serialize:YAML
# Test: File.1. DSN: dbi:File:. ID generator: UUID34. Serializer: DataDumper
# type: driver:File;id:UUID34;serialize:DataDumper
# id 1: 0x1023CFB8C2E411E1B4CDC82708F5D1FC
# type: driver:File;id:UUID34;serialize:DataDumper
# type: driver:File;id:UUID34;serialize:DataDumper
# type: driver:File;id:UUID34;serialize:DataDumper
# type: driver:File;id:UUID34;serialize:DataDumper
# type: driver:File;id:UUID34;serialize:DataDumper
# Test: File.1. DSN: dbi:File:. ID generator: UUID34. Serializer: FreezeThaw
# type: driver:File;id:UUID34;serialize:FreezeThaw
# id 1: 0x1024FB9AC2E411E1B4CDC82708F5D1FC
# type: driver:File;id:UUID34;serialize:FreezeThaw
# type: driver:File;id:UUID34;serialize:FreezeThaw
# type: driver:File;id:UUID34;serialize:FreezeThaw
# type: driver:File;id:UUID34;serialize:FreezeThaw
# type: driver:File;id:UUID34;serialize:FreezeThaw
# Test: File.1. DSN: dbi:File:. ID generator: UUID34. Serializer: JSON
# type: driver:File;id:UUID34;serialize:JSON
# id 1: 0x1025D5B0C2E411E1B4CDC82708F5D1FC
# type: driver:File;id:UUID34;serialize:JSON
# type: driver:File;id:UUID34;serialize:JSON
# type: driver:File;id:UUID34;serialize:JSON
# type: driver:File;id:UUID34;serialize:JSON
# type: driver:File;id:UUID34;serialize:JSON
# Test: File.1. DSN: dbi:File:. ID generator: UUID34. Serializer: Storable
# type: driver:File;id:UUID34;serialize:Storable
# id 1: 0x1026A2CEC2E411E1B4CDC82708F5D1FC
# type: driver:File;id:UUID34;serialize:Storable
# type: driver:File;id:UUID34;serialize:Storable
# type: driver:File;id:UUID34;serialize:Storable
# type: driver:File;id:UUID34;serialize:Storable
# type: driver:File;id:UUID34;serialize:Storable
# Test: File.1. DSN: dbi:File:. ID generator: UUID34. Serializer: YAML
# type: driver:File;id:UUID34;serialize:YAML
# id 1: 0x1027733EC2E411E1B4CDC82708F5D1FC
# type: driver:File;id:UUID34;serialize:YAML
# type: driver:File;id:UUID34;serialize:YAML
# type: driver:File;id:UUID34;serialize:YAML
# type: driver:File;id:UUID34;serialize:YAML
# type: driver:File;id:UUID34;serialize:YAML
# Test: File.1. DSN: dbi:File:. ID generator: UUID36. Serializer: DataDumper
# type: driver:File;id:UUID36;serialize:DataDumper
# id 1: 1028673A-C2E4-11E1-B4CD-C82708F5D1FC
# type: driver:File;id:UUID36;serialize:DataDumper
# type: driver:File;id:UUID36;serialize:DataDumper
# type: driver:File;id:UUID36;serialize:DataDumper
# type: driver:File;id:UUID36;serialize:DataDumper
# type: driver:File;id:UUID36;serialize:DataDumper
# Test: File.1. DSN: dbi:File:. ID generator: UUID36. Serializer: FreezeThaw
# type: driver:File;id:UUID36;serialize:FreezeThaw
# id 1: 10299150-C2E4-11E1-B4CD-C82708F5D1FC
# type: driver:File;id:UUID36;serialize:FreezeThaw
# type: driver:File;id:UUID36;serialize:FreezeThaw
# type: driver:File;id:UUID36;serialize:FreezeThaw
# type: driver:File;id:UUID36;serialize:FreezeThaw
# type: driver:File;id:UUID36;serialize:FreezeThaw
# Test: File.1. DSN: dbi:File:. ID generator: UUID36. Serializer: JSON
# type: driver:File;id:UUID36;serialize:JSON
# id 1: 102A72B4-C2E4-11E1-B4CD-C82708F5D1FC
# type: driver:File;id:UUID36;serialize:JSON
# type: driver:File;id:UUID36;serialize:JSON
# type: driver:File;id:UUID36;serialize:JSON
# type: driver:File;id:UUID36;serialize:JSON
# type: driver:File;id:UUID36;serialize:JSON
# Test: File.1. DSN: dbi:File:. ID generator: UUID36. Serializer: Storable
# type: driver:File;id:UUID36;serialize:Storable
# id 1: 102B3F8C-C2E4-11E1-B4CD-C82708F5D1FC
# type: driver:File;id:UUID36;serialize:Storable
# type: driver:File;id:UUID36;serialize:Storable
# type: driver:File;id:UUID36;serialize:Storable
# type: driver:File;id:UUID36;serialize:Storable
# type: driver:File;id:UUID36;serialize:Storable
# Test: File.1. DSN: dbi:File:. ID generator: UUID36. Serializer: YAML
# type: driver:File;id:UUID36;serialize:YAML
# id 1: 102C0DD6-C2E4-11E1-B4CD-C82708F5D1FC
# type: driver:File;id:UUID36;serialize:YAML
# type: driver:File;id:UUID36;serialize:YAML
# type: driver:File;id:UUID36;serialize:YAML
# type: driver:File;id:UUID36;serialize:YAML
# type: driver:File;id:UUID36;serialize:YAML
# Skipping dsn 'dbi:SQLite:dbname=/tmp/sessions.sqlite' because the SQLite directory does not exist
# 
# Testing HTTP header generation
# type: driver:File;id:UUID36;serialize:YAML
# type: driver:File;id:UUID36;serialize:YAML
# type: driver:File;id:UUID36;serialize:YAML
# 
# Testing expire the session. Sleeping for 1 second ...
# type: driver:File;id:UUID36;serialize:YAML
# Expiring id: 102D775C-C2E4-11E1-B4CD-C82708F5D1FC
# type: driver:File;id:UUID36;serialize:YAML
# 
# Testing expire a session parameter. Sleeping for 1 second ...
# type: driver:File;id:UUID36;serialize:YAML
t/basic.t ..... ok
t/pod.t ....... ok
# DSN name: File.1. DSN: dbi:File:. ID generator: MD5. Serializer: DataDumper
# type: driver:File;id:MD5;serialize:DataDumper
# id1: 9ea21776ade84adea09297d91e7ad87e
# type: driver:File;id:MD5;serialize:DataDumper
# type: driver:File;id:MD5;serialize:DataDumper
# type: driver:File;id:MD5;serialize:DataDumper
# type: driver:File;id:MD5;serialize:DataDumper
# 1: Recovered known id 91042f8fe7c297f020320116ec9c5574 from traverse
# 2: Recovered known id b55fb5f72a8cb2a20ef287a617e1c25c from traverse
# 3: Recovered known id 1df20f48ff2eb480c6d6d10732524baf from traverse
# 4: Recovered known id 25a44b32e378cebfe58b3ee2e2cc61e9 from traverse
# Skipping dsn 'dbi:SQLite:dbname=/tmp/sessions.sqlite' because the SQLite directory does not exist
t/traverse.t .. ok
All tests successful.
Files=3, Tests=80,  7 wallclock secs ( 0.06 usr  0.00 sys +  0.63 cusr  0.06 csys =  0.75 CPU)
Result: PASS

------------------------------
PREREQUISITES
------------------------------

Prerequisite modules loaded:

requires:

    Module                   Need    Have    
    ------------------------ ------- --------
    autovivification         0.06    0.10    
    CGI                      3.43    3.59    
    Class::Load              0.19    0.19    
    Data::Dumper             2.124   2.135_06
    Data::UUID               1.217   1.217   
    DBD::SQLite              1.13    1.37    
    DBI                      1.615   1.622   
    Digest::MD5              2.39    2.52    
    Digest::SHA              5.47    5.71    
    Fcntl                    1.06    1.11    
    File::Basename           2.77    2.84    
    File::Path               2.07    2.08_01 
    File::Slurp              9999.13 9999.19 
    File::Spec               3.3     3.39_02 
    File::Temp               0.22    0.22    
    FreezeThaw               0.5001  0.5001  
    Hash::FieldHash          0.1     0.12    
    JSON                     2.27    2.53    
    overload                 1.07    1.20    
    parent                   0.221   0.225   
    Safe                     2.18    2.33_01 
    Scalar::Util             1.21    1.25    
    Storable                 2.2     2.37    
    strict                   1.04    1.07    
    Try::Tiny                0.07    0.11    
    vars                     1.01    1.02    
    warnings                 1.06    1.13    
    YAML::Tiny               1.44    1.51    

build_requires:

    Module                   Need    Have    
    ------------------------ ------- --------
    Config::Tiny             2.14    2.14    
    DBIx::Admin::CreateTable 2.07    2.07    
    Test::More               0.92    0.98    
    Test::Pod                1.44    1.45    

configure_requires:

    Module                   Need    Have    
    ------------------------ ------- --------
    Module::Build            0.38    0.4001  


------------------------------
ENVIRONMENT AND OTHER CONTEXT
------------------------------

Environment variables:

    AUTOMATED_TESTING = 1
    LANG = en_US.UTF-8
    LANGUAGE = en_US:en
    PATH = /home/sand/bin:/usr/local/bin:/usr/bin:/bin:/usr/bin/X11:/usr/games:/usr/local/perl/bin:/usr/X11/bin:/sbin:/usr/sbin
    PERL5LIB = 
    PERL5OPT = 
    PERL5_CPANPLUS_IS_RUNNING = 7226
    PERL5_CPAN_IS_RUNNING = 7226
    PERL_MM_USE_DEFAULT = 1
    SHELL = /usr/bin/zsh
    TERM = screen

Perl special variables (and OS-specific diagnostics, for MSWin32):

    $^X = /mnt/k75/homesand/src/perl/repoperls/installed-perls/perl/v5.17.1-263-g1b5aaca/127e/bin/perl
    $UID/$EUID = 1005 / 1005
    $GID = 1005 1005
    $EGID = 1005 1005

Perl module toolchain versions installed:

    Module              Have    
    ------------------- --------
    CPAN                1.9800  
    CPAN::Meta          2.120921
    Cwd                 3.39_02 
    ExtUtils::CBuilder  0.280208
    ExtUtils::Command   1.17    
    ExtUtils::Install   1.58    
    ExtUtils::MakeMaker 6.63_02 
    ExtUtils::Manifest  1.61    
    ExtUtils::ParseXS   3.17    
    File::Spec          3.39_02 
    JSON                2.53    
    JSON::PP            2.27200 
    Module::Build       0.4001  
    Module::Signature   0.68    
    Parse::CPAN::Meta   1.4404  
    Test::Harness       3.25    
    Test::More          0.98    
    YAML                0.81    
    YAML::Syck          1.20    
    version             0.99    


--

Summary of my perl5 (revision 5 version 17 subversion 2) configuration:
  Commit id: 1b5aaca661f906a9b324afb51b7af8727497f276
  Platform:
    osname=linux, osvers=3.2.0-2-amd64, archname=x86_64-linux-ld
    uname='linux k83 3.2.0-2-amd64 #1 smp mon jun 11 17:24:18 utc 2012 x86_64 gnulinux '
    config_args='-Dprefix=/home/src/perl/repoperls/installed-perls/perl/v5.17.1-263-g1b5aaca/127e -Dmyhostname=k83 -Dinstallusrbinperl=n -Uversiononly -Dusedevel -des -Ui_db -Uuseithreads -Duselongdouble -DDEBUGGING=-g'
    hint=recommended, useposix=true, d_sigaction=define
    useithreads=undef, usemultiplicity=undef
    useperlio=define, d_sfio=undef, uselargefiles=define, usesocks=undef
    use64bitint=define, use64bitall=define, uselongdouble=define
    usemymalloc=n, bincompat5005=undef
  Compiler:
    cc='cc', ccflags ='-fno-strict-aliasing -pipe -fstack-protector -I/usr/local/include -D_LARGEFILE_SOURCE -D_FILE_OFFSET_BITS=64',
    optimize='-O2 -g',
    cppflags='-fno-strict-aliasing -pipe -fstack-protector -I/usr/local/include'
    ccversion='', gccversion='4.7.0', gccosandvers=''
    intsize=4, longsize=8, ptrsize=8, doublesize=8, byteorder=12345678
    d_longlong=define, longlongsize=8, d_longdbl=define, longdblsize=16
    ivtype='long', ivsize=8, nvtype='long double', nvsize=16, Off_t='off_t', lseeksize=8
    alignbytes=16, prototype=define
  Linker and Libraries:
    ld='cc', ldflags =' -fstack-protector -L/usr/local/lib'
    libpth=/usr/local/lib /lib/x86_64-linux-gnu /lib/../lib /usr/lib/x86_64-linux-gnu /usr/lib/../lib /lib /usr/lib
    libs=-lnsl -ldb -ldl -lm -lcrypt -lutil -lc
    perllibs=-lnsl -ldl -lm -lcrypt -lutil -lc
    libc=, so=so, useshrplib=false, libperl=libperl.a
    gnulibc_version='2.13'
  Dynamic Linking:
    dlsrc=dl_dlopen.xs, dlext=so, d_dlsymun=undef, ccdlflags='-Wl,-E'
    cccdlflags='-fPIC', lddlflags='-shared -O2 -g -L/usr/local/lib -fstack-protector'


Characteristics of this binary (from libperl): 
  Compile-time options: HAS_TIMES PERLIO_LAYERS PERL_DONT_CREATE_GVSV
                        PERL_MALLOC_WRAP PERL_PRESERVE_IVUV PERL_USE_DEVEL
                        USE_64_BIT_ALL USE_64_BIT_INT USE_LARGE_FILES
                        USE_LOCALE USE_LOCALE_COLLATE USE_LOCALE_CTYPE
                        USE_LOCALE_NUMERIC USE_LONG_DOUBLE USE_PERLIO
                        USE_PERL_ATOF
  Built under linux
  Compiled at Jun 30 2012 07:40:41
  %ENV:
    PERL5LIB=""
    PERL5OPT=""
    PERL5_CPANPLUS_IS_RUNNING="7226"
    PERL5_CPAN_IS_RUNNING="7226"
    PERL_MM_USE_DEFAULT="1"
  @INC:
    /home/src/perl/repoperls/installed-perls/perl/v5.17.1-263-g1b5aaca/127e/lib/site_perl/5.17.2/x86_64-linux-ld
    /home/src/perl/repoperls/installed-perls/perl/v5.17.1-263-g1b5aaca/127e/lib/site_perl/5.17.2
    /home/src/perl/repoperls/installed-perls/perl/v5.17.1-263-g1b5aaca/127e/lib/5.17.2/x86_64-linux-ld
    /home/src/perl/repoperls/installed-perls/perl/v5.17.1-263-g1b5aaca/127e/lib/5.17.2
    .