LWP-Protocol-Coro-http vv1.14.0 Perl 5 v5.28.2 MSWin32-x86-multi-thread-64int

Status
Pass
From
Alexandr Ciornii (CHORNY)
Dist
LWP-Protocol-Coro-http vv1.14.0
Platform
Perl 5 v5.28.2 MSWin32-x86-multi-thread-64int
Date
2019-05-11 11:15:43
ID
54b88dfe-6c07-1014-a05e-c1aade869b23
This distribution has been tested as part of the CPAN Testers
project, supporting the Perl programming language.  See
http://wiki.cpantesters.org/ for more information or email
questions to cpan-testers-discuss@perl.org


--
Dear ikegami,

This is a computer-generated report for LWP-Protocol-Coro-http-v1.14.0
on perl 5.28.2, created by CPAN-Reporter-1.2018.

Thank you for uploading your work to CPAN.  Congratulations!
All tests were successful.

Sections of this report:

    * Tester comments
    * Program output
    * Prerequisites
    * Environment and other context

------------------------------
TESTER COMMENTS
------------------------------

Additional comments from tester:

this report is from an automated smoke testing program
and was not reviewed by a human for accuracy

------------------------------
PROGRAM OUTPUT
------------------------------

Output from 'C:\Strawberry282\perl\bin\perl.exe ./Build test':

# Testing LWP::Protocol::Coro::http v1.14.0, Perl 5.028002
# AnyEvent 7.15
# AnyEvent::DNS 7.15
# AnyEvent::HTTP 2.24
# AnyEvent::HTTP::Socks 0.05
# AnyEvent::Handle 7.15
# AnyEvent::Socket 7.15
# AnyEvent::Util 7.15
# Carp 1.50
# Config 5.028002
# Coro 6.54
# Coro::Channel 6.54
# Coro::Semaphore 6.54
# Coro::State 6.54
# DynaLoader 1.45
# Encode 3.01
# Encode::Alias 2.24
# Encode::Config 2.05
# Encode::Encoding 2.08
# Encode::MIME::Name 1.03
# Errno 1.29
# Exporter 5.73
# Exporter::Heavy 5.73
# Fcntl 1.13
# Guard 1.023
# HTTP::Headers 6.18
# HTTP::Message 6.18
# HTTP::Response 6.18
# HTTP::Status 6.18
# IO 1.39
# IO::Handle 1.39
# IO::Select 1.39
# IO::Socket 1.39
# IO::Socket::INET 1.39
# IO::Socket::IP 0.39
# IO::Socket::Socks 0.74
# IO::Socket::UNIX 1.39
# Importer 0.025
# LWP::MemberMixin 6.38
# LWP::Protocol 6.38
# LWP::Protocol::Coro::http v1.14.0
# LWP::Protocol::http 6.38
# List::Util 1.5
# MIME::Charset 1.012.2
# Net::HTTP 6.18
# Net::HTTP::Methods 6.18
# POSIX 1.84
# PerlIO 1.10
# Scalar::Util 1.5
# SelectSaver 1.02
# Socket 2.029
# Storable 3.11
# Storable::Limit <unknown>
# Sub::Util 1.5
# Symbol 1.08
# Term::ReadKey 2.38
# Term::Size::Any 0.002
# Term::Size::Win32 0.209
# Term::Table 0.013
# Term::Table::Cell 0.013
# Term::Table::HashBase 0.003
# Term::Table::LineBreak 0.013
# Term::Table::Util 0.013
# Test::Builder 1.302162
# Test::Builder::Formatter 1.302162
# Test::Builder::Module 1.302162
# Test::Builder::TodoDiag 1.302162
# Test::More 1.302162
# Test2::API 1.302162
# Test2::API::Context 1.302162
# Test2::API::Instance 1.302162
# Test2::API::Stack 1.302162
# Test2::Event 1.302162
# Test2::Event::Bail 1.302162
# Test2::Event::Diag 1.302162
# Test2::Event::Exception 1.302162
# Test2::Event::Fail 1.302162
# Test2::Event::Note 1.302162
# Test2::Event::Ok 1.302162
# Test2::Event::Pass 1.302162
# Test2::Event::Plan 1.302162
# Test2::Event::Skip 1.302162
# Test2::Event::Subtest 1.302162
# Test2::Event::V2 1.302162
# Test2::Event::Waiting 1.302162
# Test2::EventFacet 1.302162
# Test2::EventFacet::About 1.302162
# Test2::EventFacet::Amnesty 1.302162
# Test2::EventFacet::Assert 1.302162
# Test2::EventFacet::Control 1.302162
# Test2::EventFacet::Error 1.302162
# Test2::EventFacet::Hub 1.302162
# Test2::EventFacet::Info 1.302162
# Test2::EventFacet::Meta 1.302162
# Test2::EventFacet::Parent 1.302162
# Test2::EventFacet::Plan 1.302162
# Test2::EventFacet::Trace 1.302162
# Test2::Formatter 1.302162
# Test2::Formatter::TAP 1.302162
# Test2::Hub 1.302162
# Test2::Hub::Interceptor 1.302162
# Test2::Hub::Interceptor::Terminator 1.302162
# Test2::Hub::Subtest 1.302162
# Test2::Util 1.302162
# Test2::Util::ExternalMeta 1.302162
# Test2::Util::Facets2Legacy 1.302162
# Test2::Util::HashBase 1.302162
# Test2::Util::Trace 1.302162
# Tie::Hash 1.05
# Time::HiRes 1.976
# Try::Tiny 0.30
# URI 1.76
# URI::Escape 3.31
# Unicode::GCString 2013.10
# Unicode::LineBreak 2019.001
# Unicode::LineBreak::Constants <unknown>
# Win32::Console 0.10
# XSLoader 0.30
# base 2.27
# bytes 1.06
# common::sense 3.74
# constant 1.33
# mro 1.22
# overload 1.30
# overloading 0.02
# parent 0.237
# strict 1.11
# vars 1.04
# version 0.9924
# version::regex 0.9924
# version::vxs 0.9924
# warnings 1.42
# warnings::register 1.04
t\00_load.t .................. ok
# Retrieving URL: http://localhost:4130/
# Waiting for reply
# Waiting for reply
# Waiting for reply
# Waiting for reply
# Shutting down server
# Done
t\01_timer.t ................. ok
# Retrieving URL: http://localhost:4133/chunks
# Waiting for reply
# Got chunk
# Waiting for reply
# Got chunk
# Waiting for reply
# Got chunk
# Waiting for reply
# Got chunk
# Waiting for reply
# Got chunk
# Waiting for reply
# Shutting down server
# Done
t\02_large.t ................. ok
# Retrieving URL: http://localhost:4135/error/after_headers
# Waiting for reply
# Got chunk
# Waiting for reply
# Got chunk
# Waiting for reply
Use of uninitialized value in vec at C:/Strawberry282/perl/vendor/lib/HTTP/Daemon.pm line 115, <DATA> line 32.
sysread() on closed filehandle GEN1 at C:/Strawberry282/perl/vendor/lib/HTTP/Daemon.pm line 342, <DATA> line 32.
# Shutting down server
# Done
t\03_error_after_headers.t ... ok
# Retrieving URL: http://localhost:4138/error/notfound/foo
# Waiting for reply
# Shutting down server
# Done
t\04_error_404.t ............. ok
# Retrieving URL: http://doesnotexist.example
t\05_error_500_bogus_host.t .. ok
# Retrieving URL: http://localhost:4144/referer
# Waiting for reply
# Shutting down server
# Done
t\06_referer.t ............... ok
# Retrieving URL: http://localhost:4147/
# Shutting down server
# Done
t\07_proxy.t ................. ok
# Retrieving URL: http://localhost:4150/multiline_header
# Waiting for reply
# Shutting down server
# Done
t\08_multiline_header.t ...... ok
All tests successful.
Files=9, Tests=28, 36 wallclock secs ( 0.13 usr +  0.11 sys =  0.24 CPU)
Result: PASS

------------------------------
PREREQUISITES
------------------------------

Prerequisite modules loaded:

requires:

    Module                     Need   Have    
    -------------------------- ------ --------
    AnyEvent::HTTP             2      2.24    
    AnyEvent::HTTP::Socks      0      0.05    
    Coro::Channel              0      6.54    
    HTTP::Response             0      6.18    
    LWP::Protocol              0      6.38    
    LWP::Protocol::http        0      6.38    
    LWP::Simple                5.827  6.38    
    version                    0      0.9924  

build_requires:

    Module                     Need   Have    
    -------------------------- ------ --------
    AnyEvent                   0      7.15    
    Carp                       0      1.50    
    CGI                        0      4.42    
    File::Spec                 0      3.75    
    File::Temp                 0      0.2309  
    FindBin                    0      1.51    
    Getopt::Long               0      2.5     
    HTTP::Daemon               0      6.04    
    LWP::Simple                0      6.38    
    Test::More                 0      1.302162
    URI                        0      1.76    
    URI::URL                   0      5.04    

configure_requires:

    Module                     Need   Have    
    -------------------------- ------ --------
    Module::Build              0.3614 0.4229  
    Software::License::CC0_1_0 0      0.103014


------------------------------
ENVIRONMENT AND OTHER CONTEXT
------------------------------

Environment variables:

    AUTOMATED_TESTING = 1
    COMSPEC = C:\WINDOWS\system32\cmd.exe
    NUMBER_OF_PROCESSORS = 1
    PATH = C:\WINDOWS\system32;C:\WINDOWS;C:\WINDOWS\System32\Wbem;C:\Git\cmd;C:\Strawberry282\c\bin;C:\Strawberry282\perl\site\bin;C:\Strawberry282\perl\bin
    PERL5LIB = C:\STRAWB~1\cpan\build\AnyEvent-HTTP-Socks-0.05-0/blib/arch;C:\STRAWB~1\cpan\build\AnyEvent-HTTP-Socks-0.05-0/blib/lib
    PERL5OPT = 
    PERL5_CPANPLUS_IS_RUNNING = 268
    PERL5_CPAN_IS_RUNNING = 268
    PERL5_CPAN_IS_RUNNING_IN_RECURSION = 1280,268
    PERL_CR_SMOKER_CURRENT = LWP-Protocol-Coro-http-v1.14.0
    PERL_CR_SMOKER_RUNONCE = 1
    PERL_EXTUTILS_AUTOINSTALL = --defaultdeps
    PERL_MM_USE_DEFAULT = 1
    PERL_USE_UNSAFE_INC = 1
    PROCESSOR_IDENTIFIER = x86 Family 16 Model 5 Stepping 3, AuthenticAMD
    TEMP = C:\DOCUME~1\a\LOCALS~1\Temp

Perl special variables (and OS-specific diagnostics, for MSWin32):

    $^X = C:\Strawberry282\perl\bin\perl.exe
    $UID/$EUID = 0 / 0
    $GID = 0
    $EGID = 0
    Win32::GetOSName = WinXP/.Net
    Win32::GetOSVersion = Service Pack 3, 5, 1, 2600, 2, 3, 0, 256, 1
    Win32::FsType = NTFS
    Win32::IsAdminUser = 1

Perl module toolchain versions installed:

    Module              Have    
    ------------------- --------
    CPAN                2.26    
    CPAN::Meta          2.150010
    Cwd                 3.75    
    ExtUtils::CBuilder  0.280231
    ExtUtils::Command   7.34    
    ExtUtils::Install   2.14    
    ExtUtils::MakeMaker 7.34    
    ExtUtils::Manifest  1.72    
    ExtUtils::ParseXS   3.39    
    File::Spec          3.75    
    JSON                4.02    
    JSON::PP            4.02    
    Module::Build       0.4229  
    Module::Signature   n/a     
    Parse::CPAN::Meta   2.150010
    Test::Harness       3.42    
    Test::More          1.302162
    YAML                1.27    
    YAML::Syck          1.31    
    version             0.9924  


--

Summary of my perl5 (revision 5 version 28 subversion 2) configuration:
   
  Platform:
    osname=MSWin32
    osvers=5.1.2600
    archname=MSWin32-x86-multi-thread-64int
    uname='Win32 strawberry-perl 5.28.2.1 #1 Mon Apr 22 21:59:01 2019 i386'
    config_args='undef'
    hint=recommended
    useposix=true
    d_sigaction=undef
    useithreads=define
    usemultiplicity=define
    use64bitint=define
    use64bitall=undef
    uselongdouble=undef
    usemymalloc=n
    default_inc_excludes_dot=define
    bincompat5005=undef
  Compiler:
    cc='gcc'
    ccflags =' -s -O2 -DWIN32 -D__USE_MINGW_ANSI_STDIO -DPERL_TEXTMODE_SCRIPTS -DPERL_IMPLICIT_CONTEXT -DPERL_IMPLICIT_SYS -DUSE_PERLIO -fwrapv -fno-strict-aliasing -mms-bitfields'
    optimize='-s -O2'
    cppflags='-DWIN32'
    ccversion=''
    gccversion='7.1.0'
    gccosandvers=''
    intsize=4
    longsize=4
    ptrsize=4
    doublesize=8
    byteorder=12345678
    doublekind=3
    d_longlong=define
    longlongsize=8
    d_longdbl=define
    longdblsize=12
    longdblkind=3
    ivtype='long long'
    ivsize=8
    nvtype='double'
    nvsize=8
    Off_t='long long'
    lseeksize=8
    alignbytes=8
    prototype=define
  Linker and Libraries:
    ld='g++'
    ldflags ='-s -L"C:\STRAWB~1\perl\lib\CORE" -L"C:\STRAWB~1\c\lib"'
    libpth=C:\STRAWB~1\c\lib C:\STRAWB~1\c\i686-w64-mingw32\lib C:\STRAWB~1\c\lib\gcc\i686-w64-mingw32\7.1.0
    libs= -lmoldname -lkernel32 -luser32 -lgdi32 -lwinspool -lcomdlg32 -ladvapi32 -lshell32 -lole32 -loleaut32 -lnetapi32 -luuid -lws2_32 -lmpr -lwinmm -lversion -lodbc32 -lodbccp32 -lcomctl32
    perllibs= -lmoldname -lkernel32 -luser32 -lgdi32 -lwinspool -lcomdlg32 -ladvapi32 -lshell32 -lole32 -loleaut32 -lnetapi32 -luuid -lws2_32 -lmpr -lwinmm -lversion -lodbc32 -lodbccp32 -lcomctl32
    libc=
    so=dll
    useshrplib=true
    libperl=libperl528.a
    gnulibc_version=''
  Dynamic Linking:
    dlsrc=dl_win32.xs
    dlext=xs.dll
    d_dlsymun=undef
    ccdlflags=' '
    cccdlflags=' '
    lddlflags='-mdll -s -L"C:\STRAWB~1\perl\lib\CORE" -L"C:\STRAWB~1\c\lib"'


Characteristics of this binary (from libperl): 
  Compile-time options:
    HAS_TIMES
    HAVE_INTERP_INTERN
    MULTIPLICITY
    PERLIO_LAYERS
    PERL_COPY_ON_WRITE
    PERL_DONT_CREATE_GVSV
    PERL_IMPLICIT_CONTEXT
    PERL_IMPLICIT_SYS
    PERL_MALLOC_WRAP
    PERL_OP_PARENT
    PERL_PRESERVE_IVUV
    USE_64_BIT_INT
    USE_ITHREADS
    USE_LARGE_FILES
    USE_LOCALE
    USE_LOCALE_COLLATE
    USE_LOCALE_CTYPE
    USE_LOCALE_NUMERIC
    USE_LOCALE_TIME
    USE_PERLIO
    USE_PERL_ATOF
  Built under MSWin32
  Compiled at Apr 22 2019 22:09:26
  %ENV:
    PERL5LIB="C:\STRAWB~1\cpan\build\AnyEvent-HTTP-Socks-0.05-0/blib/arch;C:\STRAWB~1\cpan\build\AnyEvent-HTTP-Socks-0.05-0/blib/lib"
    PERL5_CPANPLUS_IS_RUNNING="268"
    PERL5_CPAN_IS_RUNNING="268"
    PERL5_CPAN_IS_RUNNING_IN_RECURSION="1280,268"
    PERL_CR_SMOKER_CURRENT="LWP-Protocol-Coro-http-v1.14.0"
    PERL_CR_SMOKER_RUNONCE="1"
    PERL_EXTUTILS_AUTOINSTALL="--defaultdeps"
    PERL_MM_USE_DEFAULT="1"
    PERL_USE_UNSAFE_INC="1"
  @INC:
    C:\STRAWB~1\cpan\build\AnyEvent-HTTP-Socks-0.05-0/blib/arch
    C:\STRAWB~1\cpan\build\AnyEvent-HTTP-Socks-0.05-0/blib/lib
    C:/Strawberry282/perl/site/lib
    C:/Strawberry282/perl/vendor/lib
    C:/Strawberry282/perl/lib
    .