Back
From: metabase:user:30977d10-2aae-11df-837a-5e0a49663a4f
Subject: PASS Python-Serialise-Pickle-0.01 v5.13.11 GNU/Linux
Date: 2011-03-31T04:14:11Z
This distribution has been tested as part of the CPAN Testers
project, supporting the Perl programming language. See
http://wiki.cpantesters.org/ for more information or email
questions to cpan-testers-discuss@perl.org
--
Dear Simon Wistow,
This is a computer-generated report for Python-Serialise-Pickle-0.01
on perl 5.13.11, created by CPAN-Reporter-1.1902.
Thank you for uploading your work to CPAN. Congratulations!
All tests were successful.
Sections of this report:
* Tester comments
* Program output
* Prerequisites
* Environment and other context
------------------------------
TESTER COMMENTS
------------------------------
Additional comments from tester:
this report is from an automated smoke testing program
and was not reviewed by a human for accuracy
------------------------------
PROGRAM OUTPUT
------------------------------
Output from './Build test':
t/01numbers.t ...... ok
(in cleanup) Can't call method "close" on an undefined value at /home/stro/cpan/build/5.13.11/Python-Serialise-Pickle-0.01-TUEbG5/blib/lib/Python/Serialise/Pickle.pm line 539 during global destruction.
t/02strings.t ...... ok
t/03lists.t ........ ok
t/04tuples.t ....... ok
Use of uninitialized value in print at /home/stro/cpan/build/5.13.11/Python-Serialise-Pickle-0.01-TUEbG5/blib/lib/Python/Serialise/Pickle.pm line 406.
Use of uninitialized value in print at /home/stro/cpan/build/5.13.11/Python-Serialise-Pickle-0.01-TUEbG5/blib/lib/Python/Serialise/Pickle.pm line 406.
Use of uninitialized value in print at /home/stro/cpan/build/5.13.11/Python-Serialise-Pickle-0.01-TUEbG5/blib/lib/Python/Serialise/Pickle.pm line 406.
Use of uninitialized value in print at /home/stro/cpan/build/5.13.11/Python-Serialise-Pickle-0.01-TUEbG5/blib/lib/Python/Serialise/Pickle.pm line 406.
t/05dicts.t ........ ok
Use of uninitialized value in print at /home/stro/cpan/build/5.13.11/Python-Serialise-Pickle-0.01-TUEbG5/blib/lib/Python/Serialise/Pickle.pm line 406.
Use of uninitialized value in print at /home/stro/cpan/build/5.13.11/Python-Serialise-Pickle-0.01-TUEbG5/blib/lib/Python/Serialise/Pickle.pm line 406.
t/06empty.t ........ ok
t/07complicated.t .. ok
All tests successful.
Files=7, Tests=94, 1 wallclock secs ( 0.10 usr 0.11 sys + 0.37 cusr 0.28 csys = 0.86 CPU)
Result: PASS
------------------------------
PREREQUISITES
------------------------------
Prerequisite modules loaded:
requires:
Module Need Have
---------- ---- ----
Test::More 0 0.98
------------------------------
ENVIRONMENT AND OTHER CONTEXT
------------------------------
Environment variables:
AUTOMATED_TESTING = 1
LANG = en_US.UTF-8
PATH = /usr/local/bin:/usr/bin:/bin:/usr/games
PERL5LIB =
PERL5OPT =
PERL5_CPANPLUS_IS_RUNNING = 11402
PERL5_CPAN_IS_RUNNING = 11402
PERL5_CPAN_IS_RUNNING_IN_RECURSION = 3367,11402
PERL_CR_SMOKER_CURRENT = Python-Serialise-Pickle-0.01
PERL_EXTUTILS_AUTOINSTALL = --defaultdeps
PERL_MM_USE_DEFAULT = 1
SHELL = /bin/bash
TERM = xterm
Perl special variables (and OS-specific diagnostics, for MSWin32):
$^X = /home/stro/perl/perl51311/bin/perl
$UID/$EUID = 1000 / 1000
$GID = 1000 20 24 25 29 44 46 1000
$EGID = 1000 20 24 25 29 44 46 1000
Perl module toolchain versions installed:
Module Have
------------------- --------
CPAN 1.9600
Cwd 3.36
ExtUtils::CBuilder 0.280202
ExtUtils::Command 1.17
ExtUtils::Install 1.56
ExtUtils::MakeMaker 6.57_05
ExtUtils::Manifest 1.58
ExtUtils::ParseXS 2.2209
File::Spec 3.33
Module::Build 0.3800
Module::Signature n/a
Test::Harness 3.23
Test::More 0.98
YAML n/a
YAML::Syck 1.17
version 0.88
--
Summary of my perl5 (revision 5 version 13 subversion 11) configuration:
Platform:
osname=linux, osvers=2.6.26-2-686, archname=i686-linux
uname='linux debian5 2.6.26-2-686 #1 smp thu nov 25 01:53:57 utc 2010 i686 gnulinux '
config_args=''
hint=recommended, useposix=true, d_sigaction=define
useithreads=undef, usemultiplicity=undef
useperlio=define, d_sfio=undef, uselargefiles=define, usesocks=undef
use64bitint=undef, use64bitall=undef, uselongdouble=undef
usemymalloc=n, bincompat5005=undef
Compiler:
cc='cc', ccflags ='-fno-strict-aliasing -pipe -fstack-protector -I/usr/local/include -D_LARGEFILE_SOURCE -D_FILE_OFFSET_BITS=64',
optimize='-O2',
cppflags='-fno-strict-aliasing -pipe -fstack-protector -I/usr/local/include'
ccversion='', gccversion='4.3.2', gccosandvers=''
intsize=4, longsize=4, ptrsize=4, doublesize=8, byteorder=1234
d_longlong=define, longlongsize=8, d_longdbl=define, longdblsize=12
ivtype='long', ivsize=4, nvtype='double', nvsize=8, Off_t='off_t', lseeksize=8
alignbytes=4, prototype=define
Linker and Libraries:
ld='cc', ldflags =' -fstack-protector -L/usr/local/lib'
libpth=/usr/local/lib /lib /usr/lib
libs=-lnsl -ldl -lm -lcrypt -lutil -lc
perllibs=-lnsl -ldl -lm -lcrypt -lutil -lc
libc=/lib/libc-2.7.so, so=so, useshrplib=false, libperl=libperl.a
gnulibc_version='2.7'
Dynamic Linking:
dlsrc=dl_dlopen.xs, dlext=so, d_dlsymun=undef, ccdlflags='-Wl,-E'
cccdlflags='-fPIC', lddlflags='-shared -O2 -L/usr/local/lib -fstack-protector'
Characteristics of this binary (from libperl):
Compile-time options: PERL_DONT_CREATE_GVSV PERL_MALLOC_WRAP
PERL_PRESERVE_IVUV USE_LARGE_FILES USE_PERLIO
USE_PERL_ATOF
Built under linux
Compiled at Mar 28 2011 15:28:52
%ENV:
PERL5LIB=""
PERL5OPT=""
PERL5_CPANPLUS_IS_RUNNING="11402"
PERL5_CPAN_IS_RUNNING="11402"
PERL5_CPAN_IS_RUNNING_IN_RECURSION="3367,11402"
PERL_CR_SMOKER_CURRENT="Python-Serialise-Pickle-0.01"
PERL_EXTUTILS_AUTOINSTALL="--defaultdeps"
PERL_MM_USE_DEFAULT="1"
@INC:
/home/stro/perl/perl51311/lib/site_perl/5.13.11/i686-linux
/home/stro/perl/perl51311/lib/site_perl/5.13.11
/home/stro/perl/perl51311/lib/5.13.11/i686-linux
/home/stro/perl/perl51311/lib/5.13.11
.