Capture-Tiny-Extended v0.114 Perl 5 v5.43.2 amd64-netbsd

Status
Pass
From
Carlos Guevara
Dist
Capture-Tiny-Extended v0.114
Platform
Perl 5 v5.43.2 amd64-netbsd
Date
2025-08-03 11:31:00
ID
54f3fc6e-705d-11f0-be8b-e7c0f6d3e721
This distribution has been tested as part of the CPAN Testers
project, supporting the Perl programming language.  See
http://wiki.cpantesters.org/ for more information or email
questions to cpan-testers-discuss@perl.org


--
Dear Christian Walde,

This is a computer-generated report for Capture-Tiny-Extended-0.114
on perl 5.43.2, created by CPAN-Reporter-1.2020.

Thank you for uploading your work to CPAN.  Congratulations!
All tests were successful.

Sections of this report:

    * Tester comments
    * Program output
    * Prerequisites
    * Environment and other context

------------------------------
TESTER COMMENTS
------------------------------

Additional comments from tester:

this report is from an automated smoke testing program
and was not reviewed by a human for accuracy

------------------------------
PROGRAM OUTPUT
------------------------------

Output from '/usr/bin/make test':

PERL_DL_NONLAZY=1 "/home/cpan/bin/perl/bin/perl5.43.2" "-MExtUtils::Command::MM" "-MTest::Harness" "-e" "undef *Test::Harness::Switches; test_harness(0, 'blib/lib', 'blib/arch')" t/*.t
t/00-compile.t ............. ok
t/01-Capture-Tiny.t ........ ok
t/02-capture.t ............. ok
t/03-tee.t ................. ok
t/06-stdout-closed.t ....... ok
t/07-stderr-closed.t ....... ok
t/08-stdin-closed.t ........ ok
t/09-preserve-exit-code.t .. ok
t/10-stdout-string.t ....... ok
t/11-stderr-string.t ....... ok
t/12-stdin-string.t ........ ok
t/13-stdout-tied.t ......... ok
t/14-stderr-tied.t ......... ok
t/15-stdin-tied.t .......... ok
t/16-catch-errors.t ........ ok
All tests successful.

Test Summary Report
-------------------
t/13-stdout-tied.t       (Wstat: 0 Tests: 489 Failed: 0)
  TODO passed:   3-4, 11-13, 21-22, 30-31, 38-40, 48-49
                59, 68, 75-76, 83, 85, 94, 102-103, 110
                112, 121, 130-132, 146-151, 166-168, 184-186
                200-205, 220-222, 238, 248-251, 262, 274
                284-287, 298, 309, 311-313, 315-317, 338
                340, 342-344, 346-347, 372-373, 376-377
                399, 401-403, 405-407, 428, 430, 432-434
                436-437, 462-463, 466-467
t/14-stderr-tied.t       (Wstat: 0 Tests: 489 Failed: 0)
  TODO passed:   8-10, 17, 19, 26, 28, 35-37, 44, 46, 53
                55, 58, 61, 64, 67, 70, 73, 80-82, 89-91
                98-100, 107-109, 116-118, 125-127, 140-145
                158-159, 162, 176-177, 180, 194-199, 212-213
                216, 230-231, 234, 244-247, 256-257, 259
                268-269, 271, 280-283, 292-293, 295, 304-305
                307, 328-337, 358-367, 388-397, 418-427
                448-457, 478-487
Files=15, Tests=4904, 18 wallclock secs ( 0.48 usr  0.09 sys +  7.15 cusr  9.01 csys = 16.73 CPU)
Result: PASS

------------------------------
PREREQUISITES
------------------------------

Prerequisite modules loaded:

requires:

    Module              Need Have    
    ------------------- ---- --------
    Carp                0    1.54    
    Exporter            0    5.79    
    File::Spec          0    3.94    
    File::Temp          0    0.2311  
    IO::Handle          0    1.55    

build_requires:

    Module              Need Have    
    ------------------- ---- --------
    File::Find          0    1.44    
    Test::More          0.62 1.302214

configure_requires:

    Module              Need Have    
    ------------------- ---- --------
    ExtUtils::MakeMaker 6.30 7.76    


------------------------------
ENVIRONMENT AND OTHER CONTEXT
------------------------------

Environment variables:

    AUTOMATED_TESTING = 1
    DATE_MANIP_TEST_DM5 = 1
    LC_ALL = C
    NONINTERACTIVE_TESTING = 1
    NO_NETWORK_TESTING = 1
    PATH = /home/cpan/bin/perl/bin:/home/cpan/bin:/home/cpan/bin:/bin:/sbin:/usr/bin:/usr/sbin:/usr/X11R7/bin:/usr/pkg/bin:/usr/pkg/sbin:/usr/games:/usr/local/bin:/usr/local/sbin
    PERL5LIB = 
    PERL5OPT = 
    PERL5_CPANPLUS_IS_RUNNING = 766
    PERL5_CPAN_IS_RUNNING = 766
    PERL_MM_USE_DEFAULT = 1
    PERL_USE_UNSAFE_INC = 1
    SHELL = /usr/pkg/bin/bash
    TERM = screen
    TMPDIR = /home/cpan/tmp

Perl special variables (and OS-specific diagnostics, for MSWin32):

    $^X = /home/cpan/bin/perl/bin/perl5.43.2
    $UID/$EUID = 1003 / 1003
    $GID = 100 100
    $EGID = 100 100

Perl module toolchain versions installed:

    Module              Have    
    ------------------- --------
    CPAN                2.38    
    CPAN::Meta          2.150010
    Cwd                 3.94    
    ExtUtils::CBuilder  0.280242
    ExtUtils::Command   7.76    
    ExtUtils::Install   2.22    
    ExtUtils::MakeMaker 7.76    
    ExtUtils::Manifest  1.75    
    ExtUtils::ParseXS   3.58    
    File::Spec          3.94    
    JSON                4.10    
    JSON::PP            4.16    
    Module::Build       0.4234  
    Module::Signature   0.93    
    Parse::CPAN::Meta   2.150010
    Test2               1.302214
    Test::Harness       3.52    
    Test::More          1.302214
    YAML                1.31    
    YAML::Syck          1.34    
    version             0.9933  


--

Summary of my perl5 (revision 5 version 43 subversion 2) configuration:
  Commit id: 6573cd3ff106d4b350ff5f3d5b403eca640c226d
  Platform:
    osname=netbsd
    osvers=10.1
    archname=amd64-netbsd
    uname='netbsd cjg-netbsd10 10.1 netbsd 10.1 (generic) #0: mon dec 16 13:08:11 utc 2024 mkrepro@mkrepro.netbsd.org:usrsrcsysarchamd64compilegeneric amd64 '
    config_args='-des -Dprefix=/home/cpan/bin/perl -Dscriptdir=/home/cpan/bin/perl/bin -Dusedevel -Duse64bitall'
    hint=recommended
    useposix=true
    d_sigaction=define
    useithreads=undef
    usemultiplicity=undef
    use64bitint=define
    use64bitall=define
    uselongdouble=undef
    usemymalloc=n
    default_inc_excludes_dot=define
  Compiler:
    cc='cc'
    ccflags ='-fwrapv -fno-strict-aliasing -pipe -fstack-protector-strong -I/usr/pkg/include -D_FORTIFY_SOURCE=2'
    optimize='-O'
    cppflags='-fwrapv -fno-strict-aliasing -pipe -fstack-protector-strong -I/usr/pkg/include'
    ccversion=''
    gccversion='10.5.0'
    gccosandvers=''
    intsize=4
    longsize=8
    ptrsize=8
    doublesize=8
    byteorder=12345678
    doublekind=3
    d_longlong=define
    longlongsize=8
    d_longdbl=define
    longdblsize=16
    longdblkind=3
    ivtype='long'
    ivsize=8
    nvtype='double'
    nvsize=8
    Off_t='off_t'
    lseeksize=8
    alignbytes=8
    prototype=define
  Linker and Libraries:
    ld='cc'
    ldflags =' -Wl,-rpath,/usr/pkg/lib -Wl,-rpath,/usr/local/lib -fstack-protector-strong -L/usr/pkg/lib'
    libpth=/usr/lib /usr/pkg/lib /lib
    libs=-lpthread -lm -lcrypt -lutil -lc -lposix
    perllibs=-lpthread -lm -lcrypt -lutil -lc -lposix
    libc=/lib/libc.so
    so=so
    useshrplib=false
    libperl=libperl.a
    gnulibc_version=''
  Dynamic Linking:
    dlsrc=dl_dlopen.xs
    dlext=so
    d_dlsymun=undef
    ccdlflags='-Wl,-E '
    cccdlflags='-DPIC -fPIC '
    lddlflags='-shared  -L/usr/pkg/lib -fstack-protector-strong'


Characteristics of this binary (from libperl): 
  Compile-time options:
    HAS_LONG_DOUBLE
    HAS_STRTOLD
    HAS_TIMES
    PERLIO_LAYERS
    PERL_COPY_ON_WRITE
    PERL_DONT_CREATE_GVSV
    PERL_HASH_FUNC_SIPHASH13
    PERL_HASH_USE_SBOX32
    PERL_MALLOC_WRAP
    PERL_OP_PARENT
    PERL_PRESERVE_IVUV
    PERL_USE_DEVEL
    PERL_USE_SAFE_PUTENV
    USE_64_BIT_ALL
    USE_64_BIT_INT
    USE_LARGE_FILES
    USE_LOCALE
    USE_LOCALE_COLLATE
    USE_LOCALE_CTYPE
    USE_LOCALE_NUMERIC
    USE_LOCALE_TIME
    USE_PERLIO
    USE_PERL_ATOF
  Built under netbsd
  Compiled at Aug  3 2025 00:53:06
  %ENV:
    PERL5LIB=""
    PERL5OPT=""
    PERL5_CPANPLUS_IS_RUNNING="766"
    PERL5_CPAN_IS_RUNNING="766"
    PERL_MM_USE_DEFAULT="1"
    PERL_USE_UNSAFE_INC="1"
  @INC:
    /home/cpan/bin/perl/lib/site_perl/5.43.2/amd64-netbsd
    /home/cpan/bin/perl/lib/site_perl/5.43.2
    /home/cpan/bin/perl/lib/5.43.2/amd64-netbsd
    /home/cpan/bin/perl/lib/5.43.2
    .