Data-Util v0.67 Perl 5 v5.37.2 i86pc-solaris-64

Status
Pass
From
Carlos Guevara
Dist
Data-Util v0.67
Platform
Perl 5 v5.37.2 i86pc-solaris-64
Date
2022-07-14 17:42:29
ID
54ff7336-039c-11ed-8b9d-a3f587d3e6a8
This distribution has been tested as part of the CPAN Testers
project, supporting the Perl programming language.  See
http://wiki.cpantesters.org/ for more information or email
questions to cpan-testers-discuss@perl.org


--
Dear Shohei Yoshida,

This is a computer-generated report for Data-Util-0.67
on perl 5.37.2, created by CPAN-Reporter-1.2018.

Thank you for uploading your work to CPAN.  Congratulations!
All tests were successful.

Sections of this report:

    * Tester comments
    * Program output
    * Prerequisites
    * Environment and other context

------------------------------
TESTER COMMENTS
------------------------------

Additional comments from tester:

this report is from an automated smoke testing program
and was not reviewed by a human for accuracy

------------------------------
PROGRAM OUTPUT
------------------------------

Output from './Build test':

# Testing Data::Util 0.67 (XS)
t/00_load.t .................. ok
# Testing XS
t/01_refs.t .................. ok
t/02_inst.t .................. ok
t/03_gen.t ................... ok
t/04_overloaded.t ............ ok
t/05_get_stash.t ............. ok
t/06_subroutine.t ............ ok
t/08_mgvars.t ................ ok
Can't locate package A for @Bar::ISA during global destruction.
t/09_paranoia.t .............. ok
t/10_neat.t .................. ok
t/11_fail_handler.t .......... ok
t/12_in_attr_handler.t ....... skipped: This test is for old perls
t/13_optlist.t ............... ok
t/14_uninst_subr.t ........... ok
t/15_curry.t ................. ok
t/16_modify.t ................ ok
t/17_nsclean.t ............... ok
t/18_is_value.t .............. ok
t/19_multiple_modifiers.t .... ok
t/20_lexical_sub.t ........... ok
t/21_get_code_ref.t .......... ok
t/22_install2.t .............. ok
t/23_largeargs.t ............. ok
t/24_eval_in_modifiers.t ..... ok
t/pp00_load.t ................ ok
# Testing PurePerl
t/pp01_refs.t ................ ok
t/pp02_inst.t ................ ok
t/pp03_gen.t ................. ok
t/pp04_overloaded.t .......... ok
t/pp05_get_stash.t ........... ok
t/pp06_subroutine.t .......... ok
t/pp08_mgvars.t .............. ok
t/pp10_neat.t ................ ok
t/pp11_fail_handler.t ........ ok
t/pp12_in_attr_handler.t ..... skipped: This test is for old perls
t/pp13_optlist.t ............. ok
t/pp14_uninst_subr.t ......... ok
t/pp15_curry.t ............... ok
t/pp16_modify.t .............. ok
t/pp17_nsclean.t ............. ok
t/pp18_is_value.t ............ ok
t/pp19_multiple_modifiers.t .. ok
t/pp20_lexical_sub.t ......... ok
t/pp21_get_code_ref.t ........ ok
t/pp22_install2.t ............ ok
t/pp23_largeargs.t ........... ok
t/pp24_eval_in_modifiers.t ... ok
All tests successful.
Files=47, Tests=1141,  7 wallclock secs ( 0.29 usr  0.29 sys +  5.26 cusr  1.65 csys =  7.49 CPU)
Result: PASS

------------------------------
PREREQUISITES
------------------------------

Prerequisite modules loaded:

requires:

    Module                        Need   Have    
    ----------------------------- ------ --------
    perl                          5.010  5.037002
    XSLoader                      0.02   0.31    

build_requires:

    Module                        Need   Have    
    ----------------------------- ------ --------
    Devel::PPPort                 3.19   3.68    
    ExtUtils::CBuilder            0      0.280237
    ExtUtils::MakeMaker           6.59   7.64    
    ExtUtils::ParseXS             3.18   3.45    
    Hash::Util::FieldHash::Compat 0      0.11    
    Scope::Guard                  0      0.21    
    Test::Exception               0.27   0.43    
    Test::More                    0.62   1.302191

configure_requires:

    Module                        Need   Have    
    ----------------------------- ------ --------
    Module::Build                 0.4005 0.4231  
    Module::Build::XSUtil         0.03   0.19    


------------------------------
ENVIRONMENT AND OTHER CONTEXT
------------------------------

Environment variables:

    AUTOMATED_TESTING = 1
    DATE_MANIP_TEST_DM5 = 1
    LANG = en_US.UTF-8
    LC_ALL = C
    NONINTERACTIVE_TESTING = 1
    PATH = /export/home/cpan/bin/perl-blead/bin:/usr/bin:/usr/sbin:/sbin:/opt/ooce/bin:/usr/gnu/bin
    PERL5LIB = 
    PERL5OPT = 
    PERL5_CPANPLUS_IS_RUNNING = 4764
    PERL5_CPAN_IS_RUNNING = 4764
    PERL_MM_USE_DEFAULT = 1
    PERL_USE_UNSAFE_INC = 1
    PERL_VERSION = blead
    SHELL = /bin/bash
    TERM = screen

Perl special variables (and OS-specific diagnostics, for MSWin32):

    $^X = /export/home/cpan/bin/perl-blead/bin/perl5.37.2
    $UID/$EUID = 101 / 101
    $GID = 1 1
    $EGID = 1 1

Perl module toolchain versions installed:

    Module              Have    
    ------------------- --------
    CPAN                2.33    
    CPAN::Meta          2.150010
    Cwd                 3.86    
    ExtUtils::CBuilder  0.280237
    ExtUtils::Command   7.64    
    ExtUtils::Install   2.20    
    ExtUtils::MakeMaker 7.64    
    ExtUtils::Manifest  1.73    
    ExtUtils::ParseXS   3.45    
    File::Spec          3.86    
    JSON                4.07    
    JSON::PP            4.10    
    Module::Build       0.4231  
    Module::Signature   n/a     
    Parse::CPAN::Meta   2.150010
    Test::Harness       3.44    
    Test::More          1.302191
    YAML                1.30    
    YAML::Syck          n/a     
    version             0.9929  


--

Summary of my perl5 (revision 5 version 37 subversion 2) configuration:
  Commit id: f1b080c58b98b34a57d70db7c09ac94e3f68ca06
  Platform:
    osname=solaris
    osvers=2.11
    archname=i86pc-solaris-64
    uname='sunos cjg-omniosce 5.11 omnios-r151038-e2489d53f5 i86pc i386 i86pc '
    config_args='-des -Dprefix=~/bin/perl-blead -Dscriptdir=~/bin/perl-blead/bin -Dusedevel -Duse64bitall -Dcc=gcc'
    hint=recommended
    useposix=true
    d_sigaction=define
    useithreads=undef
    usemultiplicity=undef
    use64bitint=define
    use64bitall=define
    uselongdouble=undef
    usemymalloc=n
    default_inc_excludes_dot=define
  Compiler:
    cc='gcc'
    ccflags ='-m64 -fwrapv -fno-strict-aliasing -pipe -fstack-protector-strong -D_LARGEFILE_SOURCE -D_FILE_OFFSET_BITS=64 -D_FORTIFY_SOURCE=2'
    optimize='-O'
    cppflags='-m64 -fwrapv -fno-strict-aliasing -pipe -fstack-protector-strong'
    ccversion=''
    gccversion='10.3.0'
    gccosandvers=''
    intsize=4
    longsize=8
    ptrsize=8
    doublesize=8
    byteorder=12345678
    doublekind=3
    d_longlong=define
    longlongsize=8
    d_longdbl=define
    longdblsize=16
    longdblkind=3
    ivtype='long'
    ivsize=8
    nvtype='double'
    nvsize=8
    Off_t='off_t'
    lseeksize=8
    alignbytes=8
    prototype=define
  Linker and Libraries:
    ld='gcc'
    ldflags =' -m64 -fstack-protector-strong -L/usr/gnu/lib '
    libpth=/opt/gcc-10/lib /usr/lib /usr/gnu/lib /usr/ccs/lib
    libs=-lpthread -lsocket -lnsl -ldl -lm -lc
    perllibs=-lpthread -lsocket -lnsl -ldl -lm -lc
    libc=/lib/libc.so
    so=so
    useshrplib=true
    libperl=libperl.so
    gnulibc_version=''
  Dynamic Linking:
    dlsrc=dl_dlopen.xs
    dlext=so
    d_dlsymun=undef
    ccdlflags='  -R /export/home/cpan/bin/perl-blead/lib/5.37.2/i86pc-solaris-64/CORE'
    cccdlflags='-fPIC'
    lddlflags=' -shared -m64 -L/usr/gnu/lib -fstack-protector-strong'


Characteristics of this binary (from libperl): 
  Compile-time options:
    HAS_TIMES
    PERLIO_LAYERS
    PERL_COPY_ON_WRITE
    PERL_DONT_CREATE_GVSV
    PERL_MALLOC_WRAP
    PERL_OP_PARENT
    PERL_PRESERVE_IVUV
    PERL_USE_DEVEL
    PERL_USE_SAFE_PUTENV
    USE_64_BIT_ALL
    USE_64_BIT_INT
    USE_LARGE_FILES
    USE_LOCALE
    USE_LOCALE_COLLATE
    USE_LOCALE_CTYPE
    USE_LOCALE_NUMERIC
    USE_LOCALE_TIME
    USE_PERLIO
    USE_PERL_ATOF
  Built under solaris
  Compiled at Jul 14 2022 03:18:44
  %ENV:
    PERL5LIB=""
    PERL5OPT=""
    PERL5_CPANPLUS_IS_RUNNING="4764"
    PERL5_CPAN_IS_RUNNING="4764"
    PERL_MM_USE_DEFAULT="1"
    PERL_USE_UNSAFE_INC="1"
    PERL_VERSION="blead"
  @INC:
    /export/home/cpan/bin/perl-blead/lib/site_perl/5.37.2/i86pc-solaris-64
    /export/home/cpan/bin/perl-blead/lib/site_perl/5.37.2
    /export/home/cpan/bin/perl-blead/lib/5.37.2/i86pc-solaris-64
    /export/home/cpan/bin/perl-blead/lib/5.37.2
    .