Mojolicious-Plugin-CGI v0.40 Perl 5 v5.37.5 x86_64-linux-thread-multi-ld
- Status
- Pass
- From
- Andreas J. König (ANDK)
- Dist
-
Mojolicious-Plugin-CGI v0.40
- Platform
- Perl 5 v5.37.5 x86_64-linux-thread-multi-ld
- Date
- 2022-10-23 05:27:05
- ID
- 5501573c-5293-11ed-aedd-bc4f5775ab79
This distribution has been tested as part of the CPAN Testers
project, supporting the Perl programming language. See
http://wiki.cpantesters.org/ for more information or email
questions to cpan-testers-discuss@perl.org
--
Dear Jan Henning Thorsen,
This is a computer-generated report for Mojolicious-Plugin-CGI-0.40
on perl 5.37.5, created by CPAN-Reporter-1.2018.
Thank you for uploading your work to CPAN. Congratulations!
All tests were successful.
Sections of this report:
* Tester comments
* Program output
* Prerequisites
* Environment and other context
------------------------------
TESTER COMMENTS
------------------------------
Additional comments from tester:
this report is from an automated smoke testing program
and was not reviewed by a human for accuracy
------------------------------
PROGRAM OUTPUT
------------------------------
Output from '/usr/bin/make test':
PERL_DL_NONLAZY=1 "/tmp/basesmoker-reloperl-h8f7/bin/perl" "-MExtUtils::Command::MM" "-MTest::Harness" "-e" "undef *Test::Harness::Switches; test_harness(0, 'blib/lib', 'blib/arch')" t/*.t
t/00-basic.t ..................... ok
t/basic.t ........................ ok
t/before.t ....................... ok
# PATH_INFO=/foo
# PATH_INFO=/föö
# PATH_INFO=/föâÂÂ
t/encoding.t ..................... ok
[2022-10-23 05:26:39.62235] [3631153] [warn] [CGI:errlog:3631159] yikes! at /tmp/loop_over_bdir-1329634-ggBFlW/Mojolicious-Plugin-CGI-0.40-0/t/cgi-bin/errlog line 4.
t/errlog.t ....................... ok
t/gh-16-loop_reset.t ............. skipped: set TEST_MORBO to enable this test (developer only!)
Use of uninitialized value in print at t/Helper.pm line 18.
t/helper.t ....................... ok
t/multipart.t .................... ok
t/not-found.t .................... ok
t/not-modified.t ................. ok
t/nph-borked.t ................... ok
t/nph.t .......................... ok
t/post.t ......................... skipped: TEST_PIPES=1; No idea how to test this consistently
t/query-string-with-semicolon.t .. ok
t/redirect.t ..................... ok
t/remote-user.t .................. ok
t/run.t .......................... ok
t/zombies.t ...................... skipped: (no reason given)
All tests successful.
Files=18, Tests=110, 8 wallclock secs ( 0.06 usr 0.08 sys + 7.14 cusr 1.43 csys = 8.71 CPU)
Result: PASS
------------------------------
PREREQUISITES
------------------------------
Prerequisite modules loaded:
requires:
Module Need Have
------------------- ----- --------
IO::Pipely 0.005 0.006
Mojolicious 7.28 9.28
build_requires:
Module Need Have
------------------- ----- --------
Test::More 0.88 1.302191
configure_requires:
Module Need Have
------------------- ----- --------
ExtUtils::MakeMaker 0 7.64
------------------------------
ENVIRONMENT AND OTHER CONTEXT
------------------------------
Environment variables:
AUTOMATED_TESTING = 1
LANG = en_US.UTF-8
LC_ADDRESS = de_DE.UTF-8
LC_IDENTIFICATION = de_DE.UTF-8
LC_MEASUREMENT = de_DE.UTF-8
LC_MONETARY = de_DE.UTF-8
LC_NAME = de_DE.UTF-8
LC_NUMERIC = de_DE.UTF-8
LC_PAPER = de_DE.UTF-8
LC_TELEPHONE = de_DE.UTF-8
LC_TIME = de_DE.UTF-8
PATH = /home/sand/bin:/usr/local/bin:/usr/local/sbin:/usr/sbin:/usr/bin:/sbin:/bin:/usr/games:/usr/local/games:/snap/bin:/usr/local/perl/bin:/usr/X11/bin
PERL = /tmp/basesmoker-reloperl-h8f7/bin/perl
PERL5LIB = /tmp/loop_over_bdir-1329634-ggBFlW/shishi-0.0.1-0/blib/arch:/tmp/loop_over_bdir-1329634-ggBFlW/shishi-0.0.1-0/blib/lib:/tmp/loop_over_bdir-1329634-ggBFlW/Dpkg-1.21.9-0/blib/arch:/tmp/loop_over_bdir-1329634-ggBFlW/Dpkg-1.21.9-0/blib/lib:/tmp/loop_over_bdir-1329634-ggBFlW/dta-tokwrap-0.98-0/blib/arch:/tmp/loop_over_bdir-1329634-ggBFlW/dta-tokwrap-0.98-0/blib/lib:/tmp/loop_over_bdir-1329634-ggBFlW/DBIx-Migration-Directories-0.12-0/blib/arch:/tmp/loop_over_bdir-1329634-ggBFlW/DBIx-Migration-Directories-0.12-0/blib/lib:/tmp/loop_over_bdir-1329634-ggBFlW/Simulation-Automate-1.0.1-0/blib/arch:/tmp/loop_over_bdir-1329634-ggBFlW/Simulation-Automate-1.0.1-0/blib/lib:/tmp/loop_over_bdir-1329634-ggBFlW/CORBA-Python-2.66-0/blib/arch:/tmp/loop_over_bdir-1329634-ggBFlW/CORBA-Python-2.66-0/blib/lib:/tmp/loop_over_bdir-1329634-ggBFlW/App-rmcd-0.280-0/blib/arch:/tmp/loop_over_bdir-1329634-ggBFlW/App-rmcd-0.280-0/blib/lib:/tmp/loop_over_bdir-1329634-ggBFlW/App-nrun-v1.1.2-0/blib/arch:/tmp/loop_over_bdir-1329634-ggBFlW/App-nrun-v1.1.2-0/blib/lib
PERL5OPT =
PERL5_CPANPLUS_IS_RUNNING = 1329653
PERL5_CPAN_IS_RUNNING = 1329653
PERL_CANARY_STABILITY_NOPROMPT = 1
PERL_MM_USE_DEFAULT = 1
PERL_USE_UNSAFE_INC = 1
SHELL = /usr/bin/zsh
TERM = screen
Perl special variables (and OS-specific diagnostics, for MSWin32):
$^X = /tmp/basesmoker-reloperl-h8f7/bin/perl
$UID/$EUID = 1005 / 1005
$GID = 1005 1005
$EGID = 1005 1005
Perl module toolchain versions installed:
Module Have
------------------- --------
CPAN 2.34
CPAN::Meta 2.150010
Cwd 3.86
ExtUtils::CBuilder 0.280237
ExtUtils::Command 7.64
ExtUtils::Install 2.20
ExtUtils::MakeMaker 7.64
ExtUtils::Manifest 1.73
ExtUtils::ParseXS 3.46
File::Spec 3.87
JSON 4.10
JSON::PP 4.12
Module::Build 0.4231
Module::Signature 0.88
Parse::CPAN::Meta 2.150010
Test::Harness 3.44
Test::More 1.302191
YAML 1.30
YAML::Syck 1.34
version 0.9929
--
Summary of my perl5 (revision 5 version 37 subversion 5) configuration:
Commit id: 064941484781d9099db0bbe7d6ea22a826df1e15
Platform:
osname=linux
osvers=5.15.0-50-generic
archname=x86_64-linux-thread-multi-ld
uname='linux k93jammy 5.15.0-50-generic #56-ubuntu smp tue sep 20 13:23:26 utc 2022 x86_64 x86_64 x86_64 gnulinux '
config_args='-Dprefix=/home/sand/src/perl/repoperls/installed-perls/host/k93jammy/v5.37.4-160-g0649414847/322f -Dmyhostname=k93jammy -Dinstallusrbinperl=n -Uversiononly -Dusedevel -des -Ui_db -Dlibswanted=cl pthread socket inet nsl gdbm dbm malloc dl ld sun m crypt sec util c cposix posix ucb BSD gdbm_compat -Duseithreads -Duselongdouble -DEBUGGING=-g'
hint=recommended
useposix=true
d_sigaction=define
useithreads=define
usemultiplicity=define
use64bitint=define
use64bitall=define
uselongdouble=define
usemymalloc=n
default_inc_excludes_dot=define
Compiler:
cc='cc'
ccflags ='-D_REENTRANT -D_GNU_SOURCE -fwrapv -fno-strict-aliasing -pipe -fstack-protector-strong -I/usr/local/include -D_LARGEFILE_SOURCE -D_FILE_OFFSET_BITS=64'
optimize='-O2 -g'
cppflags='-D_REENTRANT -D_GNU_SOURCE -fwrapv -fno-strict-aliasing -pipe -fstack-protector-strong -I/usr/local/include'
ccversion=''
gccversion='11.2.0'
gccosandvers=''
intsize=4
longsize=8
ptrsize=8
doublesize=8
byteorder=12345678
doublekind=3
d_longlong=define
longlongsize=8
d_longdbl=define
longdblsize=16
longdblkind=3
ivtype='long'
ivsize=8
nvtype='long double'
nvsize=16
Off_t='off_t'
lseeksize=8
alignbytes=16
prototype=define
Linker and Libraries:
ld='cc'
ldflags =' -fstack-protector-strong -L/usr/local/lib'
libpth=/usr/local/lib /usr/lib/x86_64-linux-gnu /usr/lib /usr/lib64
libs=-lpthread -lnsl -ldl -lm -lcrypt -lutil -lc
perllibs=-lpthread -lnsl -ldl -lm -lcrypt -lutil -lc
libc=/lib/x86_64-linux-gnu/libc.so.6
so=so
useshrplib=false
libperl=libperl.a
gnulibc_version='2.35'
Dynamic Linking:
dlsrc=dl_dlopen.xs
dlext=so
d_dlsymun=undef
ccdlflags='-Wl,-E'
cccdlflags='-fPIC'
lddlflags='-shared -O2 -g -L/usr/local/lib -fstack-protector-strong'
Characteristics of this binary (from libperl):
Compile-time options:
HAS_TIMES
MULTIPLICITY
PERLIO_LAYERS
PERL_COPY_ON_WRITE
PERL_DONT_CREATE_GVSV
PERL_HASH_FUNC_SIPHASH13
PERL_HASH_USE_SBOX32
PERL_MALLOC_WRAP
PERL_OP_PARENT
PERL_PRESERVE_IVUV
PERL_USE_DEVEL
PERL_USE_SAFE_PUTENV
USE_64_BIT_ALL
USE_64_BIT_INT
USE_ITHREADS
USE_LARGE_FILES
USE_LOCALE
USE_LOCALE_COLLATE
USE_LOCALE_CTYPE
USE_LOCALE_NUMERIC
USE_LOCALE_TIME
USE_LONG_DOUBLE
USE_PERLIO
USE_PERL_ATOF
USE_REENTRANT_API
USE_THREAD_SAFE_LOCALE
Built under linux
Compiled at Oct 21 2022 02:40:46
%ENV:
PERL="/tmp/basesmoker-reloperl-h8f7/bin/perl"
PERL5LIB="/tmp/loop_over_bdir-1329634-ggBFlW/shishi-0.0.1-0/blib/arch:/tmp/loop_over_bdir-1329634-ggBFlW/shishi-0.0.1-0/blib/lib:/tmp/loop_over_bdir-1329634-ggBFlW/Dpkg-1.21.9-0/blib/arch:/tmp/loop_over_bdir-1329634-ggBFlW/Dpkg-1.21.9-0/blib/lib:/tmp/loop_over_bdir-1329634-ggBFlW/dta-tokwrap-0.98-0/blib/arch:/tmp/loop_over_bdir-1329634-ggBFlW/dta-tokwrap-0.98-0/blib/lib:/tmp/loop_over_bdir-1329634-ggBFlW/DBIx-Migration-Directories-0.12-0/blib/arch:/tmp/loop_over_bdir-1329634-ggBFlW/DBIx-Migration-Directories-0.12-0/blib/lib:/tmp/loop_over_bdir-1329634-ggBFlW/Simulation-Automate-1.0.1-0/blib/arch:/tmp/loop_over_bdir-1329634-ggBFlW/Simulation-Automate-1.0.1-0/blib/lib:/tmp/loop_over_bdir-1329634-ggBFlW/CORBA-Python-2.66-0/blib/arch:/tmp/loop_over_bdir-1329634-ggBFlW/CORBA-Python-2.66-0/blib/lib:/tmp/loop_over_bdir-1329634-ggBFlW/App-rmcd-0.280-0/blib/arch:/tmp/loop_over_bdir-1329634-ggBFlW/App-rmcd-0.280-0/blib/lib:/tmp/loop_over_bdir-1329634-ggBFlW/App-nrun-v1.1.2-0/blib/arch:/tmp/loop_over_bdir-1329634-ggBFlW/App-nrun-v1.1.2-0/blib/lib"
PERL5OPT=""
PERL5_CPANPLUS_IS_RUNNING="1329653"
PERL5_CPAN_IS_RUNNING="1329653"
PERL_CANARY_STABILITY_NOPROMPT="1"
PERL_MM_USE_DEFAULT="1"
PERL_USE_UNSAFE_INC="1"
@INC:
/tmp/loop_over_bdir-1329634-ggBFlW/shishi-0.0.1-0/blib/arch
/tmp/loop_over_bdir-1329634-ggBFlW/shishi-0.0.1-0/blib/lib
/tmp/loop_over_bdir-1329634-ggBFlW/Dpkg-1.21.9-0/blib/arch
/tmp/loop_over_bdir-1329634-ggBFlW/Dpkg-1.21.9-0/blib/lib
/tmp/loop_over_bdir-1329634-ggBFlW/dta-tokwrap-0.98-0/blib/arch
/tmp/loop_over_bdir-1329634-ggBFlW/dta-tokwrap-0.98-0/blib/lib
/tmp/loop_over_bdir-1329634-ggBFlW/DBIx-Migration-Directories-0.12-0/blib/arch
/tmp/loop_over_bdir-1329634-ggBFlW/DBIx-Migration-Directories-0.12-0/blib/lib
/tmp/loop_over_bdir-1329634-ggBFlW/Simulation-Automate-1.0.1-0/blib/arch
/tmp/loop_over_bdir-1329634-ggBFlW/Simulation-Automate-1.0.1-0/blib/lib
/tmp/loop_over_bdir-1329634-ggBFlW/CORBA-Python-2.66-0/blib/arch
/tmp/loop_over_bdir-1329634-ggBFlW/CORBA-Python-2.66-0/blib/lib
/tmp/loop_over_bdir-1329634-ggBFlW/App-rmcd-0.280-0/blib/arch
/tmp/loop_over_bdir-1329634-ggBFlW/App-rmcd-0.280-0/blib/lib
/tmp/loop_over_bdir-1329634-ggBFlW/App-nrun-v1.1.2-0/blib/arch
/tmp/loop_over_bdir-1329634-ggBFlW/App-nrun-v1.1.2-0/blib/lib
/home/sand/src/perl/repoperls/installed-perls/host/k93jammy/v5.37.4-160-g0649414847/322f/lib/site_perl/5.37.5/x86_64-linux-thread-multi-ld
/home/sand/src/perl/repoperls/installed-perls/host/k93jammy/v5.37.4-160-g0649414847/322f/lib/site_perl/5.37.5
/home/sand/src/perl/repoperls/installed-perls/host/k93jammy/v5.37.4-160-g0649414847/322f/lib/5.37.5/x86_64-linux-thread-multi-ld
/home/sand/src/perl/repoperls/installed-perls/host/k93jammy/v5.37.4-160-g0649414847/322f/lib/5.37.5
.