Config-Structured v3.00 Perl 5 v5.34.1 amd64-freebsd-ld
- Status
- Pass
- From
- Slaven Rezić
- Dist
-
Config-Structured v3.00
- Platform
- Perl 5 v5.34.1 amd64-freebsd-ld
- Date
- 2024-04-05 14:53:58
- ID
- 554362ce-f35c-11ee-bb5d-d8506e8775ea
This distribution has been tested as part of the CPAN Testers
project, supporting the Perl programming language. See
http://wiki.cpantesters.org/ for more information or email
questions to cpan-testers-discuss@perl.org
--
Dear Mark Tyrrell,
This is a computer-generated report for Config-Structured-3.00
on perl 5.34.1, created by CPAN-Reporter-1.2018.
Thank you for uploading your work to CPAN. Congratulations!
All tests were successful.
Sections of this report:
* Tester comments
* Program output
* Prerequisites
* Environment and other context
------------------------------
TESTER COMMENTS
------------------------------
Additional comments from tester:
none provided
------------------------------
PROGRAM OUTPUT
------------------------------
Output from '/usr/bin/make test':
PERL_DL_NONLAZY=1 "/usr/perl5.34.1Dp/bin/perl" "-MExtUtils::Command::MM" "-MTest::Harness" "-e" "undef *Test::Harness::Switches; test_harness(0, 'blib/lib', 'blib/arch')" t/*.t
#
# Versions for all modules listed in MYMETA.json (including optional ones):
#
# === Configure Requires ===
#
# Module Want Have
# ------------------- ---- ----
# ExtUtils::MakeMaker any 7.70
#
# === Build Requires ===
#
# Module Want Have
# ------------------- ---- ----
# ExtUtils::MakeMaker any 7.70
#
# === Test Requires ===
#
# Module Want Have
# ------------------- -------- --------
# ExtUtils::MakeMaker any 7.70
# File::Spec any 3.80
# Test2::Suite 0.000155 0.000159
# Test::More any 1.302198
#
# === Test Recommends ===
#
# Module Want Have
# ---------- -------- --------
# CPAN::Meta 2.120900 2.150010
#
# === Runtime Requires ===
#
# Module Want Have
# ---------------------------------- -------- --------
# Class::Prototyped 1.13 1.13
# Data::Structure::Deserialize::Auto 1.01 1.01
# IO::All 0.87 0.87
# Moose::Util::TypeConstraints 2.2207 2.2207
# Syntax::Keyword::Try 0.29 0.29
# perl 5.022000 5.034001
#
t/00-report-prereqs.t ... ok
The regex_sets feature is experimental in regex; marked by <-- HERE in m/^ (?[ <-- HERE ( \p{Word} & \p{XID_Start} ) + [_] ])
(?[ ( \p{Word} & \p{XID_Continue} ) ]) * $/ at /usr/home/cpansand/.cpan/build/2024040514/Config-Structured-3.00-1/blib/lib/Config/Structured.pm line 304.
t/01_load.t ............. ok
The regex_sets feature is experimental in regex; marked by <-- HERE in m/^ (?[ <-- HERE ( \p{Word} & \p{XID_Start} ) + [_] ])
(?[ ( \p{Word} & \p{XID_Continue} ) ]) * $/ at /usr/home/cpansand/.cpan/build/2024040514/Config-Structured-3.00-1/blib/lib/Config/Structured.pm line 304.
t/02_deserialize.t ...... ok
The regex_sets feature is experimental in regex; marked by <-- HERE in m/^ (?[ <-- HERE ( \p{Word} & \p{XID_Start} ) + [_] ])
(?[ ( \p{Word} & \p{XID_Continue} ) ]) * $/ at /usr/home/cpansand/.cpan/build/2024040514/Config-Structured-3.00-1/blib/lib/Config/Structured.pm line 304.
t/03_module_args.t ...... ok
The regex_sets feature is experimental in regex; marked by <-- HERE in m/^ (?[ <-- HERE ( \p{Word} & \p{XID_Start} ) + [_] ])
(?[ ( \p{Word} & \p{XID_Continue} ) ]) * $/ at /usr/home/cpansand/.cpan/build/2024040514/Config-Structured-3.00-1/blib/lib/Config/Structured.pm line 304.
t/04_children.t ......... ok
The regex_sets feature is experimental in regex; marked by <-- HERE in m/^ (?[ <-- HERE ( \p{Word} & \p{XID_Start} ) + [_] ])
(?[ ( \p{Word} & \p{XID_Continue} ) ]) * $/ at /usr/home/cpansand/.cpan/build/2024040514/Config-Structured-3.00-1/blib/lib/Config/Structured.pm line 304.
t/05_reserved.t ......... ok
The regex_sets feature is experimental in regex; marked by <-- HERE in m/^ (?[ <-- HERE ( \p{Word} & \p{XID_Start} ) + [_] ])
(?[ ( \p{Word} & \p{XID_Continue} ) ]) * $/ at /usr/home/cpansand/.cpan/build/2024040514/Config-Structured-3.00-1/blib/lib/Config/Structured.pm line 304.
t/10_from_default.t ..... ok
The regex_sets feature is experimental in regex; marked by <-- HERE in m/^ (?[ <-- HERE ( \p{Word} & \p{XID_Start} ) + [_] ])
(?[ ( \p{Word} & \p{XID_Continue} ) ]) * $/ at /usr/home/cpansand/.cpan/build/2024040514/Config-Structured-3.00-1/blib/lib/Config/Structured.pm line 304.
t/11_from_env.t ......... ok
The regex_sets feature is experimental in regex; marked by <-- HERE in m/^ (?[ <-- HERE ( \p{Word} & \p{XID_Start} ) + [_] ])
(?[ ( \p{Word} & \p{XID_Continue} ) ]) * $/ at /usr/home/cpansand/.cpan/build/2024040514/Config-Structured-3.00-1/blib/lib/Config/Structured.pm line 304.
t/12_from_file.t ........ ok
The regex_sets feature is experimental in regex; marked by <-- HERE in m/^ (?[ <-- HERE ( \p{Word} & \p{XID_Start} ) + [_] ])
(?[ ( \p{Word} & \p{XID_Continue} ) ]) * $/ at /usr/home/cpansand/.cpan/build/2024040514/Config-Structured-3.00-1/blib/lib/Config/Structured.pm line 304.
t/20_typechecking.t ..... ok
The regex_sets feature is experimental in regex; marked by <-- HERE in m/^ (?[ <-- HERE ( \p{Word} & \p{XID_Start} ) + [_] ])
(?[ ( \p{Word} & \p{XID_Continue} ) ]) * $/ at /usr/home/cpansand/.cpan/build/2024040514/Config-Structured-3.00-1/blib/lib/Config/Structured.pm line 304.
t/30_on_access_hooks.t .. ok
The regex_sets feature is experimental in regex; marked by <-- HERE in m/^ (?[ <-- HERE ( \p{Word} & \p{XID_Start} ) + [_] ])
(?[ ( \p{Word} & \p{XID_Continue} ) ]) * $/ at /usr/home/cpansand/.cpan/build/2024040514/Config-Structured-3.00-1/blib/lib/Config/Structured.pm line 304.
t/31_on_load_hooks.t .... ok
The regex_sets feature is experimental in regex; marked by <-- HERE in m/^ (?[ <-- HERE ( \p{Word} & \p{XID_Start} ) + [_] ])
(?[ ( \p{Word} & \p{XID_Continue} ) ]) * $/ at /usr/home/cpansand/.cpan/build/2024040514/Config-Structured-3.00-1/blib/lib/Config/Structured.pm line 304.
t/32_wildcard_hooks.t ... ok
The regex_sets feature is experimental in regex; marked by <-- HERE in m/^ (?[ <-- HERE ( \p{Word} & \p{XID_Start} ) + [_] ])
(?[ ( \p{Word} & \p{XID_Continue} ) ]) * $/ at /usr/home/cpansand/.cpan/build/2024040514/Config-Structured-3.00-1/blib/lib/Config/Structured.pm line 304.
t/40_to_hash.t .......... ok
All tests successful.
Files=14, Tests=37, 3 wallclock secs ( 0.04 usr 0.02 sys + 2.27 cusr 0.26 csys = 2.58 CPU)
Result: PASS
------------------------------
PREREQUISITES
------------------------------
Prerequisite modules loaded:
requires:
Module Need Have
---------------------------------- -------- --------
Class::Prototyped 1.13 1.13
Data::Structure::Deserialize::Auto 1.01 1.01
IO::All 0.87 0.87
Moose::Util::TypeConstraints 2.2207 2.2207
perl 5.022000 5.034001
Syntax::Keyword::Try 0.29 0.29
build_requires:
Module Need Have
---------------------------------- -------- --------
ExtUtils::MakeMaker 0 7.70
File::Spec 0 3.80
Test2::Suite 0.000155 0.000159
Test::More 0 1.302198
configure_requires:
Module Need Have
---------------------------------- -------- --------
ExtUtils::MakeMaker 0 7.70
------------------------------
ENVIRONMENT AND OTHER CONTEXT
------------------------------
Environment variables:
PATH = /usr/local/bin:/usr/bin:/bin:/usr/local/sbin:/usr/sbin:/sbin:/home/cpansand/bin/sh:/home/cpansand/bin:/usr/games:/home/cpansand/devel:/usr/home/eserte/src/srezic-misc/scripts
PERL5LIB =
PERL5OPT =
PERL5_CPANPLUS_IS_RUNNING = 42842
PERL5_CPAN_IS_RUNNING = 42842
PERL5_CPAN_IS_RUNNING_IN_RECURSION = 42694,42842
PERL_BATCH = yes
PERL_CANARY_STABILITY_NOPROMPT = 1
PERL_CPAN_REPORTER_CONFIG = /var/tmp/cpansmoker-1023/2024040514/cpanreporter_000_config.ini
PERL_EXTUTILS_AUTOINSTALL = --defaultdeps
PERL_USE_UNSAFE_INC = 1
SHELL = /bin/sh
TMPDIR = /var/tmp/cpansmoker-1023/2024040514
Perl special variables (and OS-specific diagnostics, for MSWin32):
$^X = /usr/perl5.34.1Dp/bin/perl
$UID/$EUID = 1023 / 1023
$GID = 1023 1023
$EGID = 1023 1023
Perl module toolchain versions installed:
Module Have
------------------- --------
CPAN 2.36
CPAN::Meta 2.150010
Cwd 3.80
ExtUtils::CBuilder 0.280236
ExtUtils::Command 7.70
ExtUtils::Install 2.20
ExtUtils::MakeMaker 7.70
ExtUtils::Manifest 1.75
ExtUtils::ParseXS 3.51
File::Spec 3.80
JSON 4.10
JSON::PP 4.15
Module::Build 0.4234
Module::Signature 0.88
Parse::CPAN::Meta 2.150010
Test::Harness 3.47
Test::More 1.302198
YAML 1.31
YAML::Syck 1.34
version 0.9929
--
Summary of my perl5 (revision 5 version 34 subversion 1) configuration:
Platform:
osname=freebsd
osvers=13.1-stable
archname=amd64-freebsd-ld
uname='freebsd cloud10.bbbike.org 13.1-stable freebsd 13.1-stable #9 stable13-n250044-4a11315a2c3f: sat mar 19 11:19:46 utc 2022 root@cloud10.bbbike.org:usrobjusrhomeprojectsfreebsdamd64.amd64sysgeneric amd64 '
config_args='-ds -e -Dprefix=/usr/perl5.34.1Dp -Duselongdouble -Dcf_email=srezic@cpan.org -Doptimize=-O2 -pipe'
hint=recommended
useposix=true
d_sigaction=define
useithreads=undef
usemultiplicity=undef
use64bitint=define
use64bitall=define
uselongdouble=define
usemymalloc=n
default_inc_excludes_dot=define
Compiler:
cc='cc'
ccflags ='-DHAS_FPSETMASK -DHAS_FLOATINGPOINT_H -fno-strict-aliasing -pipe -fstack-protector-strong -I/usr/local/include'
optimize='-O2 -pipe'
cppflags='-DHAS_FPSETMASK -DHAS_FLOATINGPOINT_H -fno-strict-aliasing -pipe -fstack-protector-strong -I/usr/local/include'
ccversion=''
gccversion='FreeBSD Clang 13.0.0 (git@github.com:llvm/llvm-project.git llvmorg-13.0.0-0-gd7b669b3a303)'
gccosandvers=''
intsize=4
longsize=8
ptrsize=8
doublesize=8
byteorder=12345678
doublekind=3
d_longlong=define
longlongsize=8
d_longdbl=define
longdblsize=16
longdblkind=3
ivtype='long'
ivsize=8
nvtype='long double'
nvsize=16
Off_t='off_t'
lseeksize=8
alignbytes=16
prototype=define
Linker and Libraries:
ld='cc'
ldflags ='-pthread -Wl,-E -fstack-protector-strong -L/usr/local/lib'
libpth=/usr/lib /usr/local/lib /usr/lib/clang/13.0.0/lib
libs=-lpthread -lgdbm -ldl -lm -lcrypt -lutil -lc
perllibs=-lpthread -ldl -lm -lcrypt -lutil -lc
libc=
so=so
useshrplib=false
libperl=libperl.a
gnulibc_version=''
Dynamic Linking:
dlsrc=dl_dlopen.xs
dlext=so
d_dlsymun=undef
ccdlflags=' '
cccdlflags='-DPIC -fPIC'
lddlflags='-shared -L/usr/local/lib -fstack-protector-strong'
Characteristics of this binary (from libperl):
Compile-time options:
HAS_TIMES
PERLIO_LAYERS
PERL_COPY_ON_WRITE
PERL_DONT_CREATE_GVSV
PERL_MALLOC_WRAP
PERL_OP_PARENT
PERL_PRESERVE_IVUV
USE_64_BIT_ALL
USE_64_BIT_INT
USE_LARGE_FILES
USE_LOCALE
USE_LOCALE_COLLATE
USE_LOCALE_CTYPE
USE_LOCALE_NUMERIC
USE_LOCALE_TIME
USE_LONG_DOUBLE
USE_PERLIO
USE_PERL_ATOF
Built under freebsd
Compiled at Mar 25 2022 22:31:21
%ENV:
PERL5LIB=""
PERL5OPT=""
PERL5_CPANPLUS_IS_RUNNING="42842"
PERL5_CPAN_IS_RUNNING="42842"
PERL5_CPAN_IS_RUNNING_IN_RECURSION="42694,42842"
PERL_BATCH="yes"
PERL_CANARY_STABILITY_NOPROMPT="1"
PERL_CPAN_REPORTER_CONFIG="/var/tmp/cpansmoker-1023/2024040514/cpanreporter_000_config.ini"
PERL_EXTUTILS_AUTOINSTALL="--defaultdeps"
PERL_USE_UNSAFE_INC="1"
@INC:
/usr/perl5.34.1Dp/lib/site_perl/5.34.1/amd64-freebsd-ld
/usr/perl5.34.1Dp/lib/site_perl/5.34.1
/usr/perl5.34.1Dp/lib/5.34.1/amd64-freebsd-ld
/usr/perl5.34.1Dp/lib/5.34.1
.