Mail-DKIM v1.20240923 Perl 5 v5.12.3 MSWin32-x86-multi-thread

Status
Pass
From
NONAME
Dist
Mail-DKIM v1.20240923
Platform
Perl 5 v5.12.3 MSWin32-x86-multi-thread
Date
2024-09-28 15:10:59
ID
554bcc17-6fb0-1014-aef8-be9ab03d33c9
This distribution has been tested as part of the CPAN Testers
project, supporting the Perl programming language.  See
http://wiki.cpantesters.org/ for more information or email
questions to cpan-testers-discuss@perl.org


--
Dear Marc Bradshaw,

This is a computer-generated report for Mail-DKIM-1.20240923
on perl 5.12.3, created by CPAN-Reporter-1.2020.

Thank you for uploading your work to CPAN.  Congratulations!
All tests were successful.

Sections of this report:

    * Tester comments
    * Program output
    * Prerequisites
    * Environment and other context

------------------------------
TESTER COMMENTS
------------------------------

Additional comments from tester:

none provided

------------------------------
PROGRAM OUTPUT
------------------------------

Output from 'C:\Strawberry\c\bin\dmake.EXE test':

C:\"Strawberry\perl\bin\perl.exe" "-MExtUtils::Command::MM" "-MTest::Harness" "-e" "undef *Test::Harness::Switches; test_harness(0, 'blib\lib', 'blib\arch')" t/*.t
t/adsp.t ........................ ok
Authentication-Results Header parse error: not expecting a string at C:\strawberry\cpan\build\Mail-DKIM-1.20240923-0\blib\lib/Mail/DKIM/ARC/Signer.pm line 116.

Authentication-Results: Garbage Authentication-Results Header - SHOULD NOT PARSE at C:\strawberry\cpan\build\Mail-DKIM-1.20240923-0\blib\lib/Mail/DKIM/ARC/Signer.pm line 121.
t/arc-draft-sign-tests.t ........ ok
t/arc-draft-validation-tests.t .. ok
t/arc-signer.t .................. ok
t/author-pod-syntax.t ........... skipped: these tests are for testing by the author
t/dev-manifest.t ................ skipped: Author tests not required for installation
t/external_signer.t ............. ok
t/Mail-DKIM.t ................... ok
t/policy.t ...................... ok
t/public_key.t .................. ok
t/signature.t ................... ok
t/signer.t ...................... ok
t/signer_dk.t ................... ok
t/signer_expiration.t ........... ok
t/signer_expiration_set_time.t .. ok
t/signer_policy.t ............... ok
t/simple_canonicalization.t ..... ok
t/textwrap.t .................... ok
did not cache that DNS entry: 2023-05-ed25519-does-not-exist._domainkey.wander.science
>>>
No results: NXDOMAIN
<<<
t/verifier.t .................... ok
t/verifier_strict.t ............. ok
All tests successful.
Files=20, Tests=495, 36 wallclock secs ( 0.36 usr +  0.06 sys =  0.42 CPU)
Result: PASS

------------------------------
PREREQUISITES
------------------------------

Prerequisite modules loaded:

requires:

    Module                                          Need  Have      
    ----------------------------------------------- ----- ----------
    base                                            0     2.23      
    Carp                                            0     1.50      
    Crypt::OpenSSL::RSA                             0     0.33      
    Crypt::PK::Ed25519                              0     0.080_012 
    Digest::SHA                                     0     6.04      
    Mail::Address                                   0     2.18      
    Mail::AuthenticationResults::Header::AuthServID 0     2.20230112
    Mail::AuthenticationResults::Parser             0     2.20230112
    MIME::Base64                                    0     3.16      
    Net::DNS                                        0     1.45      
    perl                                            5.006 5.012003  
    strict                                          0     1.04      
    warnings                                        0     1.09      

build_requires:

    Module                                          Need  Have      
    ----------------------------------------------- ----- ----------
    Data::Dumper                                    0     2.183     
    ExtUtils::MakeMaker                             0     7.71_01   
    lib                                             0     0.62      
    Net::DNS::Resolver                              0     1895      
    Net::DNS::Resolver::Mock                        0     1.20200215
    Test::More                                      0     1.302204  
    Test::RequiresInternet                          0     0.05      
    Test::Simple                                    0     1.302204  
    YAML                                            0     1.31      
    YAML::XS                                        0     v0.902.0  

configure_requires:

    Module                                          Need  Have      
    ----------------------------------------------- ----- ----------
    ExtUtils::MakeMaker                             0     7.71_01   


------------------------------
ENVIRONMENT AND OTHER CONTEXT
------------------------------

Environment variables:

    COMSPEC = C:\windows\system32\cmd.exe
    NONINTERACTIVE_TESTING = 1
    NUMBER_OF_PROCESSORS = 4
    PATH = C:\home\griffin\perl5\bin;C:\windows\system32;C:\windows;C:\windows\System32\Wbem;C:\windows\System32\WindowsPowerShell\v1.0\;C:\Strawberry\c\bin;C:\Strawberry\perl\site\bin;C:\Strawberry\perl\bin;C:\cmake-3.27.7\bin
    PERL5LIB = C:\home\griffin\perl5\lib\perl5
    PERL5OPT = 
    PERL5_CPANPLUS_IS_RUNNING = 5596
    PERL5_CPAN_IS_RUNNING = 5596
    PERL_LOCAL_LIB_ROOT = C:\home\griffin\perl5
    PERL_MB_OPT = --install_base "C:\\home\\griffin\\perl5"
    PERL_MM_OPT = INSTALL_BASE=C:\\home\\griffin\\perl5
    PERL_MM_USE_DEFAULT = 1
    PROCESSOR_IDENTIFIER = x86 Family 6 Model 37 Stepping 5, GenuineIntel
    TEMP = C:\Users\user\AppData\Local\Temp
    TERM = dumb

Perl special variables (and OS-specific diagnostics, for MSWin32):

    $^X = C:\Strawberry\perl\bin\perl.exe
    $UID/$EUID = 0 / 0
    $GID = 0
    $EGID = 0
    Win32::GetOSName = Win7
    Win32::GetOSVersion = Service Pack 1, 6, 1, 7601, 2, 1, 0, 256, 1
    Win32::FsType = NTFS
    Win32::IsAdminUser = 0

Perl module toolchain versions installed:

    Module              Have    
    ------------------- --------
    CPAN                2.16    
    CPAN::Meta          2.150010
    Cwd                 3.62    
    ExtUtils::CBuilder  0.280236
    ExtUtils::Command   7.71_01 
    ExtUtils::Install   2.22    
    ExtUtils::MakeMaker 7.71_01 
    ExtUtils::Manifest  1.75    
    ExtUtils::ParseXS   3.51    
    File::Spec          3.62    
    JSON                4.10    
    JSON::PP            4.17_01 
    Module::Build       0.4234  
    Module::Signature   0.89    
    Parse::CPAN::Meta   2.150010
    Test2               1.302204
    Test::Harness       3.50    
    Test::More          1.302204
    YAML                1.31    
    YAML::Syck          1.29    
    version             0.9933  


--

Summary of my perl5 (revision 5 version 12 subversion 3) configuration:
   
  Platform:
    osname=MSWin32, osvers=5.1, archname=MSWin32-x86-multi-thread
    uname='Win32 strawberryperl 5.12.3.0 #1 Sun May 15 09:44:53 2011 i386'
    config_args='undef'
    hint=recommended, useposix=true, d_sigaction=undef
    useithreads=define, usemultiplicity=define
    useperlio=define, d_sfio=undef, uselargefiles=define, usesocks=undef
    use64bitint=undef, use64bitall=undef, uselongdouble=undef
    usemymalloc=n, bincompat5005=undef
  Compiler:
    cc='gcc', ccflags =' -s -O2 -DWIN32 -DHAVE_DES_FCRYPT  -DUSE_SITECUSTOMIZE -DPERL_IMPLICIT_CONTEXT -DPERL_IMPLICIT_SYS -fno-strict-aliasing -mms-bitfields -DPERL_MSVCRT_READFIX',
    optimize='-s -O2',
    cppflags='-DWIN32'
    ccversion='', gccversion='4.4.3', gccosandvers=''
    intsize=4, longsize=4, ptrsize=4, doublesize=8, byteorder=1234
    d_longlong=undef, longlongsize=8, d_longdbl=define, longdblsize=12
    ivtype='long', ivsize=4, nvtype='double', nvsize=8, Off_t='long long', lseeksize=8
    alignbytes=8, prototype=define
  Linker and Libraries:
    ld='g++', ldflags ='-s -L"C:\Strawberry\perl\lib\CORE" -L"C:\Strawberry\c\lib"'
    libpth=C:\Strawberry\c\lib C:\Strawberry\c\i686-w64-mingw32\lib
    libs=-lmoldname -lkernel32 -luser32 -lgdi32 -lwinspool -lcomdlg32 -ladvapi32 -lshell32 -lole32 -loleaut32 -lnetapi32 -luuid -lws2_32 -lmpr -lwinmm -lversion -lodbc32 -lodbccp32 -lcomctl32
    perllibs=-lmoldname -lkernel32 -luser32 -lgdi32 -lwinspool -lcomdlg32 -ladvapi32 -lshell32 -lole32 -loleaut32 -lnetapi32 -luuid -lws2_32 -lmpr -lwinmm -lversion -lodbc32 -lodbccp32 -lcomctl32
    libc=, so=dll, useshrplib=true, libperl=libperl512.a
    gnulibc_version=''
  Dynamic Linking:
    dlsrc=dl_win32.xs, dlext=dll, d_dlsymun=undef, ccdlflags=' '
    cccdlflags=' ', lddlflags='-mdll -s -L"C:\Strawberry\perl\lib\CORE" -L"C:\Strawberry\c\lib"'


Characteristics of this binary (from libperl): 
  Compile-time options: MULTIPLICITY PERL_DONT_CREATE_GVSV
                        PERL_IMPLICIT_CONTEXT PERL_IMPLICIT_SYS
                        PERL_MALLOC_WRAP PL_OP_SLAB_ALLOC USE_ITHREADS
                        USE_LARGE_FILES USE_PERLIO USE_PERL_ATOF
                        USE_SITECUSTOMIZE
  Built under MSWin32
  Compiled at May 15 2011 17:02:01
  %ENV:
    PERL5LIB="C:\home\griffin\perl5\lib\perl5"
    PERL5_CPANPLUS_IS_RUNNING="5596"
    PERL5_CPAN_IS_RUNNING="5596"
    PERL_LOCAL_LIB_ROOT="C:\home\griffin\perl5"
    PERL_MB_OPT="--install_base "C:\\home\\griffin\\perl5""
    PERL_MM_OPT="INSTALL_BASE=C:\\home\\griffin\\perl5"
    PERL_MM_USE_DEFAULT="1"
  @INC:
    C:\home\griffin\perl5\lib\perl5/MSWin32-x86-multi-thread
    C:\home\griffin\perl5\lib\perl5
    C:/Strawberry/perl/site/lib
    C:/Strawberry/perl/vendor/lib
    C:/Strawberry/perl/lib
    .