Crypt-OpenSSL-RSA v0.30 Perl 5 v5.8.8 armv7l-linux-thread-multi
- Status
- Pass
- From
- Nigel Horne
- Dist
-
Crypt-OpenSSL-RSA v0.30
- Platform
- Perl 5 v5.8.8 armv7l-linux-thread-multi
- Date
- 2018-05-27 07:26:55
- ID
- 555c1118-617f-11e8-8fb1-ef5133556b3f
This distribution has been tested as part of the CPAN Testers
project, supporting the Perl programming language. See
http://wiki.cpantesters.org/ for more information or email
questions to cpan-testers-discuss@perl.org
--
Dear Todd Rinaldo,
This is a computer-generated report for Crypt-OpenSSL-RSA-0.30
on perl 5.8.8, created by CPAN-Reporter-1.2018.
Thank you for uploading your work to CPAN. Congratulations!
All tests were successful.
Sections of this report:
* Tester comments
* Program output
* Prerequisites
* Environment and other context
------------------------------
TESTER COMMENTS
------------------------------
Additional comments from tester:
this report is from an automated smoke testing program
and was not reviewed by a human for accuracy
------------------------------
PROGRAM OUTPUT
------------------------------
Output from '/usr/bin/make test':
"/mnt/nas/home/pi2/njh/perl5/perlbrew/perls/perl-5.8.8/bin/perl" -MExtUtils::Command::MM -e 'cp_nonempty' -- RSA.bs blib/arch/auto/Crypt/OpenSSL/RSA/RSA.bs 644
make: Warning: File 'blib/arch/auto/Crypt/OpenSSL/RSA/RSA.so' has modification time 1.7 s in the future
PERL_DL_NONLAZY=1 "/mnt/nas/home/pi2/njh/perl5/perlbrew/perls/perl-5.8.8/bin/perl" "-MExtUtils::Command::MM" "-MTest::Harness" "-e" "undef *Test::Harness::Switches; test_harness(0, 'blib/lib', 'blib/arch')" t/*.t
t/format.t .................. ok
t/bignum.t .................. skipped: Crypt::OpenSSL::Bignum required for bignum tests
t/z_kwalitee.t .............. skipped: This test is only run for the module author
t/z_meta.t .................. skipped: This test is only run for the module author
t/z_perl_minimum_version.t .. skipped: Author tests not required for installation
t/z_pod-coverage.t .......... skipped: This test is only run for the module author
t/z_pod.t ................... skipped: This test is only run for the module author
t/rsa.t ..................... ok
All tests successful.
Files=8, Tests=73, 2 wallclock secs ( 0.28 usr 0.09 sys + 4.32 cusr 1.06 csys = 5.75 CPU)
Result: PASS
make: warning: Clock skew detected. Your build may be incomplete.
------------------------------
PREREQUISITES
------------------------------
Prerequisite modules loaded:
requires:
Module Need Have
---------------------- ----- --------
Crypt::OpenSSL::Random 0 0.15
perl 5.006 5.008008
Test::More 0 1.302136
build_requires:
Module Need Have
---------------------- ----- --------
ExtUtils::MakeMaker 0 7.30
configure_requires:
Module Need Have
---------------------- ----- --------
Crypt::OpenSSL::Guess 0.11 0.11
ExtUtils::MakeMaker 0 7.30
------------------------------
ENVIRONMENT AND OTHER CONTEXT
------------------------------
Environment variables:
AUTOMATED_TESTING = 1
HARNESS_OPTIONS = j4
LANG = en_GB.UTF-8
PATH = /home/njh/perl5/perlbrew/bin:/home/njh/perl5/perlbrew/perls/perl-5.8.8/bin:src/njh/smoker/bin:/usr/bin:/bin
PERL5LIB = /home/njh/.cpan/build/Crypt-OpenSSL-Random-0.15-11/blib/arch:/home/njh/.cpan/build/Crypt-OpenSSL-Random-0.15-11/blib/lib:/home/njh/.cpan/build/Crypt-OpenSSL-Guess-0.11-11/blib/arch:/home/njh/.cpan/build/Crypt-OpenSSL-Guess-0.11-11/blib/lib
PERL5OPT =
PERL5_CPANPLUS_IS_RUNNING = 28588
PERL5_CPAN_IS_RUNNING = 28588
PERLBREW_BASHRC_VERSION = 0.80
PERLBREW_HOME = /home/njh/.perlbrew
PERLBREW_MANPATH = /home/njh/perl5/perlbrew/perls/perl-5.8.8/man
PERLBREW_PATH = /home/njh/perl5/perlbrew/bin:/home/njh/perl5/perlbrew/perls/perl-5.8.8/bin
PERLBREW_PERL = perl-5.8.8
PERLBREW_ROOT = /home/njh/perl5/perlbrew
PERLBREW_VERSION = 0.80
SHELL = /bin/sh
TMPDIR = /tmp/testwrapper.28578
Perl special variables (and OS-specific diagnostics, for MSWin32):
$^X = /mnt/nas/home/pi2/njh/perl5/perlbrew/perls/perl-5.8.8/bin/perl
$UID/$EUID = 1000 / 1000
$GID = 1000 1000 999 998 997 108 101 100 60 46 44 30 29 27 25 24 20 4
$EGID = 1000 1000 999 998 997 108 101 100 60 46 44 30 29 27 25 24 20 4
Perl module toolchain versions installed:
Module Have
------------------- --------
CPAN 2.16
CPAN::Meta 2.150010
Cwd 3.62
ExtUtils::CBuilder 0.280226
ExtUtils::Command 7.30
ExtUtils::Install 2.06
ExtUtils::MakeMaker 7.30
ExtUtils::Manifest 1.70
ExtUtils::ParseXS 3.30
File::Spec 3.62
JSON 2.90
JSON::PP 2.27400
Module::Build 0.4224
Module::Signature n/a
Parse::CPAN::Meta 2.150010
Test::Harness 3.39
Test::More 1.302136
YAML 1.24
YAML::Syck 1.30
version 0.9917
--
Summary of my perl5 (revision 5 version 8 subversion 8) configuration:
Platform:
osname=linux, osvers=4.4.32-v7+, archname=armv7l-linux-thread-multi
uname='linux pi2 4.4.32-v7+ #924 smp tue nov 15 18:11:28 gmt 2016 armv7l gnulinux '
config_args='-de -Dprefix=/home/njh/perl5/perlbrew/perls/perl-5.8.8 -Duseithreads -Dusemultiplicity -Dusedevel -Accflags=-O2 -W -Wformat=2 -Wswitch -Wshadow -Wwrite-strings -Wuninitialized -Wall -pipe -fomit-frame-pointer -D_FORTIFY_SOURCE=2 -Wpointer-arith -Wstrict-prototypes -fstack-protector -Wstack-protector -Wextra -Wbad-function-cast -Wcast-align -Wcast-qual -Wdisabled-optimization -Wendif-labels -Wfloat-equal -Wformat-nonliteral -Winline -Wmissing-declarations -Wmissing-prototypes -Wnested-externs -Wpointer-arith -Wundef -Wformat-security -mtune=native -march=native -mfpu=vfp -mfloat-abi=hard -Aeval:scriptdir=/home/njh/perl5/perlbrew/perls/perl-5.8.8/bin'
hint=recommended, useposix=true, d_sigaction=define
usethreads=define use5005threads=undef useithreads=define usemultiplicity=define
useperlio=define d_sfio=undef uselargefiles=define usesocks=undef
use64bitint=undef use64bitall=undef uselongdouble=undef
usemymalloc=n, bincompat5005=undef
Compiler:
cc='cc', ccflags ='-D_REENTRANT -D_GNU_SOURCE -O2 -W -Wformat=2 -Wswitch -Wshadow -Wwrite-strings -Wuninitialized -Wall -pipe -fomit-frame-pointer -D_FORTIFY_SOURCE=2 -Wpointer-arith -Wstrict-prototypes -fstack-protector -Wstack-protector -Wextra -Wbad-function-cast -Wcast-align -Wcast-qual -Wdisabled-optimization -Wendif-labels -Wfloat-equal -Wformat-nonliteral -Winline -Wmissing-declarations -Wmissing-prototypes -Wnested-externs -Wpointer-arith -Wundef -Wformat-security -mtune=native -march=native -mfpu=vfp -mfloat-abi=hard -fno-strict-aliasing -Wdeclaration-after-statement -I/usr/local/include -D_LARGEFILE_SOURCE -D_FILE_OFFSET_BITS=64',
optimize='-O2',
cppflags='-D_REENTRANT -D_GNU_SOURCE -O2 -W -Wformat=2 -Wswitch -Wshadow -Wwrite-strings -Wuninitialized -Wall -pipe -fomit-frame-pointer -D_FORTIFY_SOURCE=2 -Wpointer-arith -Wstrict-prototypes -fstack-protector -Wstack-protector -Wextra -Wbad-function-cast -Wcast-align -Wcast-qual -Wdisabled-optimization -Wendif-labels -Wfloat-equal -Wformat-nonliteral -Winline -Wmissing-declarations -Wmissing-prototypes -Wnested-externs -Wpointer-arith -Wundef -Wformat-security -mtune=native -march=native -mfpu=vfp -mfloat-abi=hard -fno-strict-aliasing -Wdeclaration-after-statement -I/usr/local/include'
ccversion='', gccversion='4.9.2', gccosandvers=''
intsize=4, longsize=4, ptrsize=4, doublesize=8, byteorder=1234
d_longlong=define, longlongsize=8, d_longdbl=define, longdblsize=8
ivtype='long', ivsize=4, nvtype='double', nvsize=8, Off_t='off_t', lseeksize=8
alignbytes=8, prototype=define
Linker and Libraries:
ld='cc', ldflags =' -L/usr/local/lib'
libpth=/usr/local/lib /lib/arm-linux-gnueabihf /lib /usr/lib/arm-linux-gnueabihf /usr/lib
libs=-lnsl -lgdbm -ldb -ldl -lm -lcrypt -lutil -lpthread -lc -lgdbm_compat
perllibs=-lnsl -ldl -lm -lcrypt -lutil -lpthread -lc -lgdbm_compat
libc=libc-2.19.so, so=so, useshrplib=false, libperl=libperl.a
gnulibc_version='2.19'
Dynamic Linking:
dlsrc=dl_dlopen.xs, dlext=so, d_dlsymun=undef, ccdlflags='-Wl,-E'
cccdlflags='-fpic', lddlflags='-shared -L/usr/local/lib'
Characteristics of this binary (from libperl):
Compile-time options: MULTIPLICITY PERL_IMPLICIT_CONTEXT
PERL_MALLOC_WRAP USE_ITHREADS USE_LARGE_FILES
USE_PERLIO USE_REENTRANT_API
Built under linux
Compiled at Dec 13 2016 09:57:26
%ENV:
PERL5LIB="/home/njh/.cpan/build/Crypt-OpenSSL-Random-0.15-11/blib/arch:/home/njh/.cpan/build/Crypt-OpenSSL-Random-0.15-11/blib/lib:/home/njh/.cpan/build/Crypt-OpenSSL-Guess-0.11-11/blib/arch:/home/njh/.cpan/build/Crypt-OpenSSL-Guess-0.11-11/blib/lib"
PERL5OPT=""
PERL5_CPANPLUS_IS_RUNNING="28588"
PERL5_CPAN_IS_RUNNING="28588"
PERLBREW_BASHRC_VERSION="0.80"
PERLBREW_HOME="/home/njh/.perlbrew"
PERLBREW_MANPATH="/home/njh/perl5/perlbrew/perls/perl-5.8.8/man"
PERLBREW_PATH="/home/njh/perl5/perlbrew/bin:/home/njh/perl5/perlbrew/perls/perl-5.8.8/bin"
PERLBREW_PERL="perl-5.8.8"
PERLBREW_ROOT="/home/njh/perl5/perlbrew"
PERLBREW_VERSION="0.80"
@INC:
/home/njh/.cpan/build/Crypt-OpenSSL-Random-0.15-11/blib/arch
/home/njh/.cpan/build/Crypt-OpenSSL-Random-0.15-11/blib/lib
/home/njh/.cpan/build/Crypt-OpenSSL-Guess-0.11-11/blib/arch
/home/njh/.cpan/build/Crypt-OpenSSL-Guess-0.11-11/blib/lib
/home/njh/perl5/perlbrew/perls/perl-5.8.8/lib/5.8.8/armv7l-linux-thread-multi
/home/njh/perl5/perlbrew/perls/perl-5.8.8/lib/5.8.8
/home/njh/perl5/perlbrew/perls/perl-5.8.8/lib/site_perl/5.8.8/armv7l-linux-thread-multi
/home/njh/perl5/perlbrew/perls/perl-5.8.8/lib/site_perl/5.8.8
/home/njh/perl5/perlbrew/perls/perl-5.8.8/lib/site_perl
.