Report for Soar-Production-0.03

Back
From: metabase:user:314402c4-2aae-11df-837a-5e0a49663a4f
Subject: PASS Soar-Production-0.03 v5.19.11 FreeBSD
Date: 2014-05-02T22:44:35Z

This distribution has been tested as part of the CPAN Testers
project, supporting the Perl programming language.  See
http://wiki.cpantesters.org/ for more information or email
questions to cpan-testers-discuss@perl.org


--
Dear Nathan Gary Glenn,

This is a computer-generated report for Soar-Production-0.03
on perl 5.19.11, created by CPAN-Reporter-1.2011.

Thank you for uploading your work to CPAN.  Congratulations!
All tests were successful.

Sections of this report:

    * Tester comments
    * Program output
    * Prerequisites
    * Environment and other context

------------------------------
TESTER COMMENTS
------------------------------

Additional comments from tester:

none provided

------------------------------
PROGRAM OUTPUT
------------------------------

Output from './Build test':

t/0-use.t ........................ ok
t/00-compile.t ................... ok
# 
# 
# Generated by Dist::Zilla::Plugin::ReportVersions::Tiny v1.08
# perl: 5.019011 (wanted 5.010) on freebsd from /usr/home/eserte/var/ctps/51911/install/perl-5.19.11/bin/perl5.19.11
# 
# Carp                                          => 1.3301     (want any version)
# Data::Diver                                   => 1.0101     (want any version)
# Data::Dumper                                  => 2.151      (want any version)
# Exporter::Easy                                => 0.16       (want any version)
# File::Find                                    => 1.27       (want any version)
# File::Spec                                    => 3.47       (want any version)
# File::Spec::Functions                         => 3.47       (want any version)
# File::Temp                                    => 0.2304     (want any version)
# FindBin                                       => 1.51       (want any version)
# Module::Build                                 => 0.4205     (want 0.3601) 
# Parse::RecDescent                             => 1.967009   (want any version)
# Path::Tiny                                    => 0.052      (want any version)
# Pod::Coverage::TrustPod                       => 0.100003   (want any version)
# Test::Base                                    => 0.62       (want any version)
# Test::Base::Filter                            => <undef>    (want any version)
# Test::CPAN::Meta                              => 0.23       (want any version)
# Test::Deep                                    => 0.112      (want any version)
# Test::Exception                               => 0.32       (want any version)
# Test::LongString                              => 0.15       (want any version)
# Test::More                                    => 1.001003   (want 0.88)   
# Test::Pod                                     => 1.48       (want 1.41)   
# Test::Pod::Coverage                           => 1.08       (want 1.08)   
# Test::Warn                                    => 0.30       (want any version)
# strict                                        => 1.08       (want any version)
# utf8                                          => 1.13       (want any version)
# version                                       => 0.9908     (want 0.9901) 
# warnings                                      => 1.23       (want any version)
# 
# Thanks for using my code.  I hope it works for you.
# If not, please try and include this output in the bug report.
# That will help me reproduce the issue and solve your problem.
# 
t/000-report-versions-tiny.t ..... ok
t/1-basic.t ...................... ok
t/parser/00-use.t ................ ok
t/parser/01-bad_input.t .......... ok
t/parser/01_5-comments.t ......... ok
t/parser/02-split-productions.t .. ok
t/parser/03-production-names.t ... ok
t/parser/04-documentation.t ...... ok
t/parser/05-Flags.t .............. ok
t/parser/06-State.t .............. ok
t/parser/07-variables.t .......... ok
t/parser/08-attributes.t ......... ok
t/parser/09-int.t ................ ok
t/parser/10-float.t .............. ok
t/parser/11-string.t ............. ok
t/parser/12-quoted.t ............. ok
t/parser/13-disjunct.t ........... ok
t/parser/14-conjunct.t ........... ok
t/parser/15-predicate.t .......... ok
t/parser/16-preference.t ......... ok
t/parser/17-function.t ........... ok
t/parser/18-negative.t ........... ok
t/parser/19-conjunctiveCond.t .... ok
t/parser/20-test_data.t .......... ok
t/printer/0-use.t ................ ok
t/printer/1-test_data.t .......... ok
All tests successful.
Files=28, Tests=1816, 597 wallclock secs ( 0.70 usr  0.26 sys + 181.35 cusr  2.61 csys = 184.91 CPU)
Result: PASS

------------------------------
PREREQUISITES
------------------------------

Prerequisite modules loaded:

requires:

    Module                Need   Have    
    --------------------- ------ --------
    Carp                  0      1.3301  
    Data::Dumper          0      2.151   
    Exporter::Easy        0      0.16    
    Parse::RecDescent     0      1.967009
    perl                  5.010  5.019011
    strict                0      1.08    
    warnings              0      1.23    

build_requires:

    Module                Need   Have    
    --------------------- ------ --------
    Data::Diver           0      1.0101  
    File::Find            0      1.27    
    File::Spec            0      3.47    
    File::Spec::Functions 0      3.47    
    File::Temp            0      0.2304  
    FindBin               0      1.51    
    Module::Build         0.3601 0.4205  
    Path::Tiny            0      0.052   
    Test::Base            0      0.62    
    Test::Base::Filter    0      0       
    Test::Deep            0      0.112   
    Test::Exception       0      0.32    
    Test::LongString      0      0.15    
    Test::More            0.88   1.001003
    Test::Warn            0      0.30    
    utf8                  0      1.13    

configure_requires:

    Module                Need   Have    
    --------------------- ------ --------
    Module::Build         0.3601 0.4205  


------------------------------
ENVIRONMENT AND OTHER CONTEXT
------------------------------

Environment variables:

    DBIC_NO_WARN_BAD_PERL = 1
    PATH = /usr/local/bin:/usr/bin:/bin:/usr/local/sbin:/usr/sbin:/sbin:/home/eserte/bin/freebsd9.1:/home/eserte/bin/sh:/home/eserte/bin:/usr/games:/home/eserte/devel:/usr/home/eserte/src/cpan-testers-parallelsmoker/utils
    PERL5LIB = 
    PERL5OPT = 
    PERL5_CPANPLUS_IS_RUNNING = 79324
    PERL5_CPAN_IS_RUNNING = 79324
    PERL5_CPAN_IS_RUNNING_IN_RECURSION = 78579,79324
    PERLDOC = -MPod::Perldoc::ToTextOverstrike
    PERL_BATCH = yes
    PERL_CPAN_REPORTER_DIR = /home/eserte/var/ctps/51911/config/perl-5.19.11/cpanreporter
    PERL_EXTUTILS_AUTOINSTALL = --defaultdeps
    PERL_HTML_DISPLAY_CLASS = HTML::Display::Mozilla
    PERL_PARALLEL_SMOKER = yes
    PERL_TEST_UNPATCHED = 1
    PERL_TEST_UNPATCHED = 1
    SHELL = /usr/local/bin/zsh
    TERM = xterm
    TMPDIR = /var/tmp/cpansmoker-1000

Perl special variables (and OS-specific diagnostics, for MSWin32):

    $^X = /usr/home/eserte/var/ctps/51911/install/perl-5.19.11/bin/perl5.19.11
    $UID/$EUID = 1000 / 1000
    $GID = 1000 1000 0 5
    $EGID = 1000 1000 0 5

Perl module toolchain versions installed:

    Module              Have    
    ------------------- --------
    CPAN                2.05    
    CPAN::Meta          2.141170
    Cwd                 3.47    
    ExtUtils::CBuilder  0.280216
    ExtUtils::Command   1.18    
    ExtUtils::Install   1.67    
    ExtUtils::MakeMaker 6.96    
    ExtUtils::Manifest  1.63    
    ExtUtils::ParseXS   3.24    
    File::Spec          3.47    
    JSON                2.90    
    JSON::PP            2.27203 
    Module::Build       0.4205  
    Module::Signature   0.73    
    Parse::CPAN::Meta   1.4414  
    Test::Harness       3.30    
    Test::More          1.001003
    YAML                0.90    
    YAML::Syck          1.27    
    version             0.9908  


--

Summary of my perl5 (revision 5 version 19 subversion 11) configuration:
   
  Platform:
    osname=freebsd, osvers=9.2-release, archname=amd64-freebsd
    uname='freebsd cvrsnica-freebsd-92-ctps-51911.herceg.de 9.2-release freebsd 9.2-release #0 r255898: thu sep 26 22:50:31 utc 2013 root@bake.isc.freebsd.org:usrobjusrsrcsysgeneric amd64 '
    config_args='-ds -e -Uversiononly -Dinstallusrbinperl=n -Dusedevel -Dprefix=/home/eserte/var/ctps/51911/install/perl-5.19.11'
    hint=recommended, useposix=true, d_sigaction=define
    useithreads=undef, usemultiplicity=undef
    use64bitint=define, use64bitall=define, uselongdouble=undef
    usemymalloc=n, bincompat5005=undef
  Compiler:
    cc='cc', ccflags ='-DHAS_FPSETMASK -DHAS_FLOATINGPOINT_H -fno-strict-aliasing -pipe -fstack-protector -I/usr/local/include',
    optimize='-O',
    cppflags='-DHAS_FPSETMASK -DHAS_FLOATINGPOINT_H -fno-strict-aliasing -pipe -fstack-protector -I/usr/local/include'
    ccversion='', gccversion='4.2.1 20070831 patched [FreeBSD]', gccosandvers=''
    intsize=4, longsize=8, ptrsize=8, doublesize=8, byteorder=12345678
    d_longlong=define, longlongsize=8, d_longdbl=define, longdblsize=16
    ivtype='long', ivsize=8, nvtype='double', nvsize=8, Off_t='off_t', lseeksize=8
    alignbytes=8, prototype=define
  Linker and Libraries:
    ld='cc', ldflags ='-Wl,-E  -fstack-protector -L/usr/local/lib'
    libpth=/usr/lib /usr/local/lib /usr/include/gcc/4.2 /usr/lib
    libs=-lgdbm -lm -lcrypt -lutil -lc
    perllibs=-lm -lcrypt -lutil -lc
    libc=, so=so, useshrplib=false, libperl=libperl.a
    gnulibc_version=''
  Dynamic Linking:
    dlsrc=dl_dlopen.xs, dlext=so, d_dlsymun=undef, ccdlflags=' '
    cccdlflags='-DPIC -fPIC', lddlflags='-shared  -L/usr/local/lib -fstack-protector'


Characteristics of this binary (from libperl): 
  Compile-time options: HAS_TIMES PERLIO_LAYERS PERL_DONT_CREATE_GVSV
                        PERL_HASH_FUNC_ONE_AT_A_TIME_HARD PERL_MALLOC_WRAP
                        PERL_NEW_COPY_ON_WRITE PERL_PRESERVE_IVUV
                        PERL_USE_DEVEL USE_64_BIT_ALL USE_64_BIT_INT
                        USE_LARGE_FILES USE_LOCALE USE_LOCALE_COLLATE
                        USE_LOCALE_CTYPE USE_LOCALE_NUMERIC USE_PERLIO
                        USE_PERL_ATOF
  Built under freebsd
  Compiled at Apr 25 2014 08:05:33
  %ENV:
    PERL5LIB=""
    PERL5OPT=""
    PERL5_CPANPLUS_IS_RUNNING="79324"
    PERL5_CPAN_IS_RUNNING="79324"
    PERL5_CPAN_IS_RUNNING_IN_RECURSION="78579,79324"
    PERLDOC="-MPod::Perldoc::ToTextOverstrike"
    PERL_BATCH="yes"
    PERL_CPAN_REPORTER_DIR="/home/eserte/var/ctps/51911/config/perl-5.19.11/cpanreporter"
    PERL_EXTUTILS_AUTOINSTALL="--defaultdeps"
    PERL_HTML_DISPLAY_CLASS="HTML::Display::Mozilla"
    PERL_PARALLEL_SMOKER="yes"
    PERL_TEST_UNPATCHED="1"
  @INC:
    /home/eserte/var/ctps/51911/install/perl-5.19.11/lib/site_perl/5.19.11/amd64-freebsd
    /home/eserte/var/ctps/51911/install/perl-5.19.11/lib/site_perl/5.19.11
    /home/eserte/var/ctps/51911/install/perl-5.19.11/lib/5.19.11/amd64-freebsd
    /home/eserte/var/ctps/51911/install/perl-5.19.11/lib/5.19.11
    .