Report for Filter-Crypto-2.07

Back
From: metabase:user:314402c4-2aae-11df-837a-5e0a49663a4f
Subject: PASS Filter-Crypto-2.07 v5.21.8 GNU/Linux
Date: 2015-02-28T14:01:47Z

This distribution has been tested as part of the CPAN Testers
project, supporting the Perl programming language.  See
http://wiki.cpantesters.org/ for more information or email
questions to cpan-testers-discuss@perl.org


--
Dear Steve Hay,

This is a computer-generated report for Filter-Crypto-2.07
on perl 5.21.8, created by CPAN-Reporter-1.2011.

Thank you for uploading your work to CPAN.  Congratulations!
All tests were successful.

Sections of this report:

    * Tester comments
    * Program output
    * Prerequisites
    * Environment and other context

------------------------------
TESTER COMMENTS
------------------------------

Additional comments from tester:

none provided

------------------------------
PROGRAM OUTPUT
------------------------------

Output from '/usr/bin/make test':

make[1]: Entering directory `/tmpfs/.cpan-build/Filter-Crypto-2.07-k48xxv/CryptFile'
Running Mkbootstrap for Filter::Crypto::CryptFile ()
chmod 644 "CryptFile.bs"
Manifying 1 pod document
make[1]: Leaving directory `/tmpfs/.cpan-build/Filter-Crypto-2.07-k48xxv/CryptFile'
make[1]: Entering directory `/tmpfs/.cpan-build/Filter-Crypto-2.07-k48xxv/Decrypt'
Running Mkbootstrap for Filter::Crypto::Decrypt ()
chmod 644 "Decrypt.bs"
Manifying 1 pod document
make[1]: Leaving directory `/tmpfs/.cpan-build/Filter-Crypto-2.07-k48xxv/Decrypt'
PERL_DL_NONLAZY=1 "/bbbike/perl-5.21.8t/bin/perl5.21.8" "-MExtUtils::Command::MM" "-MTest::Harness" "-e" "undef *Test::Harness::Switches; test_harness(0, 'blib/lib', 'blib/arch')" t/*.t
t/01_imports_01.t .... ok
t/01_imports_02.t .... ok
t/01_imports_03.t .... ok
t/01_imports_04.t .... ok
t/02_function.t ...... ok
t/03_script.t ........ ok
t/04_par.t ........... skipped: PAR::Filter required to test PAR::Filter::Crypto
t/05_errstr.t ........ ok
t/06_changes.t ....... skipped: Author testing only
t/07_critic.t ........ skipped: Author testing only
t/08_pod.t ........... skipped: Author testing only
t/09_pod_coverage.t .. skipped: Author testing only
All tests successful.
Files=12, Tests=432, 32 wallclock secs ( 0.41 usr  0.35 sys + 19.62 cusr 11.36 csys = 31.74 CPU)
Result: PASS

------------------------------
PREREQUISITES
------------------------------

Prerequisite modules loaded:

requires:

    Module                Need     Have        
    --------------------- -------- ------------
    Carp                  0        1.34        
    Config                0        5.021008    
    constant              0        1.32        
    Cwd                   0        3.54        
    Exporter              0        5.72        
    ExtUtils::MakeMaker   6.66     7.04        
    Fcntl                 0        1.13        
    File::Basename        0        2.85        
    File::Copy            0        2.30        
    File::Find            0        1.29        
    File::Spec::Functions 0        3.54        
    File::Temp            0        0.2304      
    Getopt::Long          0        2.43        
    perl                  5.008001 5.021008    
    Pod::Usage            1.15     1.64        
    Scalar::Util          0        1.41        
    strict                0        1.09        
    Text::ParseWords      0        3.29        
    Text::Wrap            0        2013.0523   
    warnings              0        1.30        
    XSLoader              0        0.20        

build_requires:

    Module                Need     Have        
    --------------------- -------- ------------
    blib                  0        1.06        
    ExtUtils::MakeMaker   0        7.04        
    FindBin               0        1.51        
    Test::More            0        1.301001_097

configure_requires:

    Module                Need     Have        
    --------------------- -------- ------------
    Carp                  0        1.34        
    Config                0        5.021008    
    constant              0        1.32        
    Cwd                   0        3.54        
    ExtUtils::MakeMaker   6.66     7.04        
    Fcntl                 0        1.13        
    File::Basename        0        2.85        
    File::Copy            0        2.30        
    File::Spec::Functions 0        3.54        
    Getopt::Long          0        2.43        
    perl                  5.008001 5.021008    
    Pod::Usage            1.15     1.64        
    strict                0        1.09        
    Text::Wrap            0        2013.0523   
    warnings              0        1.30        


------------------------------
ENVIRONMENT AND OTHER CONTEXT
------------------------------

Environment variables:

    DBIC_NO_WARN_BAD_PERL = 1
    LANG = C
    LC_ALL = C
    PATH = /usr/local/bin:/usr/bin:/bin:/usr/local/sbin:/usr/sbin:/sbin:/home/eserte/bin/linux-gnu:/home/eserte/bin/sh:/home/eserte/bin:/usr/games:/home/eserte/devel:/home/eserte/src/srezic-misc/scripts
    PERL5LIB = 
    PERL5OPT = 
    PERL5_CPANPLUS_IS_RUNNING = 12361
    PERL5_CPAN_IS_RUNNING = 12361
    PERL5_CPAN_IS_RUNNING_IN_RECURSION = 11242,12361
    PERLDOC = -MPod::Perldoc::ToTextOverstrike
    PERL_BATCH = yes
    PERL_CPAN_REPORTER_CONFIG = /var/tmp/cpansmoker-1001/gJJrDHtbZj_config.ini
    PERL_EXTUTILS_AUTOINSTALL = --defaultdeps
    PERL_HTML_DISPLAY_CLASS = HTML::Display::Mozilla
    SHELL = /bin/zsh
    TERM = screen
    TMPDIR = /var/tmp/cpansmoker-1001

Perl special variables (and OS-specific diagnostics, for MSWin32):

    $^X = /bbbike/perl-5.21.8t/bin/perl5.21.8
    $UID/$EUID = 1001 / 1001
    $GID = 1001 109 1001
    $EGID = 1001 109 1001

Perl module toolchain versions installed:

    Module              Have        
    ------------------- ------------
    CPAN                2.05        
    CPAN::Meta          2.143240    
    Cwd                 3.54        
    ExtUtils::CBuilder  0.280221    
    ExtUtils::Command   1.20        
    ExtUtils::Install   2.04        
    ExtUtils::MakeMaker 7.04        
    ExtUtils::Manifest  1.70        
    ExtUtils::ParseXS   3.27        
    File::Spec          3.53        
    JSON                2.90        
    JSON::PP            2.27300     
    Module::Build       0.4211      
    Module::Signature   n/a         
    Parse::CPAN::Meta   1.4414      
    Test::Harness       3.35        
    Test::More          1.301001_097
    YAML                1.14        
    YAML::Syck          1.29        
    version             0.9909      


--

Summary of my perl5 (revision 5 version 21 subversion 8) configuration:
   
  Platform:
    osname=linux, osvers=3.2.0-4-amd64, archname=x86_64-linux-thread-multi
    uname='linux eserte 3.2.0-4-amd64 #1 smp debian 3.2.65-1+deb7u1 x86_64 gnulinux '
    config_args='-ds -e -Dprefix=/opt/perl-5.21.8t -Dusedevel -Dusemallocwrap=no -Dusethreads'
    hint=recommended, useposix=true, d_sigaction=define
    useithreads=define, usemultiplicity=define
    use64bitint=define, use64bitall=define, uselongdouble=undef
    usemymalloc=n, bincompat5005=undef
  Compiler:
    cc='cc', ccflags ='-D_REENTRANT -D_GNU_SOURCE -fwrapv -fno-strict-aliasing -pipe -fstack-protector -I/usr/local/include -D_LARGEFILE_SOURCE -D_FILE_OFFSET_BITS=64 -D_FORTIFY_SOURCE=2',
    optimize='-O2',
    cppflags='-D_REENTRANT -D_GNU_SOURCE -fwrapv -fno-strict-aliasing -pipe -fstack-protector -I/usr/local/include'
    ccversion='', gccversion='4.7.2', gccosandvers=''
    intsize=4, longsize=8, ptrsize=8, doublesize=8, byteorder=12345678, doublekind=3
    d_longlong=define, longlongsize=8, d_longdbl=define, longdblsize=16, longdblkind=3
    ivtype='long', ivsize=8, nvtype='double', nvsize=8, Off_t='off_t', lseeksize=8
    alignbytes=8, prototype=define
  Linker and Libraries:
    ld='cc', ldflags =' -fstack-protector -L/usr/local/lib'
    libpth=/usr/local/lib /usr/lib/gcc/x86_64-linux-gnu/4.7/include-fixed /usr/include/x86_64-linux-gnu /usr/lib /lib/x86_64-linux-gnu /lib/../lib /usr/lib/x86_64-linux-gnu /usr/lib/../lib /lib
    libs=-lpthread -lnsl -ldb -ldl -lm -lcrypt -lutil -lc
    perllibs=-lpthread -lnsl -ldl -lm -lcrypt -lutil -lc
    libc=libc-2.13.so, so=so, useshrplib=false, libperl=libperl.a
    gnulibc_version='2.13'
  Dynamic Linking:
    dlsrc=dl_dlopen.xs, dlext=so, d_dlsymun=undef, ccdlflags='-Wl,-E'
    cccdlflags='-fPIC', lddlflags='-shared -O2 -L/usr/local/lib -fstack-protector'


Characteristics of this binary (from libperl): 
  Compile-time options: HAS_TIMES MULTIPLICITY PERLIO_LAYERS
                        PERL_DONT_CREATE_GVSV
                        PERL_HASH_FUNC_ONE_AT_A_TIME_HARD
                        PERL_IMPLICIT_CONTEXT PERL_NEW_COPY_ON_WRITE
                        PERL_PRESERVE_IVUV PERL_USE_DEVEL USE_64_BIT_ALL
                        USE_64_BIT_INT USE_ITHREADS USE_LARGE_FILES
                        USE_LOCALE USE_LOCALE_COLLATE USE_LOCALE_CTYPE
                        USE_LOCALE_NUMERIC USE_LOCALE_TIME USE_PERLIO
                        USE_PERL_ATOF USE_REENTRANT_API
  Built under linux
  Compiled at Jan 26 2015 06:45:27
  %ENV:
    PERL5LIB=""
    PERL5OPT=""
    PERL5_CPANPLUS_IS_RUNNING="12361"
    PERL5_CPAN_IS_RUNNING="12361"
    PERL5_CPAN_IS_RUNNING_IN_RECURSION="11242,12361"
    PERLDOC="-MPod::Perldoc::ToTextOverstrike"
    PERL_BATCH="yes"
    PERL_CPAN_REPORTER_CONFIG="/var/tmp/cpansmoker-1001/gJJrDHtbZj_config.ini"
    PERL_EXTUTILS_AUTOINSTALL="--defaultdeps"
    PERL_HTML_DISPLAY_CLASS="HTML::Display::Mozilla"
  @INC:
    /opt/perl-5.21.8t/lib/site_perl/5.21.8/x86_64-linux-thread-multi
    /opt/perl-5.21.8t/lib/site_perl/5.21.8
    /opt/perl-5.21.8t/lib/5.21.8/x86_64-linux-thread-multi
    /opt/perl-5.21.8t/lib/5.21.8
    .