Back
From: metabase:user:d2c9f356-b46f-11df-9a90-20a83c0b7757
Subject: PASS CatalystX-ExtJS-1.123000 v5.8.9 SunOS/Solaris
Date: 2010-11-30T21:39:39Z
This distribution has been tested as part of the CPAN Testers
project, supporting the Perl programming language. See
http://wiki.cpantesters.org/ for more information or email
questions to cpan-testers-discuss@perl.org
--
Dear Moritz Onken,
This is a computer-generated report for CatalystX-ExtJS-1.123000
on perl 5.8.9, created by CPAN-Reporter-1.1803.
Thank you for uploading your work to CPAN. Congratulations!
All tests were successful.
Sections of this report:
* Tester comments
* Program output
* Prerequisites
* Environment and other context
------------------------------
TESTER COMMENTS
------------------------------
Additional comments from tester:
this report is from an automated smoke testing program
and was not reviewed by a human for accuracy
------------------------------
PROGRAM OUTPUT
------------------------------
Output from './Build test':
t/00-compile.t ................ ok
# Testing with Perl 5.008009, /export/home/cpant2/perl5/bin/perl
# Carp version is 1.10
# Catalyst version is 5.80029
# Catalyst::Action version is undefined
# Catalyst::Action::Deserialize version is 0.87
# Catalyst::Action::REST version is 0.87
# Catalyst::Action::RenderView version is 0.14
# Catalyst::Action::Serialize version is 0.87
# Catalyst::Controller version is undefined
# Catalyst::Controller::REST version is 0.87
# Catalyst::Engine::HTTP version is undefined
# Catalyst::Model::DBIC::Schema version is 0.43
# Catalyst::Request::REST::ForBrowsers version is 0.87
# Catalyst::Runtime version is 5.80029
# Catalyst::Utils version is undefined
# Catalyst::View::JSON version is 0.31
# Catalyst::View::TT version is 0.36
# Class::Accessor::Fast version is 0.34
# Config::Any version is 0.20
# DBIx::Class version is 0.08124
# DBIx::Class::ResultSet version is undefined
# DBIx::Class::Schema version is undefined
# English version is 1.03
# File::Find version is 1.13
# File::Spec version is 3.33
# File::Temp version is 0.22
# FindBin version is 1.49
# Getopt::Long version is 2.38
# HTML::Entities version is 3.68
# HTML::FormFu version is 0.08002
# HTML::FormFu::ExtJS version is 0.077
# HTML::FormFu::Model::DBIC version is 0.08002
# HTTP::Request::Common version is 5.824
# JSON version is 2.27
# JSON::Any version is 1.25
# JSON::XS version is 2.3
# JavaScript::Dumper version is 0.011
# Lingua::EN::Inflect version is 1.893
# List::Util version is 1.23
# Module::Build version is 0.3607
# Moose version is 1.21
# Moose::Util::TypeConstraints version is 1.21
# MooseX::MethodAttributes version is 0.24
# Path::Class version is 0.21
# Path::Class::File version is 0.21
# Pod::Usage version is 1.36
# Scalar::Util version is 1.23
# Test::More version is 0.96
# Test::WWW::Mechanize::Catalyst version is 0.52
# namespace::autoclean version is 0.11
t/000-report-versions.t ....... ok
t/author-critic.t ............. skipped: these tests are for testing by the author
[debug] Debug messages enabled
[debug] Statistics enabled
[debug] Loaded dispatcher "Catalyst::Dispatcher"
[debug] Loaded engine "Catalyst::Engine::CGI"
[debug] Found home "/export/home/cpant2/.cpan/build/CatalystX-ExtJS-1.123000-4ZU0cO/t/lib/MyApp"
[debug] Loaded components:
.-----------------------------------------------------------------+----------.
| Class | Type |
+-----------------------------------------------------------------+----------+
| MyApp::Controller::API | instance |
| MyApp::Controller::Artist | instance |
| MyApp::Controller::Calculator | instance |
| MyApp::Controller::FindOrDefault | instance |
| MyApp::Controller::ForBrowser | instance |
| MyApp::Controller::ForBrowsers | instance |
| MyApp::Controller::JSON | instance |
| MyApp::Controller::Nested::Controller | instance |
| MyApp::Controller::REST | instance |
| MyApp::Controller::RequestClass | instance |
| MyApp::Controller::SkipEnd | instance |
| MyApp::Controller::User | instance |
| MyApp::Model::DBIC | instance |
| MyApp::Model::DBIC::FindOrDefault | class |
| MyApp::Model::DBIC::SkipEnd | class |
| MyApp::Model::DBIC::User | class |
| MyApp::View::JSON | instance |
| MyApp::View::TT | instance |
'-----------------------------------------------------------------+----------'
[debug] Loaded Private actions:
.----------------------+--------------------------------------+--------------.
| Private | Class | Method |
+----------------------+--------------------------------------+--------------+
| /api/src | MyApp::Controller::API | src |
| /api/router | MyApp::Controller::API | router |
| /api/end | MyApp::Controller::API | end |
| /api/index | MyApp::Controller::API | index |
| /api/begin | MyApp::Controller::API | begin |
| /findordefault/base | MyApp::Controller::FindOrDefault | base |
| /findordefault/obje- | MyApp::Controller::FindOrDefault | object |
| ct | | |
| /findordefault/obje- | MyApp::Controller::FindOrDefault | object_DELE- |
| ct_DELETE | | TE |
| /findordefault/obje- | MyApp::Controller::FindOrDefault | object_POST |
| ct_POST | | |
| /findordefault/obje- | MyApp::Controller::FindOrDefault | object_GET |
| ct_GET | | |
| /findordefault/obje- | MyApp::Controller::FindOrDefault | object_PUT |
| ct_PUT | | |
| /findordefault/end | MyApp::Controller::FindOrDefault | end |
| /findordefault/begin | MyApp::Controller::FindOrDefault | begin |
| /findordefault/list | MyApp::Controller::FindOrDefault | list |
| /calc/add | MyApp::Controller::Calculator | add |
| /calc/subtract | MyApp::Controller::Calculator | subtract |
| /calc/upload | MyApp::Controller::Calculator | upload |
| /calc/add_to | MyApp::Controller::Calculator | add_to |
| /json/index | MyApp::Controller::JSON | index |
| /forbrowsers/base | MyApp::Controller::ForBrowsers | base |
| /forbrowsers/object | MyApp::Controller::ForBrowsers | object |
| /forbrowsers/object- | MyApp::Controller::ForBrowsers | object_DELE- |
| _DELETE | | TE |
| /forbrowsers/object- | MyApp::Controller::ForBrowsers | object_POST |
| _POST | | |
| /forbrowsers/object- | MyApp::Controller::ForBrowsers | object_GET |
| _GET | | |
| /forbrowsers/object- | MyApp::Controller::ForBrowsers | object_PUT |
| _PUT | | |
| /forbrowsers/end | MyApp::Controller::ForBrowsers | end |
| /forbrowsers/begin | MyApp::Controller::ForBrowsers | begin |
| /forbrowsers/list | MyApp::Controller::ForBrowsers | list |
| /rest/object | MyApp::Controller::REST | object |
| /rest/begin | MyApp::Controller::REST | begin |
| /rest/end | MyApp::Controller::REST | end |
| /nested/controller/- | MyApp::Controller::Nested::Controll- | index |
| index | er | |
| /skipend/load_form | MyApp::Controller::SkipEnd | load_form |
| /skipend/object | MyApp::Controller::SkipEnd | object |
| /skipend/object_GET | MyApp::Controller::SkipEnd | object_GET |
| /skipend/object_PUT | MyApp::Controller::SkipEnd | object_PUT |
| /skipend/begin | MyApp::Controller::SkipEnd | begin |
| /skipend/list | MyApp::Controller::SkipEnd | list |
| /skipend/base | MyApp::Controller::SkipEnd | base |
| /skipend/object_POST | MyApp::Controller::SkipEnd | object_POST |
| /skipend/object_DEL- | MyApp::Controller::SkipEnd | object_DELE- |
| ETE | | TE |
| /skipend/end | MyApp::Controller::SkipEnd | end |
| /skipend/edit_record | MyApp::Controller::SkipEnd | edit_record |
| /forbrowser/base | MyApp::Controller::ForBrowser | base |
| /forbrowser/object | MyApp::Controller::ForBrowser | object |
| /forbrowser/object_- | MyApp::Controller::ForBrowser | object_DELE- |
| DELETE | | TE |
| /forbrowser/object_- | MyApp::Controller::ForBrowser | object_POST |
| POST | | |
| /forbrowser/object_- | MyApp::Controller::ForBrowser | object_GET |
| GET | | |
| /forbrowser/object_- | MyApp::Controller::ForBrowser | object_PUT |
| PUT | | |
| /forbrowser/end | MyApp::Controller::ForBrowser | end |
| /forbrowser/begin | MyApp::Controller::ForBrowser | begin |
| /forbrowser/list | MyApp::Controller::ForBrowser | list |
| /requestclass/params | MyApp::Controller::RequestClass | params |
| /requestclass/reque- | MyApp::Controller::RequestClass | request_cla- |
| st_class | | ss |
| /user/base | MyApp::Controller::User | base |
| /user/object | MyApp::Controller::User | object |
| /user/object_DELETE | MyApp::Controller::User | object_DELE- |
| | | TE |
| /user/object_POST | MyApp::Controller::User | object_POST |
| /user/object_GET | MyApp::Controller::User | object_GET |
| /user/object_PUT | MyApp::Controller::User | object_PUT |
| /user/end | MyApp::Controller::User | end |
| /user/add_to_group | MyApp::Controller::User | add_to_group |
| /user/begin | MyApp::Controller::User | begin |
| /user/list | MyApp::Controller::User | list |
'----------------------+--------------------------------------+--------------'
[debug] Loaded Path actions:
.-------------------------------------+--------------------------------------.
| Path | Private |
+-------------------------------------+--------------------------------------+
| /api | /api/index |
| /api/router | /api/router |
| /api/src | /api/src |
| /calc | /calc/upload |
| /calc | /calc/add |
| /calc/subtract | /calc/subtract |
| /nested/controller/index | /nested/controller/index |
| /requestclass/params | /requestclass/params |
| /requestclass/request_class | /requestclass/request_class |
'-------------------------------------+--------------------------------------'
[debug] Loaded Chained actions:
.-------------------------------------+--------------------------------------.
| Path Spec | Private |
+-------------------------------------+--------------------------------------+
| /add/*/to/* | /calc/add (1) |
| | => /calc/add_to |
| /findordefaults/... | /findordefault/list |
| /findordefault/... | /findordefault/object |
| /forbrowsers/... | /forbrowser/list |
| /forbrowser/... | /forbrowser/object |
| /forbrowser/... | /forbrowsers/list |
| /forbrowsers/... | /forbrowsers/object |
| /rest/object/* | /rest/object |
| /skipend/form/edit_record | /skipend/load_form (0) |
| | => /skipend/edit_record |
| /skipends/... | /skipend/list |
| /skipend/... | /skipend/object |
| /user/*/add_to_group/* | /user/base (1) |
| | => /user/add_to_group |
| /users/... | /user/list |
| /user/... | /user/object |
'-------------------------------------+--------------------------------------'
[info] Application powered by Catalyst 5.80029
[info] *** Request 1 (0.250/s) [2923] [Tue Nov 30 22:38:21 2010] ***
[debug] "GET" request for "api" from "127.0.0.1"
[debug] Path is "api"
[debug] Serializing with Catalyst::Action::Serialize::JSON
[debug] Response Code: 200; Content-Type: application/json; Content-Length: 561
[info] Request took 0.058143s (17.199/s)
.------------------------------------------------------------+-----------.
| Action | Time |
+------------------------------------------------------------+-----------+
| /api/begin | 0.000694s |
| /api/index | 0.000102s |
| /api/end | 0.052572s |
'------------------------------------------------------------+-----------'
t/direct/api.t ................ ok
[debug] Debug messages enabled
[debug] Statistics enabled
[debug] Loaded dispatcher "Catalyst::Dispatcher"
[debug] Loaded engine "Catalyst::Engine::CGI"
[debug] Found home "/export/home/cpant2/.cpan/build/CatalystX-ExtJS-1.123000-4ZU0cO/t/lib/MyApp"
[debug] Loaded components:
.-----------------------------------------------------------------+----------.
| Class | Type |
+-----------------------------------------------------------------+----------+
| MyApp::Controller::API | instance |
| MyApp::Controller::Artist | instance |
| MyApp::Controller::Calculator | instance |
| MyApp::Controller::FindOrDefault | instance |
| MyApp::Controller::ForBrowser | instance |
| MyApp::Controller::ForBrowsers | instance |
| MyApp::Controller::JSON | instance |
| MyApp::Controller::Nested::Controller | instance |
| MyApp::Controller::REST | instance |
| MyApp::Controller::RequestClass | instance |
| MyApp::Controller::SkipEnd | instance |
| MyApp::Controller::User | instance |
| MyApp::Model::DBIC | instance |
| MyApp::Model::DBIC::FindOrDefault | class |
| MyApp::Model::DBIC::SkipEnd | class |
| MyApp::Model::DBIC::User | class |
| MyApp::View::JSON | instance |
| MyApp::View::TT | instance |
'-----------------------------------------------------------------+----------'
[debug] Loaded Private actions:
.----------------------+--------------------------------------+--------------.
| Private | Class | Method |
+----------------------+--------------------------------------+--------------+
| /api/src | MyApp::Controller::API | src |
| /api/router | MyApp::Controller::API | router |
| /api/end | MyApp::Controller::API | end |
| /api/index | MyApp::Controller::API | index |
| /api/begin | MyApp::Controller::API | begin |
| /findordefault/base | MyApp::Controller::FindOrDefault | base |
| /findordefault/obje- | MyApp::Controller::FindOrDefault | object |
| ct | | |
| /findordefault/obje- | MyApp::Controller::FindOrDefault | object_DELE- |
| ct_DELETE | | TE |
| /findordefault/obje- | MyApp::Controller::FindOrDefault | object_POST |
| ct_POST | | |
| /findordefault/obje- | MyApp::Controller::FindOrDefault | object_GET |
| ct_GET | | |
| /findordefault/obje- | MyApp::Controller::FindOrDefault | object_PUT |
| ct_PUT | | |
| /findordefault/end | MyApp::Controller::FindOrDefault | end |
| /findordefault/begin | MyApp::Controller::FindOrDefault | begin |
| /findordefault/list | MyApp::Controller::FindOrDefault | list |
| /calc/add | MyApp::Controller::Calculator | add |
| /calc/subtract | MyApp::Controller::Calculator | subtract |
| /calc/upload | MyApp::Controller::Calculator | upload |
| /calc/add_to | MyApp::Controller::Calculator | add_to |
| /json/index | MyApp::Controller::JSON | index |
| /forbrowsers/base | MyApp::Controller::ForBrowsers | base |
| /forbrowsers/object | MyApp::Controller::ForBrowsers | object |
| /forbrowsers/object- | MyApp::Controller::ForBrowsers | object_DELE- |
| _DELETE | | TE |
| /forbrowsers/object- | MyApp::Controller::ForBrowsers | object_POST |
| _POST | | |
| /forbrowsers/object- | MyApp::Controller::ForBrowsers | object_GET |
| _GET | | |
| /forbrowsers/object- | MyApp::Controller::ForBrowsers | object_PUT |
| _PUT | | |
| /forbrowsers/end | MyApp::Controller::ForBrowsers | end |
| /forbrowsers/begin | MyApp::Controller::ForBrowsers | begin |
| /forbrowsers/list | MyApp::Controller::ForBrowsers | list |
| /rest/object | MyApp::Controller::REST | object |
| /rest/begin | MyApp::Controller::REST | begin |
| /rest/end | MyApp::Controller::REST | end |
| /nested/controller/- | MyApp::Controller::Nested::Controll- | index |
| index | er | |
| /skipend/load_form | MyApp::Controller::SkipEnd | load_form |
| /skipend/object | MyApp::Controller::SkipEnd | object |
| /skipend/object_GET | MyApp::Controller::SkipEnd | object_GET |
| /skipend/object_PUT | MyApp::Controller::SkipEnd | object_PUT |
| /skipend/begin | MyApp::Controller::SkipEnd | begin |
| /skipend/list | MyApp::Controller::SkipEnd | list |
| /skipend/base | MyApp::Controller::SkipEnd | base |
| /skipend/object_POST | MyApp::Controller::SkipEnd | object_POST |
| /skipend/object_DEL- | MyApp::Controller::SkipEnd | object_DELE- |
| ETE | | TE |
| /skipend/end | MyApp::Controller::SkipEnd | end |
| /skipend/edit_record | MyApp::Controller::SkipEnd | edit_record |
| /forbrowser/base | MyApp::Controller::ForBrowser | base |
| /forbrowser/object | MyApp::Controller::ForBrowser | object |
| /forbrowser/object_- | MyApp::Controller::ForBrowser | object_DELE- |
| DELETE | | TE |
| /forbrowser/object_- | MyApp::Controller::ForBrowser | object_POST |
| POST | | |
| /forbrowser/object_- | MyApp::Controller::ForBrowser | object_GET |
| GET | | |
| /forbrowser/object_- | MyApp::Controller::ForBrowser | object_PUT |
| PUT | | |
| /forbrowser/end | MyApp::Controller::ForBrowser | end |
| /forbrowser/begin | MyApp::Controller::ForBrowser | begin |
| /forbrowser/list | MyApp::Controller::ForBrowser | list |
| /requestclass/params | MyApp::Controller::RequestClass | params |
| /requestclass/reque- | MyApp::Controller::RequestClass | request_cla- |
| st_class | | ss |
| /user/base | MyApp::Controller::User | base |
| /user/object | MyApp::Controller::User | object |
| /user/object_DELETE | MyApp::Controller::User | object_DELE- |
| | | TE |
| /user/object_POST | MyApp::Controller::User | object_POST |
| /user/object_GET | MyApp::Controller::User | object_GET |
| /user/object_PUT | MyApp::Controller::User | object_PUT |
| /user/end | MyApp::Controller::User | end |
| /user/add_to_group | MyApp::Controller::User | add_to_group |
| /user/begin | MyApp::Controller::User | begin |
| /user/list | MyApp::Controller::User | list |
'----------------------+--------------------------------------+--------------'
[debug] Loaded Path actions:
.-------------------------------------+--------------------------------------.
| Path | Private |
+-------------------------------------+--------------------------------------+
| /api | /api/index |
| /api/router | /api/router |
| /api/src | /api/src |
| /calc | /calc/upload |
| /calc | /calc/add |
| /calc/subtract | /calc/subtract |
| /nested/controller/index | /nested/controller/index |
| /requestclass/params | /requestclass/params |
| /requestclass/request_class | /requestclass/request_class |
'-------------------------------------+--------------------------------------'
[debug] Loaded Chained actions:
.-------------------------------------+--------------------------------------.
| Path Spec | Private |
+-------------------------------------+--------------------------------------+
| /add/*/to/* | /calc/add (1) |
| | => /calc/add_to |
| /findordefaults/... | /findordefault/list |
| /findordefault/... | /findordefault/object |
| /forbrowsers/... | /forbrowser/list |
| /forbrowser/... | /forbrowser/object |
| /forbrowser/... | /forbrowsers/list |
| /forbrowsers/... | /forbrowsers/object |
| /rest/object/* | /rest/object |
| /skipend/form/edit_record | /skipend/load_form (0) |
| | => /skipend/edit_record |
| /skipends/... | /skipend/list |
| /skipend/... | /skipend/object |
| /user/*/add_to_group/* | /user/base (1) |
| | => /user/add_to_group |
| /users/... | /user/list |
| /user/... | /user/object |
'-------------------------------------+--------------------------------------'
[info] Application powered by Catalyst 5.80029
[info] *** Request 1 (0.500/s) [2924] [Tue Nov 30 22:38:27 2010] ***
[debug] "POST" request for "api/router" from "127.0.0.1"
[debug] Path is "api/router"
[debug] Serializing with Catalyst::Action::Serialize::JSON
[debug] Response Code: 200; Content-Type: application/json; Content-Length: 78
[info] Request took 0.070231s (14.239/s)
.------------------------------------------------------------+-----------.
| Action | Time |
+------------------------------------------------------------+-----------+
| /api/begin | 0.029612s |
| /api/router | 0.003516s |
| /json/index | 0.001395s |
| -> MyApp::View::JSON->process | 0.000747s |
| /api/end | 0.031725s |
'------------------------------------------------------------+-----------'
t/direct/json.t ............... ok
[debug] Debug messages enabled
[debug] Statistics enabled
[debug] Loaded dispatcher "Catalyst::Dispatcher"
[debug] Loaded engine "Catalyst::Engine::CGI"
[debug] Found home "/export/home/cpant2/.cpan/build/CatalystX-ExtJS-1.123000-4ZU0cO/t/lib/MyApp"
[debug] Loaded components:
.-----------------------------------------------------------------+----------.
| Class | Type |
+-----------------------------------------------------------------+----------+
| MyApp::Controller::API | instance |
| MyApp::Controller::Artist | instance |
| MyApp::Controller::Calculator | instance |
| MyApp::Controller::FindOrDefault | instance |
| MyApp::Controller::ForBrowser | instance |
| MyApp::Controller::ForBrowsers | instance |
| MyApp::Controller::JSON | instance |
| MyApp::Controller::Nested::Controller | instance |
| MyApp::Controller::REST | instance |
| MyApp::Controller::RequestClass | instance |
| MyApp::Controller::SkipEnd | instance |
| MyApp::Controller::User | instance |
| MyApp::Model::DBIC | instance |
| MyApp::Model::DBIC::FindOrDefault | class |
| MyApp::Model::DBIC::SkipEnd | class |
| MyApp::Model::DBIC::User | class |
| MyApp::View::JSON | instance |
| MyApp::View::TT | instance |
'-----------------------------------------------------------------+----------'
[debug] Loaded Private actions:
.----------------------+--------------------------------------+--------------.
| Private | Class | Method |
+----------------------+--------------------------------------+--------------+
| /api/src | MyApp::Controller::API | src |
| /api/router | MyApp::Controller::API | router |
| /api/end | MyApp::Controller::API | end |
| /api/index | MyApp::Controller::API | index |
| /api/begin | MyApp::Controller::API | begin |
| /findordefault/base | MyApp::Controller::FindOrDefault | base |
| /findordefault/obje- | MyApp::Controller::FindOrDefault | object |
| ct | | |
| /findordefault/obje- | MyApp::Controller::FindOrDefault | object_DELE- |
| ct_DELETE | | TE |
| /findordefault/obje- | MyApp::Controller::FindOrDefault | object_POST |
| ct_POST | | |
| /findordefault/obje- | MyApp::Controller::FindOrDefault | object_GET |
| ct_GET | | |
| /findordefault/obje- | MyApp::Controller::FindOrDefault | object_PUT |
| ct_PUT | | |
| /findordefault/end | MyApp::Controller::FindOrDefault | end |
| /findordefault/begin | MyApp::Controller::FindOrDefault | begin |
| /findordefault/list | MyApp::Controller::FindOrDefault | list |
| /calc/add | MyApp::Controller::Calculator | add |
| /calc/subtract | MyApp::Controller::Calculator | subtract |
| /calc/upload | MyApp::Controller::Calculator | upload |
| /calc/add_to | MyApp::Controller::Calculator | add_to |
| /json/index | MyApp::Controller::JSON | index |
| /forbrowsers/base | MyApp::Controller::ForBrowsers | base |
| /forbrowsers/object | MyApp::Controller::ForBrowsers | object |
| /forbrowsers/object- | MyApp::Controller::ForBrowsers | object_DELE- |
| _DELETE | | TE |
| /forbrowsers/object- | MyApp::Controller::ForBrowsers | object_POST |
| _POST | | |
| /forbrowsers/object- | MyApp::Controller::ForBrowsers | object_GET |
| _GET | | |
| /forbrowsers/object- | MyApp::Controller::ForBrowsers | object_PUT |
| _PUT | | |
| /forbrowsers/end | MyApp::Controller::ForBrowsers | end |
| /forbrowsers/begin | MyApp::Controller::ForBrowsers | begin |
| /forbrowsers/list | MyApp::Controller::ForBrowsers | list |
| /rest/object | MyApp::Controller::REST | object |
| /rest/begin | MyApp::Controller::REST | begin |
| /rest/end | MyApp::Controller::REST | end |
| /nested/controller/- | MyApp::Controller::Nested::Controll- | index |
| index | er | |
| /skipend/load_form | MyApp::Controller::SkipEnd | load_form |
| /skipend/object | MyApp::Controller::SkipEnd | object |
| /skipend/object_GET | MyApp::Controller::SkipEnd | object_GET |
| /skipend/object_PUT | MyApp::Controller::SkipEnd | object_PUT |
| /skipend/begin | MyApp::Controller::SkipEnd | begin |
| /skipend/list | MyApp::Controller::SkipEnd | list |
| /skipend/base | MyApp::Controller::SkipEnd | base |
| /skipend/object_POST | MyApp::Controller::SkipEnd | object_POST |
| /skipend/object_DEL- | MyApp::Controller::SkipEnd | object_DELE- |
| ETE | | TE |
| /skipend/end | MyApp::Controller::SkipEnd | end |
| /skipend/edit_record | MyApp::Controller::SkipEnd | edit_record |
| /forbrowser/base | MyApp::Controller::ForBrowser | base |
| /forbrowser/object | MyApp::Controller::ForBrowser | object |
| /forbrowser/object_- | MyApp::Controller::ForBrowser | object_DELE- |
| DELETE | | TE |
| /forbrowser/object_- | MyApp::Controller::ForBrowser | object_POST |
| POST | | |
| /forbrowser/object_- | MyApp::Controller::ForBrowser | object_GET |
| GET | | |
| /forbrowser/object_- | MyApp::Controller::ForBrowser | object_PUT |
| PUT | | |
| /forbrowser/end | MyApp::Controller::ForBrowser | end |
| /forbrowser/begin | MyApp::Controller::ForBrowser | begin |
| /forbrowser/list | MyApp::Controller::ForBrowser | list |
| /requestclass/params | MyApp::Controller::RequestClass | params |
| /requestclass/reque- | MyApp::Controller::RequestClass | request_cla- |
| st_class | | ss |
| /user/base | MyApp::Controller::User | base |
| /user/object | MyApp::Controller::User | object |
| /user/object_DELETE | MyApp::Controller::User | object_DELE- |
| | | TE |
| /user/object_POST | MyApp::Controller::User | object_POST |
| /user/object_GET | MyApp::Controller::User | object_GET |
| /user/object_PUT | MyApp::Controller::User | object_PUT |
| /user/end | MyApp::Controller::User | end |
| /user/add_to_group | MyApp::Controller::User | add_to_group |
| /user/begin | MyApp::Controller::User | begin |
| /user/list | MyApp::Controller::User | list |
'----------------------+--------------------------------------+--------------'
[debug] Loaded Path actions:
.-------------------------------------+--------------------------------------.
| Path | Private |
+-------------------------------------+--------------------------------------+
| /api | /api/index |
| /api/router | /api/router |
| /api/src | /api/src |
| /calc | /calc/upload |
| /calc | /calc/add |
| /calc/subtract | /calc/subtract |
| /nested/controller/index | /nested/controller/index |
| /requestclass/params | /requestclass/params |
| /requestclass/request_class | /requestclass/request_class |
'-------------------------------------+--------------------------------------'
[debug] Loaded Chained actions:
.-------------------------------------+--------------------------------------.
| Path Spec | Private |
+-------------------------------------+--------------------------------------+
| /add/*/to/* | /calc/add (1) |
| | => /calc/add_to |
| /findordefaults/... | /findordefault/list |
| /findordefault/... | /findordefault/object |
| /forbrowsers/... | /forbrowser/list |
| /forbrowser/... | /forbrowser/object |
| /forbrowser/... | /forbrowsers/list |
| /forbrowsers/... | /forbrowsers/object |
| /rest/object/* | /rest/object |
| /skipend/form/edit_record | /skipend/load_form (0) |
| | => /skipend/edit_record |
| /skipends/... | /skipend/list |
| /skipend/... | /skipend/object |
| /user/*/add_to_group/* | /user/base (1) |
| | => /user/add_to_group |
| /users/... | /user/list |
| /user/... | /user/object |
'-------------------------------------+--------------------------------------'
[info] Application powered by Catalyst 5.80029
[info] *** Request 1 (0.333/s) [2925] [Tue Nov 30 22:38:34 2010] ***
[debug] "GET" request for "add/8/to/9" from "127.0.0.1"
[debug] Path is "/calc/add_to"
[debug] Arguments are "9"
[debug] Response Code: 200; Content-Type: unknown; Content-Length: 2
[info] Request took 0.004702s (212.675/s)
.------------------------------------------------------------+-----------.
| Action | Time |
+------------------------------------------------------------+-----------+
| /calc/add | 0.000206s |
| /calc/add_to | 0.000131s |
'------------------------------------------------------------+-----------'
Use of uninitialized value in sprintf at /export/home/cpant2/.cpan/build/CatalystX-ExtJS-1.123000-4ZU0cO/blib/lib/CatalystX/Controller/ExtJS/Direct/API.pm line 123.
Use of uninitialized value in sprintf at /export/home/cpant2/.cpan/build/CatalystX-ExtJS-1.123000-4ZU0cO/blib/lib/CatalystX/Controller/ExtJS/Direct/API.pm line 123.
[info] *** Request 2 (0.667/s) [2925] [Tue Nov 30 22:38:34 2010] ***
[debug] "GET" request for "api/router" from "127.0.0.1"
[debug] Path is "api/router"
[debug] Status Bad Request: method in action does not exist
[debug] Serializing with Catalyst::Action::Serialize::JSON
[debug] Response Code: 400; Content-Type: application/json; Content-Length: 45
[info] Request took 0.040636s (24.609/s)
.------------------------------------------------------------+-----------.
| Action | Time |
+------------------------------------------------------------+-----------+
| /api/begin | 0.000693s |
| /api/router | 0.000878s |
| /api/end | 0.034942s |
'------------------------------------------------------------+-----------'
[info] *** Request 3 (1.000/s) [2925] [Tue Nov 30 22:38:34 2010] ***
[debug] "POST" request for "api/router" from "127.0.0.1"
[debug] Path is "api/router"
[debug] Serializing with Catalyst::Action::Serialize::JSON
[debug] Response Code: 200; Content-Type: application/json; Content-Length: 70
[info] Request took 0.036072s (27.722/s)
.------------------------------------------------------------+-----------.
| Action | Time |
+------------------------------------------------------------+-----------+
| /api/begin | 0.027161s |
| /api/router | 0.002660s |
| /calc/add | 0.000120s |
| /calc/add_to | 0.000262s |
| /api/end | 0.001324s |
'------------------------------------------------------------+-----------'
[info] *** Request 4 (1.333/s) [2925] [Tue Nov 30 22:38:34 2010] ***
[debug] "POST" request for "api/router" from "127.0.0.1"
[debug] Body Parameters are:
.-------------------------------------+--------------------------------------.
| Parameter | Value |
+-------------------------------------+--------------------------------------+
| extAction | Calculator |
| extData | [1,3] |
| extMethod | add |
| extTID | 2 |
| extType | rpc |
'-------------------------------------+--------------------------------------'
[debug] Path is "api/router"
[debug] I would have deserialized, but there was nothing in the body!
[debug] Serializing with Catalyst::Action::Serialize::JSON
[debug] Response Code: 200; Content-Type: application/json; Content-Length: 72
[info] Request took 0.008519s (117.385/s)
.------------------------------------------------------------+-----------.
| Action | Time |
+------------------------------------------------------------+-----------+
| /api/begin | 0.000574s |
| /api/router | 0.002536s |
| /calc/add | 0.000126s |
| /calc/add_to | 0.000115s |
| /api/end | 0.001339s |
'------------------------------------------------------------+-----------'
[info] *** Request 5 (1.667/s) [2925] [Tue Nov 30 22:38:34 2010] ***
[debug] "POST" request for "api/router" from "127.0.0.1"
[debug] Path is "api/router"
[debug] Serializing with Catalyst::Action::Serialize::JSON
[debug] Response Code: 200; Content-Type: application/json; Content-Length: 285
[info] Request took 0.014295s (69.955/s)
.------------------------------------------------------------+-----------.
| Action | Time |
+------------------------------------------------------------+-----------+
| /api/begin | 0.000641s |
| /api/router | 0.008034s |
| /calc/add | 0.000108s |
| /calc/add_to | 0.000116s |
| /calc/add | 0.000100s |
| /calc/add_to | 0.000099s |
| /calc/add | 0.000108s |
| /calc/add_to | 0.000099s |
| /calc/add | 0.000108s |
| /calc/add_to | 0.000117s |
| /api/end | 0.001184s |
'------------------------------------------------------------+-----------'
[info] *** Request 6 (2.000/s) [2925] [Tue Nov 30 22:38:34 2010] ***
[debug] "POST" request for "api/router" from "127.0.0.1"
[debug] Body Parameters are:
.-------------------------------------+--------------------------------------.
| Parameter | Value |
+-------------------------------------+--------------------------------------+
| extAction | Calculator |
| extMethod | upload |
| extTID | 9 |
| extType | rpc |
| extUpload | true |
'-------------------------------------+--------------------------------------'
[debug] File Uploads are:
.--------------+----------------------------+--------------------+-----------.
| Parameter | Filename | Type | Size |
+--------------+----------------------------+--------------------+-----------+
| file | calc.txt | text/plain | 3 |
'--------------+----------------------------+--------------------+-----------'
[debug] Path is "api/router"
[debug] Serializing with Catalyst::Action::Serialize::JSON
[debug] Response Code: 200; Content-Type: application/json; Content-Length: 76
[info] Request took 0.016311s (61.308/s)
.------------------------------------------------------------+-----------.
| Action | Time |
+------------------------------------------------------------+-----------+
| /api/begin | 0.000911s |
| /api/router | 0.003467s |
| /calc/upload | 0.000773s |
| /api/end | 0.001973s |
'------------------------------------------------------------+-----------'
[info] *** Request 7 (2.333/s) [2925] [Tue Nov 30 22:38:34 2010] ***
[debug] "POST" request for "api/router" from "127.0.0.1"
[debug] Body Parameters are:
.-------------------------------------+--------------------------------------.
| Parameter | Value |
+-------------------------------------+--------------------------------------+
| extAction | Calculator |
| extMethod | upload |
| extTID | 9 |
| extType | rpc |
| extUpload | true |
'-------------------------------------+--------------------------------------'
[debug] File Uploads are:
.--------------+----------------------------+--------------------+-----------.
| Parameter | Filename | Type | Size |
+--------------+----------------------------+--------------------+-----------+
| file | calc.txt | text/plain | 4 |
'--------------+----------------------------+--------------------+-----------'
[debug] Path is "api/router"
[debug]
[debug] Serializing with Catalyst::Action::Serialize::JSON
[debug] Response Code: 200; Content-Type: application/json; Content-Length: 43
[info] Request took 0.010712s (93.353/s)
.------------------------------------------------------------+-----------.
| Action | Time |
+------------------------------------------------------------+-----------+
| /api/begin | 0.000541s |
| /api/router | 0.002441s |
| /calc/upload | 0.000457s |
| /api/end | 0.001461s |
'------------------------------------------------------------+-----------'
[info] *** Request 8 (2.667/s) [2925] [Tue Nov 30 22:38:34 2010] ***
[debug] "POST" request for "rest/object/1" from "127.0.0.1"
[debug] Path is "/rest/object"
[debug] Arguments are "1"
[debug] Response Code: 200; Content-Type: text/plain; Content-Length: 54
[info] Request took 0.020806s (48.063/s)
.------------------------------------------------------------+-----------.
| Action | Time |
+------------------------------------------------------------+-----------+
| /rest/begin | 0.014645s |
| /rest/object | 0.000156s |
| /object_POST | 0.000382s |
| /rest/end | 0.000363s |
'------------------------------------------------------------+-----------'
[info] *** Request 9 (3.000/s) [2925] [Tue Nov 30 22:38:34 2010] ***
[debug] "POST" request for "api/router" from "127.0.0.1"
[debug] Path is "api/router"
[debug] I would have deserialized, but there was nothing in the body!
[debug] Serializing with Catalyst::Action::Serialize::JSON
[debug] Serializing with Catalyst::Action::Serialize::JSON
[debug] Response Code: 200; Content-Type: application/json; Content-Length: 85
[info] Request took 0.026748s (37.386/s)
.------------------------------------------------------------+-----------.
| Action | Time |
+------------------------------------------------------------+-----------+
| /api/begin | 0.000789s |
| /api/router | 0.020129s |
| /rest/begin | 0.000490s |
| /rest/object | 0.000110s |
| /object_POST | 0.000216s |
| /rest/end | 0.015963s |
| /api/end | 0.000882s |
'------------------------------------------------------------+-----------'
[info] *** Request 10 (3.333/s) [2925] [Tue Nov 30 22:38:34 2010] ***
[debug] "POST" request for "api/router" from "127.0.0.1"
[debug] Path is "api/router"
[debug] Serializing with Catalyst::Action::Serialize::JSON
[debug] Serializing with Catalyst::Action::Serialize::JSON
[debug] Response Code: 200; Content-Type: application/json; Content-Length: 81
[info] Request took 0.011810s (84.674/s)
.------------------------------------------------------------+-----------.
| Action | Time |
+------------------------------------------------------------+-----------+
| /api/begin | 0.000766s |
| /api/router | 0.005102s |
| /rest/begin | 0.000222s |
| /rest/object | 0.000117s |
| /object_GET | 0.000221s |
| /rest/end | 0.001424s |
| /api/end | 0.000945s |
'------------------------------------------------------------+-----------'
[info] *** Request 11 (3.667/s) [2925] [Tue Nov 30 22:38:34 2010] ***
[debug] "POST" request for "api/router" from "127.0.0.1"
[debug] Path is "api/router"
[debug] I would have deserialized, but there was nothing in the body!
[debug] Serializing with Catalyst::Action::Serialize::JSON
[debug] Serializing with Catalyst::Action::Serialize::JSON
[debug] Response Code: 200; Content-Type: application/json; Content-Length: 85
[info] Request took 0.011125s (89.888/s)
.------------------------------------------------------------+-----------.
| Action | Time |
+------------------------------------------------------------+-----------+
| /api/begin | 0.000645s |
| /api/router | 0.004964s |
| /rest/begin | 0.000307s |
| /rest/object | 0.000174s |
| /object_PUT | 0.000241s |
| /rest/end | 0.001322s |
| /api/end | 0.000836s |
'------------------------------------------------------------+-----------'
[info] *** Request 12 (4.000/s) [2925] [Tue Nov 30 22:38:34 2010] ***
[debug] "POST" request for "api/router" from "127.0.0.1"
[debug] Path is "api/router"
[debug] I would have deserialized, but there was nothing in the body!
[debug] Serializing with Catalyst::Action::Serialize::JSON
[debug] Serializing with Catalyst::Action::Serialize::JSON
[debug] Response Code: 200; Content-Type: application/json; Content-Length: 87
[info] Request took 0.011052s (90.481/s)
.------------------------------------------------------------+-----------.
| Action | Time |
+------------------------------------------------------------+-----------+
| /api/begin | 0.000675s |
| /api/router | 0.004903s |
| /rest/begin | 0.000298s |
| /rest/object | 0.000106s |
| /object_DELETE | 0.000242s |
| /rest/end | 0.001284s |
| /api/end | 0.000731s |
'------------------------------------------------------------+-----------'
[info] *** Request 13 (4.333/s) [2925] [Tue Nov 30 22:38:34 2010] ***
[debug] "POST" request for "api/router" from "127.0.0.1"
[debug] Body Parameters are:
.-------------------------------------+--------------------------------------.
| Parameter | Value |
+-------------------------------------+--------------------------------------+
| extAction | User |
| extMethod | create |
| extTID | 6 |
| extType | rpc |
| name | testuser |
| password | foobar |
'-------------------------------------+--------------------------------------'
[debug] Path is "api/router"
[debug] I would have deserialized, but there was nothing in the body!
[debug] I would have deserialized, but there was nothing in the body!
[debug] Calling default resultset method extjs_rest_user
[debug] Loading form t/root/forms/user.yml
[debug] Serializing with Catalyst::Action::Serialize::JSON
[debug] Serializing with Catalyst::Action::Serialize::JSON
[debug] Response Code: 200; Content-Type: application/json; Content-Length: 138
[info] Request took 0.719702s (1.389/s)
.------------------------------------------------------------+-----------.
| Action | Time |
+------------------------------------------------------------+-----------+
| /api/begin | 0.000573s |
| /api/router | 0.713265s |
| /user/begin | 0.013480s |
| /user/object | 0.676954s |
| -> /user/object_POST | 0.268092s |
| /user/end | 0.018548s |
| /api/end | 0.001267s |
'------------------------------------------------------------+-----------'
[info] *** Request 14 (3.500/s) [2925] [Tue Nov 30 22:38:35 2010] ***
[debug] "POST" request for "api/router" from "127.0.0.1"
[debug] Path is "api/router"
[debug] I would have deserialized, but there was nothing in the body!
[debug] Loading form t/root/lists/user.yml
[debug] found configuration file for parameters
[debug] Calling resultset method extjs_rest_user
[debug] Serializing with Catalyst::Action::Serialize::JSON
[debug] Serializing with Catalyst::Action::Serialize::JSON
[debug] Response Code: 200; Content-Type: application/json; Content-Length: 394
[info] Request took 0.819015s (1.221/s)
.------------------------------------------------------------+-----------.
| Action | Time |
+------------------------------------------------------------+-----------+
| /api/begin | 0.001167s |
| /api/router | 0.811991s |
| /user/begin | 0.000357s |
| /user/list | 0.806626s |
| /user/end | 0.002020s |
| /api/end | 0.001141s |
'------------------------------------------------------------+-----------'
[info] *** Request 15 (3.000/s) [2925] [Tue Nov 30 22:38:36 2010] ***
[debug] "POST" request for "api/router" from "127.0.0.1"
[debug] Path is "api/router"
[debug] Loading form t/root/lists/user.yml
[debug] found configuration file for parameters
[debug] Calling resultset method extjs_rest_user
[debug] Serializing with Catalyst::Action::Serialize::JSON
[debug] Serializing with Catalyst::Action::Serialize::JSON
[debug] Response Code: 200; Content-Type: application/json; Content-Length: 394
[info] Request took 0.073836s (13.544/s)
.------------------------------------------------------------+-----------.
| Action | Time |
+------------------------------------------------------------+-----------+
| /api/begin | 0.001023s |
| /api/router | 0.066998s |
| /user/begin | 0.000254s |
| /user/object | 0.061994s |
| -> /user/list | 0.045179s |
| /user/end | 0.001733s |
| /api/end | 0.000909s |
'------------------------------------------------------------+-----------'
[info] *** Request 16 (3.200/s) [2925] [Tue Nov 30 22:38:36 2010] ***
[debug] "POST" request for "api/router" from "127.0.0.1"
[debug] Body Parameters are:
.-------------------------------------+--------------------------------------.
| Parameter | Value |
+-------------------------------------+--------------------------------------+
| extAction | User |
| extMethod | update |
| extTID | 6 |
| extType | rpc |
| extUpload | true |
| id | 1 |
| name | testuser |
| password | foobar2 |
'-------------------------------------+--------------------------------------'
[debug] Path is "api/router"
[debug] I would have deserialized, but there was nothing in the body!
[debug] Calling default resultset method extjs_rest_user
[debug] Loading form t/root/forms/user.yml
[debug] Serializing with Catalyst::Action::Serialize::JSON
[debug] Serializing with Catalyst::Action::Serialize::JSON
[debug] Response Code: 200; Content-Type: application/json; Content-Length: 141
[info] Request took 0.052542s (19.032/s)
.------------------------------------------------------------+-----------.
| Action | Time |
+------------------------------------------------------------+-----------+
| /api/begin | 0.000575s |
| /api/router | 0.045687s |
| /user/begin | 0.000483s |
| /user/object | 0.040093s |
| -> /user/object_PUT | 0.019717s |
| /user/end | 0.001468s |
| /api/end | 0.000712s |
'------------------------------------------------------------+-----------'
[info] *** Request 17 (3.400/s) [2925] [Tue Nov 30 22:38:36 2010] ***
[debug] "POST" request for "api/router" from "127.0.0.1"
[debug] Body Parameters are:
.-------------------------------------+--------------------------------------.
| Parameter | Value |
+-------------------------------------+--------------------------------------+
| extAction | User |
| extMethod | update |
| extTID | 6 |
| extType | rpc |
| id | 1 |
| name | testuser |
| password | foobar2 |
'-------------------------------------+--------------------------------------'
[debug] Path is "api/router"
[debug] I would have deserialized, but there was nothing in the body!
[debug] I would have deserialized, but there was nothing in the body!
[debug] Calling default resultset method extjs_rest_user
[debug] Loading form t/root/forms/user.yml
[debug] Serializing with Catalyst::Action::Serialize::JSON
[debug] Serializing with Catalyst::Action::Serialize::JSON
[debug] Response Code: 200; Content-Type: application/json; Content-Length: 141
[info] Request took 0.041953s (23.836/s)
.------------------------------------------------------------+-----------.
| Action | Time |
+------------------------------------------------------------+-----------+
| /api/begin | 0.000512s |
| /api/router | 0.036686s |
| /user/begin | 0.000319s |
| /user/object | 0.032199s |
| -> /user/object_PUT | 0.013189s |
| /user/end | 0.001445s |
| /api/end | 0.000660s |
'------------------------------------------------------------+-----------'
[info] *** Request 18 (3.600/s) [2925] [Tue Nov 30 22:38:36 2010] ***
[debug] "POST" request for "api/router" from "127.0.0.1"
[debug] Path is "api/router"
[debug] I would have deserialized, but there was nothing in the body!
[debug] Loading form t/root/lists/user.yml
[debug] found configuration file for parameters
[debug] Calling resultset method extjs_rest_user
[debug] Serializing with Catalyst::Action::Serialize::JSON
[debug] Serializing with Catalyst::Action::Serialize::JSON
[debug] Response Code: 200; Content-Type: application/json; Content-Length: 395
[info] Request took 0.056443s (17.717/s)
.------------------------------------------------------------+-----------.
| Action | Time |
+------------------------------------------------------------+-----------+
| /api/begin | 0.000588s |
| /api/router | 0.050492s |
| /user/begin | 0.000303s |
| /user/list | 0.045536s |
| /user/end | 0.001774s |
| /api/end | 0.000947s |
'------------------------------------------------------------+-----------'
[info] *** Request 19 (3.800/s) [2925] [Tue Nov 30 22:38:36 2010] ***
[debug] "POST" request for "api/router" from "127.0.0.1"
[debug] Path is "api/router"
[debug] I would have deserialized, but there was nothing in the body!
[debug] Calling default resultset method extjs_rest_user
[debug] Loading form t/root/forms/user.yml
[debug] Serializing with Catalyst::Action::Serialize::JSON
[debug] Serializing with Catalyst::Action::Serialize::JSON
[debug] Response Code: 200; Content-Type: application/json; Content-Length: 129
[info] Request took 0.041239s (24.249/s)
.------------------------------------------------------------+-----------.
| Action | Time |
+------------------------------------------------------------+-----------+
| /api/begin | 0.000790s |
| /api/router | 0.034309s |
| /user/begin | 0.000467s |
| /user/object | 0.028828s |
| -> /user/object_DELETE | 0.006348s |
| /user/end | 0.001640s |
| /api/end | 0.000857s |
'------------------------------------------------------------+-----------'
[info] *** Request 20 (4.000/s) [2925] [Tue Nov 30 22:38:36 2010] ***
[debug] "POST" request for "api/router" from "127.0.0.1"
[debug] Path is "api/router"
[debug] I would have deserialized, but there was nothing in the body!
[debug] Loading form t/root/lists/user.yml
[debug] found configuration file for parameters
[debug] Calling resultset method extjs_rest_user
[debug] Serializing with Catalyst::Action::Serialize::JSON
[debug] Serializing with Catalyst::Action::Serialize::JSON
[debug] Response Code: 200; Content-Type: application/json; Content-Length: 348
[info] Request took 0.053499s (18.692/s)
.------------------------------------------------------------+-----------.
| Action | Time |
+------------------------------------------------------------+-----------+
| /api/begin | 0.000746s |
| /api/router | 0.046866s |
| /user/begin | 0.000381s |
| /user/list | 0.041393s |
| /user/end | 0.002024s |
| /api/end | 0.000842s |
'------------------------------------------------------------+-----------'
t/direct/router.t ............. ok
[debug] Debug messages enabled
[debug] Statistics enabled
[debug] Loaded dispatcher "Catalyst::Dispatcher"
[debug] Loaded engine "Catalyst::Engine::CGI"
[debug] Found home "/export/home/cpant2/.cpan/build/CatalystX-ExtJS-1.123000-4ZU0cO/t/lib/MyApp"
[debug] Loaded components:
.-----------------------------------------------------------------+----------.
| Class | Type |
+-----------------------------------------------------------------+----------+
| MyApp::Controller::API | instance |
| MyApp::Controller::Artist | instance |
| MyApp::Controller::Calculator | instance |
| MyApp::Controller::FindOrDefault | instance |
| MyApp::Controller::ForBrowser | instance |
| MyApp::Controller::ForBrowsers | instance |
| MyApp::Controller::JSON | instance |
| MyApp::Controller::Nested::Controller | instance |
| MyApp::Controller::REST | instance |
| MyApp::Controller::RequestClass | instance |
| MyApp::Controller::SkipEnd | instance |
| MyApp::Controller::User | instance |
| MyApp::Model::DBIC | instance |
| MyApp::Model::DBIC::FindOrDefault | class |
| MyApp::Model::DBIC::SkipEnd | class |
| MyApp::Model::DBIC::User | class |
| MyApp::View::JSON | instance |
| MyApp::View::TT | instance |
'-----------------------------------------------------------------+----------'
[debug] Loaded Private actions:
.----------------------+--------------------------------------+--------------.
| Private | Class | Method |
+----------------------+--------------------------------------+--------------+
| /api/src | MyApp::Controller::API | src |
| /api/router | MyApp::Controller::API | router |
| /api/end | MyApp::Controller::API | end |
| /api/index | MyApp::Controller::API | index |
| /api/begin | MyApp::Controller::API | begin |
| /findordefault/base | MyApp::Controller::FindOrDefault | base |
| /findordefault/obje- | MyApp::Controller::FindOrDefault | object |
| ct | | |
| /findordefault/obje- | MyApp::Controller::FindOrDefault | object_DELE- |
| ct_DELETE | | TE |
| /findordefault/obje- | MyApp::Controller::FindOrDefault | object_POST |
| ct_POST | | |
| /findordefault/obje- | MyApp::Controller::FindOrDefault | object_GET |
| ct_GET | | |
| /findordefault/obje- | MyApp::Controller::FindOrDefault | object_PUT |
| ct_PUT | | |
| /findordefault/end | MyApp::Controller::FindOrDefault | end |
| /findordefault/begin | MyApp::Controller::FindOrDefault | begin |
| /findordefault/list | MyApp::Controller::FindOrDefault | list |
| /calc/add | MyApp::Controller::Calculator | add |
| /calc/subtract | MyApp::Controller::Calculator | subtract |
| /calc/upload | MyApp::Controller::Calculator | upload |
| /calc/add_to | MyApp::Controller::Calculator | add_to |
| /json/index | MyApp::Controller::JSON | index |
| /forbrowsers/base | MyApp::Controller::ForBrowsers | base |
| /forbrowsers/object | MyApp::Controller::ForBrowsers | object |
| /forbrowsers/object- | MyApp::Controller::ForBrowsers | object_DELE- |
| _DELETE | | TE |
| /forbrowsers/object- | MyApp::Controller::ForBrowsers | object_POST |
| _POST | | |
| /forbrowsers/object- | MyApp::Controller::ForBrowsers | object_GET |
| _GET | | |
| /forbrowsers/object- | MyApp::Controller::ForBrowsers | object_PUT |
| _PUT | | |
| /forbrowsers/end | MyApp::Controller::ForBrowsers | end |
| /forbrowsers/begin | MyApp::Controller::ForBrowsers | begin |
| /forbrowsers/list | MyApp::Controller::ForBrowsers | list |
| /rest/object | MyApp::Controller::REST | object |
| /rest/begin | MyApp::Controller::REST | begin |
| /rest/end | MyApp::Controller::REST | end |
| /nested/controller/- | MyApp::Controller::Nested::Controll- | index |
| index | er | |
| /skipend/load_form | MyApp::Controller::SkipEnd | load_form |
| /skipend/object | MyApp::Controller::SkipEnd | object |
| /skipend/object_GET | MyApp::Controller::SkipEnd | object_GET |
| /skipend/object_PUT | MyApp::Controller::SkipEnd | object_PUT |
| /skipend/begin | MyApp::Controller::SkipEnd | begin |
| /skipend/list | MyApp::Controller::SkipEnd | list |
| /skipend/base | MyApp::Controller::SkipEnd | base |
| /skipend/object_POST | MyApp::Controller::SkipEnd | object_POST |
| /skipend/object_DEL- | MyApp::Controller::SkipEnd | object_DELE- |
| ETE | | TE |
| /skipend/end | MyApp::Controller::SkipEnd | end |
| /skipend/edit_record | MyApp::Controller::SkipEnd | edit_record |
| /forbrowser/base | MyApp::Controller::ForBrowser | base |
| /forbrowser/object | MyApp::Controller::ForBrowser | object |
| /forbrowser/object_- | MyApp::Controller::ForBrowser | object_DELE- |
| DELETE | | TE |
| /forbrowser/object_- | MyApp::Controller::ForBrowser | object_POST |
| POST | | |
| /forbrowser/object_- | MyApp::Controller::ForBrowser | object_GET |
| GET | | |
| /forbrowser/object_- | MyApp::Controller::ForBrowser | object_PUT |
| PUT | | |
| /forbrowser/end | MyApp::Controller::ForBrowser | end |
| /forbrowser/begin | MyApp::Controller::ForBrowser | begin |
| /forbrowser/list | MyApp::Controller::ForBrowser | list |
| /requestclass/params | MyApp::Controller::RequestClass | params |
| /requestclass/reque- | MyApp::Controller::RequestClass | request_cla- |
| st_class | | ss |
| /user/base | MyApp::Controller::User | base |
| /user/object | MyApp::Controller::User | object |
| /user/object_DELETE | MyApp::Controller::User | object_DELE- |
| | | TE |
| /user/object_POST | MyApp::Controller::User | object_POST |
| /user/object_GET | MyApp::Controller::User | object_GET |
| /user/object_PUT | MyApp::Controller::User | object_PUT |
| /user/end | MyApp::Controller::User | end |
| /user/add_to_group | MyApp::Controller::User | add_to_group |
| /user/begin | MyApp::Controller::User | begin |
| /user/list | MyApp::Controller::User | list |
'----------------------+--------------------------------------+--------------'
[debug] Loaded Path actions:
.-------------------------------------+--------------------------------------.
| Path | Private |
+-------------------------------------+--------------------------------------+
| /api | /api/index |
| /api/router | /api/router |
| /api/src | /api/src |
| /calc | /calc/upload |
| /calc | /calc/add |
| /calc/subtract | /calc/subtract |
| /nested/controller/index | /nested/controller/index |
| /requestclass/params | /requestclass/params |
| /requestclass/request_class | /requestclass/request_class |
'-------------------------------------+--------------------------------------'
[debug] Loaded Chained actions:
.-------------------------------------+--------------------------------------.
| Path Spec | Private |
+-------------------------------------+--------------------------------------+
| /add/*/to/* | /calc/add (1) |
| | => /calc/add_to |
| /findordefaults/... | /findordefault/list |
| /findordefault/... | /findordefault/object |
| /forbrowsers/... | /forbrowser/list |
| /forbrowser/... | /forbrowser/object |
| /forbrowser/... | /forbrowsers/list |
| /forbrowsers/... | /forbrowsers/object |
| /rest/object/* | /rest/object |
| /skipend/form/edit_record | /skipend/load_form (0) |
| | => /skipend/edit_record |
| /skipends/... | /skipend/list |
| /skipend/... | /skipend/object |
| /user/*/add_to_group/* | /user/base (1) |
| | => /user/add_to_group |
| /users/... | /user/list |
| /user/... | /user/object |
'-------------------------------------+--------------------------------------'
[info] Application powered by Catalyst 5.80029
[info] *** Request 1 (0.250/s) [2926] [Tue Nov 30 22:38:44 2010] ***
[debug] "POST" request for "api/router" from "127.0.0.1"
[debug] Path is "api/router"
[debug] I would have deserialized, but there was nothing in the body!
[debug] Calling default resultset method extjs_rest_user
[debug] Loading form t/root/forms/user.yml
[debug] Serializing with Catalyst::Action::Serialize::JSON
[debug] I would have deserialized, but there was nothing in the body!
[debug] Calling default resultset method extjs_rest_user
[debug] Loading form t/root/forms/user.yml
[debug] Serializing with Catalyst::Action::Serialize::JSON
[debug] I would have deserialized, but there was nothing in the body!
[debug] Calling default resultset method extjs_rest_user
[debug] Loading form t/root/forms/user.yml
[debug] Serializing with Catalyst::Action::Serialize::JSON
[debug] Serializing with Catalyst::Action::Serialize::JSON
[debug] Response Code: 200; Content-Type: application/json; Content-Length: 370
[info] Request took 0.682631s (1.465/s)
.------------------------------------------------------------+-----------.
| Action | Time |
+------------------------------------------------------------+-----------+
| /api/begin | 0.027327s |
| /api/router | 0.632354s |
| /user/begin | 0.012806s |
| /user/object | 0.457330s |
| -> /user/object_POST | 0.221125s |
| /user/end | 0.035922s |
| /user/begin | 0.000934s |
| /user/object | 0.056442s |
| -> /user/object_POST | 0.035527s |
| /user/end | 0.001672s |
| /user/begin | 0.000498s |
| /user/object | 0.051815s |
| -> /user/object_POST | 0.032046s |
| /user/end | 0.003600s |
| /api/end | 0.016824s |
'------------------------------------------------------------+-----------'
[info] *** Request 2 (0.400/s) [2926] [Tue Nov 30 22:38:45 2010] ***
[debug] "POST" request for "api/router" from "127.0.0.1"
[debug] Path is "api/router"
[debug] I would have deserialized, but there was nothing in the body!
[debug] Loading form t/root/lists/user.yml
[debug] found configuration file for parameters
[debug] Calling resultset method extjs_rest_user
[debug] Serializing with Catalyst::Action::Serialize::JSON
[debug] Serializing with Catalyst::Action::Serialize::JSON
[debug] Response Code: 200; Content-Type: application/json; Content-Length: 452
[info] Request took 0.655522s (1.526/s)
.------------------------------------------------------------+-----------.
| Action | Time |
+------------------------------------------------------------+-----------+
| /api/begin | 0.000698s |
| /api/router | 0.649120s |
| /user/begin | 0.000371s |
| /user/list | 0.643830s |
| /user/end | 0.001914s |
| /api/end | 0.000960s |
'------------------------------------------------------------+-----------'
[info] *** Request 3 (0.600/s) [2926] [Tue Nov 30 22:38:45 2010] ***
[debug] "POST" request for "api/router" from "127.0.0.1"
[debug] Path is "api/router"
[debug] I would have deserialized, but there was nothing in the body!
[debug] Loading form t/root/lists/user.yml
[debug] found configuration file for parameters
[debug] Calling resultset method extjs_rest_user
[debug] Serializing with Catalyst::Action::Serialize::JSON
[debug] Serializing with Catalyst::Action::Serialize::JSON
[debug] Response Code: 200; Content-Type: application/json; Content-Length: 382
[info] Request took 0.055868s (17.899/s)
.------------------------------------------------------------+-----------.
| Action | Time |
+------------------------------------------------------------+-----------+
| /api/begin | 0.001047s |
| /api/router | 0.049020s |
| /user/begin | 0.000379s |
| /user/list | 0.044394s |
| /user/end | 0.001519s |
| /api/end | 0.000745s |
'------------------------------------------------------------+-----------'
[info] *** Request 4 (0.800/s) [2926] [Tue Nov 30 22:38:45 2010] ***
[debug] "POST" request for "api/router" from "127.0.0.1"
[debug] Path is "api/router"
[debug] I would have deserialized, but there was nothing in the body!
[debug] Loading form t/root/lists/user.yml
[debug] found configuration file for parameters
[debug] Calling resultset method extjs_rest_user
[debug] Calling resultset method none
[debug] Serializing with Catalyst::Action::Serialize::JSON
[debug] Serializing with Catalyst::Action::Serialize::JSON
[debug] Response Code: 200; Content-Type: application/json; Content-Length: 348
[info] Request took 0.050477s (19.811/s)
.------------------------------------------------------------+-----------.
| Action | Time |
+------------------------------------------------------------+-----------+
| /api/begin | 0.000593s |
| /api/router | 0.044538s |
| /user/begin | 0.000296s |
| /user/list | 0.039915s |
| /user/end | 0.001620s |
| /api/end | 0.000838s |
'------------------------------------------------------------+-----------'
Use of uninitialized value in join or string at /export/home/cpant2/.cpan/build/CatalystX-ExtJS-1.123000-4ZU0cO/blib/lib/CatalystX/Controller/ExtJS/REST.pm line 237.
Use of uninitialized value in join or string at /export/home/cpant2/.cpan/build/CatalystX-ExtJS-1.123000-4ZU0cO/blib/lib/CatalystX/Controller/ExtJS/REST.pm line 237.
[info] *** Request 5 (1.000/s) [2926] [Tue Nov 30 22:38:45 2010] ***
[debug] "POST" request for "api/router" from "127.0.0.1"
[debug] Path is "api/router"
[debug] I would have deserialized, but there was nothing in the body!
[debug] Loading form t/root/lists/user.yml
[debug] found configuration file for parameters
[debug] Calling resultset method extjs_rest_user
[debug] Calling resultset method foo with arguments ''
[debug] Calling resultset method not with arguments '1'
[debug] Calling resultset method not with arguments '2'
[debug] Calling resultset method not with arguments '3'
[debug] Calling resultset method not with arguments ''
[debug] Serializing with Catalyst::Action::Serialize::JSON
[debug] Serializing with Catalyst::Action::Serialize::JSON
[debug] Response Code: 200; Content-Type: application/json; Content-Length: 348
[info] Request took 0.057934s (17.261/s)
.------------------------------------------------------------+-----------.
| Action | Time |
+------------------------------------------------------------+-----------+
| /api/begin | 0.000675s |
| /api/router | 0.051740s |
| /user/begin | 0.000372s |
| /user/list | 0.046747s |
| /user/end | 0.001647s |
| /api/end | 0.000759s |
'------------------------------------------------------------+-----------'
[info] *** Request 6 (1.200/s) [2926] [Tue Nov 30 22:38:45 2010] ***
[debug] "POST" request for "api/router" from "127.0.0.1"
[debug] Path is "api/router"
[debug] I would have deserialized, but there was nothing in the body!
[debug] Calling default resultset method extjs_rest_user
[debug] Loading form t/root/forms/user.yml
[debug] Serializing with Catalyst::Action::Serialize::JSON
[debug] Serializing with Catalyst::Action::Serialize::JSON
[debug] Response Code: 200; Content-Type: application/json; Content-Length: 129
[info] Request took 0.041933s (23.848/s)
.------------------------------------------------------------+-----------.
| Action | Time |
+------------------------------------------------------------+-----------+
| /api/begin | 0.000729s |
| /api/router | 0.034830s |
| /user/begin | 0.000402s |
| /user/object | 0.029106s |
| -> /user/object_DELETE | 0.007071s |
| /user/end | 0.002115s |
| /api/end | 0.000791s |
'------------------------------------------------------------+-----------'
[info] *** Request 7 (1.167/s) [2926] [Tue Nov 30 22:38:46 2010] ***
[debug] "POST" request for "api/router" from "127.0.0.1"
[debug] Path is "api/router"
[debug] I would have deserialized, but there was nothing in the body!
[debug] Loading form t/root/lists/user.yml
[debug] found configuration file for parameters
[debug] Calling resultset method extjs_rest_user
[debug] Serializing with Catalyst::Action::Serialize::JSON
[debug] Serializing with Catalyst::Action::Serialize::JSON
[debug] Response Code: 200; Content-Type: application/json; Content-Length: 417
[info] Request took 0.057112s (17.509/s)
.------------------------------------------------------------+-----------.
| Action | Time |
+------------------------------------------------------------+-----------+
| /api/begin | 0.000724s |
| /api/router | 0.050633s |
| /user/begin | 0.000359s |
| /user/list | 0.045340s |
| /user/end | 0.001633s |
| /api/end | 0.000782s |
'------------------------------------------------------------+-----------'
[info] *** Request 8 (1.333/s) [2926] [Tue Nov 30 22:38:46 2010] ***
[debug] "POST" request for "api/router" from "127.0.0.1"
[debug] Path is "api/router"
[debug] I would have deserialized, but there was nothing in the body!
[debug] Calling default resultset method extjs_rest_user
[debug] Loading form t/root/forms/user.yml
[debug] Serializing with Catalyst::Action::Serialize::JSON
[debug] I would have deserialized, but there was nothing in the body!
[debug] Calling default resultset method extjs_rest_user
[debug] Loading form t/root/forms/user.yml
[debug] Serializing with Catalyst::Action::Serialize::JSON
[debug] Serializing with Catalyst::Action::Serialize::JSON
[debug] Response Code: 200; Content-Type: application/json; Content-Length: 261
[info] Request took 0.070220s (14.241/s)
.------------------------------------------------------------+-----------.
| Action | Time |
+------------------------------------------------------------+-----------+
| /api/begin | 0.000694s |
| /api/router | 0.063776s |
| /user/begin | 0.000383s |
| /user/object | 0.027247s |
| -> /user/object_DELETE | 0.004527s |
| /user/end | 0.001830s |
| /user/begin | 0.000458s |
| /user/object | 0.026339s |
| -> /user/object_DELETE | 0.004332s |
| /user/end | 0.001476s |
| /api/end | 0.000798s |
'------------------------------------------------------------+-----------'
[info] *** Request 9 (1.500/s) [2926] [Tue Nov 30 22:38:46 2010] ***
[debug] "POST" request for "api/router" from "127.0.0.1"
[debug] Path is "api/router"
[debug] I would have deserialized, but there was nothing in the body!
[debug] Loading form t/root/lists/user.yml
[debug] found configuration file for parameters
[debug] Calling resultset method extjs_rest_user
[debug] Serializing with Catalyst::Action::Serialize::JSON
[debug] Serializing with Catalyst::Action::Serialize::JSON
[debug] Response Code: 200; Content-Type: application/json; Content-Length: 348
[info] Request took 0.052029s (19.220/s)
.------------------------------------------------------------+-----------.
| Action | Time |
+------------------------------------------------------------+-----------+
| /api/begin | 0.000649s |
| /api/router | 0.046027s |
| /user/begin | 0.000393s |
| /user/list | 0.041021s |
| /user/end | 0.001609s |
| /api/end | 0.000773s |
'------------------------------------------------------------+-----------'
t/direct/router/rest_extjs.t .. ok
t/pod.t ....................... ok
t/release-distmeta.t .......... skipped: these tests are for release candidate testing
t/release-has-version.t ....... skipped: these tests are for release candidate testing
t/release-kwalitee.t .......... skipped: these tests are for release candidate testing
t/release-minimum-version.t ... skipped: these tests are for release candidate testing
t/release-pod-coverage.t ...... skipped: these tests are for release candidate testing
t/release-pod-syntax.t ........ skipped: these tests are for release candidate testing
t/release-portability.t ....... skipped: these tests are for release candidate testing
t/release-unused-vars.t ....... skipped: these tests are for release candidate testing
[debug] Debug messages enabled
[debug] Statistics enabled
[debug] Loaded dispatcher "Catalyst::Dispatcher"
[debug] Loaded engine "Catalyst::Engine::CGI"
[debug] Found home "/export/home/cpant2/.cpan/build/CatalystX-ExtJS-1.123000-4ZU0cO/t/lib/MyApp"
[debug] Loaded components:
.-----------------------------------------------------------------+----------.
| Class | Type |
+-----------------------------------------------------------------+----------+
| MyApp::Controller::API | instance |
| MyApp::Controller::Artist | instance |
| MyApp::Controller::Calculator | instance |
| MyApp::Controller::FindOrDefault | instance |
| MyApp::Controller::ForBrowser | instance |
| MyApp::Controller::ForBrowsers | instance |
| MyApp::Controller::JSON | instance |
| MyApp::Controller::Nested::Controller | instance |
| MyApp::Controller::REST | instance |
| MyApp::Controller::RequestClass | instance |
| MyApp::Controller::SkipEnd | instance |
| MyApp::Controller::User | instance |
| MyApp::Model::DBIC | instance |
| MyApp::Model::DBIC::FindOrDefault | class |
| MyApp::Model::DBIC::SkipEnd | class |
| MyApp::Model::DBIC::User | class |
| MyApp::View::JSON | instance |
| MyApp::View::TT | instance |
'-----------------------------------------------------------------+----------'
[debug] Loaded Private actions:
.----------------------+--------------------------------------+--------------.
| Private | Class | Method |
+----------------------+--------------------------------------+--------------+
| /api/src | MyApp::Controller::API | src |
| /api/router | MyApp::Controller::API | router |
| /api/end | MyApp::Controller::API | end |
| /api/index | MyApp::Controller::API | index |
| /api/begin | MyApp::Controller::API | begin |
| /findordefault/base | MyApp::Controller::FindOrDefault | base |
| /findordefault/obje- | MyApp::Controller::FindOrDefault | object |
| ct | | |
| /findordefault/obje- | MyApp::Controller::FindOrDefault | object_DELE- |
| ct_DELETE | | TE |
| /findordefault/obje- | MyApp::Controller::FindOrDefault | object_POST |
| ct_POST | | |
| /findordefault/obje- | MyApp::Controller::FindOrDefault | object_GET |
| ct_GET | | |
| /findordefault/obje- | MyApp::Controller::FindOrDefault | object_PUT |
| ct_PUT | | |
| /findordefault/end | MyApp::Controller::FindOrDefault | end |
| /findordefault/begin | MyApp::Controller::FindOrDefault | begin |
| /findordefault/list | MyApp::Controller::FindOrDefault | list |
| /calc/add | MyApp::Controller::Calculator | add |
| /calc/subtract | MyApp::Controller::Calculator | subtract |
| /calc/upload | MyApp::Controller::Calculator | upload |
| /calc/add_to | MyApp::Controller::Calculator | add_to |
| /json/index | MyApp::Controller::JSON | index |
| /forbrowsers/base | MyApp::Controller::ForBrowsers | base |
| /forbrowsers/object | MyApp::Controller::ForBrowsers | object |
| /forbrowsers/object- | MyApp::Controller::ForBrowsers | object_DELE- |
| _DELETE | | TE |
| /forbrowsers/object- | MyApp::Controller::ForBrowsers | object_POST |
| _POST | | |
| /forbrowsers/object- | MyApp::Controller::ForBrowsers | object_GET |
| _GET | | |
| /forbrowsers/object- | MyApp::Controller::ForBrowsers | object_PUT |
| _PUT | | |
| /forbrowsers/end | MyApp::Controller::ForBrowsers | end |
| /forbrowsers/begin | MyApp::Controller::ForBrowsers | begin |
| /forbrowsers/list | MyApp::Controller::ForBrowsers | list |
| /rest/object | MyApp::Controller::REST | object |
| /rest/begin | MyApp::Controller::REST | begin |
| /rest/end | MyApp::Controller::REST | end |
| /nested/controller/- | MyApp::Controller::Nested::Controll- | index |
| index | er | |
| /skipend/load_form | MyApp::Controller::SkipEnd | load_form |
| /skipend/object | MyApp::Controller::SkipEnd | object |
| /skipend/object_GET | MyApp::Controller::SkipEnd | object_GET |
| /skipend/object_PUT | MyApp::Controller::SkipEnd | object_PUT |
| /skipend/begin | MyApp::Controller::SkipEnd | begin |
| /skipend/list | MyApp::Controller::SkipEnd | list |
| /skipend/base | MyApp::Controller::SkipEnd | base |
| /skipend/object_POST | MyApp::Controller::SkipEnd | object_POST |
| /skipend/object_DEL- | MyApp::Controller::SkipEnd | object_DELE- |
| ETE | | TE |
| /skipend/end | MyApp::Controller::SkipEnd | end |
| /skipend/edit_record | MyApp::Controller::SkipEnd | edit_record |
| /forbrowser/base | MyApp::Controller::ForBrowser | base |
| /forbrowser/object | MyApp::Controller::ForBrowser | object |
| /forbrowser/object_- | MyApp::Controller::ForBrowser | object_DELE- |
| DELETE | | TE |
| /forbrowser/object_- | MyApp::Controller::ForBrowser | object_POST |
| POST | | |
| /forbrowser/object_- | MyApp::Controller::ForBrowser | object_GET |
| GET | | |
| /forbrowser/object_- | MyApp::Controller::ForBrowser | object_PUT |
| PUT | | |
| /forbrowser/end | MyApp::Controller::ForBrowser | end |
| /forbrowser/begin | MyApp::Controller::ForBrowser | begin |
| /forbrowser/list | MyApp::Controller::ForBrowser | list |
| /requestclass/params | MyApp::Controller::RequestClass | params |
| /requestclass/reque- | MyApp::Controller::RequestClass | request_cla- |
| st_class | | ss |
| /user/base | MyApp::Controller::User | base |
| /user/object | MyApp::Controller::User | object |
| /user/object_DELETE | MyApp::Controller::User | object_DELE- |
| | | TE |
| /user/object_POST | MyApp::Controller::User | object_POST |
| /user/object_GET | MyApp::Controller::User | object_GET |
| /user/object_PUT | MyApp::Controller::User | object_PUT |
| /user/end | MyApp::Controller::User | end |
| /user/add_to_group | MyApp::Controller::User | add_to_group |
| /user/begin | MyApp::Controller::User | begin |
| /user/list | MyApp::Controller::User | list |
'----------------------+--------------------------------------+--------------'
[debug] Loaded Path actions:
.-------------------------------------+--------------------------------------.
| Path | Private |
+-------------------------------------+--------------------------------------+
| /api | /api/index |
| /api/router | /api/router |
| /api/src | /api/src |
| /calc | /calc/upload |
| /calc | /calc/add |
| /calc/subtract | /calc/subtract |
| /nested/controller/index | /nested/controller/index |
| /requestclass/params | /requestclass/params |
| /requestclass/request_class | /requestclass/request_class |
'-------------------------------------+--------------------------------------'
[debug] Loaded Chained actions:
.-------------------------------------+--------------------------------------.
| Path Spec | Private |
+-------------------------------------+--------------------------------------+
| /add/*/to/* | /calc/add (1) |
| | => /calc/add_to |
| /findordefaults/... | /findordefault/list |
| /findordefault/... | /findordefault/object |
| /forbrowsers/... | /forbrowser/list |
| /forbrowser/... | /forbrowser/object |
| /forbrowser/... | /forbrowsers/list |
| /forbrowsers/... | /forbrowsers/object |
| /rest/object/* | /rest/object |
| /skipend/form/edit_record | /skipend/load_form (0) |
| | => /skipend/edit_record |
| /skipends/... | /skipend/list |
| /skipend/... | /skipend/object |
| /user/*/add_to_group/* | /user/base (1) |
| | => /user/add_to_group |
| /users/... | /user/list |
| /user/... | /user/object |
'-------------------------------------+--------------------------------------'
[info] Application powered by Catalyst 5.80029
[info] *** Request 1 (0.500/s) [2936] [Tue Nov 30 22:38:55 2010] ***
[debug] "GET" request for "findordefault/nonsense" from "127.0.0.1"
[debug] Path is "/findordefault/object"
[debug] Arguments are "nonsense"
[debug] Default resultset method extjs_rest_findordefault cannot be found
[debug] Loading form t/root/forms/findordefault.yml
[debug] Serializing with Catalyst::Action::Serialize::JSON
[debug] Response Code: 200; Content-Type: application/json; Content-Length: 75
[info] Request took 0.502576s (1.990/s)
.------------------------------------------------------------+-----------.
| Action | Time |
+------------------------------------------------------------+-----------+
| /findordefault/begin | 0.000796s |
| /findordefault/object | 0.465054s |
| -> /findordefault/object_GET | 0.144762s |
| /findordefault/end | 0.031032s |
'------------------------------------------------------------+-----------'
t/rest/findordefault.t ........ ok
[debug] Debug messages enabled
[debug] Statistics enabled
[debug] Loaded dispatcher "Catalyst::Dispatcher"
[debug] Loaded engine "Catalyst::Engine::CGI"
[debug] Found home "/export/home/cpant2/.cpan/build/CatalystX-ExtJS-1.123000-4ZU0cO/t/lib/MyApp"
[debug] Loaded components:
.-----------------------------------------------------------------+----------.
| Class | Type |
+-----------------------------------------------------------------+----------+
| MyApp::Controller::API | instance |
| MyApp::Controller::Artist | instance |
| MyApp::Controller::Calculator | instance |
| MyApp::Controller::FindOrDefault | instance |
| MyApp::Controller::ForBrowser | instance |
| MyApp::Controller::ForBrowsers | instance |
| MyApp::Controller::JSON | instance |
| MyApp::Controller::Nested::Controller | instance |
| MyApp::Controller::REST | instance |
| MyApp::Controller::RequestClass | instance |
| MyApp::Controller::SkipEnd | instance |
| MyApp::Controller::User | instance |
| MyApp::Model::DBIC | instance |
| MyApp::Model::DBIC::FindOrDefault | class |
| MyApp::Model::DBIC::SkipEnd | class |
| MyApp::Model::DBIC::User | class |
| MyApp::View::JSON | instance |
| MyApp::View::TT | instance |
'-----------------------------------------------------------------+----------'
[debug] Loaded Private actions:
.----------------------+--------------------------------------+--------------.
| Private | Class | Method |
+----------------------+--------------------------------------+--------------+
| /api/src | MyApp::Controller::API | src |
| /api/router | MyApp::Controller::API | router |
| /api/end | MyApp::Controller::API | end |
| /api/index | MyApp::Controller::API | index |
| /api/begin | MyApp::Controller::API | begin |
| /findordefault/base | MyApp::Controller::FindOrDefault | base |
| /findordefault/obje- | MyApp::Controller::FindOrDefault | object |
| ct | | |
| /findordefault/obje- | MyApp::Controller::FindOrDefault | object_DELE- |
| ct_DELETE | | TE |
| /findordefault/obje- | MyApp::Controller::FindOrDefault | object_POST |
| ct_POST | | |
| /findordefault/obje- | MyApp::Controller::FindOrDefault | object_GET |
| ct_GET | | |
| /findordefault/obje- | MyApp::Controller::FindOrDefault | object_PUT |
| ct_PUT | | |
| /findordefault/end | MyApp::Controller::FindOrDefault | end |
| /findordefault/begin | MyApp::Controller::FindOrDefault | begin |
| /findordefault/list | MyApp::Controller::FindOrDefault | list |
| /calc/add | MyApp::Controller::Calculator | add |
| /calc/subtract | MyApp::Controller::Calculator | subtract |
| /calc/upload | MyApp::Controller::Calculator | upload |
| /calc/add_to | MyApp::Controller::Calculator | add_to |
| /json/index | MyApp::Controller::JSON | index |
| /forbrowsers/base | MyApp::Controller::ForBrowsers | base |
| /forbrowsers/object | MyApp::Controller::ForBrowsers | object |
| /forbrowsers/object- | MyApp::Controller::ForBrowsers | object_DELE- |
| _DELETE | | TE |
| /forbrowsers/object- | MyApp::Controller::ForBrowsers | object_POST |
| _POST | | |
| /forbrowsers/object- | MyApp::Controller::ForBrowsers | object_GET |
| _GET | | |
| /forbrowsers/object- | MyApp::Controller::ForBrowsers | object_PUT |
| _PUT | | |
| /forbrowsers/end | MyApp::Controller::ForBrowsers | end |
| /forbrowsers/begin | MyApp::Controller::ForBrowsers | begin |
| /forbrowsers/list | MyApp::Controller::ForBrowsers | list |
| /rest/object | MyApp::Controller::REST | object |
| /rest/begin | MyApp::Controller::REST | begin |
| /rest/end | MyApp::Controller::REST | end |
| /nested/controller/- | MyApp::Controller::Nested::Controll- | index |
| index | er | |
| /skipend/load_form | MyApp::Controller::SkipEnd | load_form |
| /skipend/object | MyApp::Controller::SkipEnd | object |
| /skipend/object_GET | MyApp::Controller::SkipEnd | object_GET |
| /skipend/object_PUT | MyApp::Controller::SkipEnd | object_PUT |
| /skipend/begin | MyApp::Controller::SkipEnd | begin |
| /skipend/list | MyApp::Controller::SkipEnd | list |
| /skipend/base | MyApp::Controller::SkipEnd | base |
| /skipend/object_POST | MyApp::Controller::SkipEnd | object_POST |
| /skipend/object_DEL- | MyApp::Controller::SkipEnd | object_DELE- |
| ETE | | TE |
| /skipend/end | MyApp::Controller::SkipEnd | end |
| /skipend/edit_record | MyApp::Controller::SkipEnd | edit_record |
| /forbrowser/base | MyApp::Controller::ForBrowser | base |
| /forbrowser/object | MyApp::Controller::ForBrowser | object |
| /forbrowser/object_- | MyApp::Controller::ForBrowser | object_DELE- |
| DELETE | | TE |
| /forbrowser/object_- | MyApp::Controller::ForBrowser | object_POST |
| POST | | |
| /forbrowser/object_- | MyApp::Controller::ForBrowser | object_GET |
| GET | | |
| /forbrowser/object_- | MyApp::Controller::ForBrowser | object_PUT |
| PUT | | |
| /forbrowser/end | MyApp::Controller::ForBrowser | end |
| /forbrowser/begin | MyApp::Controller::ForBrowser | begin |
| /forbrowser/list | MyApp::Controller::ForBrowser | list |
| /requestclass/params | MyApp::Controller::RequestClass | params |
| /requestclass/reque- | MyApp::Controller::RequestClass | request_cla- |
| st_class | | ss |
| /user/base | MyApp::Controller::User | base |
| /user/object | MyApp::Controller::User | object |
| /user/object_DELETE | MyApp::Controller::User | object_DELE- |
| | | TE |
| /user/object_POST | MyApp::Controller::User | object_POST |
| /user/object_GET | MyApp::Controller::User | object_GET |
| /user/object_PUT | MyApp::Controller::User | object_PUT |
| /user/end | MyApp::Controller::User | end |
| /user/add_to_group | MyApp::Controller::User | add_to_group |
| /user/begin | MyApp::Controller::User | begin |
| /user/list | MyApp::Controller::User | list |
'----------------------+--------------------------------------+--------------'
[debug] Loaded Path actions:
.-------------------------------------+--------------------------------------.
| Path | Private |
+-------------------------------------+--------------------------------------+
| /api | /api/index |
| /api/router | /api/router |
| /api/src | /api/src |
| /calc | /calc/upload |
| /calc | /calc/add |
| /calc/subtract | /calc/subtract |
| /nested/controller/index | /nested/controller/index |
| /requestclass/params | /requestclass/params |
| /requestclass/request_class | /requestclass/request_class |
'-------------------------------------+--------------------------------------'
[debug] Loaded Chained actions:
.-------------------------------------+--------------------------------------.
| Path Spec | Private |
+-------------------------------------+--------------------------------------+
| /add/*/to/* | /calc/add (1) |
| | => /calc/add_to |
| /findordefaults/... | /findordefault/list |
| /findordefault/... | /findordefault/object |
| /forbrowsers/... | /forbrowser/list |
| /forbrowser/... | /forbrowser/object |
| /forbrowser/... | /forbrowsers/list |
| /forbrowsers/... | /forbrowsers/object |
| /rest/object/* | /rest/object |
| /skipend/form/edit_record | /skipend/load_form (0) |
| | => /skipend/edit_record |
| /skipends/... | /skipend/list |
| /skipend/... | /skipend/object |
| /user/*/add_to_group/* | /user/base (1) |
| | => /user/add_to_group |
| /users/... | /user/list |
| /user/... | /user/object |
'-------------------------------------+--------------------------------------'
[info] Application powered by Catalyst 5.80029
[info] *** Request 1 (0.333/s) [2937] [Tue Nov 30 22:39:02 2010] ***
[debug] "POST" request for "user" from "127.0.0.1"
[debug] Body Parameters are:
.-------------------------------------+--------------------------------------.
| Parameter | Value |
+-------------------------------------+--------------------------------------+
| name | bar |
| password | foo |
'-------------------------------------+--------------------------------------'
[debug] Path is "/user/object"
[debug] I would have deserialized, but there was nothing in the body!
[debug] Calling default resultset method extjs_rest_user
[debug] Loading form t/root/forms/user.yml
[debug] Serializing with Catalyst::Action::Serialize::JSON
[debug] Response Code: 201; Content-Type: application/json; Content-Length: 62
[info] Request took 0.438581s (2.280/s)
.------------------------------------------------------------+-----------.
| Action | Time |
+------------------------------------------------------------+-----------+
| /user/begin | 0.024691s |
| /user/object | 0.379107s |
| -> /user/object_POST | 0.192376s |
| /user/end | 0.029303s |
'------------------------------------------------------------+-----------'
[info] *** Request 2 (0.667/s) [2937] [Tue Nov 30 22:39:02 2010] ***
[debug] "DELETE" request for "user/1" from "127.0.0.1"
[debug] Query Parameters are:
.-------------------------------------+--------------------------------------.
| Parameter | Value |
+-------------------------------------+--------------------------------------+
| x-tunneled-method | DELETE |
'-------------------------------------+--------------------------------------'
[debug] Path is "/user/object"
[debug] Arguments are "1"
[debug] I would have deserialized, but there was nothing in the body!
[debug] Calling default resultset method extjs_rest_user
[debug] Loading form t/root/forms/user.yml
[debug] Serializing with Catalyst::Action::Serialize::JSON
[debug] Response Code: 200; Content-Type: application/json; Content-Length: 62
[info] Request took 0.040637s (24.608/s)
.------------------------------------------------------------+-----------.
| Action | Time |
+------------------------------------------------------------+-----------+
| /user/begin | 0.001165s |
| /user/object | 0.032199s |
| -> /user/object_DELETE | 0.006374s |
| /user/end | 0.001679s |
'------------------------------------------------------------+-----------'
[info] *** Request 3 (1.000/s) [2937] [Tue Nov 30 22:39:02 2010] ***
[debug] "GET" request for "users" from "127.0.0.1"
[debug] Path is "/user/list"
[debug] Loading form t/root/lists/user.yml
[debug] found configuration file for parameters
[debug] Calling resultset method extjs_rest_user
[debug] Serializing with Catalyst::Action::Serialize::JSON
[debug] Response Code: 200; Content-Type: application/json; Content-Length: 284
[info] Request took 0.577775s (1.731/s)
.------------------------------------------------------------+-----------.
| Action | Time |
+------------------------------------------------------------+-----------+
| /user/begin | 0.000292s |
| /user/list | 0.570994s |
| /user/end | 0.002300s |
'------------------------------------------------------------+-----------'
t/rest/for_browser.t .......... ok
[debug] Debug messages enabled
[debug] Statistics enabled
[debug] Loaded dispatcher "Catalyst::Dispatcher"
[debug] Loaded engine "Catalyst::Engine::CGI"
[debug] Found home "/export/home/cpant2/.cpan/build/CatalystX-ExtJS-1.123000-4ZU0cO/t/lib/MyApp"
[debug] Loaded components:
.-----------------------------------------------------------------+----------.
| Class | Type |
+-----------------------------------------------------------------+----------+
| MyApp::Controller::API | instance |
| MyApp::Controller::Artist | instance |
| MyApp::Controller::Calculator | instance |
| MyApp::Controller::FindOrDefault | instance |
| MyApp::Controller::ForBrowser | instance |
| MyApp::Controller::ForBrowsers | instance |
| MyApp::Controller::JSON | instance |
| MyApp::Controller::Nested::Controller | instance |
| MyApp::Controller::REST | instance |
| MyApp::Controller::RequestClass | instance |
| MyApp::Controller::SkipEnd | instance |
| MyApp::Controller::User | instance |
| MyApp::Model::DBIC | instance |
| MyApp::Model::DBIC::FindOrDefault | class |
| MyApp::Model::DBIC::SkipEnd | class |
| MyApp::Model::DBIC::User | class |
| MyApp::View::JSON | instance |
| MyApp::View::TT | instance |
'-----------------------------------------------------------------+----------'
[debug] Loaded Private actions:
.----------------------+--------------------------------------+--------------.
| Private | Class | Method |
+----------------------+--------------------------------------+--------------+
| /api/src | MyApp::Controller::API | src |
| /api/router | MyApp::Controller::API | router |
| /api/end | MyApp::Controller::API | end |
| /api/index | MyApp::Controller::API | index |
| /api/begin | MyApp::Controller::API | begin |
| /findordefault/base | MyApp::Controller::FindOrDefault | base |
| /findordefault/obje- | MyApp::Controller::FindOrDefault | object |
| ct | | |
| /findordefault/obje- | MyApp::Controller::FindOrDefault | object_DELE- |
| ct_DELETE | | TE |
| /findordefault/obje- | MyApp::Controller::FindOrDefault | object_POST |
| ct_POST | | |
| /findordefault/obje- | MyApp::Controller::FindOrDefault | object_GET |
| ct_GET | | |
| /findordefault/obje- | MyApp::Controller::FindOrDefault | object_PUT |
| ct_PUT | | |
| /findordefault/end | MyApp::Controller::FindOrDefault | end |
| /findordefault/begin | MyApp::Controller::FindOrDefault | begin |
| /findordefault/list | MyApp::Controller::FindOrDefault | list |
| /calc/add | MyApp::Controller::Calculator | add |
| /calc/subtract | MyApp::Controller::Calculator | subtract |
| /calc/upload | MyApp::Controller::Calculator | upload |
| /calc/add_to | MyApp::Controller::Calculator | add_to |
| /json/index | MyApp::Controller::JSON | index |
| /forbrowsers/base | MyApp::Controller::ForBrowsers | base |
| /forbrowsers/object | MyApp::Controller::ForBrowsers | object |
| /forbrowsers/object- | MyApp::Controller::ForBrowsers | object_DELE- |
| _DELETE | | TE |
| /forbrowsers/object- | MyApp::Controller::ForBrowsers | object_POST |
| _POST | | |
| /forbrowsers/object- | MyApp::Controller::ForBrowsers | object_GET |
| _GET | | |
| /forbrowsers/object- | MyApp::Controller::ForBrowsers | object_PUT |
| _PUT | | |
| /forbrowsers/end | MyApp::Controller::ForBrowsers | end |
| /forbrowsers/begin | MyApp::Controller::ForBrowsers | begin |
| /forbrowsers/list | MyApp::Controller::ForBrowsers | list |
| /rest/object | MyApp::Controller::REST | object |
| /rest/begin | MyApp::Controller::REST | begin |
| /rest/end | MyApp::Controller::REST | end |
| /nested/controller/- | MyApp::Controller::Nested::Controll- | index |
| index | er | |
| /skipend/load_form | MyApp::Controller::SkipEnd | load_form |
| /skipend/object | MyApp::Controller::SkipEnd | object |
| /skipend/object_GET | MyApp::Controller::SkipEnd | object_GET |
| /skipend/object_PUT | MyApp::Controller::SkipEnd | object_PUT |
| /skipend/begin | MyApp::Controller::SkipEnd | begin |
| /skipend/list | MyApp::Controller::SkipEnd | list |
| /skipend/base | MyApp::Controller::SkipEnd | base |
| /skipend/object_POST | MyApp::Controller::SkipEnd | object_POST |
| /skipend/object_DEL- | MyApp::Controller::SkipEnd | object_DELE- |
| ETE | | TE |
| /skipend/end | MyApp::Controller::SkipEnd | end |
| /skipend/edit_record | MyApp::Controller::SkipEnd | edit_record |
| /forbrowser/base | MyApp::Controller::ForBrowser | base |
| /forbrowser/object | MyApp::Controller::ForBrowser | object |
| /forbrowser/object_- | MyApp::Controller::ForBrowser | object_DELE- |
| DELETE | | TE |
| /forbrowser/object_- | MyApp::Controller::ForBrowser | object_POST |
| POST | | |
| /forbrowser/object_- | MyApp::Controller::ForBrowser | object_GET |
| GET | | |
| /forbrowser/object_- | MyApp::Controller::ForBrowser | object_PUT |
| PUT | | |
| /forbrowser/end | MyApp::Controller::ForBrowser | end |
| /forbrowser/begin | MyApp::Controller::ForBrowser | begin |
| /forbrowser/list | MyApp::Controller::ForBrowser | list |
| /requestclass/params | MyApp::Controller::RequestClass | params |
| /requestclass/reque- | MyApp::Controller::RequestClass | request_cla- |
| st_class | | ss |
| /user/base | MyApp::Controller::User | base |
| /user/object | MyApp::Controller::User | object |
| /user/object_DELETE | MyApp::Controller::User | object_DELE- |
| | | TE |
| /user/object_POST | MyApp::Controller::User | object_POST |
| /user/object_GET | MyApp::Controller::User | object_GET |
| /user/object_PUT | MyApp::Controller::User | object_PUT |
| /user/end | MyApp::Controller::User | end |
| /user/add_to_group | MyApp::Controller::User | add_to_group |
| /user/begin | MyApp::Controller::User | begin |
| /user/list | MyApp::Controller::User | list |
'----------------------+--------------------------------------+--------------'
[debug] Loaded Path actions:
.-------------------------------------+--------------------------------------.
| Path | Private |
+-------------------------------------+--------------------------------------+
| /api | /api/index |
| /api/router | /api/router |
| /api/src | /api/src |
| /calc | /calc/upload |
| /calc | /calc/add |
| /calc/subtract | /calc/subtract |
| /nested/controller/index | /nested/controller/index |
| /requestclass/params | /requestclass/params |
| /requestclass/request_class | /requestclass/request_class |
'-------------------------------------+--------------------------------------'
[debug] Loaded Chained actions:
.-------------------------------------+--------------------------------------.
| Path Spec | Private |
+-------------------------------------+--------------------------------------+
| /add/*/to/* | /calc/add (1) |
| | => /calc/add_to |
| /findordefaults/... | /findordefault/list |
| /findordefault/... | /findordefault/object |
| /forbrowsers/... | /forbrowser/list |
| /forbrowser/... | /forbrowser/object |
| /forbrowser/... | /forbrowsers/list |
| /forbrowsers/... | /forbrowsers/object |
| /rest/object/* | /rest/object |
| /skipend/form/edit_record | /skipend/load_form (0) |
| | => /skipend/edit_record |
| /skipends/... | /skipend/list |
| /skipend/... | /skipend/object |
| /user/*/add_to_group/* | /user/base (1) |
| | => /user/add_to_group |
| /users/... | /user/list |
| /user/... | /user/object |
'-------------------------------------+--------------------------------------'
[info] Application powered by Catalyst 5.80029
[info] *** Request 1 (0.500/s) [2938] [Tue Nov 30 22:39:09 2010] ***
[debug] "GET" request for "skipend/form/edit_record" from "127.0.0.1"
[debug] Path is "/skipend/edit_record"
[debug] Rendering template "edit_record.tt2.js"
[debug] Response Code: 200; Content-Type: text/html; charset=utf-8; Content-Length: 3395
[info] Request took 0.374731s (2.669/s)
.------------------------------------------------------------+-----------.
| Action | Time |
+------------------------------------------------------------+-----------+
| /skipend/begin | 0.000715s |
| /skipend/load_form | 0.199519s |
| /skipend/edit_record | 0.168121s |
| -> MyApp::View::TT->process | 0.166716s |
| /skipend/end | 0.000728s |
'------------------------------------------------------------+-----------'
t/rest/skip_end.t ............. ok
[debug] Debug messages enabled
[debug] Statistics enabled
[debug] Loaded dispatcher "Catalyst::Dispatcher"
[debug] Loaded engine "Catalyst::Engine::CGI"
[debug] Found home "/export/home/cpant2/.cpan/build/CatalystX-ExtJS-1.123000-4ZU0cO/t/lib/MyApp"
[debug] Loaded components:
.-----------------------------------------------------------------+----------.
| Class | Type |
+-----------------------------------------------------------------+----------+
| MyApp::Controller::API | instance |
| MyApp::Controller::Artist | instance |
| MyApp::Controller::Calculator | instance |
| MyApp::Controller::FindOrDefault | instance |
| MyApp::Controller::ForBrowser | instance |
| MyApp::Controller::ForBrowsers | instance |
| MyApp::Controller::JSON | instance |
| MyApp::Controller::Nested::Controller | instance |
| MyApp::Controller::REST | instance |
| MyApp::Controller::RequestClass | instance |
| MyApp::Controller::SkipEnd | instance |
| MyApp::Controller::User | instance |
| MyApp::Model::DBIC | instance |
| MyApp::Model::DBIC::FindOrDefault | class |
| MyApp::Model::DBIC::SkipEnd | class |
| MyApp::Model::DBIC::User | class |
| MyApp::View::JSON | instance |
| MyApp::View::TT | instance |
'-----------------------------------------------------------------+----------'
[debug] Loaded Private actions:
.----------------------+--------------------------------------+--------------.
| Private | Class | Method |
+----------------------+--------------------------------------+--------------+
| /api/src | MyApp::Controller::API | src |
| /api/router | MyApp::Controller::API | router |
| /api/end | MyApp::Controller::API | end |
| /api/index | MyApp::Controller::API | index |
| /api/begin | MyApp::Controller::API | begin |
| /findordefault/base | MyApp::Controller::FindOrDefault | base |
| /findordefault/obje- | MyApp::Controller::FindOrDefault | object |
| ct | | |
| /findordefault/obje- | MyApp::Controller::FindOrDefault | object_DELE- |
| ct_DELETE | | TE |
| /findordefault/obje- | MyApp::Controller::FindOrDefault | object_POST |
| ct_POST | | |
| /findordefault/obje- | MyApp::Controller::FindOrDefault | object_GET |
| ct_GET | | |
| /findordefault/obje- | MyApp::Controller::FindOrDefault | object_PUT |
| ct_PUT | | |
| /findordefault/end | MyApp::Controller::FindOrDefault | end |
| /findordefault/begin | MyApp::Controller::FindOrDefault | begin |
| /findordefault/list | MyApp::Controller::FindOrDefault | list |
| /calc/add | MyApp::Controller::Calculator | add |
| /calc/subtract | MyApp::Controller::Calculator | subtract |
| /calc/upload | MyApp::Controller::Calculator | upload |
| /calc/add_to | MyApp::Controller::Calculator | add_to |
| /json/index | MyApp::Controller::JSON | index |
| /forbrowsers/base | MyApp::Controller::ForBrowsers | base |
| /forbrowsers/object | MyApp::Controller::ForBrowsers | object |
| /forbrowsers/object- | MyApp::Controller::ForBrowsers | object_DELE- |
| _DELETE | | TE |
| /forbrowsers/object- | MyApp::Controller::ForBrowsers | object_POST |
| _POST | | |
| /forbrowsers/object- | MyApp::Controller::ForBrowsers | object_GET |
| _GET | | |
| /forbrowsers/object- | MyApp::Controller::ForBrowsers | object_PUT |
| _PUT | | |
| /forbrowsers/end | MyApp::Controller::ForBrowsers | end |
| /forbrowsers/begin | MyApp::Controller::ForBrowsers | begin |
| /forbrowsers/list | MyApp::Controller::ForBrowsers | list |
| /rest/object | MyApp::Controller::REST | object |
| /rest/begin | MyApp::Controller::REST | begin |
| /rest/end | MyApp::Controller::REST | end |
| /nested/controller/- | MyApp::Controller::Nested::Controll- | index |
| index | er | |
| /skipend/load_form | MyApp::Controller::SkipEnd | load_form |
| /skipend/object | MyApp::Controller::SkipEnd | object |
| /skipend/object_GET | MyApp::Controller::SkipEnd | object_GET |
| /skipend/object_PUT | MyApp::Controller::SkipEnd | object_PUT |
| /skipend/begin | MyApp::Controller::SkipEnd | begin |
| /skipend/list | MyApp::Controller::SkipEnd | list |
| /skipend/base | MyApp::Controller::SkipEnd | base |
| /skipend/object_POST | MyApp::Controller::SkipEnd | object_POST |
| /skipend/object_DEL- | MyApp::Controller::SkipEnd | object_DELE- |
| ETE | | TE |
| /skipend/end | MyApp::Controller::SkipEnd | end |
| /skipend/edit_record | MyApp::Controller::SkipEnd | edit_record |
| /forbrowser/base | MyApp::Controller::ForBrowser | base |
| /forbrowser/object | MyApp::Controller::ForBrowser | object |
| /forbrowser/object_- | MyApp::Controller::ForBrowser | object_DELE- |
| DELETE | | TE |
| /forbrowser/object_- | MyApp::Controller::ForBrowser | object_POST |
| POST | | |
| /forbrowser/object_- | MyApp::Controller::ForBrowser | object_GET |
| GET | | |
| /forbrowser/object_- | MyApp::Controller::ForBrowser | object_PUT |
| PUT | | |
| /forbrowser/end | MyApp::Controller::ForBrowser | end |
| /forbrowser/begin | MyApp::Controller::ForBrowser | begin |
| /forbrowser/list | MyApp::Controller::ForBrowser | list |
| /requestclass/params | MyApp::Controller::RequestClass | params |
| /requestclass/reque- | MyApp::Controller::RequestClass | request_cla- |
| st_class | | ss |
| /user/base | MyApp::Controller::User | base |
| /user/object | MyApp::Controller::User | object |
| /user/object_DELETE | MyApp::Controller::User | object_DELE- |
| | | TE |
| /user/object_POST | MyApp::Controller::User | object_POST |
| /user/object_GET | MyApp::Controller::User | object_GET |
| /user/object_PUT | MyApp::Controller::User | object_PUT |
| /user/end | MyApp::Controller::User | end |
| /user/add_to_group | MyApp::Controller::User | add_to_group |
| /user/begin | MyApp::Controller::User | begin |
| /user/list | MyApp::Controller::User | list |
'----------------------+--------------------------------------+--------------'
[debug] Loaded Path actions:
.-------------------------------------+--------------------------------------.
| Path | Private |
+-------------------------------------+--------------------------------------+
| /api | /api/index |
| /api/router | /api/router |
| /api/src | /api/src |
| /calc | /calc/upload |
| /calc | /calc/add |
| /calc/subtract | /calc/subtract |
| /nested/controller/index | /nested/controller/index |
| /requestclass/params | /requestclass/params |
| /requestclass/request_class | /requestclass/request_class |
'-------------------------------------+--------------------------------------'
[debug] Loaded Chained actions:
.-------------------------------------+--------------------------------------.
| Path Spec | Private |
+-------------------------------------+--------------------------------------+
| /add/*/to/* | /calc/add (1) |
| | => /calc/add_to |
| /findordefaults/... | /findordefault/list |
| /findordefault/... | /findordefault/object |
| /forbrowsers/... | /forbrowser/list |
| /forbrowser/... | /forbrowser/object |
| /forbrowser/... | /forbrowsers/list |
| /forbrowsers/... | /forbrowsers/object |
| /rest/object/* | /rest/object |
| /skipend/form/edit_record | /skipend/load_form (0) |
| | => /skipend/edit_record |
| /skipends/... | /skipend/list |
| /skipend/... | /skipend/object |
| /user/*/add_to_group/* | /user/base (1) |
| | => /user/add_to_group |
| /users/... | /user/list |
| /user/... | /user/object |
'-------------------------------------+--------------------------------------'
[info] Application powered by Catalyst 5.80029
[info] *** Request 1 (0.500/s) [2939] [Tue Nov 30 22:39:15 2010] ***
[debug] "GET" request for "users" from "127.0.0.1"
[debug] Path is "/user/list"
[debug] Loading form t/root/lists/user.yml
[debug] found configuration file for parameters
[debug] Calling resultset method extjs_rest_user
[debug] Serializing with Catalyst::Action::Serialize::JSON
[debug] Response Code: 200; Content-Type: application/json; Content-Length: 284
[info] Request took 0.722787s (1.384/s)
.------------------------------------------------------------+-----------.
| Action | Time |
+------------------------------------------------------------+-----------+
| /user/begin | 0.000585s |
| /user/list | 0.687871s |
| /user/end | 0.029961s |
'------------------------------------------------------------+-----------'
[info] *** Request 2 (0.667/s) [2939] [Tue Nov 30 22:39:16 2010] ***
[debug] "POST" request for "user" from "127.0.0.1"
[debug] Body Parameters are:
.-------------------------------------+--------------------------------------.
| Parameter | Value |
+-------------------------------------+--------------------------------------+
| name | bar |
| password | foo |
'-------------------------------------+--------------------------------------'
[debug] Path is "/user/object"
[debug] I would have deserialized, but there was nothing in the body!
[debug] Calling default resultset method extjs_rest_user
[debug] Loading form t/root/forms/user.yml
[debug] Serializing with Catalyst::Action::Serialize::JSON
[debug] Response Code: 201; Content-Type: application/json; Content-Length: 62
[info] Request took 0.246434s (4.058/s)
.------------------------------------------------------------+-----------.
| Action | Time |
+------------------------------------------------------------+-----------+
| /user/begin | 0.024374s |
| /user/object | 0.215445s |
| -> /user/object_POST | 0.197266s |
| /user/end | 0.001773s |
'------------------------------------------------------------+-----------'
[info] *** Request 3 (1.000/s) [2939] [Tue Nov 30 22:39:16 2010] ***
[debug] "GET" request for "users" from "127.0.0.1"
[debug] Path is "/user/list"
[debug] Loading form t/root/lists/user.yml
[debug] found configuration file for parameters
[debug] Calling resultset method extjs_rest_user
[debug] Serializing with Catalyst::Action::Serialize::JSON
[debug] Response Code: 200; Content-Type: application/json; Content-Length: 322
[info] Request took 0.045008s (22.218/s)
.------------------------------------------------------------+-----------.
| Action | Time |
+------------------------------------------------------------+-----------+
| /user/begin | 0.000602s |
| /user/list | 0.039112s |
| /user/end | 0.001489s |
'------------------------------------------------------------+-----------'
[info] *** Request 4 (1.333/s) [2939] [Tue Nov 30 22:39:16 2010] ***
[debug] "GET" request for "user/1" from "127.0.0.1"
[debug] Path is "/user/object"
[debug] Arguments are "1"
[debug] Calling default resultset method extjs_rest_user
[debug] Loading form t/root/forms/user.yml
[debug] Serializing with Catalyst::Action::Serialize::JSON
[debug] Response Code: 200; Content-Type: application/json; Content-Length: 62
[info] Request took 0.026436s (37.827/s)
.------------------------------------------------------------+-----------.
| Action | Time |
+------------------------------------------------------------+-----------+
| /user/begin | 0.000257s |
| /user/object | 0.021066s |
| -> /user/object_GET | 0.002466s |
| /user/end | 0.001398s |
'------------------------------------------------------------+-----------'
[info] *** Request 5 (1.667/s) [2939] [Tue Nov 30 22:39:16 2010] ***
[debug] "PUT" request for "user/1" from "127.0.0.1"
[debug] Body Parameters are:
.-------------------------------------+--------------------------------------.
| Parameter | Value |
+-------------------------------------+--------------------------------------+
| name | bas |
| password | foo |
'-------------------------------------+--------------------------------------'
[debug] Path is "/user/object"
[debug] Arguments are "1"
[debug] I would have deserialized, but there was nothing in the body!
[debug] Calling default resultset method extjs_rest_user
[debug] Loading form t/root/forms/user.yml
[debug] Serializing with Catalyst::Action::Serialize::JSON
[debug] Response Code: 200; Content-Type: application/json; Content-Length: 62
[info] Request took 0.044279s (22.584/s)
.------------------------------------------------------------+-----------.
| Action | Time |
+------------------------------------------------------------+-----------+
| /user/begin | 0.000594s |
| /user/object | 0.038146s |
| -> /user/object_PUT | 0.019412s |
| /user/end | 0.001339s |
'------------------------------------------------------------+-----------'
[info] *** Request 6 (2.000/s) [2939] [Tue Nov 30 22:39:16 2010] ***
[debug] "PUT" request for "user" from "127.0.0.1"
[debug] Body Parameters are:
.-------------------------------------+--------------------------------------.
| Parameter | Value |
+-------------------------------------+--------------------------------------+
| id | 1 |
| name | bast |
| password | foo |
'-------------------------------------+--------------------------------------'
[debug] Path is "/user/object"
[debug] I would have deserialized, but there was nothing in the body!
[debug] Calling default resultset method extjs_rest_user
[debug] Loading form t/root/forms/user.yml
[debug] Serializing with Catalyst::Action::Serialize::JSON
[debug] Response Code: 200; Content-Type: application/json; Content-Length: 65
[info] Request took 0.042255s (23.666/s)
.------------------------------------------------------------+-----------.
| Action | Time |
+------------------------------------------------------------+-----------+
| /user/begin | 0.000570s |
| /user/object | 0.036010s |
| -> /user/object_PUT | 0.017534s |
| /user/end | 0.001467s |
'------------------------------------------------------------+-----------'
[info] *** Request 7 (1.750/s) [2939] [Tue Nov 30 22:39:17 2010] ***
[debug] "GET" request for "user/1" from "127.0.0.1"
[debug] Path is "/user/object"
[debug] Arguments are "1"
[debug] Calling default resultset method extjs_rest_user
[debug] Loading form t/root/forms/user.yml
[debug] Serializing with Catalyst::Action::Serialize::JSON
[debug] Response Code: 200; Content-Type: application/json; Content-Length: 63
[info] Request took 0.026149s (38.242/s)
.------------------------------------------------------------+-----------.
| Action | Time |
+------------------------------------------------------------+-----------+
| /user/begin | 0.000280s |
| /user/object | 0.020583s |
| -> /user/object_GET | 0.002408s |
| /user/end | 0.001414s |
'------------------------------------------------------------+-----------'
[info] *** Request 8 (2.000/s) [2939] [Tue Nov 30 22:39:17 2010] ***
[debug] "DELETE" request for "user/1" from "127.0.0.1"
[debug] Body Parameters are:
.-------------------------------------+--------------------------------------.
| Parameter | Value |
+-------------------------------------+--------------------------------------+
| name | bas |
| password | foo |
'-------------------------------------+--------------------------------------'
[debug] Path is "/user/object"
[debug] Arguments are "1"
[debug] I would have deserialized, but there was nothing in the body!
[debug] Calling default resultset method extjs_rest_user
[debug] Loading form t/root/forms/user.yml
[debug] Serializing with Catalyst::Action::Serialize::JSON
[debug] Response Code: 200; Content-Type: application/json; Content-Length: 62
[info] Request took 0.029856s (33.494/s)
.------------------------------------------------------------+-----------.
| Action | Time |
+------------------------------------------------------------+-----------+
| /user/begin | 0.000553s |
| /user/object | 0.023811s |
| -> /user/object_DELETE | 0.005097s |
| /user/end | 0.001307s |
'------------------------------------------------------------+-----------'
[info] *** Request 9 (2.250/s) [2939] [Tue Nov 30 22:39:17 2010] ***
[debug] "GET" request for "user/1" from "127.0.0.1"
[debug] Path is "/user/object"
[debug] Arguments are "1"
[debug] Calling default resultset method extjs_rest_user
[debug] Loading form t/root/forms/user.yml
[debug] Status Not Found: Object could not be found.
[debug] Serializing with Catalyst::Action::Serialize::JSON
[debug] Response Code: 404; Content-Type: application/json; Content-Length: 38
[info] Request took 0.024190s (41.339/s)
.------------------------------------------------------------+-----------.
| Action | Time |
+------------------------------------------------------------+-----------+
| /user/begin | 0.000268s |
| /user/object | 0.018850s |
| -> /user/object_GET | 0.000886s |
| /user/end | 0.001370s |
'------------------------------------------------------------+-----------'
t/rest/user.t ................. ok
[debug] Debug messages enabled
[debug] Statistics enabled
[debug] Loaded dispatcher "Catalyst::Dispatcher"
[debug] Loaded engine "Catalyst::Engine::CGI"
[debug] Found home "/export/home/cpant2/.cpan/build/CatalystX-ExtJS-1.123000-4ZU0cO/t/lib/MyApp"
[debug] Loaded components:
.-----------------------------------------------------------------+----------.
| Class | Type |
+-----------------------------------------------------------------+----------+
| MyApp::Controller::API | instance |
| MyApp::Controller::Artist | instance |
| MyApp::Controller::Calculator | instance |
| MyApp::Controller::FindOrDefault | instance |
| MyApp::Controller::ForBrowser | instance |
| MyApp::Controller::ForBrowsers | instance |
| MyApp::Controller::JSON | instance |
| MyApp::Controller::Nested::Controller | instance |
| MyApp::Controller::REST | instance |
| MyApp::Controller::RequestClass | instance |
| MyApp::Controller::SkipEnd | instance |
| MyApp::Controller::User | instance |
| MyApp::Model::DBIC | instance |
| MyApp::Model::DBIC::FindOrDefault | class |
| MyApp::Model::DBIC::SkipEnd | class |
| MyApp::Model::DBIC::User | class |
| MyApp::View::JSON | instance |
| MyApp::View::TT | instance |
'-----------------------------------------------------------------+----------'
[debug] Loaded Private actions:
.----------------------+--------------------------------------+--------------.
| Private | Class | Method |
+----------------------+--------------------------------------+--------------+
| /api/src | MyApp::Controller::API | src |
| /api/router | MyApp::Controller::API | router |
| /api/end | MyApp::Controller::API | end |
| /api/index | MyApp::Controller::API | index |
| /api/begin | MyApp::Controller::API | begin |
| /findordefault/base | MyApp::Controller::FindOrDefault | base |
| /findordefault/obje- | MyApp::Controller::FindOrDefault | object |
| ct | | |
| /findordefault/obje- | MyApp::Controller::FindOrDefault | object_DELE- |
| ct_DELETE | | TE |
| /findordefault/obje- | MyApp::Controller::FindOrDefault | object_POST |
| ct_POST | | |
| /findordefault/obje- | MyApp::Controller::FindOrDefault | object_GET |
| ct_GET | | |
| /findordefault/obje- | MyApp::Controller::FindOrDefault | object_PUT |
| ct_PUT | | |
| /findordefault/end | MyApp::Controller::FindOrDefault | end |
| /findordefault/begin | MyApp::Controller::FindOrDefault | begin |
| /findordefault/list | MyApp::Controller::FindOrDefault | list |
| /calc/add | MyApp::Controller::Calculator | add |
| /calc/subtract | MyApp::Controller::Calculator | subtract |
| /calc/upload | MyApp::Controller::Calculator | upload |
| /calc/add_to | MyApp::Controller::Calculator | add_to |
| /json/index | MyApp::Controller::JSON | index |
| /forbrowsers/base | MyApp::Controller::ForBrowsers | base |
| /forbrowsers/object | MyApp::Controller::ForBrowsers | object |
| /forbrowsers/object- | MyApp::Controller::ForBrowsers | object_DELE- |
| _DELETE | | TE |
| /forbrowsers/object- | MyApp::Controller::ForBrowsers | object_POST |
| _POST | | |
| /forbrowsers/object- | MyApp::Controller::ForBrowsers | object_GET |
| _GET | | |
| /forbrowsers/object- | MyApp::Controller::ForBrowsers | object_PUT |
| _PUT | | |
| /forbrowsers/end | MyApp::Controller::ForBrowsers | end |
| /forbrowsers/begin | MyApp::Controller::ForBrowsers | begin |
| /forbrowsers/list | MyApp::Controller::ForBrowsers | list |
| /rest/object | MyApp::Controller::REST | object |
| /rest/begin | MyApp::Controller::REST | begin |
| /rest/end | MyApp::Controller::REST | end |
| /nested/controller/- | MyApp::Controller::Nested::Controll- | index |
| index | er | |
| /skipend/load_form | MyApp::Controller::SkipEnd | load_form |
| /skipend/object | MyApp::Controller::SkipEnd | object |
| /skipend/object_GET | MyApp::Controller::SkipEnd | object_GET |
| /skipend/object_PUT | MyApp::Controller::SkipEnd | object_PUT |
| /skipend/begin | MyApp::Controller::SkipEnd | begin |
| /skipend/list | MyApp::Controller::SkipEnd | list |
| /skipend/base | MyApp::Controller::SkipEnd | base |
| /skipend/object_POST | MyApp::Controller::SkipEnd | object_POST |
| /skipend/object_DEL- | MyApp::Controller::SkipEnd | object_DELE- |
| ETE | | TE |
| /skipend/end | MyApp::Controller::SkipEnd | end |
| /skipend/edit_record | MyApp::Controller::SkipEnd | edit_record |
| /forbrowser/base | MyApp::Controller::ForBrowser | base |
| /forbrowser/object | MyApp::Controller::ForBrowser | object |
| /forbrowser/object_- | MyApp::Controller::ForBrowser | object_DELE- |
| DELETE | | TE |
| /forbrowser/object_- | MyApp::Controller::ForBrowser | object_POST |
| POST | | |
| /forbrowser/object_- | MyApp::Controller::ForBrowser | object_GET |
| GET | | |
| /forbrowser/object_- | MyApp::Controller::ForBrowser | object_PUT |
| PUT | | |
| /forbrowser/end | MyApp::Controller::ForBrowser | end |
| /forbrowser/begin | MyApp::Controller::ForBrowser | begin |
| /forbrowser/list | MyApp::Controller::ForBrowser | list |
| /requestclass/params | MyApp::Controller::RequestClass | params |
| /requestclass/reque- | MyApp::Controller::RequestClass | request_cla- |
| st_class | | ss |
| /user/base | MyApp::Controller::User | base |
| /user/object | MyApp::Controller::User | object |
| /user/object_DELETE | MyApp::Controller::User | object_DELE- |
| | | TE |
| /user/object_POST | MyApp::Controller::User | object_POST |
| /user/object_GET | MyApp::Controller::User | object_GET |
| /user/object_PUT | MyApp::Controller::User | object_PUT |
| /user/end | MyApp::Controller::User | end |
| /user/add_to_group | MyApp::Controller::User | add_to_group |
| /user/begin | MyApp::Controller::User | begin |
| /user/list | MyApp::Controller::User | list |
'----------------------+--------------------------------------+--------------'
[debug] Loaded Path actions:
.-------------------------------------+--------------------------------------.
| Path | Private |
+-------------------------------------+--------------------------------------+
| /api | /api/index |
| /api/router | /api/router |
| /api/src | /api/src |
| /calc | /calc/upload |
| /calc | /calc/add |
| /calc/subtract | /calc/subtract |
| /nested/controller/index | /nested/controller/index |
| /requestclass/params | /requestclass/params |
| /requestclass/request_class | /requestclass/request_class |
'-------------------------------------+--------------------------------------'
[debug] Loaded Chained actions:
.-------------------------------------+--------------------------------------.
| Path Spec | Private |
+-------------------------------------+--------------------------------------+
| /add/*/to/* | /calc/add (1) |
| | => /calc/add_to |
| /findordefaults/... | /findordefault/list |
| /findordefault/... | /findordefault/object |
| /forbrowsers/... | /forbrowser/list |
| /forbrowser/... | /forbrowser/object |
| /forbrowser/... | /forbrowsers/list |
| /forbrowsers/... | /forbrowsers/object |
| /rest/object/* | /rest/object |
| /skipend/form/edit_record | /skipend/load_form (0) |
| | => /skipend/edit_record |
| /skipends/... | /skipend/list |
| /skipend/... | /skipend/object |
| /user/*/add_to_group/* | /user/base (1) |
| | => /user/add_to_group |
| /users/... | /user/list |
| /user/... | /user/object |
'-------------------------------------+--------------------------------------'
[info] Application powered by Catalyst 5.80029
[info] *** Request 1 (0.200/s) [2940] [Tue Nov 30 22:39:25 2010] ***
[debug] "GET" request for "users" from "127.0.0.1"
[debug] Path is "/user/list"
[debug] Loading form t/root/lists/user.yml
[debug] found configuration file for parameters
[debug] Calling resultset method extjs_rest_user
[debug] Serializing with Catalyst::Action::Serialize::JSON
[debug] Response Code: 200; Content-Type: application/json; Content-Length: 10377
[info] Request took 1.110166s (0.901/s)
.------------------------------------------------------------+-----------.
| Action | Time |
+------------------------------------------------------------+-----------+
| /user/begin | 0.000585s |
| /user/list | 1.074914s |
| /user/end | 0.029904s |
'------------------------------------------------------------+-----------'
[info] *** Request 2 (0.333/s) [2940] [Tue Nov 30 22:39:26 2010] ***
[debug] "GET" request for "user" from "127.0.0.1"
[debug] Path is "/user/object"
[debug] Loading form t/root/lists/user.yml
[debug] found configuration file for parameters
[debug] Calling resultset method extjs_rest_user
[debug] Serializing with Catalyst::Action::Serialize::JSON
[debug] Response Code: 200; Content-Type: application/json; Content-Length: 10377
[info] Request took 0.340234s (2.939/s)
.------------------------------------------------------------+-----------.
| Action | Time |
+------------------------------------------------------------+-----------+
| /user/begin | 0.000810s |
| /user/object | 0.330861s |
| -> /user/list | 0.311424s |
| /user/end | 0.002105s |
'------------------------------------------------------------+-----------'
[info] *** Request 3 (0.429/s) [2940] [Tue Nov 30 22:39:27 2010] ***
[debug] "GET" request for "users" from "127.0.0.1"
[debug] Query Parameters are:
.-------------------------------------+--------------------------------------.
| Parameter | Value |
+-------------------------------------+--------------------------------------+
| start | 10 |
'-------------------------------------+--------------------------------------'
[debug] Path is "/user/list"
[debug] Loading form t/root/lists/user.yml
[debug] found configuration file for parameters
[debug] Calling resultset method extjs_rest_user
[debug] Serializing with Catalyst::Action::Serialize::JSON
[debug] Response Code: 200; Content-Type: application/json; Content-Length: 9886
[info] Request took 0.334829s (2.987/s)
.------------------------------------------------------------+-----------.
| Action | Time |
+------------------------------------------------------------+-----------+
| /user/begin | 0.000312s |
| /user/list | 0.328366s |
| /user/end | 0.001808s |
'------------------------------------------------------------+-----------'
[info] *** Request 4 (0.571/s) [2940] [Tue Nov 30 22:39:27 2010] ***
[debug] "GET" request for "users" from "127.0.0.1"
[debug] Query Parameters are:
.-------------------------------------+--------------------------------------.
| Parameter | Value |
+-------------------------------------+--------------------------------------+
| limit | 20 |
| start | 10 |
'-------------------------------------+--------------------------------------'
[debug] Path is "/user/list"
[debug] Loading form t/root/lists/user.yml
[debug] found configuration file for parameters
[debug] Calling resultset method extjs_rest_user
[debug] Serializing with Catalyst::Action::Serialize::JSON
[debug] Response Code: 200; Content-Type: application/json; Content-Length: 1285
[info] Request took 0.069602s (14.367/s)
.------------------------------------------------------------+-----------.
| Action | Time |
+------------------------------------------------------------+-----------+
| /user/begin | 0.000264s |
| /user/list | 0.063833s |
| /user/end | 0.001501s |
'------------------------------------------------------------+-----------'
[info] *** Request 5 (0.714/s) [2940] [Tue Nov 30 22:39:27 2010] ***
[debug] "GET" request for "users" from "127.0.0.1"
[debug] Query Parameters are:
.-------------------------------------+--------------------------------------.
| Parameter | Value |
+-------------------------------------+--------------------------------------+
| limit | 20 |
| sort | name |
| start | 10 |
'-------------------------------------+--------------------------------------'
[debug] Path is "/user/list"
[debug] Loading form t/root/lists/user.yml
[debug] found configuration file for parameters
[debug] Calling resultset method extjs_rest_user
[debug] Serializing with Catalyst::Action::Serialize::JSON
[debug] Response Code: 200; Content-Type: application/json; Content-Length: 1285
[info] Request took 0.071586s (13.969/s)
.------------------------------------------------------------+-----------.
| Action | Time |
+------------------------------------------------------------+-----------+
| /user/begin | 0.000266s |
| /user/list | 0.065728s |
| /user/end | 0.001548s |
'------------------------------------------------------------+-----------'
[info] *** Request 6 (0.857/s) [2940] [Tue Nov 30 22:39:27 2010] ***
[debug] "GET" request for "users" from "127.0.0.1"
[debug] Query Parameters are:
.-------------------------------------+--------------------------------------.
| Parameter | Value |
+-------------------------------------+--------------------------------------+
| dir | desc |
| limit | 20 |
| sort | name |
| start | 10 |
'-------------------------------------+--------------------------------------'
[debug] Path is "/user/list"
[debug] Loading form t/root/lists/user.yml
[debug] found configuration file for parameters
[debug] Calling resultset method extjs_rest_user
[debug] Serializing with Catalyst::Action::Serialize::JSON
[debug] Response Code: 200; Content-Type: application/json; Content-Length: 1305
[info] Request took 0.072135s (13.863/s)
.------------------------------------------------------------+-----------.
| Action | Time |
+------------------------------------------------------------+-----------+
| /user/begin | 0.000250s |
| /user/list | 0.066237s |
| /user/end | 0.001549s |
'------------------------------------------------------------+-----------'
[info] *** Request 7 (1.000/s) [2940] [Tue Nov 30 22:39:27 2010] ***
[debug] "GET" request for "users" from "127.0.0.1"
[debug] Query Parameters are:
.-------------------------------------+--------------------------------------.
| Parameter | Value |
+-------------------------------------+--------------------------------------+
| dir | asc |
| limit | 20 |
| sort | password |
| start | 10 |
'-------------------------------------+--------------------------------------'
[debug] Path is "/user/list"
[debug] Loading form t/root/lists/user.yml
[debug] found configuration file for parameters
[debug] Calling resultset method extjs_rest_user
[debug] Serializing with Catalyst::Action::Serialize::JSON
[debug] Response Code: 200; Content-Type: application/json; Content-Length: 1305
[info] Request took 0.070915s (14.101/s)
.------------------------------------------------------------+-----------.
| Action | Time |
+------------------------------------------------------------+-----------+
| /user/begin | 0.000254s |
| /user/list | 0.065050s |
| /user/end | 0.001516s |
'------------------------------------------------------------+-----------'
[info] *** Request 8 (1.143/s) [2940] [Tue Nov 30 22:39:27 2010] ***
[debug] "GET" request for "users" from "127.0.0.1"
[debug] Query Parameters are:
.-------------------------------------+--------------------------------------.
| Parameter | Value |
+-------------------------------------+--------------------------------------+
| dir | asc |
| ending | 1 |
| limit | 20 |
| sort | password |
| start | 10 |
'-------------------------------------+--------------------------------------'
[debug] Path is "/user/list"
[debug] Loading form t/root/lists/user.yml
[debug] found configuration file for parameters
[debug] Status Bad Request: One ore more parameters did not pass the validation
[debug] Serializing with Catalyst::Action::Serialize::JSON
[debug] Response Code: 400; Content-Type: application/json; Content-Length: 60
[info] Request took 0.568004s (1.761/s)
.------------------------------------------------------------+-----------.
| Action | Time |
+------------------------------------------------------------+-----------+
| /user/begin | 0.000255s |
| /user/list | 0.561158s |
| /user/end | 0.002197s |
'------------------------------------------------------------+-----------'
[info] *** Request 9 (1.125/s) [2940] [Tue Nov 30 22:39:28 2010] ***
[debug] "GET" request for "users" from "127.0.0.1"
[debug] Query Parameters are:
.-------------------------------------+--------------------------------------.
| Parameter | Value |
+-------------------------------------+--------------------------------------+
| dir | ASC |
| ending | 2 |
| limit | 20 |
| sort | password |
| start | 10 |
'-------------------------------------+--------------------------------------'
[debug] Path is "/user/list"
[debug] Loading form t/root/lists/user.yml
[debug] found configuration file for parameters
[debug] Calling resultset method extjs_rest_user
[debug] Serializing with Catalyst::Action::Serialize::JSON
[debug] Response Code: 200; Content-Type: application/json; Content-Length: 783
[info] Request took 0.071441s (13.998/s)
.------------------------------------------------------------+-----------.
| Action | Time |
+------------------------------------------------------------+-----------+
| /user/begin | 0.000634s |
| /user/list | 0.064351s |
| /user/end | 0.001751s |
'------------------------------------------------------------+-----------'
t/rest/users.t ................ ok
All tests successful.
Files=21, Tests=450, 107 wallclock secs ( 0.50 usr 0.48 sys + 45.99 cusr 53.43 csys = 100.40 CPU)
Result: PASS
------------------------------
PREREQUISITES
------------------------------
Prerequisite modules loaded:
requires:
Module Need Have
------------------------------------ ------- --------
Carp 0 1.10
Catalyst::Action 0 0
Catalyst::Action::Deserialize 0 0.87
Catalyst::Action::RenderView 0 0.14
Catalyst::Action::REST 0.83 0.87
Catalyst::Action::Serialize 0 0.87
Catalyst::Controller 0 0
Catalyst::Controller::REST 0 0.87
Catalyst::Runtime 5.80024 5.80029
Catalyst::Utils 0 0
Class::Accessor::Fast 0 0.34
Config::Any 0 0.20
DBIx::Class 0.08123 0.08124
HTML::Entities 0 3.68
HTML::FormFu 0.08 0.08002
HTML::FormFu::ExtJS 0.076 0.077
HTML::FormFu::Model::DBIC 0.08 0.08002
JavaScript::Dumper 0.011 0.011
JSON::Any 0 1.25
JSON::XS 0 2.3
Lingua::EN::Inflect 0 1.893
List::Util 0 1.23
Moose 1.06 1.21
Moose::Role 0 1.21
Moose::Util::TypeConstraints 0 1.21
MooseX::MethodAttributes 0 0.24
namespace::autoclean 0 0.11
Path::Class 0 0.21
Scalar::Util 0 1.23
build_requires:
Module Need Have
------------------------------------ ------- --------
Catalyst 0 5.80029
Catalyst::Engine::HTTP 0 0
Catalyst::Model::DBIC::Schema 0 0.43
Catalyst::Request::REST::ForBrowsers 0 0.87
Catalyst::View::JSON 0 0.31
Catalyst::View::TT 0 0.36
DBIx::Class 0 0.08124
DBIx::Class::ResultSet 0 0
DBIx::Class::Schema 0 0
English 0 1.03
File::Find 0 1.13
File::Spec 0 3.33
File::Temp 0 0.22
FindBin 0 1.49
Getopt::Long 0 2.38
HTTP::Request::Common 0 5.824
JSON 0 2.27
Module::Build 0.3601 0.3607
Path::Class::File 0 0.21
perl 5.004 5.008009
Pod::Usage 0 1.36
Test::More 0.94 0.96
Test::WWW::Mechanize::Catalyst 0 0.52
configure_requires:
Module Need Have
------------------------------------ ------- --------
Module::Build 0.3601 0.3607
------------------------------
ENVIRONMENT AND OTHER CONTEXT
------------------------------
Environment variables:
AUTOMATED_TESTING = 1
LANG = en_US.UTF-8
PATH = /export/home/cpant2/perl5/bin:/usr/bin
PERL5LIB = /export/home/cpant2/.cpan/build/Catalyst-Action-RenderView-0.14-lnUEYA/blib/arch:/export/home/cpant2/.cpan/build/Catalyst-Action-RenderView-0.14-lnUEYA/blib/lib:/export/home/cpant2/.cpan/build/HTML-FormFu-Model-DBIC-0.08002-zy25qv/blib/arch:/export/home/cpant2/.cpan/build/HTML-FormFu-Model-DBIC-0.08002-zy25qv/blib/lib:/export/home/cpant2/.cpan/build/SQL-Translator-0.11006-d0poMf/blib/arch:/export/home/cpant2/.cpan/build/SQL-Translator-0.11006-d0poMf/blib/lib:/export/home/cpant2/.cpan/build/Class-MakeMethods-1.01-jqkWt6/blib/arch:/export/home/cpant2/.cpan/build/Class-MakeMethods-1.01-jqkWt6/blib/lib:/export/home/cpant2/.cpan/build/Class-Base-0.03-VNpVV6/blib/arch:/export/home/cpant2/.cpan/build/Class-Base-0.03-VNpVV6/blib/lib:/export/home/cpant2/.cpan/build/XML-Writer-0.612-gABKm8/blib/arch:/export/home/cpant2/.cpan/build/XML-Writer-0.612-gABKm8/blib/lib:/export/home/cpant2/.cpan/build/Parse-RecDescent-1.965001-4FKAp0/blib/arch:/export/home/cpant2/.cpan/build/Parse-RecDescent-1.965001-4FKAp0/blib/lib:/export/home/cpant2/.cpan/build/DateTime-Format-SQLite-0.11-8lkuAT/blib/arch:/export/home/cpant2/.cpan/build/DateTime-Format-SQLite-0.11-8lkuAT/blib/lib:/export/home/cpant2/.cpan/build/HTML-FormFu-ExtJS-0.077-dJNp5Q/blib/arch:/export/home/cpant2/.cpan/build/HTML-FormFu-ExtJS-0.077-dJNp5Q/blib/lib:/export/home/cpant2/.cpan/build/Hash-Merge-Simple-0.05-IurOyw/blib/arch:/export/home/cpant2/.cpan/build/Hash-Merge-Simple-0.05-IurOyw/blib/lib:/export/home/cpant2/.cpan/build/Tie-Hash-Indexed-0.05-NdPbR6/blib/arch:/export/home/cpant2/.cpan/build/Tie-Hash-Indexed-0.05-NdPbR6/blib/lib:/export/home/cpant2/.cpan/build/Lingua-EN-Inflect-1.893-IsV9LS/blib/arch:/export/home/cpant2/.cpan/build/Lingua-EN-Inflect-1.893-IsV9LS/blib/lib:/export/home/cpant2/.cpan/build/Catalyst-Model-DBIC-Schema-0.43-McRw1W/blib/arch:/export/home/cpant2/.cpan/build/Catalyst-Model-DBIC-Schema-0.43-McRw1W/blib/lib:/export/home/cpant2/.cpan/build/Tie-IxHash-1.22-ErZVIA/blib/arch:/export/home/cpant2/.cpan/build/Tie-IxHash-1.22-ErZVIA/blib/lib:/export/home/cpant2/.cpan/build/CatalystX-Component-Traits-0.16-BCoo_p/blib/arch:/export/home/cpant2/.cpan/build/CatalystX-Component-Traits-0.16-BCoo_p/blib/lib:/export/home/cpant2/.cpan/build/MooseX-Traits-Pluggable-0.10-4_H9e2/blib/arch:/export/home/cpant2/.cpan/build/MooseX-Traits-Pluggable-0.10-4_H9e2/blib/lib:/export/home/cpant2/.cpan/build/HTML-FormFu-0.08002-c0ealK/blib/arch:/export/home/cpant2/.cpan/build/HTML-FormFu-0.08002-c0ealK/blib/lib:/export/home/cpant2/.cpan/build/Number-Format-1.73-7BKFI9/blib/arch:/export/home/cpant2/.cpan/build/Number-Format-1.73-7BKFI9/blib/lib:/export/home/cpant2/.cpan/build/HTML-TokeParser-Simple-3.15-l8KC83/blib/arch:/export/home/cpant2/.cpan/build/HTML-TokeParser-Simple-3.15-l8KC83/blib/lib:/export/home/cpant2/.cpan/build/Sub-Override-0.08-RmQpDX/blib/arch:/export/home/cpant2/.cpan/build/Sub-Override-0.08-RmQpDX/blib/lib:/export/home/cpant2/.cpan/build/DateTime-Format-Natural-0.91-7d6dr1/blib/arch:/export/home/cpant2/.cpan/build/DateTime-Format-Natural-0.91-7d6dr1/blib/lib:/export/home/cpant2/.cpan/build/boolean-0.23-fROroM/blib/arch:/export/home/cpant2/.cpan/build/boolean-0.23-fROroM/blib/lib:/export/home/cpant2/.cpan/build/Test-MockTime-0.12-zAq2ag/blib/arch:/export/home/cpant2/.cpan/build/Test-MockTime-0.12-zAq2ag/blib/lib:/export/home/cpant2/.cpan/build/File-ShareDir-1.02-SyUmCs/blib/arch:/export/home/cpant2/.cpan/build/File-ShareDir-1.02-SyUmCs/blib/lib:/export/home/cpant2/.cpan/build/Regexp-Common-2010010201-S7mnk_/blib/arch:/export/home/cpant2/.cpan/build/Regexp-Common-2010010201-S7mnk_/blib/lib:/export/home/cpant2/.cpan/build/Data-Visitor-0.27-qKlhT0/blib/arch:/export/home/cpant2/.cpan/build/Data-Visitor-0.27-qKlhT0/blib/lib:/export/home/cpant2/.cpan/build/Tie-ToObject-0.03-LEhOII/blib/arch:/export/home/cpant2/.cpan/build/Tie-ToObject-0.03-LEhOII/blib/lib:/export/home/cpant2/.cpan/build/Email-Valid-0.184-NEeGBG/blib/arch:/export/home/cpant2/.cpan/build/Email-Valid-0.184-NEeGBG/blib/lib:/export/home/cpant2/.cpan/build/Net-DNS-0.66-pNbqPW/blib/arch:/export/home/cpant2/.cpan/build/Net-DNS-0.66-pNbqPW/blib/lib:/export/home/cpant2/.cpan/build/Digest-HMAC-1.02-WKbc9g/blib/arch:/export/home/cpant2/.cpan/build/Digest-HMAC-1.02-WKbc9g/blib/lib:/export/home/cpant2/.cpan/build/Digest-SHA1-2.13-vXxxJm/blib/arch:/export/home/cpant2/.cpan/build/Digest-SHA1-2.13-vXxxJm/blib/lib:/export/home/cpant2/.cpan/build/Net-IP-1.25-DtBzWY/blib/arch:/export/home/cpant2/.cpan/build/Net-IP-1.25-DtBzWY/blib/lib:/export/home/cpant2/.cpan/build/Date-Calc-6.3-jU9GAV/blib/arch:/export/home/cpant2/.cpan/build/Date-Calc-6.3-jU9GAV/blib/lib:/export/home/cpant2/.cpan/build/Bit-Vector-7.1-vKJKSC/blib/arch:/export/home/cpant2/.cpan/build/Bit-Vector-7.1-vKJKSC/blib/lib:/export/home/cpant2/.cpan/build/Captcha-reCAPTCHA-0.94-7tnpph/blib/arch:/export/home/cpant2/.cpan/build/Captcha-reCAPTCHA-0.94-7tnpph/blib/lib:/export/home/cpant2/.cpan/build/HTML-Tiny-1.05-z_fvYd/blib/arch:/export/home/cpant2/.cpan/build/HTML-Tiny-1.05-z_fvYd/blib/lib:/export/home/cpant2/.cpan/build/Hash-Flatten-1.19-9p30aO/blib/arch:/export/home/cpant2/.cpan/build/Hash-Flatten-1.19-9p30aO/blib/lib:/export/home/cpant2/.cpan/build/Test-Assertions-1.054-FDx9Lg/blib/arch:/export/home/cpant2/.cpan/build/Test-Assertions-1.054-FDx9Lg/blib/lib:/export/home/cpant2/.cpan/build/Log-Trace-1.070-lCChY2/blib/arch:/export/home/cpant2/.cpan/build/Log-Trace-1.070-lCChY2/blib/lib:/export/home/cpant2/.cpan/build/DateTime-Format-Builder-0.80-_t1_wr/blib/arch:/export/home/cpant2/.cpan/build/DateTime-Format-Builder-0.80-_t1_wr/blib/lib:/export/home/cpant2/.cpan/build/Class-Factory-Util-1.7-X8j0dQ/blib/arch:/export/home/cpant2/.cpan/build/Class-Factory-Util-1.7-X8j0dQ/blib/lib:/export/home/cpant2/.cpan/build/YAML-LibYAML-0.34-Xpg5B0/blib/arch:/export/home/cpant2/.cpan/build/YAML-LibYAML-0.34-Xpg5B0/blib/lib:/export/home/cpant2/.cpan/build/DBIx-Class-0.08124-GD0ojX/blib/arch:/export/home/cpant2/.cpan/build/DBIx-Class-0.08124-GD0ojX/blib/lib:/export/home/cpant2/.cpan/build/Class-C3-Componentised-1.0006-mQ_t4m/blib/arch:/export/home/cpant2/.cpan/build/Class-C3-Componentised-1.0006-mQ_t4m/blib/lib:/export/home/cpant2/.cpan/build/Data-Page-2.02-3iKFNp/blib/arch:/export/home/cpant2/.cpan/build/Data-Page-2.02-3iKFNp/blib/lib:/export/home/cpant2/.cpan/build/Class-Accessor-Chained-0.01-7aT8kv/blib/arch:/export/home/cpant2/.cpan/build/Class-Accessor-Chained-0.01-7aT8kv/blib/lib:/export/home/cpant2/.cpan/build/Math-Base36-0.07-Imx1db/blib/arch:/export/home/cpant2/.cpan/build/Math-Base36-0.07-Imx1db/blib/lib:/export/home/cpant2/.cpan/build/Module-Find-0.10-AXfhdl/blib/arch:/export/home/cpant2/.cpan/build/Module-Find-0.10-AXfhdl/blib/lib:/export/home/cpant2/.cpan/build/Context-Preserve-0.01-33itjq/blib/arch:/export/home/cpant2/.cpan/build/Context-Preserve-0.01-33itjq/blib/lib:/export/home/cpant2/.cpan/build/Test-use-ok-0.02-zLIDim/blib/arch:/export/home/cpant2/.cpan/build/Test-use-ok-0.02-zLIDim/blib/lib:/export/home/cpant2/.cpan/build/SQL-Abstract-1.71-p6C5dN/blib/arch:/export/home/cpant2/.cpan/build/SQL-Abstract-1.71-p6C5dN/blib/lib:/export/home/cpant2/.cpan/build/Hash-Merge-0.12-O4STAY/blib/arch:/export/home/cpant2/.cpan/build/Hash-Merge-0.12-O4STAY/blib/lib:/export/home/cpant2/.cpan/build/Class-Accessor-Grouped-0.10000-CfwGTO/blib/arch:/export/home/cpant2/.cpan/build/Class-Accessor-Grouped-0.10000-CfwGTO/blib/lib:/export/home/cpant2/.cpan/build/Class-XSAccessor-1.09-wgAmws/blib/arch:/export/home/cpant2/.cpan/build/Class-XSAccessor-1.09-wgAmws/blib/lib:/export/home/cpant2/.cpan/build/Data-Dumper-Concise-2.012-Pg_yB5/blib/arch:/export/home/cpant2/.cpan/build/Data-Dumper-Concise-2.012-Pg_yB5/blib/lib:/export/home/cpant2/.cpan/build/Catalyst-View-TT-0.36-LyEnbj/blib/arch:/export/home/cpant2/.cpan/build/Catalyst-View-TT-0.36-LyEnbj/blib/lib:/export/home/cpant2/.cpan/build/Template-Timer-1.00-CoQVwR/blib/arch:/export/home/cpant2/.cpan/build/Template-Timer-1.00-CoQVwR/blib/lib:/export/home/cpant2/.cpan/build/Config-Any-0.20-oNocTr/blib/arch:/export/home/cpant2/.cpan/build/Config-Any-0.20-oNocTr/blib/lib:/export/home/cpant2/.cpan/build/Test-WWW-Mechanize-Catalyst-0.52-cXgwGF/blib/arch:/export/home/cpant2/.cpan/build/Test-WWW-Mechanize-Catalyst-0.52-cXgwGF/blib/lib:/export/home/cpant2/.cpan/build/Test-WWW-Mechanize-1.30-S0JugN/blib/arch:/export/home/cpant2/.cpan/build/Test-WWW-Mechanize-1.30-S0JugN/blib/lib:/export/home/cpant2/.cpan/build/Test-LongString-0.14-F4l0D0/blib/arch:/export/home/cpant2/.cpan/build/Test-LongString-0.14-F4l0D0/blib/lib:/export/home/cpant2/.cpan/build/Carp-Assert-More-1.12-_VPpIM/blib/arch:/export/home/cpant2/.cpan/build/Carp-Assert-More-1.12-_VPpIM/blib/lib:/export/home/cpant2/.cpan/build/Carp-Assert-0.20-2p2_XP/blib/arch:/export/home/cpant2/.cpan/build/Carp-Assert-0.20-2p2_XP/blib/lib:/export/home/cpant2/.cpan/build/HTML-Tree-4.1-K2o64t/blib/arch:/export/home/cpant2/.cpan/build/HTML-Tree-4.1-K2o64t/blib/lib:/export/home/cpant2/.cpan/build/WWW-Mechanize-1.66-Qgpqg9/blib/arch:/export/home/cpant2/.cpan/build/WWW-Mechanize-1.66-Qgpqg9/blib/lib:/export/home/cpant2/.cpan/build/HTTP-Server-Simple-0.43-r1ZfK5/blib/arch:/export/home/cpant2/.cpan/build/HTTP-Server-Simple-0.43-r1ZfK5/blib/lib:/export/home/cpant2/.cpan/build/Catalyst-Plugin-Session-State-Cookie-0.17-IVO3wu/blib/arch:/export/home/cpant2/.cpan/build/Catalyst-Plugin-Session-State-Cookie-0.17-IVO3wu/blib/lib:/export/home/cpant2/.cpan/build/Catalyst-Plugin-Session-0.31-X5wLZi/blib/arch:/export/home/cpant2/.cpan/build/Catalyst-Plugin-Session-0.31-X5wLZi/blib/lib:/export/home/cpant2/.cpan/build/Object-Signature-1.05-9JZDhT/blib/arch:/export/home/cpant2/.cpan/build/Object-Signature-1.05-9JZDhT/blib/lib:/export/home/cpant2/.cpan/build/JavaScript-Dumper-0.011-4JzSly/blib/arch:/export/home/cpant2/.cpan/build/JavaScript-Dumper-0.011-4JzSly/blib/lib:/export/home/cpant2/.cpan/build/Catalyst-View-JSON-0.31-zW2Ehi/blib/arch:/export/home/cpant2/.cpan/build/Catalyst-View-JSON-0.31-zW2Ehi/blib/lib:/export/home/cpant2/.cpan/build/JSON-Any-1.25-wW801k/blib/arch:/export/home/cpant2/.cpan/build/JSON-Any-1.25-wW801k/blib/lib:/export/home/cpant2/.cpan/build/Catalyst-Action-REST-0.87-nAo8PC/blib/arch:/export/home/cpant2/.cpan/build/Catalyst-Action-REST-0.87-nAo8PC/blib/lib:/export/home/cpant2/.cpan/build/Catalyst-Runtime-5.80029-O_t6lY/blib/arch:/export/home/cpant2/.cpan/build/Catalyst-Runtime-5.80029-O_t6lY/blib/lib:/export/home/cpant2/.cpan/build/Text-SimpleTable-2.03-eXXhse/blib/arch:/export/home/cpant2/.cpan/build/Text-SimpleTable-2.03-eXXhse/blib/lib:/export/home/cpant2/.cpan/build/Class-C3-Adopt-NEXT-0.13-LAFGYt/blib/arch:/export/home/cpant2/.cpan/build/Class-C3-Adopt-NEXT-0.13-LAFGYt/blib/lib:/export/home/cpant2/.cpan/build/MooseX-Types-Common-0.001002-HaoVm6/blib/arch:/export/home/cpant2/.cpan/build/MooseX-Types-Common-0.001002-HaoVm6/blib/lib:/export/home/cpant2/.cpan/build/HTTP-Request-AsCGI-1.2-h1hR6M/blib/arch:/export/home/cpant2/.cpan/build/HTTP-Request-AsCGI-1.2-h1hR6M/blib/lib:/export/home/cpant2/.cpan/build/MooseX-MethodAttributes-0.24-QOeMSf/blib/arch:/export/home/cpant2/.cpan/build/MooseX-MethodAttributes-0.24-QOeMSf/blib/lib:/export/home/cpant2/.cpan/build/Tree-Simple-VisitorFactory-0.10-_qXwuw/blib/arch:/export/home/cpant2/.cpan/build/Tree-Simple-VisitorFactory-0.10-_qXwuw/blib/lib:/export/home/cpant2/.cpan/build/MooseX-Getopt-0.33-jPA2hg/blib/arch:/export/home/cpant2/.cpan/build/MooseX-Getopt-0.33-jPA2hg/blib/lib:/export/home/cpant2/.cpan/build/Getopt-Long-Descriptive-0.086-GoT2GA/blib/arch:/export/home/cpant2/.cpan/build/Getopt-Long-Descriptive-0.086-GoT2GA/blib/lib:/export/home/cpant2/.cpan/build/String-RewritePrefix-0.006-CVNCU6/blib/arch:/export/home/cpant2/.cpan/build/String-RewritePrefix-0.006-CVNCU6/blib/lib:/export/home/cpant2/.cpan/build/Tree-Simple-1.18-5w1sYg/blib/arch:/export/home/cpant2/.cpan/build/Tree-Simple-1.18-5w1sYg/blib/lib:/export/home/cpant2/.cpan/build/Path-Class-0.21-mm5slW/blib/arch:/export/home/cpant2/.cpan/build/Path-Class-0.21-mm5slW/blib/lib:/export/home/cpant2/.cpan/build/CGI-Simple-1.112-Mxvr0K/blib/arch:/export/home/cpant2/.cpan/build/CGI-Simple-1.112-Mxvr0K/blib/lib:/export/home/cpant2/.cpan/build/IO-stringy-2.110-YMyQfk/blib/arch:/export/home/cpant2/.cpan/build/IO-stringy-2.110-YMyQfk/blib/lib:/export/home/cpant2/.cpan/build/HTTP-Body-1.11-T1siAV/blib/arch:/export/home/cpant2/.cpan/build/HTTP-Body-1.11-T1siAV/blib/lib:/export/home/cpant2/.cpan/build/Data-Dump-1.19-KD0nnM/blib/arch:/export/home/cpant2/.cpan/build/Data-Dump-1.19-KD0nnM/blib/lib:/export/home/cpant2/.cpan/build/MooseX-Role-WithOverloading-0.08-K5lx0K/blib/arch:/export/home/cpant2/.cpan/build/MooseX-Role-WithOverloading-0.08-K5lx0K/blib/lib:/export/home/cpant2/.cpan/build/MooseX-Types-0.24-Ah7s5d/blib/arch:/export/home/cpant2/.cpan/build/MooseX-Types-0.24-Ah7s5d/blib/lib:/export/home/cpant2/.cpan/build/Carp-Clan-6.04-z8jLp3/blib/arch:/export/home/cpant2/.cpan/build/Carp-Clan-6.04-z8jLp3/blib/lib:/export/home/cpant2/.cpan/build/aliased-0.30-mdRFDp/blib/arch:/export/home/cpant2/.cpan/build/aliased-0.30-mdRFDp/blib/lib:/export/home/cpant2/.cpan/build/MooseX-Emulate-Class-Accessor-Fast-0.00903-edfCQb/blib/arch:/export/home/cpant2/.cpan/build/MooseX-Emulate-Class-Accessor-Fast-0.00903-edfCQb/blib/lib:/export/home/cpant2/.cpan/build/URI-Find-20100505-3zvMfZ/blib/arch:/export/home/cpant2/.cpan/build/URI-Find-20100505-3zvMfZ/blib/lib:/export/home/cpant2/.cpan/build/namespace-autoclean-0.11-6FTooS/blib/arch:/export/home/cpant2/.cpan/build/namespace-autoclean-0.11-6FTooS/blib/lib:/export/home/cpant2/.cpan/build/namespace-clean-0.18-P16Hwz/blib/arch:/export/home/cpant2/.cpan/build/namespace-clean-0.18-P16Hwz/blib/lib:/export/home/cpant2/.cpan/build/Sub-Identify-0.04-EnrLkS/blib/arch:/export/home/cpant2/.cpan/build/Sub-Identify-0.04-EnrLkS/blib/lib:/export/home/cpant2/.cpan/build/B-Hooks-EndOfScope-0.09-HdakbJ/blib/arch:/export/home/cpant2/.cpan/build/B-Hooks-EndOfScope-0.09-HdakbJ/blib/lib:/export/home/cpant2/.cpan/build/Class-MOP-1.11-aca7eW/blib/arch:/export/home/cpant2/.cpan/build/Class-MOP-1.11-aca7eW/blib/lib:/export/home/cpant2/.cpan/build/Package-Stash-0.13-9i4aDf/blib/arch:/export/home/cpant2/.cpan/build/Package-Stash-0.13-9i4aDf/blib/lib:/export/home/cpant2/.cpan/build/Devel-GlobalDestruction-0.02-HXBEcH/blib/arch:/export/home/cpant2/.cpan/build/Devel-GlobalDestruction-0.02-HXBEcH/blib/lib:/export/home/cpant2/.cpan/build/Scope-Guard-0.20-EMj3dX/blib/arch:/export/home/cpant2/.cpan/build/Scope-Guard-0.20-EMj3dX/blib/lib:/export/home/cpant2/.cpan/build/Package-DeprecationManager-0.10-2BWiU_/blib/arch:/export/home/cpant2/.cpan/build/Package-DeprecationManager-0.10-2BWiU_/blib/lib:/export/home/cpant2/.cpan/build/Test-Requires-0.06-bR4HfJ/blib/arch:/export/home/cpant2/.cpan/build/Test-Requires-0.06-bR4HfJ/blib/lib:/export/home/cpant2/.cpan/build/Sub-Name-0.05-ZqGL4u/blib/arch:/export/home/cpant2/.cpan/build/Sub-Name-0.05-ZqGL4u/blib/lib:/export/home/cpant2/.cpan/build/MRO-Compat-0.11-CPsa6_/blib/arch:/export/home/cpant2/.cpan/build/MRO-Compat-0.11-CPsa6_/blib/lib:/export/home/cpant2/.cpan/build/Class-C3-0.23-_uSlIs/blib/arch:/export/home/cpant2/.cpan/build/Class-C3-0.23-_uSlIs/blib/lib:/export/home/cpant2/.cpan/build/Algorithm-C3-0.08-BXEYFq/blib/arch:/export/home/cpant2/.cpan/build/Algorithm-C3-0.08-BXEYFq/blib/lib:/export/home/cpant2/.cpan/build/Data-Serializer-0.49-V56HEi/blib/arch:/export/home/cpant2/.cpan/build/Data-Serializer-0.49-V56HEi/blib/lib:/export/home/cpant2/.cpan/build/Variable-Magic-0.45-f7N2fO/blib/arch:/export/home/cpant2/.cpan/build/Variable-Magic-0.45-f7N2fO/blib/lib:/export/home/cpant2/.cpan/build/Moose-1.21-OMWDDy/blib/arch:/export/home/cpant2/.cpan/build/Moose-1.21-OMWDDy/blib/lib
PERL5OPT =
PERL5_CPANPLUS_IS_RUNNING = 26633
PERL5_CPAN_IS_RUNNING = 26633
PERL5_CPAN_IS_RUNNING_IN_RECURSION = 8595,26633
PERL_CR_SMOKER_CURRENT = CatalystX-ExtJS-1.123000
PERL_CR_SMOKER_RUNONCE = 1
PERL_EXTUTILS_AUTOINSTALL = --defaultdeps
PERL_MM_USE_DEFAULT = 1
SHELL = /bin/bash
TERM = xterm
Perl special variables (and OS-specific diagnostics, for MSWin32):
$^X = /export/home/cpant2/perl5/bin/perl
$UID/$EUID = 101 / 101
$GID = 1 1
$EGID = 1 1
Perl module toolchain versions installed:
Module Have
------------------- ------
CPAN 1.9402
Cwd 3.33
ExtUtils::CBuilder 0.2703
ExtUtils::Command 1.16
ExtUtils::Install 1.54
ExtUtils::MakeMaker 6.56
ExtUtils::Manifest 1.58
ExtUtils::ParseXS 2.2206
File::Spec 3.33
Module::Build 0.3607
Module::Signature n/a
Test::Harness 3.21
Test::More 0.96
YAML 0.72
YAML::Syck 1.17
version 0.86
--
Summary of my perl5 (revision 5 version 8 subversion 9) configuration:
Platform:
osname=solaris, osvers=2.11, archname=i86pc-solaris-64int
uname='sunos open-solaris-noc 5.11 snv_95 i86pc i386 i86pc '
config_args='-Dcc=gcc -Dprefix=~/perl5 -Duse64bitint -d'
hint=recommended, useposix=true, d_sigaction=define
usethreads=undef use5005threads=undef useithreads=undef usemultiplicity=undef
useperlio=define d_sfio=undef uselargefiles=define usesocks=undef
use64bitint=define use64bitall=undef uselongdouble=undef
usemymalloc=n, bincompat5005=undef
Compiler:
cc='gcc', ccflags ='-DPTR_IS_LONG -fno-strict-aliasing -pipe -D_LARGEFILE_SOURCE -D_FILE_OFFSET_BITS=64 -DPERL_USE_SAFE_PUTENV',
optimize='-O',
cppflags='-DPTR_IS_LONG -fno-strict-aliasing -pipe'
ccversion='', gccversion='3.4.3 (csl-sol210-3_4-20050802)', gccosandvers='solaris2.11'
intsize=4, longsize=4, ptrsize=4, doublesize=8, byteorder=12345678
d_longlong=define, longlongsize=8, d_longdbl=define, longdblsize=12
ivtype='long long', ivsize=8, nvtype='double', nvsize=8, Off_t='off_t', lseeksize=8
alignbytes=4, prototype=define
Linker and Libraries:
ld='gcc', ldflags =' '
libpth=/usr/lib /usr/ccs/lib
libs=-lsocket -lnsl -ldl -lm -lc
perllibs=-lsocket -lnsl -ldl -lm -lc
libc=/lib/libc.so, so=so, useshrplib=false, libperl=libperl.a
gnulibc_version=''
Dynamic Linking:
dlsrc=dl_dlopen.xs, dlext=so, d_dlsymun=undef, ccdlflags=' '
cccdlflags='-fPIC', lddlflags='-G'
Characteristics of this binary (from libperl):
Compile-time options: PERL_MALLOC_WRAP PERL_USE_SAFE_PUTENV USE_64_BIT_INT
USE_FAST_STDIO USE_LARGE_FILES USE_PERLIO
Built under solaris
Compiled at Mar 5 2009 21:54:58
%ENV:
PERL5LIB="/export/home/cpant2/.cpan/build/Catalyst-Action-RenderView-0.14-lnUEYA/blib/arch:/export/home/cpant2/.cpan/build/Catalyst-Action-RenderView-0.14-lnUEYA/blib/lib:/export/home/cpant2/.cpan/build/HTML-FormFu-Model-DBIC-0.08002-zy25qv/blib/arch:/export/home/cpant2/.cpan/build/HTML-FormFu-Model-DBIC-0.08002-zy25qv/blib/lib:/export/home/cpant2/.cpan/build/SQL-Translator-0.11006-d0poMf/blib/arch:/export/home/cpant2/.cpan/build/SQL-Translator-0.11006-d0poMf/blib/lib:/export/home/cpant2/.cpan/build/Class-MakeMethods-1.01-jqkWt6/blib/arch:/export/home/cpant2/.cpan/build/Class-MakeMethods-1.01-jqkWt6/blib/lib:/export/home/cpant2/.cpan/build/Class-Base-0.03-VNpVV6/blib/arch:/export/home/cpant2/.cpan/build/Class-Base-0.03-VNpVV6/blib/lib:/export/home/cpant2/.cpan/build/XML-Writer-0.612-gABKm8/blib/arch:/export/home/cpant2/.cpan/build/XML-Writer-0.612-gABKm8/blib/lib:/export/home/cpant2/.cpan/build/Parse-RecDescent-1.965001-4FKAp0/blib/arch:/export/home/cpant2/.cpan/build/Parse-RecDescent-1.965001-4FKAp0/blib/lib:/export/home/cpant2/.cpan/build/DateTime-Format-SQLite-0.11-8lkuAT/blib/arch:/export/home/cpant2/.cpan/build/DateTime-Format-SQLite-0.11-8lkuAT/blib/lib:/export/home/cpant2/.cpan/build/HTML-FormFu-ExtJS-0.077-dJNp5Q/blib/arch:/export/home/cpant2/.cpan/build/HTML-FormFu-ExtJS-0.077-dJNp5Q/blib/lib:/export/home/cpant2/.cpan/build/Hash-Merge-Simple-0.05-IurOyw/blib/arch:/export/home/cpant2/.cpan/build/Hash-Merge-Simple-0.05-IurOyw/blib/lib:/export/home/cpant2/.cpan/build/Tie-Hash-Indexed-0.05-NdPbR6/blib/arch:/export/home/cpant2/.cpan/build/Tie-Hash-Indexed-0.05-NdPbR6/blib/lib:/export/home/cpant2/.cpan/build/Lingua-EN-Inflect-1.893-IsV9LS/blib/arch:/export/home/cpant2/.cpan/build/Lingua-EN-Inflect-1.893-IsV9LS/blib/lib:/export/home/cpant2/.cpan/build/Catalyst-Model-DBIC-Schema-0.43-McRw1W/blib/arch:/export/home/cpant2/.cpan/build/Catalyst-Model-DBIC-Schema-0.43-McRw1W/blib/lib:/export/home/cpant2/.cpan/build/Tie-IxHash-1.22-ErZVIA/blib/arch:/export/home/cpant2/.cpan/build/Tie-IxHash-1.22-ErZVIA/blib/lib:/export/home/cpant2/.cpan/build/CatalystX-Component-Traits-0.16-BCoo_p/blib/arch:/export/home/cpant2/.cpan/build/CatalystX-Component-Traits-0.16-BCoo_p/blib/lib:/export/home/cpant2/.cpan/build/MooseX-Traits-Pluggable-0.10-4_H9e2/blib/arch:/export/home/cpant2/.cpan/build/MooseX-Traits-Pluggable-0.10-4_H9e2/blib/lib:/export/home/cpant2/.cpan/build/HTML-FormFu-0.08002-c0ealK/blib/arch:/export/home/cpant2/.cpan/build/HTML-FormFu-0.08002-c0ealK/blib/lib:/export/home/cpant2/.cpan/build/Number-Format-1.73-7BKFI9/blib/arch:/export/home/cpant2/.cpan/build/Number-Format-1.73-7BKFI9/blib/lib:/export/home/cpant2/.cpan/build/HTML-TokeParser-Simple-3.15-l8KC83/blib/arch:/export/home/cpant2/.cpan/build/HTML-TokeParser-Simple-3.15-l8KC83/blib/lib:/export/home/cpant2/.cpan/build/Sub-Override-0.08-RmQpDX/blib/arch:/export/home/cpant2/.cpan/build/Sub-Override-0.08-RmQpDX/blib/lib:/export/home/cpant2/.cpan/build/DateTime-Format-Natural-0.91-7d6dr1/blib/arch:/export/home/cpant2/.cpan/build/DateTime-Format-Natural-0.91-7d6dr1/blib/lib:/export/home/cpant2/.cpan/build/boolean-0.23-fROroM/blib/arch:/export/home/cpant2/.cpan/build/boolean-0.23-fROroM/blib/lib:/export/home/cpant2/.cpan/build/Test-MockTime-0.12-zAq2ag/blib/arch:/export/home/cpant2/.cpan/build/Test-MockTime-0.12-zAq2ag/blib/lib:/export/home/cpant2/.cpan/build/File-ShareDir-1.02-SyUmCs/blib/arch:/export/home/cpant2/.cpan/build/File-ShareDir-1.02-SyUmCs/blib/lib:/export/home/cpant2/.cpan/build/Regexp-Common-2010010201-S7mnk_/blib/arch:/export/home/cpant2/.cpan/build/Regexp-Common-2010010201-S7mnk_/blib/lib:/export/home/cpant2/.cpan/build/Data-Visitor-0.27-qKlhT0/blib/arch:/export/home/cpant2/.cpan/build/Data-Visitor-0.27-qKlhT0/blib/lib:/export/home/cpant2/.cpan/build/Tie-ToObject-0.03-LEhOII/blib/arch:/export/home/cpant2/.cpan/build/Tie-ToObject-0.03-LEhOII/blib/lib:/export/home/cpant2/.cpan/build/Email-Valid-0.184-NEeGBG/blib/arch:/export/home/cpant2/.cpan/build/Email-Valid-0.184-NEeGBG/blib/lib:/export/home/cpant2/.cpan/build/Net-DNS-0.66-pNbqPW/blib/arch:/export/home/cpant2/.cpan/build/Net-DNS-0.66-pNbqPW/blib/lib:/export/home/cpant2/.cpan/build/Digest-HMAC-1.02-WKbc9g/blib/arch:/export/home/cpant2/.cpan/build/Digest-HMAC-1.02-WKbc9g/blib/lib:/export/home/cpant2/.cpan/build/Digest-SHA1-2.13-vXxxJm/blib/arch:/export/home/cpant2/.cpan/build/Digest-SHA1-2.13-vXxxJm/blib/lib:/export/home/cpant2/.cpan/build/Net-IP-1.25-DtBzWY/blib/arch:/export/home/cpant2/.cpan/build/Net-IP-1.25-DtBzWY/blib/lib:/export/home/cpant2/.cpan/build/Date-Calc-6.3-jU9GAV/blib/arch:/export/home/cpant2/.cpan/build/Date-Calc-6.3-jU9GAV/blib/lib:/export/home/cpant2/.cpan/build/Bit-Vector-7.1-vKJKSC/blib/arch:/export/home/cpant2/.cpan/build/Bit-Vector-7.1-vKJKSC/blib/lib:/export/home/cpant2/.cpan/build/Captcha-reCAPTCHA-0.94-7tnpph/blib/arch:/export/home/cpant2/.cpan/build/Captcha-reCAPTCHA-0.94-7tnpph/blib/lib:/export/home/cpant2/.cpan/build/HTML-Tiny-1.05-z_fvYd/blib/arch:/export/home/cpant2/.cpan/build/HTML-Tiny-1.05-z_fvYd/blib/lib:/export/home/cpant2/.cpan/build/Hash-Flatten-1.19-9p30aO/blib/arch:/export/home/cpant2/.cpan/build/Hash-Flatten-1.19-9p30aO/blib/lib:/export/home/cpant2/.cpan/build/Test-Assertions-1.054-FDx9Lg/blib/arch:/export/home/cpant2/.cpan/build/Test-Assertions-1.054-FDx9Lg/blib/lib:/export/home/cpant2/.cpan/build/Log-Trace-1.070-lCChY2/blib/arch:/export/home/cpant2/.cpan/build/Log-Trace-1.070-lCChY2/blib/lib:/export/home/cpant2/.cpan/build/DateTime-Format-Builder-0.80-_t1_wr/blib/arch:/export/home/cpant2/.cpan/build/DateTime-Format-Builder-0.80-_t1_wr/blib/lib:/export/home/cpant2/.cpan/build/Class-Factory-Util-1.7-X8j0dQ/blib/arch:/export/home/cpant2/.cpan/build/Class-Factory-Util-1.7-X8j0dQ/blib/lib:/export/home/cpant2/.cpan/build/YAML-LibYAML-0.34-Xpg5B0/blib/arch:/export/home/cpant2/.cpan/build/YAML-LibYAML-0.34-Xpg5B0/blib/lib:/export/home/cpant2/.cpan/build/DBIx-Class-0.08124-GD0ojX/blib/arch:/export/home/cpant2/.cpan/build/DBIx-Class-0.08124-GD0ojX/blib/lib:/export/home/cpant2/.cpan/build/Class-C3-Componentised-1.0006-mQ_t4m/blib/arch:/export/home/cpant2/.cpan/build/Class-C3-Componentised-1.0006-mQ_t4m/blib/lib:/export/home/cpant2/.cpan/build/Data-Page-2.02-3iKFNp/blib/arch:/export/home/cpant2/.cpan/build/Data-Page-2.02-3iKFNp/blib/lib:/export/home/cpant2/.cpan/build/Class-Accessor-Chained-0.01-7aT8kv/blib/arch:/export/home/cpant2/.cpan/build/Class-Accessor-Chained-0.01-7aT8kv/blib/lib:/export/home/cpant2/.cpan/build/Math-Base36-0.07-Imx1db/blib/arch:/export/home/cpant2/.cpan/build/Math-Base36-0.07-Imx1db/blib/lib:/export/home/cpant2/.cpan/build/Module-Find-0.10-AXfhdl/blib/arch:/export/home/cpant2/.cpan/build/Module-Find-0.10-AXfhdl/blib/lib:/export/home/cpant2/.cpan/build/Context-Preserve-0.01-33itjq/blib/arch:/export/home/cpant2/.cpan/build/Context-Preserve-0.01-33itjq/blib/lib:/export/home/cpant2/.cpan/build/Test-use-ok-0.02-zLIDim/blib/arch:/export/home/cpant2/.cpan/build/Test-use-ok-0.02-zLIDim/blib/lib:/export/home/cpant2/.cpan/build/SQL-Abstract-1.71-p6C5dN/blib/arch:/export/home/cpant2/.cpan/build/SQL-Abstract-1.71-p6C5dN/blib/lib:/export/home/cpant2/.cpan/build/Hash-Merge-0.12-O4STAY/blib/arch:/export/home/cpant2/.cpan/build/Hash-Merge-0.12-O4STAY/blib/lib:/export/home/cpant2/.cpan/build/Class-Accessor-Grouped-0.10000-CfwGTO/blib/arch:/export/home/cpant2/.cpan/build/Class-Accessor-Grouped-0.10000-CfwGTO/blib/lib:/export/home/cpant2/.cpan/build/Class-XSAccessor-1.09-wgAmws/blib/arch:/export/home/cpant2/.cpan/build/Class-XSAccessor-1.09-wgAmws/blib/lib:/export/home/cpant2/.cpan/build/Data-Dumper-Concise-2.012-Pg_yB5/blib/arch:/export/home/cpant2/.cpan/build/Data-Dumper-Concise-2.012-Pg_yB5/blib/lib:/export/home/cpant2/.cpan/build/Catalyst-View-TT-0.36-LyEnbj/blib/arch:/export/home/cpant2/.cpan/build/Catalyst-View-TT-0.36-LyEnbj/blib/lib:/export/home/cpant2/.cpan/build/Template-Timer-1.00-CoQVwR/blib/arch:/export/home/cpant2/.cpan/build/Template-Timer-1.00-CoQVwR/blib/lib:/export/home/cpant2/.cpan/build/Config-Any-0.20-oNocTr/blib/arch:/export/home/cpant2/.cpan/build/Config-Any-0.20-oNocTr/blib/lib:/export/home/cpant2/.cpan/build/Test-WWW-Mechanize-Catalyst-0.52-cXgwGF/blib/arch:/export/home/cpant2/.cpan/build/Test-WWW-Mechanize-Catalyst-0.52-cXgwGF/blib/lib:/export/home/cpant2/.cpan/build/Test-WWW-Mechanize-1.30-S0JugN/blib/arch:/export/home/cpant2/.cpan/build/Test-WWW-Mechanize-1.30-S0JugN/blib/lib:/export/home/cpant2/.cpan/build/Test-LongString-0.14-F4l0D0/blib/arch:/export/home/cpant2/.cpan/build/Test-LongString-0.14-F4l0D0/blib/lib:/export/home/cpant2/.cpan/build/Carp-Assert-More-1.12-_VPpIM/blib/arch:/export/home/cpant2/.cpan/build/Carp-Assert-More-1.12-_VPpIM/blib/lib:/export/home/cpant2/.cpan/build/Carp-Assert-0.20-2p2_XP/blib/arch:/export/home/cpant2/.cpan/build/Carp-Assert-0.20-2p2_XP/blib/lib:/export/home/cpant2/.cpan/build/HTML-Tree-4.1-K2o64t/blib/arch:/export/home/cpant2/.cpan/build/HTML-Tree-4.1-K2o64t/blib/lib:/export/home/cpant2/.cpan/build/WWW-Mechanize-1.66-Qgpqg9/blib/arch:/export/home/cpant2/.cpan/build/WWW-Mechanize-1.66-Qgpqg9/blib/lib:/export/home/cpant2/.cpan/build/HTTP-Server-Simple-0.43-r1ZfK5/blib/arch:/export/home/cpant2/.cpan/build/HTTP-Server-Simple-0.43-r1ZfK5/blib/lib:/export/home/cpant2/.cpan/build/Catalyst-Plugin-Session-State-Cookie-0.17-IVO3wu/blib/arch:/export/home/cpant2/.cpan/build/Catalyst-Plugin-Session-State-Cookie-0.17-IVO3wu/blib/lib:/export/home/cpant2/.cpan/build/Catalyst-Plugin-Session-0.31-X5wLZi/blib/arch:/export/home/cpant2/.cpan/build/Catalyst-Plugin-Session-0.31-X5wLZi/blib/lib:/export/home/cpant2/.cpan/build/Object-Signature-1.05-9JZDhT/blib/arch:/export/home/cpant2/.cpan/build/Object-Signature-1.05-9JZDhT/blib/lib:/export/home/cpant2/.cpan/build/JavaScript-Dumper-0.011-4JzSly/blib/arch:/export/home/cpant2/.cpan/build/JavaScript-Dumper-0.011-4JzSly/blib/lib:/export/home/cpant2/.cpan/build/Catalyst-View-JSON-0.31-zW2Ehi/blib/arch:/export/home/cpant2/.cpan/build/Catalyst-View-JSON-0.31-zW2Ehi/blib/lib:/export/home/cpant2/.cpan/build/JSON-Any-1.25-wW801k/blib/arch:/export/home/cpant2/.cpan/build/JSON-Any-1.25-wW801k/blib/lib:/export/home/cpant2/.cpan/build/Catalyst-Action-REST-0.87-nAo8PC/blib/arch:/export/home/cpant2/.cpan/build/Catalyst-Action-REST-0.87-nAo8PC/blib/lib:/export/home/cpant2/.cpan/build/Catalyst-Runtime-5.80029-O_t6lY/blib/arch:/export/home/cpant2/.cpan/build/Catalyst-Runtime-5.80029-O_t6lY/blib/lib:/export/home/cpant2/.cpan/build/Text-SimpleTable-2.03-eXXhse/blib/arch:/export/home/cpant2/.cpan/build/Text-SimpleTable-2.03-eXXhse/blib/lib:/export/home/cpant2/.cpan/build/Class-C3-Adopt-NEXT-0.13-LAFGYt/blib/arch:/export/home/cpant2/.cpan/build/Class-C3-Adopt-NEXT-0.13-LAFGYt/blib/lib:/export/home/cpant2/.cpan/build/MooseX-Types-Common-0.001002-HaoVm6/blib/arch:/export/home/cpant2/.cpan/build/MooseX-Types-Common-0.001002-HaoVm6/blib/lib:/export/home/cpant2/.cpan/build/HTTP-Request-AsCGI-1.2-h1hR6M/blib/arch:/export/home/cpant2/.cpan/build/HTTP-Request-AsCGI-1.2-h1hR6M/blib/lib:/export/home/cpant2/.cpan/build/MooseX-MethodAttributes-0.24-QOeMSf/blib/arch:/export/home/cpant2/.cpan/build/MooseX-MethodAttributes-0.24-QOeMSf/blib/lib:/export/home/cpant2/.cpan/build/Tree-Simple-VisitorFactory-0.10-_qXwuw/blib/arch:/export/home/cpant2/.cpan/build/Tree-Simple-VisitorFactory-0.10-_qXwuw/blib/lib:/export/home/cpant2/.cpan/build/MooseX-Getopt-0.33-jPA2hg/blib/arch:/export/home/cpant2/.cpan/build/MooseX-Getopt-0.33-jPA2hg/blib/lib:/export/home/cpant2/.cpan/build/Getopt-Long-Descriptive-0.086-GoT2GA/blib/arch:/export/home/cpant2/.cpan/build/Getopt-Long-Descriptive-0.086-GoT2GA/blib/lib:/export/home/cpant2/.cpan/build/String-RewritePrefix-0.006-CVNCU6/blib/arch:/export/home/cpant2/.cpan/build/String-RewritePrefix-0.006-CVNCU6/blib/lib:/export/home/cpant2/.cpan/build/Tree-Simple-1.18-5w1sYg/blib/arch:/export/home/cpant2/.cpan/build/Tree-Simple-1.18-5w1sYg/blib/lib:/export/home/cpant2/.cpan/build/Path-Class-0.21-mm5slW/blib/arch:/export/home/cpant2/.cpan/build/Path-Class-0.21-mm5slW/blib/lib:/export/home/cpant2/.cpan/build/CGI-Simple-1.112-Mxvr0K/blib/arch:/export/home/cpant2/.cpan/build/CGI-Simple-1.112-Mxvr0K/blib/lib:/export/home/cpant2/.cpan/build/IO-stringy-2.110-YMyQfk/blib/arch:/export/home/cpant2/.cpan/build/IO-stringy-2.110-YMyQfk/blib/lib:/export/home/cpant2/.cpan/build/HTTP-Body-1.11-T1siAV/blib/arch:/export/home/cpant2/.cpan/build/HTTP-Body-1.11-T1siAV/blib/lib:/export/home/cpant2/.cpan/build/Data-Dump-1.19-KD0nnM/blib/arch:/export/home/cpant2/.cpan/build/Data-Dump-1.19-KD0nnM/blib/lib:/export/home/cpant2/.cpan/build/MooseX-Role-WithOverloading-0.08-K5lx0K/blib/arch:/export/home/cpant2/.cpan/build/MooseX-Role-WithOverloading-0.08-K5lx0K/blib/lib:/export/home/cpant2/.cpan/build/MooseX-Types-0.24-Ah7s5d/blib/arch:/export/home/cpant2/.cpan/build/MooseX-Types-0.24-Ah7s5d/blib/lib:/export/home/cpant2/.cpan/build/Carp-Clan-6.04-z8jLp3/blib/arch:/export/home/cpant2/.cpan/build/Carp-Clan-6.04-z8jLp3/blib/lib:/export/home/cpant2/.cpan/build/aliased-0.30-mdRFDp/blib/arch:/export/home/cpant2/.cpan/build/aliased-0.30-mdRFDp/blib/lib:/export/home/cpant2/.cpan/build/MooseX-Emulate-Class-Accessor-Fast-0.00903-edfCQb/blib/arch:/export/home/cpant2/.cpan/build/MooseX-Emulate-Class-Accessor-Fast-0.00903-edfCQb/blib/lib:/export/home/cpant2/.cpan/build/URI-Find-20100505-3zvMfZ/blib/arch:/export/home/cpant2/.cpan/build/URI-Find-20100505-3zvMfZ/blib/lib:/export/home/cpant2/.cpan/build/namespace-autoclean-0.11-6FTooS/blib/arch:/export/home/cpant2/.cpan/build/namespace-autoclean-0.11-6FTooS/blib/lib:/export/home/cpant2/.cpan/build/namespace-clean-0.18-P16Hwz/blib/arch:/export/home/cpant2/.cpan/build/namespace-clean-0.18-P16Hwz/blib/lib:/export/home/cpant2/.cpan/build/Sub-Identify-0.04-EnrLkS/blib/arch:/export/home/cpant2/.cpan/build/Sub-Identify-0.04-EnrLkS/blib/lib:/export/home/cpant2/.cpan/build/B-Hooks-EndOfScope-0.09-HdakbJ/blib/arch:/export/home/cpant2/.cpan/build/B-Hooks-EndOfScope-0.09-HdakbJ/blib/lib:/export/home/cpant2/.cpan/build/Class-MOP-1.11-aca7eW/blib/arch:/export/home/cpant2/.cpan/build/Class-MOP-1.11-aca7eW/blib/lib:/export/home/cpant2/.cpan/build/Package-Stash-0.13-9i4aDf/blib/arch:/export/home/cpant2/.cpan/build/Package-Stash-0.13-9i4aDf/blib/lib:/export/home/cpant2/.cpan/build/Devel-GlobalDestruction-0.02-HXBEcH/blib/arch:/export/home/cpant2/.cpan/build/Devel-GlobalDestruction-0.02-HXBEcH/blib/lib:/export/home/cpant2/.cpan/build/Scope-Guard-0.20-EMj3dX/blib/arch:/export/home/cpant2/.cpan/build/Scope-Guard-0.20-EMj3dX/blib/lib:/export/home/cpant2/.cpan/build/Package-DeprecationManager-0.10-2BWiU_/blib/arch:/export/home/cpant2/.cpan/build/Package-DeprecationManager-0.10-2BWiU_/blib/lib:/export/home/cpant2/.cpan/build/Test-Requires-0.06-bR4HfJ/blib/arch:/export/home/cpant2/.cpan/build/Test-Requires-0.06-bR4HfJ/blib/lib:/export/home/cpant2/.cpan/build/Sub-Name-0.05-ZqGL4u/blib/arch:/export/home/cpant2/.cpan/build/Sub-Name-0.05-ZqGL4u/blib/lib:/export/home/cpant2/.cpan/build/MRO-Compat-0.11-CPsa6_/blib/arch:/export/home/cpant2/.cpan/build/MRO-Compat-0.11-CPsa6_/blib/lib:/export/home/cpant2/.cpan/build/Class-C3-0.23-_uSlIs/blib/arch:/export/home/cpant2/.cpan/build/Class-C3-0.23-_uSlIs/blib/lib:/export/home/cpant2/.cpan/build/Algorithm-C3-0.08-BXEYFq/blib/arch:/export/home/cpant2/.cpan/build/Algorithm-C3-0.08-BXEYFq/blib/lib:/export/home/cpant2/.cpan/build/Data-Serializer-0.49-V56HEi/blib/arch:/export/home/cpant2/.cpan/build/Data-Serializer-0.49-V56HEi/blib/lib:/export/home/cpant2/.cpan/build/Variable-Magic-0.45-f7N2fO/blib/arch:/export/home/cpant2/.cpan/build/Variable-Magic-0.45-f7N2fO/blib/lib:/export/home/cpant2/.cpan/build/Moose-1.21-OMWDDy/blib/arch:/export/home/cpant2/.cpan/build/Moose-1.21-OMWDDy/blib/lib"
PERL5OPT=""
PERL5_CPANPLUS_IS_RUNNING="26633"
PERL5_CPAN_IS_RUNNING="26633"
PERL5_CPAN_IS_RUNNING_IN_RECURSION="8595,26633"
PERL_CR_SMOKER_CURRENT="CatalystX-ExtJS-1.123000"
PERL_CR_SMOKER_RUNONCE="1"
PERL_EXTUTILS_AUTOINSTALL="--defaultdeps"
PERL_MM_USE_DEFAULT="1"
@INC:
/export/home/cpant2/.cpan/build/Catalyst-Action-RenderView-0.14-lnUEYA/blib/arch
/export/home/cpant2/.cpan/build/Catalyst-Action-RenderView-0.14-lnUEYA/blib/lib
/export/home/cpant2/.cpan/build/HTML-FormFu-Model-DBIC-0.08002-zy25qv/blib/arch
/export/home/cpant2/.cpan/build/HTML-FormFu-Model-DBIC-0.08002-zy25qv/blib/lib
/export/home/cpant2/.cpan/build/SQL-Translator-0.11006-d0poMf/blib/arch
/export/home/cpant2/.cpan/build/SQL-Translator-0.11006-d0poMf/blib/lib
/export/home/cpant2/.cpan/build/Class-MakeMethods-1.01-jqkWt6/blib/arch
/export/home/cpant2/.cpan/build/Class-MakeMethods-1.01-jqkWt6/blib/lib
/export/home/cpant2/.cpan/build/Class-Base-0.03-VNpVV6/blib/arch
/export/home/cpant2/.cpan/build/Class-Base-0.03-VNpVV6/blib/lib
/export/home/cpant2/.cpan/build/XML-Writer-0.612-gABKm8/blib/arch
/export/home/cpant2/.cpan/build/XML-Writer-0.612-gABKm8/blib/lib
/export/home/cpant2/.cpan/build/Parse-RecDescent-1.965001-4FKAp0/blib/arch
/export/home/cpant2/.cpan/build/Parse-RecDescent-1.965001-4FKAp0/blib/lib
/export/home/cpant2/.cpan/build/DateTime-Format-SQLite-0.11-8lkuAT/blib/arch
/export/home/cpant2/.cpan/build/DateTime-Format-SQLite-0.11-8lkuAT/blib/lib
/export/home/cpant2/.cpan/build/HTML-FormFu-ExtJS-0.077-dJNp5Q/blib/arch
/export/home/cpant2/.cpan/build/HTML-FormFu-ExtJS-0.077-dJNp5Q/blib/lib
/export/home/cpant2/.cpan/build/Hash-Merge-Simple-0.05-IurOyw/blib/arch
/export/home/cpant2/.cpan/build/Hash-Merge-Simple-0.05-IurOyw/blib/lib
/export/home/cpant2/.cpan/build/Tie-Hash-Indexed-0.05-NdPbR6/blib/arch
/export/home/cpant2/.cpan/build/Tie-Hash-Indexed-0.05-NdPbR6/blib/lib
/export/home/cpant2/.cpan/build/Lingua-EN-Inflect-1.893-IsV9LS/blib/arch
/export/home/cpant2/.cpan/build/Lingua-EN-Inflect-1.893-IsV9LS/blib/lib
/export/home/cpant2/.cpan/build/Catalyst-Model-DBIC-Schema-0.43-McRw1W/blib/arch
/export/home/cpant2/.cpan/build/Catalyst-Model-DBIC-Schema-0.43-McRw1W/blib/lib
/export/home/cpant2/.cpan/build/Tie-IxHash-1.22-ErZVIA/blib/arch
/export/home/cpant2/.cpan/build/Tie-IxHash-1.22-ErZVIA/blib/lib
/export/home/cpant2/.cpan/build/CatalystX-Component-Traits-0.16-BCoo_p/blib/arch
/export/home/cpant2/.cpan/build/CatalystX-Component-Traits-0.16-BCoo_p/blib/lib
/export/home/cpant2/.cpan/build/MooseX-Traits-Pluggable-0.10-4_H9e2/blib/arch
/export/home/cpant2/.cpan/build/MooseX-Traits-Pluggable-0.10-4_H9e2/blib/lib
/export/home/cpant2/.cpan/build/HTML-FormFu-0.08002-c0ealK/blib/arch
/export/home/cpant2/.cpan/build/HTML-FormFu-0.08002-c0ealK/blib/lib
/export/home/cpant2/.cpan/build/Number-Format-1.73-7BKFI9/blib/arch
/export/home/cpant2/.cpan/build/Number-Format-1.73-7BKFI9/blib/lib
/export/home/cpant2/.cpan/build/HTML-TokeParser-Simple-3.15-l8KC83/blib/arch
/export/home/cpant2/.cpan/build/HTML-TokeParser-Simple-3.15-l8KC83/blib/lib
/export/home/cpant2/.cpan/build/Sub-Override-0.08-RmQpDX/blib/arch
/export/home/cpant2/.cpan/build/Sub-Override-0.08-RmQpDX/blib/lib
/export/home/cpant2/.cpan/build/DateTime-Format-Natural-0.91-7d6dr1/blib/arch
/export/home/cpant2/.cpan/build/DateTime-Format-Natural-0.91-7d6dr1/blib/lib
/export/home/cpant2/.cpan/build/boolean-0.23-fROroM/blib/arch
/export/home/cpant2/.cpan/build/boolean-0.23-fROroM/blib/lib
/export/home/cpant2/.cpan/build/Test-MockTime-0.12-zAq2ag/blib/arch
/export/home/cpant2/.cpan/build/Test-MockTime-0.12-zAq2ag/blib/lib
/export/home/cpant2/.cpan/build/File-ShareDir-1.02-SyUmCs/blib/arch
/export/home/cpant2/.cpan/build/File-ShareDir-1.02-SyUmCs/blib/lib
/export/home/cpant2/.cpan/build/Regexp-Common-2010010201-S7mnk_/blib/arch
/export/home/cpant2/.cpan/build/Regexp-Common-2010010201-S7mnk_/blib/lib
/export/home/cpant2/.cpan/build/Data-Visitor-0.27-qKlhT0/blib/arch
/export/home/cpant2/.cpan/build/Data-Visitor-0.27-qKlhT0/blib/lib
/export/home/cpant2/.cpan/build/Tie-ToObject-0.03-LEhOII/blib/arch
/export/home/cpant2/.cpan/build/Tie-ToObject-0.03-LEhOII/blib/lib
/export/home/cpant2/.cpan/build/Email-Valid-0.184-NEeGBG/blib/arch
/export/home/cpant2/.cpan/build/Email-Valid-0.184-NEeGBG/blib/lib
/export/home/cpant2/.cpan/build/Net-DNS-0.66-pNbqPW/blib/arch
/export/home/cpant2/.cpan/build/Net-DNS-0.66-pNbqPW/blib/lib
/export/home/cpant2/.cpan/build/Digest-HMAC-1.02-WKbc9g/blib/arch
/export/home/cpant2/.cpan/build/Digest-HMAC-1.02-WKbc9g/blib/lib
/export/home/cpant2/.cpan/build/Digest-SHA1-2.13-vXxxJm/blib/arch
/export/home/cpant2/.cpan/build/Digest-SHA1-2.13-vXxxJm/blib/lib
/export/home/cpant2/.cpan/build/Net-IP-1.25-DtBzWY/blib/arch
/export/home/cpant2/.cpan/build/Net-IP-1.25-DtBzWY/blib/lib
/export/home/cpant2/.cpan/build/Date-Calc-6.3-jU9GAV/blib/arch
/export/home/cpant2/.cpan/build/Date-Calc-6.3-jU9GAV/blib/lib
/export/home/cpant2/.cpan/build/Bit-Vector-7.1-vKJKSC/blib/arch
/export/home/cpant2/.cpan/build/Bit-Vector-7.1-vKJKSC/blib/lib
/export/home/cpant2/.cpan/build/Captcha-reCAPTCHA-0.94-7tnpph/blib/arch
/export/home/cpant2/.cpan/build/Captcha-reCAPTCHA-0.94-7tnpph/blib/lib
/export/home/cpant2/.cpan/build/HTML-Tiny-1.05-z_fvYd/blib/arch
/export/home/cpant2/.cpan/build/HTML-Tiny-1.05-z_fvYd/blib/lib
/export/home/cpant2/.cpan/build/Hash-Flatten-1.19-9p30aO/blib/arch
/export/home/cpant2/.cpan/build/Hash-Flatten-1.19-9p30aO/blib/lib
/export/home/cpant2/.cpan/build/Test-Assertions-1.054-FDx9Lg/blib/arch
/export/home/cpant2/.cpan/build/Test-Assertions-1.054-FDx9Lg/blib/lib
/export/home/cpant2/.cpan/build/Log-Trace-1.070-lCChY2/blib/arch
/export/home/cpant2/.cpan/build/Log-Trace-1.070-lCChY2/blib/lib
/export/home/cpant2/.cpan/build/DateTime-Format-Builder-0.80-_t1_wr/blib/arch
/export/home/cpant2/.cpan/build/DateTime-Format-Builder-0.80-_t1_wr/blib/lib
/export/home/cpant2/.cpan/build/Class-Factory-Util-1.7-X8j0dQ/blib/arch
/export/home/cpant2/.cpan/build/Class-Factory-Util-1.7-X8j0dQ/blib/lib
/export/home/cpant2/.cpan/build/YAML-LibYAML-0.34-Xpg5B0/blib/arch
/export/home/cpant2/.cpan/build/YAML-LibYAML-0.34-Xpg5B0/blib/lib
/export/home/cpant2/.cpan/build/DBIx-Class-0.08124-GD0ojX/blib/arch
/export/home/cpant2/.cpan/build/DBIx-Class-0.08124-GD0ojX/blib/lib
/export/home/cpant2/.cpan/build/Class-C3-Componentised-1.0006-mQ_t4m/blib/arch
/export/home/cpant2/.cpan/build/Class-C3-Componentised-1.0006-mQ_t4m/blib/lib
/export/home/cpant2/.cpan/build/Data-Page-2.02-3iKFNp/blib/arch
/export/home/cpant2/.cpan/build/Data-Page-2.02-3iKFNp/blib/lib
/export/home/cpant2/.cpan/build/Class-Accessor-Chained-0.01-7aT8kv/blib/arch
/export/home/cpant2/.cpan/build/Class-Accessor-Chained-0.01-7aT8kv/blib/lib
/export/home/cpant2/.cpan/build/Math-Base36-0.07-Imx1db/blib/arch
/export/home/cpant2/.cpan/build/Math-Base36-0.07-Imx1db/blib/lib
/export/home/cpant2/.cpan/build/Module-Find-0.10-AXfhdl/blib/arch
/export/home/cpant2/.cpan/build/Module-Find-0.10-AXfhdl/blib/lib
/export/home/cpant2/.cpan/build/Context-Preserve-0.01-33itjq/blib/arch
/export/home/cpant2/.cpan/build/Context-Preserve-0.01-33itjq/blib/lib
/export/home/cpant2/.cpan/build/Test-use-ok-0.02-zLIDim/blib/arch
/export/home/cpant2/.cpan/build/Test-use-ok-0.02-zLIDim/blib/lib
/export/home/cpant2/.cpan/build/SQL-Abstract-1.71-p6C5dN/blib/arch
/export/home/cpant2/.cpan/build/SQL-Abstract-1.71-p6C5dN/blib/lib
/export/home/cpant2/.cpan/build/Hash-Merge-0.12-O4STAY/blib/arch
/export/home/cpant2/.cpan/build/Hash-Merge-0.12-O4STAY/blib/lib
/export/home/cpant2/.cpan/build/Class-Accessor-Grouped-0.10000-CfwGTO/blib/arch
/export/home/cpant2/.cpan/build/Class-Accessor-Grouped-0.10000-CfwGTO/blib/lib
/export/home/cpant2/.cpan/build/Class-XSAccessor-1.09-wgAmws/blib/arch
/export/home/cpant2/.cpan/build/Class-XSAccessor-1.09-wgAmws/blib/lib
/export/home/cpant2/.cpan/build/Data-Dumper-Concise-2.012-Pg_yB5/blib/arch
/export/home/cpant2/.cpan/build/Data-Dumper-Concise-2.012-Pg_yB5/blib/lib
/export/home/cpant2/.cpan/build/Catalyst-View-TT-0.36-LyEnbj/blib/arch
/export/home/cpant2/.cpan/build/Catalyst-View-TT-0.36-LyEnbj/blib/lib
/export/home/cpant2/.cpan/build/Template-Timer-1.00-CoQVwR/blib/arch
/export/home/cpant2/.cpan/build/Template-Timer-1.00-CoQVwR/blib/lib
/export/home/cpant2/.cpan/build/Config-Any-0.20-oNocTr/blib/arch
/export/home/cpant2/.cpan/build/Config-Any-0.20-oNocTr/blib/lib
/export/home/cpant2/.cpan/build/Test-WWW-Mechanize-Catalyst-0.52-cXgwGF/blib/arch
/export/home/cpant2/.cpan/build/Test-WWW-Mechanize-Catalyst-0.52-cXgwGF/blib/lib
/export/home/cpant2/.cpan/build/Test-WWW-Mechanize-1.30-S0JugN/blib/arch
/export/home/cpant2/.cpan/build/Test-WWW-Mechanize-1.30-S0JugN/blib/lib
/export/home/cpant2/.cpan/build/Test-LongString-0.14-F4l0D0/blib/arch
/export/home/cpant2/.cpan/build/Test-LongString-0.14-F4l0D0/blib/lib
/export/home/cpant2/.cpan/build/Carp-Assert-More-1.12-_VPpIM/blib/arch
/export/home/cpant2/.cpan/build/Carp-Assert-More-1.12-_VPpIM/blib/lib
/export/home/cpant2/.cpan/build/Carp-Assert-0.20-2p2_XP/blib/arch
/export/home/cpant2/.cpan/build/Carp-Assert-0.20-2p2_XP/blib/lib
/export/home/cpant2/.cpan/build/HTML-Tree-4.1-K2o64t/blib/arch
/export/home/cpant2/.cpan/build/HTML-Tree-4.1-K2o64t/blib/lib
/export/home/cpant2/.cpan/build/WWW-Mechanize-1.66-Qgpqg9/blib/arch
/export/home/cpant2/.cpan/build/WWW-Mechanize-1.66-Qgpqg9/blib/lib
/export/home/cpant2/.cpan/build/HTTP-Server-Simple-0.43-r1ZfK5/blib/arch
/export/home/cpant2/.cpan/build/HTTP-Server-Simple-0.43-r1ZfK5/blib/lib
/export/home/cpant2/.cpan/build/Catalyst-Plugin-Session-State-Cookie-0.17-IVO3wu/blib/arch
/export/home/cpant2/.cpan/build/Catalyst-Plugin-Session-State-Cookie-0.17-IVO3wu/blib/lib
/export/home/cpant2/.cpan/build/Catalyst-Plugin-Session-0.31-X5wLZi/blib/arch
/export/home/cpant2/.cpan/build/Catalyst-Plugin-Session-0.31-X5wLZi/blib/lib
/export/home/cpant2/.cpan/build/Object-Signature-1.05-9JZDhT/blib/arch
/export/home/cpant2/.cpan/build/Object-Signature-1.05-9JZDhT/blib/lib
/export/home/cpant2/.cpan/build/JavaScript-Dumper-0.011-4JzSly/blib/arch
/export/home/cpant2/.cpan/build/JavaScript-Dumper-0.011-4JzSly/blib/lib
/export/home/cpant2/.cpan/build/Catalyst-View-JSON-0.31-zW2Ehi/blib/arch
/export/home/cpant2/.cpan/build/Catalyst-View-JSON-0.31-zW2Ehi/blib/lib
/export/home/cpant2/.cpan/build/JSON-Any-1.25-wW801k/blib/arch
/export/home/cpant2/.cpan/build/JSON-Any-1.25-wW801k/blib/lib
/export/home/cpant2/.cpan/build/Catalyst-Action-REST-0.87-nAo8PC/blib/arch
/export/home/cpant2/.cpan/build/Catalyst-Action-REST-0.87-nAo8PC/blib/lib
/export/home/cpant2/.cpan/build/Catalyst-Runtime-5.80029-O_t6lY/blib/arch
/export/home/cpant2/.cpan/build/Catalyst-Runtime-5.80029-O_t6lY/blib/lib
/export/home/cpant2/.cpan/build/Text-SimpleTable-2.03-eXXhse/blib/arch
/export/home/cpant2/.cpan/build/Text-SimpleTable-2.03-eXXhse/blib/lib
/export/home/cpant2/.cpan/build/Class-C3-Adopt-NEXT-0.13-LAFGYt/blib/arch
/export/home/cpant2/.cpan/build/Class-C3-Adopt-NEXT-0.13-LAFGYt/blib/lib
/export/home/cpant2/.cpan/build/MooseX-Types-Common-0.001002-HaoVm6/blib/arch
/export/home/cpant2/.cpan/build/MooseX-Types-Common-0.001002-HaoVm6/blib/lib
/export/home/cpant2/.cpan/build/HTTP-Request-AsCGI-1.2-h1hR6M/blib/arch
/export/home/cpant2/.cpan/build/HTTP-Request-AsCGI-1.2-h1hR6M/blib/lib
/export/home/cpant2/.cpan/build/MooseX-MethodAttributes-0.24-QOeMSf/blib/arch
/export/home/cpant2/.cpan/build/MooseX-MethodAttributes-0.24-QOeMSf/blib/lib
/export/home/cpant2/.cpan/build/Tree-Simple-VisitorFactory-0.10-_qXwuw/blib/arch
/export/home/cpant2/.cpan/build/Tree-Simple-VisitorFactory-0.10-_qXwuw/blib/lib
/export/home/cpant2/.cpan/build/MooseX-Getopt-0.33-jPA2hg/blib/arch
/export/home/cpant2/.cpan/build/MooseX-Getopt-0.33-jPA2hg/blib/lib
/export/home/cpant2/.cpan/build/Getopt-Long-Descriptive-0.086-GoT2GA/blib/arch
/export/home/cpant2/.cpan/build/Getopt-Long-Descriptive-0.086-GoT2GA/blib/lib
/export/home/cpant2/.cpan/build/String-RewritePrefix-0.006-CVNCU6/blib/arch
/export/home/cpant2/.cpan/build/String-RewritePrefix-0.006-CVNCU6/blib/lib
/export/home/cpant2/.cpan/build/Tree-Simple-1.18-5w1sYg/blib/arch
/export/home/cpant2/.cpan/build/Tree-Simple-1.18-5w1sYg/blib/lib
/export/home/cpant2/.cpan/build/Path-Class-0.21-mm5slW/blib/arch
/export/home/cpant2/.cpan/build/Path-Class-0.21-mm5slW/blib/lib
/export/home/cpant2/.cpan/build/CGI-Simple-1.112-Mxvr0K/blib/arch
/export/home/cpant2/.cpan/build/CGI-Simple-1.112-Mxvr0K/blib/lib
/export/home/cpant2/.cpan/build/IO-stringy-2.110-YMyQfk/blib/arch
/export/home/cpant2/.cpan/build/IO-stringy-2.110-YMyQfk/blib/lib
/export/home/cpant2/.cpan/build/HTTP-Body-1.11-T1siAV/blib/arch
/export/home/cpant2/.cpan/build/HTTP-Body-1.11-T1siAV/blib/lib
/export/home/cpant2/.cpan/build/Data-Dump-1.19-KD0nnM/blib/arch
/export/home/cpant2/.cpan/build/Data-Dump-1.19-KD0nnM/blib/lib
/export/home/cpant2/.cpan/build/MooseX-Role-WithOverloading-0.08-K5lx0K/blib/arch
/export/home/cpant2/.cpan/build/MooseX-Role-WithOverloading-0.08-K5lx0K/blib/lib
/export/home/cpant2/.cpan/build/MooseX-Types-0.24-Ah7s5d/blib/arch
/export/home/cpant2/.cpan/build/MooseX-Types-0.24-Ah7s5d/blib/lib
/export/home/cpant2/.cpan/build/Carp-Clan-6.04-z8jLp3/blib/arch
/export/home/cpant2/.cpan/build/Carp-Clan-6.04-z8jLp3/blib/lib
/export/home/cpant2/.cpan/build/aliased-0.30-mdRFDp/blib/arch
/export/home/cpant2/.cpan/build/aliased-0.30-mdRFDp/blib/lib
/export/home/cpant2/.cpan/build/MooseX-Emulate-Class-Accessor-Fast-0.00903-edfCQb/blib/arch
/export/home/cpant2/.cpan/build/MooseX-Emulate-Class-Accessor-Fast-0.00903-edfCQb/blib/lib
/export/home/cpant2/.cpan/build/URI-Find-20100505-3zvMfZ/blib/arch
/export/home/cpant2/.cpan/build/URI-Find-20100505-3zvMfZ/blib/lib
/export/home/cpant2/.cpan/build/namespace-autoclean-0.11-6FTooS/blib/arch
/export/home/cpant2/.cpan/build/namespace-autoclean-0.11-6FTooS/blib/lib
/export/home/cpant2/.cpan/build/namespace-clean-0.18-P16Hwz/blib/arch
/export/home/cpant2/.cpan/build/namespace-clean-0.18-P16Hwz/blib/lib
/export/home/cpant2/.cpan/build/Sub-Identify-0.04-EnrLkS/blib/arch
/export/home/cpant2/.cpan/build/Sub-Identify-0.04-EnrLkS/blib/lib
/export/home/cpant2/.cpan/build/B-Hooks-EndOfScope-0.09-HdakbJ/blib/arch
/export/home/cpant2/.cpan/build/B-Hooks-EndOfScope-0.09-HdakbJ/blib/lib
/export/home/cpant2/.cpan/build/Class-MOP-1.11-aca7eW/blib/arch
/export/home/cpant2/.cpan/build/Class-MOP-1.11-aca7eW/blib/lib
/export/home/cpant2/.cpan/build/Package-Stash-0.13-9i4aDf/blib/arch
/export/home/cpant2/.cpan/build/Package-Stash-0.13-9i4aDf/blib/lib
/export/home/cpant2/.cpan/build/Devel-GlobalDestruction-0.02-HXBEcH/blib/arch
/export/home/cpant2/.cpan/build/Devel-GlobalDestruction-0.02-HXBEcH/blib/lib
/export/home/cpant2/.cpan/build/Scope-Guard-0.20-EMj3dX/blib/arch
/export/home/cpant2/.cpan/build/Scope-Guard-0.20-EMj3dX/blib/lib
/export/home/cpant2/.cpan/build/Package-DeprecationManager-0.10-2BWiU_/blib/arch
/export/home/cpant2/.cpan/build/Package-DeprecationManager-0.10-2BWiU_/blib/lib
/export/home/cpant2/.cpan/build/Test-Requires-0.06-bR4HfJ/blib/arch
/export/home/cpant2/.cpan/build/Test-Requires-0.06-bR4HfJ/blib/lib
/export/home/cpant2/.cpan/build/Sub-Name-0.05-ZqGL4u/blib/arch
/export/home/cpant2/.cpan/build/Sub-Name-0.05-ZqGL4u/blib/lib
/export/home/cpant2/.cpan/build/MRO-Compat-0.11-CPsa6_/blib/arch
/export/home/cpant2/.cpan/build/MRO-Compat-0.11-CPsa6_/blib/lib
/export/home/cpant2/.cpan/build/Class-C3-0.23-_uSlIs/blib/arch
/export/home/cpant2/.cpan/build/Class-C3-0.23-_uSlIs/blib/lib
/export/home/cpant2/.cpan/build/Algorithm-C3-0.08-BXEYFq/blib/arch
/export/home/cpant2/.cpan/build/Algorithm-C3-0.08-BXEYFq/blib/lib
/export/home/cpant2/.cpan/build/Data-Serializer-0.49-V56HEi/blib/arch
/export/home/cpant2/.cpan/build/Data-Serializer-0.49-V56HEi/blib/lib
/export/home/cpant2/.cpan/build/Variable-Magic-0.45-f7N2fO/blib/arch
/export/home/cpant2/.cpan/build/Variable-Magic-0.45-f7N2fO/blib/lib
/export/home/cpant2/.cpan/build/Moose-1.21-OMWDDy/blib/arch
/export/home/cpant2/.cpan/build/Moose-1.21-OMWDDy/blib/lib
/export/home/cpant2/perl5/lib/5.8.9/i86pc-solaris-64int
/export/home/cpant2/perl5/lib/5.8.9
/export/home/cpant2/perl5/lib/site_perl/5.8.9/i86pc-solaris-64int
/export/home/cpant2/perl5/lib/site_perl/5.8.9
.