lib-filter v0.281 Perl 5 v5.18.4 x86_64-linux-ld

Status
Pass
From
Andreas J. König (ANDK)
Dist
lib-filter v0.281
Platform
Perl 5 v5.18.4 x86_64-linux-ld
Date
2023-04-11 00:39:36
ID
55e5e5e8-d801-11ed-b40b-fbaee09c7f43
This distribution has been tested as part of the CPAN Testers
project, supporting the Perl programming language.  See
http://wiki.cpantesters.org/ for more information or email
questions to cpan-testers-discuss@perl.org


--
Dear perlancar,

This is a computer-generated report for lib-filter-0.281
on perl 5.18.4, created by CPAN-Reporter-1.2018.

Thank you for uploading your work to CPAN.  Congratulations!
All tests were successful.

Sections of this report:

    * Tester comments
    * Program output
    * Prerequisites
    * Environment and other context

------------------------------
TESTER COMMENTS
------------------------------

Additional comments from tester:

this report is from an automated smoke testing program
and was not reviewed by a human for accuracy

------------------------------
PROGRAM OUTPUT
------------------------------

Output from '/usr/bin/make test':

PERL_DL_NONLAZY=1 "/home/sand/src/perl/repoperls/installed-perls/host/k93msid/v5.18.4/af11/bin/perl" "-MExtUtils::Command::MM" "-MTest::Harness" "-e" "undef *Test::Harness::Switches; test_harness(0, 'blib/lib', 'blib/arch')" t/*.t
t/00-compile.t ........... ok
Can't locate Bar.pm in @INC (you may need to install the Bar module) (@INC contains: lib::filter=CODE(0x56254a7883f8)) at -e line 1.
BEGIN failed--compilation aborted at -e line 1.
t/allow.t ................ ok
t/author-critic.t ........ skipped: these tests are for testing by the author
t/author-pod-coverage.t .. skipped: these tests are for testing by the author
t/author-pod-syntax.t .... skipped: these tests are for testing by the author
Can't locate Foo.pm (module 'Foo' is disallowed (disallow)) at /tmp/loop_over_bdir-1420948-nZUFkr/lib-filter-0.281-0/t/../lib/lib/filter.pm line 148.
BEGIN failed--compilation aborted at -e line 1.
t/disallow.t ............. ok
Can't locate Foo.pm (module 'Foo' is disallowed (filter)) at /tmp/loop_over_bdir-1420948-nZUFkr/lib-filter-0.281-0/t/../lib/lib/filter.pm line 141.
BEGIN failed--compilation aborted at -e line 1.
Can't locate Foo.pm (module 'Foo' is disallowed (disallow)) at /tmp/loop_over_bdir-1420948-nZUFkr/lib-filter-0.281-0/t/../lib/lib/filter.pm line 148.
BEGIN failed--compilation aborted at -e line 1.
Can't locate Bar.pm (module 'Bar' is disallowed (disallow)) at /tmp/loop_over_bdir-1420948-nZUFkr/lib-filter-0.281-0/t/../lib/lib/filter.pm line 148.
BEGIN failed--compilation aborted at -e line 1.
Can't locate Bar.pm (module 'Bar' is disallowed (disallow_re)) at /tmp/loop_over_bdir-1420948-nZUFkr/lib-filter-0.281-0/t/../lib/lib/filter.pm line 145.
BEGIN failed--compilation aborted at -e line 1.
Can't locate Baz.pm (module 'Baz' is disallowed (disallow_re)) at /tmp/loop_over_bdir-1420948-nZUFkr/lib-filter-0.281-0/t/../lib/lib/filter.pm line 145.
BEGIN failed--compilation aborted at -e line 1.
Can't locate Foo.pm (module 'Foo' is disallowed (disallow_list)) at /tmp/loop_over_bdir-1420948-nZUFkr/lib-filter-0.281-0/t/../lib/lib/filter.pm line 148.
BEGIN failed--compilation aborted at -e line 1.
Can't locate Baz.pm (module 'Baz' is disallowed (disallow_list)) at /tmp/loop_over_bdir-1420948-nZUFkr/lib-filter-0.281-0/t/../lib/lib/filter.pm line 148.
BEGIN failed--compilation aborted at -e line 1.
Can't locate Bar.pm in @INC (you may need to install the Bar module) (@INC contains: lib::filter=CODE(0x55a2b4cabad8)) at -e line 1.
BEGIN failed--compilation aborted at -e line 1.
Can't locate Baz.pm in @INC (you may need to install the Baz module) (@INC contains: lib::filter=CODE(0x5650f959cad8)) at -e line 1.
BEGIN failed--compilation aborted at -e line 1.
Can't locate Foo.pm in @INC (you may need to install the Foo module) (@INC contains: lib::filter=CODE(0x55a3ce3c6b08)) at -e line 1.
BEGIN failed--compilation aborted at -e line 1.
Can't locate Baz.pm in @INC (you may need to install the Baz module) (@INC contains: lib::filter=CODE(0x5640211aaaf8)) at -e line 1.
BEGIN failed--compilation aborted at -e line 1.
Can't locate Moo/_Utils.pm in @INC (you may need to install the Moo::_Utils module) (@INC contains: lib::filter=CODE(0x564517aa1f28) /home/sand/src/perl/repoperls/installed-perls/host/k93msid/v5.18.4/af11/lib/5.18.4/x86_64-linux-ld /home/sand/src/perl/repoperls/installed-perls/host/k93msid/v5.18.4/af11/lib/5.18.4) at /home/sand/src/perl/repoperls/installed-perls/host/k93msid/v5.18.4/af11/lib/site_perl/5.18.4/Moo.pm line 17.
BEGIN failed--compilation aborted at /home/sand/src/perl/repoperls/installed-perls/host/k93msid/v5.18.4/af11/lib/site_perl/5.18.4/Moo.pm line 17.
Compilation failed in require at -e line 1.
BEGIN failed--compilation aborted at -e line 1.
Can't locate Foo.pm in @INC (you may need to install the Foo module) (@INC contains: lib::filter=CODE(0x564aa41abab8) /home/sand/src/perl/repoperls/installed-perls/host/k93msid/v5.18.4/af11/lib/5.18.4/x86_64-linux-ld /home/sand/src/perl/repoperls/installed-perls/host/k93msid/v5.18.4/af11/lib/5.18.4) at -e line 1.
BEGIN failed--compilation aborted at -e line 1.
Can't locate Foo.pm (module 'Foo' is disallowed (disallow)) at /tmp/loop_over_bdir-1420948-nZUFkr/lib-filter-0.281-0/t/../lib/lib/filter.pm line 148.
BEGIN failed--compilation aborted at -e line 1.
t/filter.t ............... ok
All tests successful.
Files=7, Tests=18,  1 wallclock secs ( 0.04 usr  0.01 sys +  0.48 cusr  0.21 csys =  0.74 CPU)
Result: PASS

------------------------------
PREREQUISITES
------------------------------

Prerequisite modules loaded:

requires:

    Module              Need   Have    
    ------------------- ------ --------
    Config              0      5.018004
    Module::CoreList    0      3.13    
    strict              0      1.07    
    warnings            0      1.18    

build_requires:

    Module              Need   Have    
    ------------------- ------ --------
    ExtUtils::MakeMaker 0      7.66    
    File::Spec          0      3.75    
    File::Temp          0.2307 0.2311  
    FindBin             0      1.51    
    IO::Handle          0      1.51    
    IPC::Open3          0      1.13    
    lib                 0      0.63    
    Module::Path::More  0.32   0.340   
    Test::More          0.98   1.302192
    Test::Needs         0      0.002010

configure_requires:

    Module              Need   Have    
    ------------------- ------ --------
    ExtUtils::MakeMaker 0      7.66    


------------------------------
ENVIRONMENT AND OTHER CONTEXT
------------------------------

Environment variables:

    AUTOMATED_TESTING = 1
    LANG = en_US.UTF-8
    LANGUAGE = en_US:en
    PATH = /home/sand/bin:/usr/local/bin:/usr/bin:/bin:/usr/games:/usr/local/perl/bin:/usr/X11/bin:/sbin:/usr/sbin
    PERL5LIB = 
    PERL5OPT = 
    PERL5_CPANPLUS_IS_RUNNING = 1469491
    PERL5_CPAN_IS_RUNNING = 1469491
    PERL_CANARY_STABILITY_NOPROMPT = 1
    PERL_MM_USE_DEFAULT = 1
    PERL_USE_UNSAFE_INC = 1
    SHELL = /usr/bin/zsh
    TERM = screen

Perl special variables (and OS-specific diagnostics, for MSWin32):

    $^X = /home/sand/src/perl/repoperls/installed-perls/host/k93msid/v5.18.4/af11/bin/perl
    $UID/$EUID = 1005 / 1005
    $GID = 1005 1005
    $EGID = 1005 1005

Perl module toolchain versions installed:

    Module              Have    
    ------------------- --------
    CPAN                2.34    
    CPAN::Meta          2.143240
    Cwd                 3.75    
    ExtUtils::CBuilder  0.280236
    ExtUtils::Command   7.66    
    ExtUtils::Install   2.06    
    ExtUtils::MakeMaker 7.66    
    ExtUtils::Manifest  1.70    
    ExtUtils::ParseXS   3.44    
    File::Spec          3.75    
    JSON                4.10    
    JSON::PP            4.16    
    Module::Build       0.4232  
    Module::Signature   n/a     
    Parse::CPAN::Meta   1.4414  
    Test::Harness       3.44    
    Test::More          1.302192
    YAML                1.30    
    YAML::Syck          1.34    
    version             0.9929  


--

Summary of my perl5 (revision 5 version 18 subversion 4) configuration:
  Derived from: 51202371ba68f3f52f13124a3ea1bc3c171e0ee2
  Platform:
    osname=linux, osvers=6.0.0-5-amd64, archname=x86_64-linux-ld
    uname='linux k93msid 6.0.0-5-amd64 #1 smp preempt_dynamic debian 6.0.10-2 (2022-12-01) x86_64 gnulinux '
    config_args='-Dprefix=/home/sand/src/perl/repoperls/installed-perls/host/k93msid/v5.18.4/af11 -Dmyhostname=k93msid -Dinstallusrbinperl=n -Uversiononly -Dusedevel -des -Ui_db -Dlibswanted=cl pthread socket inet nsl gdbm dbm malloc dl ld sun m crypt sec util c cposix posix ucb BSD gdbm_compat -Uuseithreads -Duselongdouble -DEBUGGING=-g'
    hint=recommended, useposix=true, d_sigaction=define
    useithreads=undef, usemultiplicity=undef
    useperlio=define, d_sfio=undef, uselargefiles=define, usesocks=undef
    use64bitint=define, use64bitall=define, uselongdouble=define
    usemymalloc=n, bincompat5005=undef
  Compiler:
    cc='cc', ccflags ='-fwrapv -fno-strict-aliasing -pipe -fstack-protector -I/usr/local/include -D_LARGEFILE_SOURCE -D_FILE_OFFSET_BITS=64',
    optimize='-O2 -g',
    cppflags='-fwrapv -fno-strict-aliasing -pipe -fstack-protector -I/usr/local/include'
    ccversion='', gccversion='12.2.0', gccosandvers=''
    intsize=4, longsize=8, ptrsize=8, doublesize=8, byteorder=12345678
    d_longlong=define, longlongsize=8, d_longdbl=define, longdblsize=16
    ivtype='long', ivsize=8, nvtype='long double', nvsize=16, Off_t='off_t', lseeksize=8
    alignbytes=16, prototype=define
  Linker and Libraries:
    ld='cc', ldflags =' -fstack-protector -L/usr/local/lib'
    libpth=/usr/local/lib /lib/x86_64-linux-gnu /lib/../lib /usr/lib/x86_64-linux-gnu /usr/lib/../lib /lib /usr/lib /lib64 /usr/lib64
    libs=-lpthread -lnsl -ldl -lm -lcrypt -lutil -lc
    perllibs=-lpthread -lnsl -ldl -lm -lcrypt -lutil -lc
    libc=/lib/x86_64-linux-gnu/libc.so.6, so=so, useshrplib=false, libperl=libperl.a
    gnulibc_version='2.36'
  Dynamic Linking:
    dlsrc=dl_dlopen.xs, dlext=so, d_dlsymun=undef, ccdlflags='-Wl,-E'
    cccdlflags='-fPIC', lddlflags='-shared -O2 -g -L/usr/local/lib -fstack-protector'


Characteristics of this binary (from libperl): 
  Compile-time options: HAS_TIMES PERLIO_LAYERS PERL_DONT_CREATE_GVSV
                        PERL_HASH_FUNC_ONE_AT_A_TIME_HARD PERL_MALLOC_WRAP
                        PERL_PRESERVE_IVUV PERL_SAWAMPERSAND PERL_USE_DEVEL
                        USE_64_BIT_ALL USE_64_BIT_INT USE_LARGE_FILES
                        USE_LOCALE USE_LOCALE_COLLATE USE_LOCALE_CTYPE
                        USE_LOCALE_NUMERIC USE_LONG_DOUBLE USE_PERLIO
                        USE_PERL_ATOF
  Locally applied patches:
	uncommitted-changes
  Built under linux
  Compiled at Feb 11 2023 09:33:19
  %ENV:
    PERL5LIB=""
    PERL5OPT=""
    PERL5_CPANPLUS_IS_RUNNING="1469491"
    PERL5_CPAN_IS_RUNNING="1469491"
    PERL_CANARY_STABILITY_NOPROMPT="1"
    PERL_MM_USE_DEFAULT="1"
    PERL_USE_UNSAFE_INC="1"
  @INC:
    /home/sand/src/perl/repoperls/installed-perls/host/k93msid/v5.18.4/af11/lib/site_perl/5.18.4/x86_64-linux-ld
    /home/sand/src/perl/repoperls/installed-perls/host/k93msid/v5.18.4/af11/lib/site_perl/5.18.4
    /home/sand/src/perl/repoperls/installed-perls/host/k93msid/v5.18.4/af11/lib/5.18.4/x86_64-linux-ld
    /home/sand/src/perl/repoperls/installed-perls/host/k93msid/v5.18.4/af11/lib/5.18.4
    .