Report for Catalyst-Plugin-Session-0.37

Back
From: metabase:user:1eed3a18-483e-11e2-a87b-a3931c712682
Subject: PASS Catalyst-Plugin-Session-0.37 v5.16.2 Mac OS X
Date: 2013-02-26T10:21:51Z

This distribution has been tested as part of the CPAN Testers
project, supporting the Perl programming language.  See
http://wiki.cpantesters.org/ for more information or email
questions to cpan-testers-discuss@perl.org


--
Catalyst-Plugin-Session-0.37 ... PASS

Perl           : v5.16.2
System         : darwin
Local Versions :
    Test::Exception                  : 0.31
    File::Spec                       : 3.40
    ExtUtils::MakeMaker              : 6.64
    MooseX::Emulate::Class::Accessor::Fast : 0.00903
    Object::Signature                : 1.07
    namespace::clean                 : 0.24
    Test::More                       : 0.98
    Digest                           : 1.17
    File::Temp                       : 0.22
    Test::WWW::Mechanize::PSGI       : 0.35
    Catalyst::Runtime                : 5.90020
    MRO::Compat                      : 0.12
    Tie::RefHash                     : 1.39
    Test::Deep                       : 0.110
    Moose                            : 2.0604

Test Output    :

PERL_DL_NONLAZY=1 /Users/stas/perl5/perlbrew/perls/perl-5.16.2/bin/perl "-MExtUtils::Command::MM" "-e" "test_harness(0, 'inc', 'blib/lib', 'blib/arch')" t/*.t
t/00_basic_sanity.t ........... ok
t/01_setup.t .................. ok
t/03_flash.t .................. ok
t/05_semi_persistent_flash.t .. ok
t/cat_test.t .................. ok
t/live_accessor.t ............. ok
# Testing against Catalyst 5.90020
# Testing Catalyst::Plugin::Session 0.37
t/live_app.t .................. ok
t/live_session_fixation.t ..... ok
[debug] 127.0.0.1
t/live_verify_address.t ....... ok
[warn] Deleting session c10a3ecbf759880be6b932f6bc057d897f7e299f due to user agent mismatch (Initial user_agent != Changed user_agent)
t/live_verify_user_agent.t .... ok
t/session_valid.t ............. ok
All tests successful.
Files=11, Tests=133, 15 wallclock secs ( 0.08 usr  0.02 sys + 10.47 cusr  0.64 csys = 11.21 CPU)
Result: PASS


--

Summary of my perl5 (revision 5 version 16 subversion 2) configuration:
   
  Platform:
    osname=darwin, osvers=12.2.0, archname=darwin-2level
    uname='darwin stanislaws-macbook-pro.local 12.2.0 darwin kernel version 12.2.0: sat aug 25 00:48:52 pdt 2012; root:xnu-2050.18.24~1release_x86_64 x86_64 '
    config_args='-de -Dprefix=/Users/stas/perl5/perlbrew/perls/perl-5.16.2 -Aeval:scriptdir=/Users/stas/perl5/perlbrew/perls/perl-5.16.2/bin'
    hint=recommended, useposix=true, d_sigaction=define
    useithreads=undef, usemultiplicity=undef
    useperlio=define, d_sfio=undef, uselargefiles=define, usesocks=undef
    use64bitint=define, use64bitall=define, uselongdouble=undef
    usemymalloc=n, bincompat5005=undef
  Compiler:
    cc='cc', ccflags ='-fno-common -DPERL_DARWIN -fno-strict-aliasing -pipe -fstack-protector -I/opt/local/include',
    optimize='-O3',
    cppflags='-fno-common -DPERL_DARWIN -fno-strict-aliasing -pipe -fstack-protector -I/opt/local/include'
    ccversion='', gccversion='4.2.1 Compatible Apple Clang 4.0 ((tags/Apple/clang-421.0.60))', gccosandvers=''
    intsize=4, longsize=8, ptrsize=8, doublesize=8, byteorder=12345678
    d_longlong=define, longlongsize=8, d_longdbl=define, longdblsize=16
    ivtype='long', ivsize=8, nvtype='double', nvsize=8, Off_t='off_t', lseeksize=8
    alignbytes=8, prototype=define
  Linker and Libraries:
    ld='env MACOSX_DEPLOYMENT_TARGET=10.3 cc', ldflags =' -fstack-protector -L/opt/local/lib'
    libpth=/opt/local/lib /usr/lib
    libs=-lgdbm -ldbm -ldl -lm -lutil -lc
    perllibs=-ldl -lm -lutil -lc
    libc=, so=dylib, useshrplib=false, libperl=libperl.a
    gnulibc_version=''
  Dynamic Linking:
    dlsrc=dl_dlopen.xs, dlext=bundle, d_dlsymun=undef, ccdlflags=' '
    cccdlflags=' ', lddlflags=' -bundle -undefined dynamic_lookup -L/opt/local/lib -fstack-protector'


Characteristics of this binary (from libperl): 
  Compile-time options: HAS_TIMES PERLIO_LAYERS PERL_DONT_CREATE_GVSV
                        PERL_MALLOC_WRAP PERL_PRESERVE_IVUV USE_64_BIT_ALL
                        USE_64_BIT_INT USE_LARGE_FILES USE_LOCALE
                        USE_LOCALE_COLLATE USE_LOCALE_CTYPE
                        USE_LOCALE_NUMERIC USE_PERLIO USE_PERL_ATOF
  Built under darwin
  Compiled at Dec 29 2012 22:14:20
  %ENV:
    PERLBREW_BASHRC_VERSION="0.59"
    PERLBREW_HOME="/Users/stas/.perlbrew"
    PERLBREW_MANPATH="/Users/stas/perl5/perlbrew/perls/perl-5.16.2/man"
    PERLBREW_PATH="/Users/stas/perl5/perlbrew/bin:/Users/stas/perl5/perlbrew/perls/perl-5.16.2/bin"
    PERLBREW_PERL="perl-5.16.2"
    PERLBREW_ROOT="/Users/stas/perl5/perlbrew"
    PERLBREW_VERSION="0.59"
    PERL_MM_USE_DEFAULT="1"
  @INC:
    /Users/stas/perl5/perlbrew/perls/perl-5.16.2/lib/site_perl/5.16.2/darwin-2level
    /Users/stas/perl5/perlbrew/perls/perl-5.16.2/lib/site_perl/5.16.2
    /Users/stas/perl5/perlbrew/perls/perl-5.16.2/lib/5.16.2/darwin-2level
    /Users/stas/perl5/perlbrew/perls/perl-5.16.2/lib/5.16.2
    .