XML-NewsML_G2 vv0.3.4 Perl 5 v5.28.2 x86_64-linux-thread-multi
- Status
- Pass
- From
- David Cantrell (DCANTRELL)
- Dist
-
XML-NewsML_G2 vv0.3.4
- Platform
- Perl 5 v5.28.2 x86_64-linux-thread-multi
- Date
- 2019-12-02 12:00:30
- ID
- 56320c38-14fb-11ea-a596-c13c052d0de1
This distribution has been tested as part of the CPAN Testers
project, supporting the Perl programming language. See
http://wiki.cpantesters.org/ for more information or email
questions to cpan-testers-discuss@perl.org
--
Dear Christian Eder,
This is a computer-generated report for XML-NewsML_G2-v0.3.4
on perl 5.28.2, created by CPAN-Reporter-1.2018.
Thank you for uploading your work to CPAN. Congratulations!
All tests were successful.
Sections of this report:
* Tester comments
* Program output
* Prerequisites
* Environment and other context
------------------------------
TESTER COMMENTS
------------------------------
Additional comments from tester:
this report is from an automated smoke testing program
and was not reviewed by a human for accuracy
------------------------------
PROGRAM OUTPUT
------------------------------
Output from './Build test':
t/00-compile.t .................. ok
# Testing XML::NewsML_G2 0.3.4
# libxml version 20910
t/00-load.t ..................... ok
# Testing with Perl 5.028002, /home/david/cpantesting/perl-5.28.2/bin/perl
# Carp version is 1.50
# DateTime version is 1.51
# DateTime::Format::XSD version is 0.2
# File::Copy version is 2.33
# File::Find version is 1.34
# File::Spec version is 3.74
# File::Spec::Functions version is 3.74
# File::Temp version is 0.2304
# FindBin version is 1.51
# List::MoreUtils version is 0.428
# Module::Build version is 0.4229
# Module::Runtime version is 0.016
# Moose version is 2.2012
# Moose::Util version is 2.2012
# Moose::Util::TypeConstraints version is 2.2012
# Scalar::Util version is 1.5
# Test::EOL version is 2.00
# Test::Exception version is 0.43
# Test::File::Contents version is 0.23
# Test::MockTime version is 0.17
# Test::More version is 1.302169
# Test::Warnings version is 0.026
# UUID::Tiny version is 1.04
# XML::LibXML version is 2.0201
# namespace::autoclean version is 0.29
# version version is 0.9923
t/000-report-versions.t ......... ok
t/01-News_Item.t ................ ok
t/01-News_Item_Audio.t .......... ok
t/01-News_Item_Graphics.t ....... ok
t/01-News_Item_Picture.t ........ ok
t/02-Product.t .................. ok
t/03-Paragraphs.t ............... ok
t/04-minimal.t .................. ok
t/05-no-catalog.t ............... ok
t/06-add-schema-catalog.t ....... ok
t/07-Package_Item.t ............. ok
t/08-all-schemes-in-catalogs.t .. ok
t/09-News_Item_Video.t .......... ok
t/10-News_Message.t ............. ok
t/11-press-release.t ............ ok
t/Events.t ...................... ok
t/Facets.t ...................... ok
t/author-test-eol.t ............. skipped: these tests are for testing by the author
t/deprecations.t ................ ok
t/perlcritic.t .................. skipped: Author test. Set $ENV{RELEASE_TESTING} to a true value to run.
t/pod-coverage.t ................ skipped: these tests are for release candidate testing
t/pod.t ......................... skipped: Test::Pod 1.14 required for testing POD
t/release-check-changes.t ....... skipped: these tests are for release candidate testing
t/release-distmeta.t ............ skipped: these tests are for release candidate testing
t/release-minimum-version.t ..... skipped: these tests are for release candidate testing
t/release-no-tabs.t ............. skipped: these tests are for release candidate testing
t/release-pod-syntax.t .......... skipped: these tests are for release candidate testing
t/release-portability.t ......... skipped: these tests are for release candidate testing
t/release-synopsis.t ............ skipped: these tests are for release candidate testing
t/release-unused-vars.t ......... skipped: these tests are for release candidate testing
All tests successful.
Files=32, Tests=1856, 532 wallclock secs ( 0.34 usr 0.11 sys + 56.01 cusr 3.76 csys = 60.22 CPU)
Result: PASS
------------------------------
PREREQUISITES
------------------------------
Prerequisite modules loaded:
requires:
Module Need Have
---------------------------- ------- --------
Carp 0 1.50
DateTime 0 1.51
DateTime::Format::XSD 0 0.2
List::MoreUtils 0 0.428
Module::Runtime 0 0.016
Moose 0.64 2.2012
Moose::Role 0 2.2012
Moose::Util 0.64 2.2012
Moose::Util::TypeConstraints 0 2.2012
namespace::autoclean 0.05 0.29
perl v5.12.0 5.028002
Scalar::Util 0 1.50
UUID::Tiny 1.02 1.04
version 0.77 0.9923
XML::LibXML 0 2.0201
build_requires:
Module Need Have
---------------------------- ------- --------
File::Copy 0 2.33
File::Find 0 1.34
File::Spec 0 3.74
File::Spec::Functions 0 3.74
File::Temp 0 0.2304
FindBin 0 1.51
Test::EOL 0 2.00
Test::Exception 0 0.43
Test::File::Contents 0 0.23
Test::MockTime 0 0.17
Test::More 0 1.302169
Test::Warnings 0 0.026
configure_requires:
Module Need Have
---------------------------- ------- --------
Module::Build 0.4004 0.4229
------------------------------
ENVIRONMENT AND OTHER CONTEXT
------------------------------
Environment variables:
AUTOMATED_TESTING = 1
LANG = en_US.UTF-8
NONINTERACTIVE_TESTING = 1
PATH = /usr/local/bin:/usr/bin:/bin:/usr/local/games:/usr/games
PERL = 5.28.2
PERL5LIB =
PERL5OPT =
PERL5_CPANPLUS_IS_RUNNING = 14598
PERL5_CPAN_IS_RUNNING = 14598
PERLVER = 5.28.2
PERL_INLINE_DIRECTORY = /home/david/.Inline-5.28.2
PERL_MM_USE_DEFAULT = 1
PERL_USE_UNSAFE_INC = 0
SHELL = /bin/bash
TERM = screen
Perl special variables (and OS-specific diagnostics, for MSWin32):
$^X = /home/david/cpantesting/perl-5.28.2/bin/perl
$UID/$EUID = 1000 / 1000
$GID = 1000 27 1000
$EGID = 1000 27 1000
Perl module toolchain versions installed:
Module Have
------------------- --------
CPAN 2.20
CPAN::Meta 2.150010
Cwd 3.74
ExtUtils::CBuilder 0.280230
ExtUtils::Command 7.34
ExtUtils::Install 2.14
ExtUtils::MakeMaker 7.34
ExtUtils::Manifest 1.70
ExtUtils::ParseXS 3.39
File::Spec 3.74
JSON n/a
JSON::PP 2.97001
Module::Build 0.4229
Module::Signature n/a
Parse::CPAN::Meta 2.150010
Test::Harness 3.42
Test::More 1.302169
YAML 1.29
YAML::Syck n/a
version 0.9923
--
Summary of my perl5 (revision 5 version 28 subversion 2) configuration:
Platform:
osname=linux
osvers=4.9.0-8-amd64
archname=x86_64-linux-thread-multi
uname='linux pigsty 4.9.0-8-amd64 #1 smp debian 4.9.144-3 (2019-02-02) x86_64 gnulinux '
config_args='-de -Duse64bitall -Dusethreads -Dprefix=/home/david/cpantesting/perl-5.28.2'
hint=recommended
useposix=true
d_sigaction=define
useithreads=define
usemultiplicity=define
use64bitint=define
use64bitall=define
uselongdouble=undef
usemymalloc=n
default_inc_excludes_dot=define
bincompat5005=undef
Compiler:
cc='cc'
ccflags ='-D_REENTRANT -D_GNU_SOURCE -fwrapv -fno-strict-aliasing -pipe -fstack-protector-strong -I/usr/local/include -D_LARGEFILE_SOURCE -D_FILE_OFFSET_BITS=64 -D_FORTIFY_SOURCE=2'
optimize='-O2'
cppflags='-D_REENTRANT -D_GNU_SOURCE -fwrapv -fno-strict-aliasing -pipe -fstack-protector-strong -I/usr/local/include'
ccversion=''
gccversion='6.3.0 20170516'
gccosandvers=''
intsize=4
longsize=8
ptrsize=8
doublesize=8
byteorder=12345678
doublekind=3
d_longlong=define
longlongsize=8
d_longdbl=define
longdblsize=16
longdblkind=3
ivtype='long'
ivsize=8
nvtype='double'
nvsize=8
Off_t='off_t'
lseeksize=8
alignbytes=8
prototype=define
Linker and Libraries:
ld='cc'
ldflags =' -fstack-protector-strong -L/usr/local/lib'
libpth=/usr/local/lib /usr/lib/gcc/x86_64-linux-gnu/6/include-fixed /usr/include/x86_64-linux-gnu /usr/lib /lib/x86_64-linux-gnu /lib/../lib /usr/lib/x86_64-linux-gnu /usr/lib/../lib /lib
libs=-lpthread -lnsl -ldb -ldl -lm -lcrypt -lutil -lc
perllibs=-lpthread -lnsl -ldl -lm -lcrypt -lutil -lc
libc=libc-2.24.so
so=so
useshrplib=false
libperl=libperl.a
gnulibc_version='2.24'
Dynamic Linking:
dlsrc=dl_dlopen.xs
dlext=so
d_dlsymun=undef
ccdlflags='-Wl,-E'
cccdlflags='-fPIC'
lddlflags='-shared -O2 -L/usr/local/lib -fstack-protector-strong'
Characteristics of this binary (from libperl):
Compile-time options:
HAS_TIMES
MULTIPLICITY
PERLIO_LAYERS
PERL_COPY_ON_WRITE
PERL_DONT_CREATE_GVSV
PERL_IMPLICIT_CONTEXT
PERL_MALLOC_WRAP
PERL_OP_PARENT
PERL_PRESERVE_IVUV
USE_64_BIT_ALL
USE_64_BIT_INT
USE_ITHREADS
USE_LARGE_FILES
USE_LOCALE
USE_LOCALE_COLLATE
USE_LOCALE_CTYPE
USE_LOCALE_NUMERIC
USE_LOCALE_TIME
USE_PERLIO
USE_PERL_ATOF
USE_REENTRANT_API
Built under linux
Compiled at Apr 25 2019 01:37:26
%ENV:
PERL="5.28.2"
PERL5LIB=""
PERL5OPT=""
PERL5_CPANPLUS_IS_RUNNING="14598"
PERL5_CPAN_IS_RUNNING="14598"
PERLVER="5.28.2"
PERL_INLINE_DIRECTORY="/home/david/.Inline-5.28.2"
PERL_MM_USE_DEFAULT="1"
PERL_USE_UNSAFE_INC="0"
@INC:
/home/david/cpantesting/perl-5.28.2/lib/site_perl/5.28.2/x86_64-linux-thread-multi
/home/david/cpantesting/perl-5.28.2/lib/site_perl/5.28.2
/home/david/cpantesting/perl-5.28.2/lib/5.28.2/x86_64-linux-thread-multi
/home/david/cpantesting/perl-5.28.2/lib/5.28.2