Back
From: metabase:user:be0b7adc-919a-11e3-9bcd-bd0144f7ffa7
Subject: PASS WebService-Livedoor-Weather-0.07 v5.10.0 SunOS/Solaris
Date: 2014-02-14T00:24:16Z
This distribution has been tested as part of the CPAN Testers
project, supporting the Perl programming language. See
http://wiki.cpantesters.org/ for more information or email
questions to cpan-testers-discuss@perl.org
--
Dear Satoshi Azuma,
This is a computer-generated report for WebService-Livedoor-Weather-0.07
on perl 5.10.0, created by CPAN-Reporter-1.2010.
Thank you for uploading your work to CPAN. Congratulations!
All tests were successful.
Sections of this report:
* Tester comments
* Program output
* Prerequisites
* Environment and other context
------------------------------
TESTER COMMENTS
------------------------------
Additional comments from tester:
this report is from an automated smoke testing program
and was not reviewed by a human for accuracy
------------------------------
PROGRAM OUTPUT
------------------------------
Output from '/usr/gnu/bin/make test':
PERL_DL_NONLAZY=1 /usr/perl5/5.10.0/bin/perl "-MExtUtils::Command::MM" "-MTest::Harness" "-e" "undef *Test::Harness::Switches; test_harness(0, 'blib/lib', 'blib/arch')" t/*.t
t/01use.t ............. ok
t/11get_city_id.t ..... ok
t/12parse_forecast.t .. ok
All tests successful.
Files=3, Tests=145, 12 wallclock secs ( 0.11 usr 0.08 sys + 0.86 cusr 0.65 csys = 1.70 CPU)
Result: PASS
------------------------------
PREREQUISITES
------------------------------
Prerequisite modules loaded:
requires:
Module Need Have
------------------- ---- --------
Encode 2.53 2.57
JSON 0 2.90
Test::Exception 0 0.32
Test::More 0.98 1.001002
URI::Fetch 0 0.09
XML::Parser 0 2.36
XML::Simple 0 2.20
build_requires:
Module Need Have
------------------- ---- --------
ExtUtils::MakeMaker 0 6.88
configure_requires:
Module Need Have
------------------- ---- --------
ExtUtils::MakeMaker 0 6.88
------------------------------
ENVIRONMENT AND OTHER CONTEXT
------------------------------
Environment variables:
AUTOMATED_TESTING = 1
LANG = fr_FR.UTF-8
PATH = /home/jdurand/perl5/bin:/usr/gnu/bin:/usr/bin:/usr/sbin:/sbin:/usr/perl5/5.10.0/bin
PERL5LIB = /home/jdurand/perl5/lib/perl5
PERL5OPT =
PERL5_CPANPLUS_IS_RUNNING = 11902
PERL5_CPAN_IS_RUNNING = 11902
PERL5_CPAN_IS_RUNNING_IN_RECURSION = 9829,11902
PERL_CR_SMOKER_CURRENT = WebService-Livedoor-Weather-0.07
PERL_EXTUTILS_AUTOINSTALL = --defaultdeps
PERL_LOCAL_LIB_ROOT = /home/jdurand/perl5
PERL_MB_OPT = --install_base "/home/jdurand/perl5"
PERL_MM_OPT = INSTALL_BASE=/home/jdurand/perl5
PERL_MM_USE_DEFAULT = 1
SHELL = /bin/bash
TERM = xterm
Perl special variables (and OS-specific diagnostics, for MSWin32):
$^X = /usr/perl5/5.10.0/bin/perl
$UID/$EUID = 101 / 101
$GID = 10 10
$EGID = 10 10
Perl module toolchain versions installed:
Module Have
------------------- --------
CPAN 2.00
CPAN::Meta 2.133380
Cwd 3.40
ExtUtils::CBuilder 0.280212
ExtUtils::Command 1.16
ExtUtils::Install 1.54
ExtUtils::MakeMaker 6.88
ExtUtils::Manifest 1.60
ExtUtils::ParseXS 3.22
File::Spec 3.40
JSON 2.90
JSON::PP 2.27203
Module::Build 0.4205
Module::Signature 0.73
Parse::CPAN::Meta 1.4405
Test::Harness 3.30
Test::More 1.001002
YAML 0.90
YAML::Syck 1.27
version 0.9908
--
Summary of my perl5 (revision 5 version 10 subversion 0) configuration:
Platform:
osname=solaris, osvers=2.11, archname=i86pc-solaris-64int
uname='sunos localhost 5.11 i86pc i386 i86pc'
config_args=''
hint=recommended, useposix=true, d_sigaction=define
useithreads=undef, usemultiplicity=undef
useperlio=define, d_sfio=undef, uselargefiles=define, usesocks=undef
use64bitint=define, use64bitall=undef, uselongdouble=undef
usemymalloc=n, bincompat5005=undef
Compiler:
cc='cc', ccflags ='-D_LARGEFILE_SOURCE -D_FILE_OFFSET_BITS=64 -D_TS_ERRNO -DPERL_USE_SAFE_PUTENV',
optimize='-xO3 -xspace -xildoff',
cppflags=''
ccversion='Sun C 5.9 SunOS_i386 Patch 124868-07 2008/10/07', gccversion='', gccosandvers=''
intsize=4, longsize=4, ptrsize=4, doublesize=8, byteorder=12345678
d_longlong=define, longlongsize=8, d_longdbl=define, longdblsize=12
ivtype='long long', ivsize=8, nvtype='double', nvsize=8, Off_t='off_t', lseeksize=8
alignbytes=4, prototype=define
Linker and Libraries:
ld='cc', ldflags =''
libpth=/lib /usr/lib /usr/ccs/lib
libs=-lsocket -lnsl -ldl -lm -lc
perllibs=-lsocket -lnsl -ldl -lm -lc
libc=/lib/libc.so, so=so, useshrplib=true, libperl=libperl.so
gnulibc_version=''
Dynamic Linking:
dlsrc=dl_dlopen.xs, dlext=so, d_dlsymun=undef, ccdlflags='-R /usr/perl5/5.10.0/lib/i86pc-solaris-64int/CORE '
cccdlflags='-KPIC', lddlflags='-G'
Characteristics of this binary (from libperl):
Compile-time options: PERL_DONT_CREATE_GVSV PERL_MALLOC_WRAP
PERL_USE_SAFE_PUTENV USE_64_BIT_INT USE_LARGE_FILES
USE_PERLIO
Built under solaris
Compiled at Jul 12 2013 13:31:02
%ENV:
PERL5LIB="/home/jdurand/perl5/lib/perl5"
PERL5OPT=""
PERL5_CPANPLUS_IS_RUNNING="11902"
PERL5_CPAN_IS_RUNNING="11902"
PERL5_CPAN_IS_RUNNING_IN_RECURSION="9829,11902"
PERL_CR_SMOKER_CURRENT="WebService-Livedoor-Weather-0.07"
PERL_EXTUTILS_AUTOINSTALL="--defaultdeps"
PERL_LOCAL_LIB_ROOT="/home/jdurand/perl5"
PERL_MB_OPT="--install_base "/home/jdurand/perl5""
PERL_MM_OPT="INSTALL_BASE=/home/jdurand/perl5"
PERL_MM_USE_DEFAULT="1"
@INC:
/home/jdurand/perl5/lib/perl5/i86pc-solaris-64int
/home/jdurand/perl5/lib/perl5
/usr/perl5/site_perl/5.10.0/i86pc-solaris-64int
/usr/perl5/site_perl/5.10.0
/usr/perl5/vendor_perl/5.10.0/i86pc-solaris-64int
/usr/perl5/vendor_perl/5.10.0
/usr/perl5/vendor_perl
/usr/perl5/5.10.0/lib/i86pc-solaris-64int
/usr/perl5/5.10.0/lib
.