Back
From: metabase:user:30f4dfbe-2aae-11df-837a-5e0a49663a4f
Subject: PASS MooseX-RemoteHelper-0.001015 v5.14.4 Mac OS X
Date: 2013-07-26T00:57:26Z
This distribution has been tested as part of the CPAN Testers
project, supporting the Perl programming language. See
http://wiki.cpantesters.org/ for more information or email
questions to cpan-testers-discuss@perl.org
--
Dear Caleb Cushing,
This is a computer-generated report for MooseX-RemoteHelper-0.001015
on perl 5.14.4, created by CPAN-Reporter-1.2010.
Thank you for uploading your work to CPAN. Congratulations!
All tests were successful.
Sections of this report:
* Tester comments
* Program output
* Prerequisites
* Environment and other context
------------------------------
TESTER COMMENTS
------------------------------
Additional comments from tester:
this report is from an automated smoke testing program
and was not reviewed by a human for accuracy
------------------------------
PROGRAM OUTPUT
------------------------------
Output from '/sw/bin/make test':
PERL_DL_NONLAZY=1 /Users/hornenj/perl5/perlbrew/perls/perl-5.14.4/bin/perl "-MExtUtils::Command::MM" "-e" "test_harness(0, 'blib/lib', 'blib/arch')" t/*.t
t/00-compile.t ................ ok
#
#
# Generated by Dist::Zilla::Plugin::ReportVersions::Tiny v1.08
# perl: 5.014004 (wanted 5.008) on darwin from /Users/hornenj/perl5/perlbrew/perls/perl-5.14.4/bin/perl
#
# Class::Load => 0.20 (want 0.20)
# ExtUtils::MakeMaker => 6.68 (want 6.30)
# File::Find => 1.19 (want any version)
# File::Temp => 0.2301 (want any version)
# Moose => 2.0802 (want 2)
# Moose::Exporter => 2.0802 (want any version)
# Moose::Role => 2.0802 (want any version)
# MooseX::Types => 0.36 (want any version)
# MooseX::Types::Moose => 0.36 (want any version)
# MooseX::UndefTolerant => 0.19 (want any version)
# Pod::Coverage::TrustPod => module not found. (want any version)
# Test::CPAN::Changes => module not found. (want 0.19)
# Test::CPAN::Meta => module not found. (want any version)
# Test::Method => 0.001001 (want any version)
# Test::Moose => 2.0802 (want any version)
# Test::More => 0.98 (want 0.88)
# Test::Pod => 1.48 (want 1.41)
# Test::Pod::Coverage => 1.08 (want 1.08)
# namespace::autoclean => 0.13 (want any version)
# strict => 1.04 (want any version)
# version => 0.9902 (want 0.9901)
# warnings => 1.12 (want any version)
#
# Thanks for using my code. I hope it works for you.
# If not, please try and include this output in the bug report.
# That will help me reproduce the issue and solve your problem.
#
t/000-report-versions-tiny.t .. ok
t/apply-trait.t ............... ok
t/author-critic.t ............. skipped: these tests are for testing by the author
t/author-pod-spell.t .......... skipped: these tests are for testing by the author
t/author-test-eol.t ........... skipped: these tests are for testing by the author
t/composite.t ................. ok
t/false_init_arg.t ............ ok
t/immutable.t ................. ok
t/init_args.t ................. ok
t/release-cpan-changes.t ...... skipped: these tests are for release candidate testing
t/release-dist-manifest.t ..... skipped: these tests are for release candidate testing
t/release-distmeta.t .......... skipped: these tests are for release candidate testing
t/release-kwalitee.t .......... skipped: these tests are for release candidate testing
t/release-meta-json.t ......... skipped: these tests are for release candidate testing
t/release-minimum-version.t ... skipped: these tests are for release candidate testing
t/release-mojibake.t .......... skipped: these tests are for release candidate testing
t/release-pod-coverage.t ...... skipped: these tests are for release candidate testing
t/release-pod-linkcheck.t ..... skipped: these tests are for release candidate testing
t/release-pod-syntax.t ........ skipped: these tests are for release candidate testing
t/release-portability.t ....... skipped: these tests are for release candidate testing
t/release-synopsis.t .......... skipped: these tests are for release candidate testing
t/release-test-version.t ...... skipped: these tests are for release candidate testing
t/release-unused-vars.t ....... skipped: these tests are for release candidate testing
t/role.t ...................... ok
t/serializer.t ................ ok
t/types.t ..................... ok
All tests successful.
Files=27, Tests=66, 4 wallclock secs ( 0.07 usr 0.03 sys + 3.60 cusr 0.32 csys = 4.02 CPU)
Result: PASS
------------------------------
PREREQUISITES
------------------------------
Prerequisite modules loaded:
requires:
Module Need Have
--------------------- ---- --------
Moose 2 2.0802
Moose::Exporter 0 2.0802
Moose::Role 0 2.0802
MooseX::Types 0 0.36
MooseX::Types::Moose 0 0.36
MooseX::UndefTolerant 0 0.19
namespace::autoclean 0 0.13
strict 0 1.04
warnings 0 1.12
build_requires:
Module Need Have
--------------------- ---- --------
Class::Load 0.20 0.20
File::Find 0 1.19
File::Temp 0 0.2301
Test::Method 0 0.001001
Test::Moose 0 2.0802
Test::More 0.88 0.98
configure_requires:
Module Need Have
--------------------- ---- --------
ExtUtils::MakeMaker 6.30 6.68
------------------------------
ENVIRONMENT AND OTHER CONTEXT
------------------------------
Environment variables:
AUTOMATED_TESTING = 1
LC_ALL = POSIX
LD_LIBRARY_PATH = :/net/traces01.be-md.ncbi.nlm.nih.gov/trace_software/vdb/mac/release/x86_64/lib
PATH = /Users/hornenj/perl5/perlbrew/bin:/Users/hornenj/perl5/perlbrew/perls/perl-5.14.4/bin:/Users/hornenj/perl5/perlbrew/bin:/sw/lib/perl5/ExtUtils:/sw/bin:/sw/sbin:/am/ncbiapdata/bin:/usr/bin:/bin:/usr/X11R6/bin:/Users/hornenj/bin:/netopt/ncbi_tools/bin:/usr/local/ncbi/blast/bin:/net/traces01.be-md.ncbi.nlm.nih.gov/trace_software/vdb/mac/release/x86_64/bin
PERL5LIB = /Users/hornenj/.cpan/build/Test-Method-0.001001-35P7tc/blib/arch:/Users/hornenj/.cpan/build/Test-Method-0.001001-35P7tc/blib/lib:/Users/hornenj/.cpan/build/MooseX-UndefTolerant-0.19-cpVaot/blib/arch:/Users/hornenj/.cpan/build/MooseX-UndefTolerant-0.19-cpVaot/blib/lib:/Users/hornenj/.cpan/build/namespace-autoclean-0.13-vrwLlZ/blib/arch:/Users/hornenj/.cpan/build/namespace-autoclean-0.13-vrwLlZ/blib/lib
PERL5OPT =
PERL5_CPANPLUS_IS_RUNNING = 78263
PERL5_CPAN_IS_RUNNING = 78263
PERL5_MINISMOKEBOX = 0.56
PERLBREW_BASHRC_VERSION = 0.64
PERLBREW_HOME = /Users/hornenj/.perlbrew
PERLBREW_MANPATH = /Users/hornenj/perl5/perlbrew/perls/perl-5.14.4/man
PERLBREW_PATH = /Users/hornenj/perl5/perlbrew/bin:/Users/hornenj/perl5/perlbrew/perls/perl-5.14.4/bin
PERLBREW_PERL = perl-5.14.4
PERLBREW_ROOT = /Users/hornenj/perl5/perlbrew
PERLBREW_VERSION = 0.64
PERL_EXTUTILS_AUTOINSTALL = --defaultdeps
PERL_MM_USE_DEFAULT = 1
SHELL = /bin/bash
TERM = xterm
TMPDIR = /var/folders/pz/pd7y1qjs6s3cbk170cw50fjc000c61/T/
VERSIONER_PERL_PREFER_32_BIT = no
VERSIONER_PERL_VERSION = 5.12
ac_cv_path_INTLTOOL_PERL = /usr/bin/perl
Perl special variables (and OS-specific diagnostics, for MSWin32):
$^X = /Users/hornenj/perl5/perlbrew/perls/perl-5.14.4/bin/perl
$UID/$EUID = 12481 / 12481
$GID = 14 14 5344 527 241 223 206 402 12 62 204
$EGID = 14 14 5344 527 241 223 206 402 12 62 204
Perl module toolchain versions installed:
Module Have
------------------- --------
CPAN 2.00
CPAN::Meta 2.131560
Cwd 3.40
ExtUtils::CBuilder 0.280205
ExtUtils::Command 1.17
ExtUtils::Install 1.56
ExtUtils::MakeMaker 6.68
ExtUtils::Manifest 1.61
ExtUtils::ParseXS 3.18
File::Spec 3.40
JSON 2.59
JSON::PP 2.27202
Module::Build 0.4007
Module::Signature n/a
Parse::CPAN::Meta 1.4405
Test::Harness 3.28
Test::More 0.98
YAML 0.84
YAML::Syck 1.27
version 0.9902
--
Summary of my perl5 (revision 5 version 14 subversion 4) configuration:
Platform:
osname=darwin, osvers=12.2.1, archname=darwin-2level
uname='darwin ncbimac2008.ncbi.nlm.nih.gov 12.2.1 darwin kernel version 12.2.1: thu oct 18 12:13:47 pdt 2012; root:xnu-2050.20.9~1release_x86_64 x86_64 '
config_args='-de -Dprefix=/Users/hornenj/perl5/perlbrew/perls/perl-5.14.4'
hint=recommended, useposix=true, d_sigaction=define
useithreads=undef, usemultiplicity=undef
useperlio=define, d_sfio=undef, uselargefiles=define, usesocks=undef
use64bitint=define, use64bitall=define, uselongdouble=undef
usemymalloc=n, bincompat5005=undef
Compiler:
cc='cc', ccflags ='-fno-common -DPERL_DARWIN -fno-strict-aliasing -pipe -fstack-protector',
optimize='-O3',
cppflags='-fno-common -DPERL_DARWIN -fno-strict-aliasing -pipe -fstack-protector'
ccversion='', gccversion='4.2.1 Compatible Apple LLVM 4.2 (clang-425.0.24)', gccosandvers=''
intsize=4, longsize=8, ptrsize=8, doublesize=8, byteorder=12345678
d_longlong=define, longlongsize=8, d_longdbl=define, longdblsize=16
ivtype='long', ivsize=8, nvtype='double', nvsize=8, Off_t='off_t', lseeksize=8
alignbytes=8, prototype=define
Linker and Libraries:
ld='env MACOSX_DEPLOYMENT_TARGET=10.3 cc', ldflags =' -fstack-protector'
libpth=/usr/lib
libs=-ldbm -ldl -lm -lutil -lc
perllibs=-ldl -lm -lutil -lc
libc=, so=dylib, useshrplib=false, libperl=libperl.a
gnulibc_version=''
Dynamic Linking:
dlsrc=dl_dlopen.xs, dlext=bundle, d_dlsymun=undef, ccdlflags=' '
cccdlflags=' ', lddlflags=' -bundle -undefined dynamic_lookup -fstack-protector'
Characteristics of this binary (from libperl):
Compile-time options: PERL_DONT_CREATE_GVSV PERL_MALLOC_WRAP
PERL_PRESERVE_IVUV USE_64_BIT_ALL USE_64_BIT_INT
USE_LARGE_FILES USE_PERLIO USE_PERL_ATOF
Built under darwin
Compiled at Mar 11 2013 08:11:05
%ENV:
PERL5LIB="/Users/hornenj/.cpan/build/Test-Method-0.001001-35P7tc/blib/arch:/Users/hornenj/.cpan/build/Test-Method-0.001001-35P7tc/blib/lib:/Users/hornenj/.cpan/build/MooseX-UndefTolerant-0.19-cpVaot/blib/arch:/Users/hornenj/.cpan/build/MooseX-UndefTolerant-0.19-cpVaot/blib/lib:/Users/hornenj/.cpan/build/namespace-autoclean-0.13-vrwLlZ/blib/arch:/Users/hornenj/.cpan/build/namespace-autoclean-0.13-vrwLlZ/blib/lib"
PERL5OPT=""
PERL5_CPANPLUS_IS_RUNNING="78263"
PERL5_CPAN_IS_RUNNING="78263"
PERL5_MINISMOKEBOX="0.56"
PERLBREW_BASHRC_VERSION="0.64"
PERLBREW_HOME="/Users/hornenj/.perlbrew"
PERLBREW_MANPATH="/Users/hornenj/perl5/perlbrew/perls/perl-5.14.4/man"
PERLBREW_PATH="/Users/hornenj/perl5/perlbrew/bin:/Users/hornenj/perl5/perlbrew/perls/perl-5.14.4/bin"
PERLBREW_PERL="perl-5.14.4"
PERLBREW_ROOT="/Users/hornenj/perl5/perlbrew"
PERLBREW_VERSION="0.64"
PERL_EXTUTILS_AUTOINSTALL="--defaultdeps"
PERL_MM_USE_DEFAULT="1"
@INC:
/Users/hornenj/.cpan/build/Test-Method-0.001001-35P7tc/blib/arch
/Users/hornenj/.cpan/build/Test-Method-0.001001-35P7tc/blib/lib
/Users/hornenj/.cpan/build/MooseX-UndefTolerant-0.19-cpVaot/blib/arch
/Users/hornenj/.cpan/build/MooseX-UndefTolerant-0.19-cpVaot/blib/lib
/Users/hornenj/.cpan/build/namespace-autoclean-0.13-vrwLlZ/blib/arch
/Users/hornenj/.cpan/build/namespace-autoclean-0.13-vrwLlZ/blib/lib
/Users/hornenj/perl5/perlbrew/perls/perl-5.14.4/lib/site_perl/5.14.4/darwin-2level
/Users/hornenj/perl5/perlbrew/perls/perl-5.14.4/lib/site_perl/5.14.4
/Users/hornenj/perl5/perlbrew/perls/perl-5.14.4/lib/5.14.4/darwin-2level
/Users/hornenj/perl5/perlbrew/perls/perl-5.14.4/lib/5.14.4
.