Back
From: metabase:user:d49cdc72-1559-11e3-9efd-e82414baadac
Subject: PASS XML-Parser-2.44 v5.22.0 GNU/Linux
Date: 2015-06-19T01:48:52Z
This distribution has been tested as part of the CPAN Testers
project, supporting the Perl programming language. See
http://wiki.cpantesters.org/ for more information or email
questions to cpan-testers-discuss@perl.org
--
Dear TODDR,
This is a computer-generated report for XML-Parser-2.44
on perl 5.22.0, created by App::cpanminus::reporter 0.13 (1.7037).
Thank you for uploading your work to CPAN. Congratulations!
All tests were successful.
Sections of this report:
* Tester comments
* Program output
* Prerequisites
* Environment and other context
------------------------------
TESTER COMMENTS
------------------------------
Additional comments from tester:
none provided
------------------------------
PROGRAM OUTPUT
------------------------------
Output from '':
Building and testing XML-Parser-2.44
cp Parser/Encodings/iso-8859-2.enc blib/lib/XML/Parser/Encodings/iso-8859-2.enc
cp Parser/Encodings/Japanese_Encodings.msg blib/lib/XML/Parser/Encodings/Japanese_Encodings.msg
cp Parser/Encodings/iso-8859-3.enc blib/lib/XML/Parser/Encodings/iso-8859-3.enc
cp Parser/Encodings/x-sjis-cp932.enc blib/lib/XML/Parser/Encodings/x-sjis-cp932.enc
cp Parser/Encodings/iso-8859-7.enc blib/lib/XML/Parser/Encodings/iso-8859-7.enc
cp Parser/Encodings/iso-8859-4.enc blib/lib/XML/Parser/Encodings/iso-8859-4.enc
cp Parser/Encodings/iso-8859-5.enc blib/lib/XML/Parser/Encodings/iso-8859-5.enc
cp Parser/Encodings/windows-1255.enc blib/lib/XML/Parser/Encodings/windows-1255.enc
cp Parser/Encodings/README blib/lib/XML/Parser/Encodings/README
cp Parser/Encodings/x-euc-jp-jisx0221.enc blib/lib/XML/Parser/Encodings/x-euc-jp-jisx0221.enc
cp Parser/Encodings/x-sjis-jisx0221.enc blib/lib/XML/Parser/Encodings/x-sjis-jisx0221.enc
cp Parser/Encodings/ibm866.enc blib/lib/XML/Parser/Encodings/ibm866.enc
cp Parser/Style/Stream.pm blib/lib/XML/Parser/Style/Stream.pm
cp Parser/Style/Tree.pm blib/lib/XML/Parser/Style/Tree.pm
cp Parser/Encodings/x-sjis-unicode.enc blib/lib/XML/Parser/Encodings/x-sjis-unicode.enc
cp Parser/Style/Objects.pm blib/lib/XML/Parser/Style/Objects.pm
cp Parser/Encodings/x-euc-jp-unicode.enc blib/lib/XML/Parser/Encodings/x-euc-jp-unicode.enc
cp Parser/Style/Debug.pm blib/lib/XML/Parser/Style/Debug.pm
cp Parser/Encodings/windows-1251.enc blib/lib/XML/Parser/Encodings/windows-1251.enc
cp Parser/Encodings/euc-kr.enc blib/lib/XML/Parser/Encodings/euc-kr.enc
cp Parser/Encodings/windows-1252.enc blib/lib/XML/Parser/Encodings/windows-1252.enc
cp Parser/Encodings/x-sjis-jdk117.enc blib/lib/XML/Parser/Encodings/x-sjis-jdk117.enc
cp Parser/Encodings/windows-1250.enc blib/lib/XML/Parser/Encodings/windows-1250.enc
cp Parser/LWPExternEnt.pl blib/lib/XML/Parser/LWPExternEnt.pl
cp Parser/Encodings/iso-8859-8.enc blib/lib/XML/Parser/Encodings/iso-8859-8.enc
cp Parser.pm blib/lib/XML/Parser.pm
cp Parser/Encodings/iso-8859-9.enc blib/lib/XML/Parser/Encodings/iso-8859-9.enc
cp Parser/Style/Subs.pm blib/lib/XML/Parser/Style/Subs.pm
cp Parser/Encodings/big5.enc blib/lib/XML/Parser/Encodings/big5.enc
cp Parser/Encodings/koi8-r.enc blib/lib/XML/Parser/Encodings/koi8-r.enc
make[1]: Entering directory '/home/kent/.cpanm/work/1434678519.384162/XML-Parser-2.44/Expat'
cp Expat.pm ../blib/lib/XML/Parser/Expat.pm
Running Mkbootstrap for XML::Parser::Expat ()
chmod 644 "Expat.bs"
"/home/kent/perl5/perlbrew/perls/5.22.0/bin/perl" "/home/kent/perl5/perlbrew/perls/5.22.0/lib/5.22.0/ExtUtils/xsubpp" -noprototypes -typemap "/home/kent/perl5/perlbrew/perls/5.22.0/lib/5.22.0/ExtUtils/typemap" -typemap "typemap" Expat.xs > Expat.xsc && mv Expat.xsc Expat.c
cc -c -fno-stack-protector -DPERL_HASH_FUNC_SDBM -DUSE_C_BACKTRACE_ON_ERROR -fwrapv -fno-strict-aliasing -pipe -fstack-protector-strong -DUSE_C_BACKTRACE -g -D_LARGEFILE_SOURCE -D_FILE_OFFSET_BITS=64 -fno-stack-protector -O3 -march=native -mtune=native -DVERSION=\"2.44\" -DXS_VERSION=\"2.44\" -fPIC "-I/home/kent/perl5/perlbrew/perls/5.22.0/lib/5.22.0/x86_64-linux/CORE" Expat.c
rm -f ../blib/arch/auto/XML/Parser/Expat/Expat.so
LD_RUN_PATH="/usr/lib" cc -shared -fno-stack-protector -O3 -march=native -mtune=native -L/usr/local/lib -fstack-protector-strong Expat.o -o ../blib/arch/auto/XML/Parser/Expat/Expat.so \
-lexpat \
chmod 755 ../blib/arch/auto/XML/Parser/Expat/Expat.so
"/home/kent/perl5/perlbrew/perls/5.22.0/bin/perl" -MExtUtils::Command::MM -e 'cp_nonempty' -- Expat.bs ../blib/arch/auto/XML/Parser/Expat/Expat.bs 644
make[1]: Leaving directory '/home/kent/.cpanm/work/1434678519.384162/XML-Parser-2.44/Expat'
make[1]: Entering directory '/home/kent/.cpanm/work/1434678519.384162/XML-Parser-2.44/Expat'
Running Mkbootstrap for XML::Parser::Expat ()
chmod 644 "Expat.bs"
make[1]: Leaving directory '/home/kent/.cpanm/work/1434678519.384162/XML-Parser-2.44/Expat'
PERL_DL_NONLAZY=1 "/home/kent/perl5/perlbrew/perls/5.22.0/bin/perl" "-MExtUtils::Command::MM" "-MTest::Harness" "-e" "undef *Test::Harness::Switches; test_harness(0, 'blib/lib', 'blib/arch')" t/*.t
t/cdata.t ............. ok
t/defaulted.t ......... ok
t/encoding.t .......... ok
t/astress.t ........... ok
t/file_open_scalar.t .. ok
t/file.t .............. ok
t/finish.t ............ ok
t/decl.t .............. ok
t/namespaces.t ........ ok
t/skip.t .............. ok
t/partial.t ........... ok
t/stream.t ............ ok
t/styles.t ............ ok
t/external_ent.t ...... ok
t/parament.t .......... ok
All tests successful.
Files=15, Tests=141, 1 wallclock secs ( 0.07 usr 0.04 sys + 0.85 cusr 0.32 csys = 1.28 CPU)
Result: PASS
------------------------------
PREREQUISITES
------------------------------
Prerequisite modules loaded:
No requirements found
------------------------------
ENVIRONMENT AND OTHER CONTEXT
------------------------------
Environment variables:
LC_CTYPE = en_NZ.UTF8
PATH = /home/kent/perl5/perlbrew/bin:/home/kent/perl5/perlbrew/perls/5.22.0/bin:/home/kent/.perl6/2013.04/bin:/home/kent/.gem/ruby/1.8/bin/:/home/kent/.rvm/gems/ruby-2.1.2/bin:/home/kent/.rvm/gems/ruby-2.1.2@global/bin:/home/kent/.rvm/rubies/ruby-2.1.2/bin:/usr/local/bin:/usr/bin:/bin:/opt/bin:/usr/x86_64-pc-linux-gnu/gcc-bin/4.9.2:/usr/games/bin:/home/kent/.rvm/bin:/home/kent/.rvm/bin
PERLBREW_BASHRC_VERSION = 0.72
PERLBREW_HOME = /home/kent/.perlbrew
PERLBREW_MANPATH = /home/kent/perl5/perlbrew/perls/5.22.0/man
PERLBREW_PATH = /home/kent/perl5/perlbrew/bin:/home/kent/perl5/perlbrew/perls/5.22.0/bin
PERLBREW_PERL = 5.22.0
PERLBREW_ROOT = /home/kent/perl5/perlbrew
PERLBREW_VERSION = 0.72
PERL_CPANM_OPT = --prompt --interactive --verify --mirror http://cpan.metacpan.org/ --no-lwp
PERL_MM_OPT = INSTALLDIRS=site
SHELL = /bin/bash
TERM = rxvt-unicode-256color
Perl special variables (and OS-specific diagnostics, for MSWin32):
EGID = 1000 4 6 10 16 18 19 27 35 78 80 85 100 102 103 104 105 114 115 116 117 118 250 974 994 1000
EUID = 1000
EXECUTABLE_NAME = /home/kent/perl5/perlbrew/perls/5.22.0/bin/perl
GID = 1000 4 6 10 16 18 19 27 35 78 80 85 100 102 103 104 105 114 115 116 117 118 250 974 994 1000
UID = 1000
Perl module toolchain versions installed:
Module Have
------------------- --------
CPAN 2.11
CPAN::Meta 2.150005
Cwd 3.56
ExtUtils::CBuilder 0.280223
ExtUtils::Command 1.20
ExtUtils::Install 2.04
ExtUtils::MakeMaker 7.04_01
ExtUtils::Manifest 1.70
ExtUtils::ParseXS 3.28
File::Spec 3.56
JSON 2.90
JSON::PP 2.27300
Module::Build 0.4214
Module::Signature 0.79
Parse::CPAN::Meta 1.4417
Test::Harness 3.35
Test::More 1.001014
YAML 1.15
YAML::Syck 1.29
version 0.9912
--
Summary of my perl5 (revision 5 version 22 subversion 0) configuration:
Platform:
osname=linux, osvers=4.0.0-gentoo, archname=x86_64-linux
uname='linux katipo2 4.0.0-gentoo #23 smp preempt sat apr 25 06:58:21 nzst 2015 x86_64 intel(r) core(tm) i5-2410m cpu @ 2.30ghz genuineintel gnulinux '
config_args='-de -Dprefix=/home/kent/perl5/perlbrew/perls/5.22.0 -Dusecbacktrace -Doptimize= -fno-stack-protector -O3 -march=native -mtune=native -Dman1dir=none -Dman3dir=none -Accflags= -fno-stack-protector -DPERL_HASH_FUNC_SDBM -DUSE_C_BACKTRACE_ON_ERROR -Aldflags= -fno-stack-protector -lbfd -Aeval:scriptdir=/home/kent/perl5/perlbrew/perls/5.22.0/bin'
hint=recommended, useposix=true, d_sigaction=define
useithreads=undef, usemultiplicity=undef
use64bitint=define, use64bitall=define, uselongdouble=undef
usemymalloc=n, bincompat5005=undef
Compiler:
cc='cc', ccflags ='-fno-stack-protector -DPERL_HASH_FUNC_SDBM -DUSE_C_BACKTRACE_ON_ERROR -fwrapv -fno-strict-aliasing -pipe -fstack-protector-strong -DUSE_C_BACKTRACE -g -D_LARGEFILE_SOURCE -D_FILE_OFFSET_BITS=64',
optimize=' -fno-stack-protector -O3 -march=native -mtune=native',
cppflags='-fno-stack-protector -DPERL_HASH_FUNC_SDBM -DUSE_C_BACKTRACE_ON_ERROR -fwrapv -fno-strict-aliasing -pipe -fstack-protector-strong'
ccversion='', gccversion='4.9.2', gccosandvers=''
intsize=4, longsize=8, ptrsize=8, doublesize=8, byteorder=12345678, doublekind=3
d_longlong=define, longlongsize=8, d_longdbl=define, longdblsize=16, longdblkind=3
ivtype='long', ivsize=8, nvtype='double', nvsize=8, Off_t='off_t', lseeksize=8
alignbytes=8, prototype=define
Linker and Libraries:
ld='cc', ldflags =' -fno-stack-protector -lbfd -fstack-protector-strong -L/usr/local/lib'
libpth=/usr/lib/gcc/x86_64-pc-linux-gnu/4.9.2/include-fixed /usr/lib /usr/local/lib /lib/../lib64 /usr/lib/../lib64 /lib /lib64 /usr/lib64 /usr/local/lib64
libs=-lpthread -lnsl -lnm -lgdbm -ldb -ldl -lm -lcrypt -lutil -lc -lgdbm_compat
perllibs=-lpthread -lnsl -lnm -ldl -lm -lcrypt -lutil -lc
libc=libc-2.20.so, so=so, useshrplib=false, libperl=libperl.a
gnulibc_version='2.20'
Dynamic Linking:
dlsrc=dl_dlopen.xs, dlext=so, d_dlsymun=undef, ccdlflags='-Wl,-E'
cccdlflags='-fPIC', lddlflags='-shared -fno-stack-protector -O3 -march=native -mtune=native -L/usr/local/lib -fstack-protector-strong'
Characteristics of this binary (from libperl):
Compile-time options: HAS_TIMES PERLIO_LAYERS PERL_DONT_CREATE_GVSV
PERL_HASH_FUNC_SDBM PERL_MALLOC_WRAP
PERL_NEW_COPY_ON_WRITE PERL_PRESERVE_IVUV
USE_64_BIT_ALL USE_64_BIT_INT USE_LARGE_FILES
USE_LOCALE USE_LOCALE_COLLATE USE_LOCALE_CTYPE
USE_LOCALE_NUMERIC USE_LOCALE_TIME USE_PERLIO
USE_PERL_ATOF
Built under linux
Compiled at Jun 19 2015 08:06:04
%ENV:
PERLBREW_BASHRC_VERSION="0.72"
PERLBREW_HOME="/home/kent/.perlbrew"
PERLBREW_MANPATH="/home/kent/perl5/perlbrew/perls/5.22.0/man"
PERLBREW_PATH="/home/kent/perl5/perlbrew/bin:/home/kent/perl5/perlbrew/perls/5.22.0/bin"
PERLBREW_PERL="5.22.0"
PERLBREW_ROOT="/home/kent/perl5/perlbrew"
PERLBREW_VERSION="0.72"
PERL_CPANM_OPT=" --prompt --interactive --verify --mirror http://cpan.metacpan.org/ --no-lwp"
PERL_MM_OPT=" INSTALLDIRS=site"
@INC:
/home/kent/perl5/perlbrew/perls/5.22.0/lib/site_perl/5.22.0/x86_64-linux
/home/kent/perl5/perlbrew/perls/5.22.0/lib/site_perl/5.22.0
/home/kent/perl5/perlbrew/perls/5.22.0/lib/5.22.0/x86_64-linux
/home/kent/perl5/perlbrew/perls/5.22.0/lib/5.22.0
.