Report for Text-Balanced-2.02

Back
From: metabase:user:322078bc-2aae-11df-837a-5e0a49663a4f
Subject: PASS Text-Balanced-2.02 v5.14.0 SunOS/Solaris
Date: 2011-06-13T12:33:27Z

This distribution has been tested as part of the CPAN Testers
project, supporting the Perl programming language.  See
http://wiki.cpantesters.org/ for more information or email
questions to cpan-testers-discuss@perl.org


--

Dear ADAMK,

This is a computer-generated error report created automatically by
CPANPLUS, version 0.9105. Testers personal comments may appear
at the end of this report.

MAKE TEST passed: PERL_DL_NONLAZY=1 /opt/perl-5.14.0/bin/perl "-MExtUtils::Command::MM" "-e" "test_harness(0, 'blib/lib', 'blib/arch')" t/*.t
t/01_compile.t .. ok
t/02_extbrk.t ... ok
t/03_extcbk.t ... ok
t/04_extdel.t ... ok
t/05_extmul.t ... ok
t/06_extqlk.t ... ok
t/07_exttag.t ... ok
t/08_extvar.t ... ok
t/09_gentag.t ... ok
t/97_meta.t ..... skipped: Test::CPAN::Meta 0.12 not available for testing
t/98_pod.t ...... skipped: Test::Pod 1.26 not available for testing
t/99_pmv.t ...... skipped: Perl::MinimumVersion 1.20 not available for testing
All tests successful.
Files=12, Tests=560,  2 wallclock secs ( 0.22 usr  0.09 sys +  0.78 cusr  0.21 csys =  1.30 CPU)
Result: PASS

[MSG] [Mon Jun 13 13:38:53 2011] Sending test report for 'Text-Balanced-2.02'

This report was machine-generated by CPANPLUS::Dist::YACSmoke 0.62.

------------------------------
ENVIRONMENT AND OTHER CONTEXT
------------------------------

Environment variables:

    AUTOMATED_TESTING = 1
    PATH = /usr/local/sbin:/usr/local/bin:/usr/sbin:/usr/bin:/sbin:/usr/bin/X11
    PERL5LIB = :/opt/perl-5.14.0/.cpanplus/5.14.0/build/Text-Balanced-2.02/blib/lib:/opt/perl-5.14.0/.cpanplus/5.14.0/build/Text-Balanced-2.02/blib/arch
    PERL5_CPANIDX_URL = http://conker.bingosnet.co.uk/cpanidx/
    PERL5_CPANPLUS_IS_RUNNING = 3019
    PERL5_CPANPLUS_IS_VERSION = 0.9105
    PERL_EXTUTILS_AUTOINSTALL = --defaultdeps
    PERL_MM_USE_DEFAULT = 1
    SHELL = /bin/bash
    TERM = sun-color

Perl special variables (and OS-specific diagnostics, for MSWin32):

    Perl: $^X = /opt/perl-5.14.0/bin/perl
    UID:  $<  = 0
    EUID: $>  = 0
    GID:  $(  = 0 0 1 2 3 4 5 6 7 8 9 12
    EGID: $)  = 0 0 1 2 3 4 5 6 7 8 9 12


-------------------------------


--

Summary of my perl5 (revision 5 version 14 subversion 0) configuration:
   
  Platform:
    osname=solaris, osvers=2.11, archname=i86pc-solaris
    uname='sunos eunuch 5.11 nexentaos_134f i86pc i386 i86pc solaris '
    config_args='-des -Dprefix=/opt/perl-5.14.0'
    hint=recommended, useposix=true, d_sigaction=define
    useithreads=undef, usemultiplicity=undef
    useperlio=define, d_sfio=undef, uselargefiles=define, usesocks=undef
    use64bitint=undef, use64bitall=undef, uselongdouble=undef
    usemymalloc=n, bincompat5005=undef
  Compiler:
    cc='cc', ccflags ='-fno-strict-aliasing -pipe -I/usr/local/include -D_LARGEFILE_SOURCE -D_FILE_OFFSET_BITS=64 -DPERL_USE_SAFE_PUTENV',
    optimize='-O',
    cppflags='-fno-strict-aliasing -pipe -I/usr/local/include'
    ccversion='', gccversion='4.2.3 (Ubuntu 4.2.3-2nexenta7)', gccosandvers=''
    intsize=4, longsize=4, ptrsize=4, doublesize=8, byteorder=1234
    d_longlong=define, longlongsize=8, d_longdbl=define, longdblsize=12
    ivtype='long', ivsize=4, nvtype='double', nvsize=8, Off_t='off_t', lseeksize=8
    alignbytes=4, prototype=define
  Linker and Libraries:
    ld='cc', ldflags =' -L/usr/local/lib '
    libpth=/usr/local/lib /usr/lib /usr/ccs/lib
    libs=-lsocket -lnsl -ldl -lm -lc
    perllibs=-lsocket -lnsl -ldl -lm -lc
    libc=/lib/libc.so, so=so, useshrplib=false, libperl=libperl.a
    gnulibc_version=''
  Dynamic Linking:
    dlsrc=dl_dlopen.xs, dlext=so, d_dlsymun=undef, ccdlflags=' -Wl,-E'
    cccdlflags='-fPIC', lddlflags=' -Wl,-E -G -L/usr/local/lib'


Characteristics of this binary (from libperl): 
  Compile-time options: PERL_DONT_CREATE_GVSV PERL_MALLOC_WRAP
                        PERL_PRESERVE_IVUV PERL_USE_SAFE_PUTENV
                        USE_LARGE_FILES USE_PERLIO USE_PERL_ATOF
  Built under solaris
  Compiled at Jun 13 2011 12:56:34
  %ENV:
    PERL5LIB=":/opt/perl-5.14.0/.cpanplus/5.14.0/build/Text-Balanced-2.02/blib/lib:/opt/perl-5.14.0/.cpanplus/5.14.0/build/Text-Balanced-2.02/blib/arch"
    PERL5_CPANIDX_URL="http://conker.bingosnet.co.uk/cpanidx/"
    PERL5_CPANPLUS_IS_RUNNING="3019"
    PERL5_CPANPLUS_IS_VERSION="0.9105"
    PERL_EXTUTILS_AUTOINSTALL="--defaultdeps"
    PERL_MM_USE_DEFAULT="1"
  @INC:
    /opt/perl-5.14.0/.cpanplus/5.14.0/build/Text-Balanced-2.02/blib/lib
    /opt/perl-5.14.0/.cpanplus/5.14.0/build/Text-Balanced-2.02/blib/arch
    /opt/perl-5.14.0/lib/site_perl/5.14.0/i86pc-solaris
    /opt/perl-5.14.0/lib/site_perl/5.14.0
    /opt/perl-5.14.0/lib/5.14.0/i86pc-solaris
    /opt/perl-5.14.0/lib/5.14.0
    .