Report for WebService-Booklog-v0.0.1

Back
From: metabase:user:cba5269c-6e58-1014-92a6-0387276d408b
Subject: PASS WebService-Booklog-v0.0.1 v5.14.2 Dragonfly BSD
Date: 2013-05-16T20:44:01Z

This distribution has been tested as part of the CPAN Testers
project, supporting the Perl programming language.  See
http://wiki.cpantesters.org/ for more information or email
questions to cpan-testers-discuss@perl.org


--
Dear Yasutaka ATARASHI,

This is a computer-generated report for WebService-Booklog-v0.0.1
on perl 5.14.2, created by CPAN-Reporter-1.2010.

Thank you for uploading your work to CPAN.  Congratulations!
All tests were successful.

Sections of this report:

    * Tester comments
    * Program output
    * Prerequisites
    * Environment and other context

------------------------------
TESTER COMMENTS
------------------------------

Additional comments from tester:

this report is from an automated smoke testing program
and was not reviewed by a human for accuracy

------------------------------
PROGRAM OUTPUT
------------------------------

Output from '/usr/bin/make test':

PERL_DL_NONLAZY=1 /usr/pkg/bin/perl "-MExtUtils::Command::MM" "-e" "test_harness(0, 'blib/lib', 'blib/arch')" t/*.t
t/01-get_minishelf.t ...... ok
t/02-get_review.t ......... ok
t/03-get_shelf.t .......... ok
t/author-critic.t ......... skipped: these tests are for testing by the author
t/release-kwalitee.t ...... skipped: these tests are for release candidate testing
t/release-pod-coverage.t .. skipped: these tests are for release candidate testing
t/release-pod-syntax.t .... skipped: these tests are for release candidate testing
All tests successful.
Files=7, Tests=45, 11 wallclock secs ( 0.05 usr  0.01 sys +  0.46 cusr  0.10 csys =  0.62 CPU)
Result: PASS

------------------------------
PREREQUISITES
------------------------------

Prerequisite modules loaded:

requires:

    Module              Need Have
    ------------------- ---- ----
    JSON::Any           0    1.29
    LWP::UserAgent      0    6.05

build_requires:

    Module              Need Have
    ------------------- ---- ----
    Test::Exception     0    0.31
    Test::More          0    0.98

configure_requires:

    Module              Need Have
    ------------------- ---- ----
    ExtUtils::MakeMaker 6.30 6.64


------------------------------
ENVIRONMENT AND OTHER CONTEXT
------------------------------

Environment variables:

    AUTOMATED_TESTING = 1
    PATH = /sbin:/bin:/usr/sbin:/usr/bin:/usr/games:/usr/pkg/sbin:/usr/pkg/bin:/usr/pkg/xorg/bin:/usr/local/sbin:/usr/local/bin:/home/wose/bin
    PERL5LIB = /home/wose/.cpan/build/JSON-Any-1.29-K2dr2Q/blib/arch:/home/wose/.cpan/build/JSON-Any-1.29-K2dr2Q/blib/lib
    PERL5OPT = 
    PERL5_CPANPLUS_IS_RUNNING = 21057
    PERL5_CPAN_IS_RUNNING = 21057
    PERL5_CPAN_IS_RUNNING_IN_RECURSION = 28821,21057
    PERL_CR_SMOKER_CURRENT = App-booklog2amazon-v0.0.1
    PERL_EXTUTILS_AUTOINSTALL = --defaultdeps
    PERL_MM_USE_DEFAULT = 1
    SHELL = /bin/tcsh
    TERM = screen

Perl special variables (and OS-specific diagnostics, for MSWin32):

    $^X = /usr/pkg/bin/perl
    $UID/$EUID = 1001 / 1001
    $GID = 1003 1003
    $EGID = 1003 1003

Perl module toolchain versions installed:

    Module              Have    
    ------------------- --------
    CPAN                2.00    
    CPAN::Meta          2.112621
    Cwd                 3.36    
    ExtUtils::CBuilder  0.280205
    ExtUtils::Command   1.17    
    ExtUtils::Install   1.56    
    ExtUtils::MakeMaker 6.64    
    ExtUtils::Manifest  1.60    
    ExtUtils::ParseXS   2.2210  
    File::Spec          3.33    
    JSON                2.57    
    JSON::PP            2.27200 
    Module::Build       0.4004  
    Module::Signature   n/a     
    Parse::CPAN::Meta   1.4401  
    Test::Harness       3.23    
    Test::More          0.98    
    YAML                0.84    
    YAML::Syck          n/a     
    version             0.9902  


--

Summary of my perl5 (revision 5 version 14 subversion 2) configuration:
   
  Platform:
    osname=dragonfly, osvers=3.3-development, archname=x86_64-dragonfly-thread-multi
    uname='dragonfly pkgbox64.dragonflybsd.org 3.3-development dragonfly v3.3.0.662.g47572-development #1: mon nov 26 11:32:11 pst 2012 root@pkgbox64.dragonflybsd.org:usrobjusrsrcsyspkgbox64 x86_64 '
    config_args='-sde -D ccflags=  -pthread  -I/usr/include -D ldflags=  -pthread  -L/usr/lib -Wl,-R/usr/lib -Wl,-R/usr/pkg/lib -Duseshrplib -Duseithreads -Uusemymalloc'
    hint=recommended, useposix=true, d_sigaction=define
    useithreads=define, usemultiplicity=define
    useperlio=define, d_sfio=undef, uselargefiles=define, usesocks=undef
    use64bitint=define, use64bitall=define, uselongdouble=undef
    usemymalloc=n, bincompat5005=undef
  Compiler:
    cc='cc', ccflags ='-pthread -I/usr/include -DHAS_FPSETMASK -DHAS_FLOATINGPOINT_H -fno-strict-aliasing -pipe -fstack-protector -I/usr/local/include',
    optimize='  -pthread  -I/usr/include',
    cppflags='-pthread -I/usr/include -DHAS_FPSETMASK -DHAS_FLOATINGPOINT_H -fno-strict-aliasing -pipe -fstack-protector -I/usr/local/include'
    ccversion='', gccversion='4.4.7 2012.03.13', gccosandvers=''
    intsize=4, longsize=8, ptrsize=8, doublesize=8, byteorder=12345678
    d_longlong=define, longlongsize=8, d_longdbl=define, longdblsize=16
    ivtype='long', ivsize=8, nvtype='double', nvsize=8, Off_t='off_t', lseeksize=8
    alignbytes=8, prototype=define
  Linker and Libraries:
    ld='cc', ldflags ='-Wl,-R/usr/pkg/lib -pthread -Wl,-E -fstack-protector'
    libpth=/usr/lib /usr/local/lib
    libs=-lm -lcrypt -lpthread -lrt
    perllibs=-lm -lcrypt -lpthread -lrt
    libc=, so=so, useshrplib=true, libperl=libperl.so
    gnulibc_version=''
  Dynamic Linking:
    dlsrc=dl_dlopen.xs, dlext=so, d_dlsymun=undef, ccdlflags='  -Wl,-R/usr/pkg/lib/perl5/5.14.0/x86_64-dragonfly-thread-multi/CORE'
    cccdlflags='-DPIC -fPIC', lddlflags='-Wl,-R/usr/pkg/lib -shared  -L/usr/local/lib -fstack-protector'


Characteristics of this binary (from libperl): 
  Compile-time options: MULTIPLICITY PERL_DONT_CREATE_GVSV
                        PERL_IMPLICIT_CONTEXT PERL_MALLOC_WRAP
                        PERL_PRESERVE_IVUV USE_64_BIT_ALL USE_64_BIT_INT
                        USE_ITHREADS USE_LARGE_FILES USE_PERLIO USE_PERL_ATOF
                        USE_REENTRANT_API
  Built under dragonfly
  Compiled at Dec 17 2012 00:23:17
  %ENV:
    PERL5LIB="/home/wose/.cpan/build/JSON-Any-1.29-K2dr2Q/blib/arch:/home/wose/.cpan/build/JSON-Any-1.29-K2dr2Q/blib/lib"
    PERL5OPT=""
    PERL5_CPANPLUS_IS_RUNNING="21057"
    PERL5_CPAN_IS_RUNNING="21057"
    PERL5_CPAN_IS_RUNNING_IN_RECURSION="28821,21057"
    PERL_CR_SMOKER_CURRENT="App-booklog2amazon-v0.0.1"
    PERL_EXTUTILS_AUTOINSTALL="--defaultdeps"
    PERL_MM_USE_DEFAULT="1"
  @INC:
    /home/wose/.cpan/build/JSON-Any-1.29-K2dr2Q/blib/arch
    /home/wose/.cpan/build/JSON-Any-1.29-K2dr2Q/blib/lib
    /usr/pkg/lib/perl5/site_perl/5.14.0/x86_64-dragonfly-thread-multi
    /usr/pkg/lib/perl5/site_perl/5.14.0
    /usr/pkg/lib/perl5/vendor_perl/5.14.0/x86_64-dragonfly-thread-multi
    /usr/pkg/lib/perl5/vendor_perl/5.14.0
    /usr/pkg/lib/perl5/5.14.0/x86_64-dragonfly-thread-multi
    /usr/pkg/lib/perl5/5.14.0
    .