Dist-Zilla-Plugin-Test-EOL v0.19 Perl 5 v5.34.0 x86_64-linux

Status
Pass
From
Dan Book
Dist
Dist-Zilla-Plugin-Test-EOL v0.19
Platform
Perl 5 v5.34.0 x86_64-linux
Date
2021-06-02 05:35:28
ID
56e08c0e-c364-11eb-b4b0-d8b175e85475
This distribution has been tested as part of the CPAN Testers
project, supporting the Perl programming language.  See
http://wiki.cpantesters.org/ for more information or email
questions to cpan-testers-discuss@perl.org


--
Dear ETHER,

This is a computer-generated report for Dist-Zilla-Plugin-Test-EOL-0.19
on perl 5.34.0, created by App::cpanminus::reporter 0.17 (1.7044).

Thank you for uploading your work to CPAN.  Congratulations!
All tests were successful.

Sections of this report:

    * Tester comments
    * Program output
    * Prerequisites
    * Environment and other context

------------------------------
TESTER COMMENTS
------------------------------

Additional comments from tester:

none provided

------------------------------
PROGRAM OUTPUT
------------------------------

Output from '':

Building and testing Dist-Zilla-Plugin-Test-EOL-0.19
cp lib/Dist/Zilla/Plugin/EOLTests.pm blib/lib/Dist/Zilla/Plugin/EOLTests.pm
cp lib/Dist/Zilla/Plugin/Test/EOL.pm blib/lib/Dist/Zilla/Plugin/Test/EOL.pm
# 
# Versions for all modules listed in MYMETA.json (including optional ones):
# 
# === Configure Requires ===
# 
#     Module               Want  Have
#     ------------------- ----- -----
#     Module::Build::Tiny 0.034 0.039
# 
# === Test Requires ===
# 
#     Module            Want     Have
#     ---------------- ----- --------
#     File::Spec         any     3.80
#     File::pushd        any    1.016
#     FindBin            any     1.52
#     Module::Metadata   any 1.000037
#     Test::DZil         any    6.017
#     Test::Deep         any    1.130
#     Test::EOL          any     2.02
#     Test::More        0.88 1.302183
#     Test::Warnings   0.009    0.030
#     if                 any   0.0609
# 
# === Test Recommends ===
# 
#     Module         Want     Have
#     ---------- -------- --------
#     CPAN::Meta 2.120900 2.150010
# 
# === Runtime Requires ===
# 
#     Module                             Want     Have
#     --------------------------------- ----- --------
#     Data::Section                     0.004 0.200007
#     Dist::Zilla::File::InMemory         any    6.017
#     Dist::Zilla::Role::FileFinderUser   any    6.017
#     Dist::Zilla::Role::FileGatherer     any    6.017
#     Dist::Zilla::Role::FileMunger       any    6.017
#     Dist::Zilla::Role::PrereqSource     any    6.017
#     Dist::Zilla::Role::TextTemplate     any    6.017
#     Moose                               any   2.2015
#     Moose::Util::TypeConstraints        any   2.2015
#     Path::Tiny                          any    0.118
#     Sub::Exporter::ForMethods           any 0.100054
#     namespace::autoclean                any     0.29
#     strict                              any     1.12
#     warnings                            any     1.51
# 
# === Other Modules ===
# 
#     Module                    Have
#     --------------------- --------
#     CPAN::Meta::Validator 2.150010
#     Pod::Coverage             0.23
# 
t/00-report-prereqs.t .. ok
t/01-basic.t ........... ok
t/02-eoltests.t ........ ok
t/03-finder.t .......... ok
t/04-filename.t ........ ok
t/eol.t ................ ok
t/prereqs.t ............ ok
t/zzz-check-breaks.t ... ok
All tests successful.
Files=8, Tests=66,  4 wallclock secs ( 0.05 usr  0.02 sys +  4.13 cusr  0.28 csys =  4.48 CPU)
Result: PASS

------------------------------
PREREQUISITES
------------------------------

Prerequisite modules loaded:

    No requirements found

------------------------------
ENVIRONMENT AND OTHER CONTEXT
------------------------------

Environment variables:

    LANG = en_US.UTF-8
    PATH = /home/grinnz/.plenv/versions/5.34.0/bin:/home/grinnz/.plenv/libexec:/home/grinnz/.plenv/plugins/perl-build/bin:/home/grinnz/.plenv/plugins/plenv-contrib/bin:/home/grinnz/.plenv/shims:/home/grinnz/.plenv/bin:/usr/local/cuda/bin:/home/grinnz/.plenv/bin:/usr/local/cuda/bin:/usr/local/bin:/usr/bin:/usr/local/sbin:/usr/sbin
    SHELL = /usr/bin/fish
    TERM = screen

Perl special variables (and OS-specific diagnostics, for MSWin32):

    EGID = 1000 10 26 135 974 1000
    EUID = 1000
    EXECUTABLE_NAME = /home/grinnz/.plenv/versions/5.34.0/bin/perl5.34.0
    GID = 1000 10 26 135 974 1000
    UID = 1000

Perl module toolchain versions installed:

    Module              Have    
    ------------------- --------
    CPAN                2.28    
    CPAN::Meta          2.150010
    Cwd                 3.80    
    ExtUtils::CBuilder  0.280236
    ExtUtils::Command   7.62    
    ExtUtils::Install   2.20    
    ExtUtils::MakeMaker 7.62    
    ExtUtils::Manifest  1.73    
    ExtUtils::ParseXS   3.43    
    File::Spec          3.80    
    JSON                4.03    
    JSON::PP            4.06    
    Module::Build       0.4231  
    Module::Signature   0.87    
    Parse::CPAN::Meta   2.150010
    Test::Harness       3.43    
    Test::More          1.302185
    YAML                1.30    
    YAML::Syck          n/a     
    version             0.9929  


--

Summary of my perl5 (revision 5 version 34 subversion 0) configuration:
   
  Platform:
    osname=linux
    osvers=5.11.14-200.fc33.x86_64
    archname=x86_64-linux
    uname='linux home.grinnz.com 5.11.14-200.fc33.x86_64 #1 smp wed apr 14 15:25:53 utc 2021 x86_64 x86_64 x86_64 gnulinux '
    config_args='-Dprefix=/home/grinnz/.plenv/versions/5.34.0 -de -Dversiononly -A'eval:scriptdir=/home/grinnz/.plenv/versions/5.34.0/bin''
    hint=recommended
    useposix=true
    d_sigaction=define
    useithreads=undef
    usemultiplicity=undef
    use64bitint=define
    use64bitall=define
    uselongdouble=undef
    usemymalloc=n
    default_inc_excludes_dot=define
  Compiler:
    cc='cc'
    ccflags ='-fwrapv -fno-strict-aliasing -pipe -fstack-protector-strong -I/usr/local/include -D_LARGEFILE_SOURCE -D_FILE_OFFSET_BITS=64 -D_FORTIFY_SOURCE=2'
    optimize='-O2'
    cppflags='-fwrapv -fno-strict-aliasing -pipe -fstack-protector-strong -I/usr/local/include'
    ccversion=''
    gccversion='10.2.1 20201125 (Red Hat 10.2.1-9)'
    gccosandvers=''
    intsize=4
    longsize=8
    ptrsize=8
    doublesize=8
    byteorder=12345678
    doublekind=3
    d_longlong=define
    longlongsize=8
    d_longdbl=define
    longdblsize=16
    longdblkind=3
    ivtype='long'
    ivsize=8
    nvtype='double'
    nvsize=8
    Off_t='off_t'
    lseeksize=8
    alignbytes=8
    prototype=define
  Linker and Libraries:
    ld='cc'
    ldflags =' -fstack-protector-strong -L/usr/local/lib'
    libpth=/usr/local/lib /usr/lib /usr/lib64 /usr/local/lib64
    libs=-lpthread -lgdbm -ldb -ldl -lm -lcrypt -lutil -lc -lgdbm_compat
    perllibs=-lpthread -ldl -lm -lcrypt -lutil -lc
    libc=libc-2.32.so
    so=so
    useshrplib=false
    libperl=libperl.a
    gnulibc_version='2.32'
  Dynamic Linking:
    dlsrc=dl_dlopen.xs
    dlext=so
    d_dlsymun=undef
    ccdlflags='-Wl,-E'
    cccdlflags='-fPIC'
    lddlflags='-shared -O2 -L/usr/local/lib -fstack-protector-strong'


Characteristics of this binary (from libperl): 
  Compile-time options:
    HAS_TIMES
    PERLIO_LAYERS
    PERL_COPY_ON_WRITE
    PERL_DONT_CREATE_GVSV
    PERL_MALLOC_WRAP
    PERL_OP_PARENT
    PERL_PRESERVE_IVUV
    USE_64_BIT_ALL
    USE_64_BIT_INT
    USE_LARGE_FILES
    USE_LOCALE
    USE_LOCALE_COLLATE
    USE_LOCALE_CTYPE
    USE_LOCALE_NUMERIC
    USE_LOCALE_TIME
    USE_PERLIO
    USE_PERL_ATOF
  Built under linux
  Compiled at Jun  1 2021 22:03:10
  @INC:
    /home/grinnz/.plenv/versions/5.34.0/lib/perl5/site_perl/5.34.0/x86_64-linux
    /home/grinnz/.plenv/versions/5.34.0/lib/perl5/site_perl/5.34.0
    /home/grinnz/.plenv/versions/5.34.0/lib/perl5/5.34.0/x86_64-linux
    /home/grinnz/.plenv/versions/5.34.0/lib/perl5/5.34.0