Back
From: metabase:user:314402c4-2aae-11df-837a-5e0a49663a4f
Subject: PASS POE-Loop-AnyEvent-0.004 v5.22.0 GNU/Linux
Date: 2015-06-06T16:08:58Z
This distribution has been tested as part of the CPAN Testers
project, supporting the Perl programming language. See
http://wiki.cpantesters.org/ for more information or email
questions to cpan-testers-discuss@perl.org
--
Dear Chris Williams,
This is a computer-generated report for POE-Loop-AnyEvent-0.004
on perl 5.22.0, created by CPAN-Reporter-1.2014.
Thank you for uploading your work to CPAN. Congratulations!
All tests were successful.
Sections of this report:
* Tester comments
* Program output
* Prerequisites
* Environment and other context
------------------------------
TESTER COMMENTS
------------------------------
Additional comments from tester:
none provided
------------------------------
PROGRAM OUTPUT
------------------------------
Output from '/usr/bin/make test':
PERL_DL_NONLAZY=1 "/opt/perl-5.22.0/bin/perl5.22.0" "-MExtUtils::Command::MM" "-MTest::Harness" "-e" "undef *Test::Harness::Switches; test_harness(0, 'blib/lib', 'blib/arch')" t/*.t t/poe_loop_anyevent/*.t
# Testing POE 1.367, Perl 5.022000, /opt/perl-5.22.0/bin/perl5.22.0 on linux
t/00_info.t ......................................... ok
# Testing POE 1.367, POE::Test::Loops 1.360, Using Loop(POE::Loop::AnyEvent), Perl 5.022000, /opt/perl-5.22.0/bin/perl5.22.0 on linux
t/poe_loop_anyevent/00_info.t ....................... ok
t/poe_loop_anyevent/all_errors.t .................... skipped: most of these should move into other test files
t/poe_loop_anyevent/comp_tcp.t ...................... ok
# You might see a 'disconnect' error during this test.
# It may be ignored.
t/poe_loop_anyevent/comp_tcp_concurrent.t ........... ok
t/poe_loop_anyevent/connect_errors.t ................ ok
t/poe_loop_anyevent/k_alarms.t ...................... ok
t/poe_loop_anyevent/k_aliases.t ..................... ok
t/poe_loop_anyevent/k_detach.t ...................... ok
t/poe_loop_anyevent/k_run_returns.t ................. ok
t/poe_loop_anyevent/k_selects.t ..................... ok
t/poe_loop_anyevent/k_sig_child.t ................... ok
t/poe_loop_anyevent/k_signals.t ..................... ok
t/poe_loop_anyevent/k_signals_rerun.t ............... ok
t/poe_loop_anyevent/sbk_signal_init.t ............... ok
t/poe_loop_anyevent/ses_nfa.t ....................... ok
# This test generates some STDERR during trace testing.
=== 16644 === 23 -> _start (from /opt/perl-5.22.0/lib/site_perl/5.22.0/POE/Kernel.pm at 1497)
=== 16644 === 23 -> woot (from /opt/perl-5.22.0/lib/site_perl/5.22.0/POE/Test/Loops/ses_session.pm at 691)
=== 16644 === 23 -> narf (from /opt/perl-5.22.0/lib/site_perl/5.22.0/POE/Test/Loops/ses_session.pm at 692)
=== 16644 === 23 -> _stop (from /opt/perl-5.22.0/lib/site_perl/5.22.0/POE/Resource/Sessions.pm at 571)
t/poe_loop_anyevent/ses_session.t ................... ok
t/poe_loop_anyevent/wheel_accept.t .................. ok
t/poe_loop_anyevent/wheel_curses.t .................. skipped: Curses not available
t/poe_loop_anyevent/wheel_readline.t ................ ok
t/poe_loop_anyevent/wheel_readwrite.t ............... ok
t/poe_loop_anyevent/wheel_run.t ..................... ok
t/poe_loop_anyevent/wheel_run_size.t ................ skipped: This test requires Term::Size
t/poe_loop_anyevent/wheel_sf_ipv6.t ................. skipped: Socket::GetAddrInfo is needed for IPv6 tests
t/poe_loop_anyevent/wheel_sf_tcp.t .................. ok
t/poe_loop_anyevent/wheel_sf_udp.t .................. ok
t/poe_loop_anyevent/wheel_sf_unix.t ................. ok
t/poe_loop_anyevent/wheel_tail.t .................... ok
t/poe_loop_anyevent/z_kogman_sig_order.t ............ ok
t/poe_loop_anyevent/z_leolo_wheel_run.t ............. ok
# Using '/bin/true' as our thing to run under system()
t/poe_loop_anyevent/z_merijn_sigchld_system.t ....... ok
t/poe_loop_anyevent/z_rt39872_sigchld.t ............. ok
# Parent 16688 waiting 3sec for slow systems to settle.
# sending sigusr1
# sent sigusr1
t/poe_loop_anyevent/z_rt39872_sigchld_stop.t ........ ok
t/poe_loop_anyevent/z_rt53302_fh_watchers.t ......... ok
t/poe_loop_anyevent/z_rt54319_bazerka_followtail.t .. ok
t/poe_loop_anyevent/z_steinert_signal_integrity.t ... ok
t/release-pod-syntax.t .............................. skipped: these tests are for release candidate testing
All tests successful.
Files=37, Tests=486, 39 wallclock secs ( 0.31 usr 0.09 sys + 12.18 cusr 1.12 csys = 13.70 CPU)
Result: PASS
------------------------------
PREREQUISITES
------------------------------
Prerequisite modules loaded:
requires:
Module Need Have
------------------- ----- -------
AnyEvent 0 7.09
POE 1.289 1.367
build_requires:
Module Need Have
------------------- ----- -------
ExtUtils::MakeMaker 0 7.04_01
configure_requires:
Module Need Have
------------------- ----- -------
ExtUtils::MakeMaker 6.30 7.04_01
POE::Test::Loops 1.035 1.360
------------------------------
ENVIRONMENT AND OTHER CONTEXT
------------------------------
Environment variables:
DBIC_NO_WARN_BAD_PERL = 1
LANG = en_US.UTF-8
LANGUAGE = en_US:en
PATH = /usr/local/bin:/usr/bin:/bin:/usr/local/sbin:/usr/sbin:/sbin:/home/cpansand/bin/linux-gnu:/home/cpansand/bin/sh:/home/cpansand/bin:/usr/games:/home/cpansand/devel:/home/eserte/src/srezic-misc/scripts
PERL5LIB =
PERL5OPT =
PERL5_CPANPLUS_IS_RUNNING = 15626
PERL5_CPAN_IS_RUNNING = 15626
PERL5_CPAN_IS_RUNNING_IN_RECURSION = 15503,15626
PERLDOC = -MPod::Perldoc::ToTextOverstrike
PERL_BATCH = yes
PERL_CPAN_REPORTER_CONFIG = /run/user/1023/cpansmoker/cpanreporter_003_config.ini
PERL_EXTUTILS_AUTOINSTALL = --defaultdeps
PERL_HTML_DISPLAY_CLASS = HTML::Display::Mozilla
SHELL = /bin/zsh
TERM = screen
TMPDIR = /run/user/1023/cpansmoker
Perl special variables (and OS-specific diagnostics, for MSWin32):
$^X = /opt/perl-5.22.0/bin/perl5.22.0
$UID/$EUID = 1023 / 1023
$GID = 1023 1023
$EGID = 1023 1023
Perl module toolchain versions installed:
Module Have
------------------- --------
CPAN 2.11
CPAN::Meta 2.150001
Cwd 3.56
ExtUtils::CBuilder 0.280223
ExtUtils::Command 1.20
ExtUtils::Install 2.04
ExtUtils::MakeMaker 7.04_01
ExtUtils::Manifest 1.70
ExtUtils::ParseXS 3.28
File::Spec 3.56
JSON 2.90
JSON::PP 2.27300
Module::Build 0.4212
Module::Signature n/a
Parse::CPAN::Meta 1.4414
Test::Harness 3.35
Test::More 1.001014
YAML 1.15
YAML::Syck 1.29
version 0.9909
--
Summary of my perl5 (revision 5 version 22 subversion 0) configuration:
Platform:
osname=linux, osvers=3.16.0-4-amd64, archname=x86_64-linux
uname='linux cvrsnica-jessie 3.16.0-4-amd64 #1 smp debian 3.16.7-ckt9-3~deb8u1 (2015-04-24) x86_64 gnulinux '
config_args='-ds -e -Dprefix=/opt/perl-5.22.0 -Dcf_email=srezic@cpan.org'
hint=recommended, useposix=true, d_sigaction=define
useithreads=undef, usemultiplicity=undef
use64bitint=define, use64bitall=define, uselongdouble=undef
usemymalloc=n, bincompat5005=undef
Compiler:
cc='cc', ccflags ='-fwrapv -fno-strict-aliasing -pipe -fstack-protector-strong -I/usr/local/include -D_LARGEFILE_SOURCE -D_FILE_OFFSET_BITS=64 -D_FORTIFY_SOURCE=2',
optimize='-O2',
cppflags='-fwrapv -fno-strict-aliasing -pipe -fstack-protector-strong -I/usr/local/include'
ccversion='', gccversion='4.9.2', gccosandvers=''
intsize=4, longsize=8, ptrsize=8, doublesize=8, byteorder=12345678, doublekind=3
d_longlong=define, longlongsize=8, d_longdbl=define, longdblsize=16, longdblkind=3
ivtype='long', ivsize=8, nvtype='double', nvsize=8, Off_t='off_t', lseeksize=8
alignbytes=8, prototype=define
Linker and Libraries:
ld='cc', ldflags =' -fstack-protector-strong -L/usr/local/lib'
libpth=/usr/local/lib /usr/lib/gcc/x86_64-linux-gnu/4.9/include-fixed /usr/include/x86_64-linux-gnu /usr/lib /lib/x86_64-linux-gnu /lib/../lib /usr/lib/x86_64-linux-gnu /usr/lib/../lib /lib
libs=-lpthread -lnsl -lgdbm -ldb -ldl -lm -lcrypt -lutil -lc -lgdbm_compat
perllibs=-lpthread -lnsl -ldl -lm -lcrypt -lutil -lc
libc=libc-2.19.so, so=so, useshrplib=false, libperl=libperl.a
gnulibc_version='2.19'
Dynamic Linking:
dlsrc=dl_dlopen.xs, dlext=so, d_dlsymun=undef, ccdlflags='-Wl,-E'
cccdlflags='-fPIC', lddlflags='-shared -O2 -L/usr/local/lib -fstack-protector-strong'
Characteristics of this binary (from libperl):
Compile-time options: HAS_TIMES PERLIO_LAYERS PERL_DONT_CREATE_GVSV
PERL_HASH_FUNC_ONE_AT_A_TIME_HARD PERL_MALLOC_WRAP
PERL_NEW_COPY_ON_WRITE PERL_PRESERVE_IVUV
USE_64_BIT_ALL USE_64_BIT_INT USE_LARGE_FILES
USE_LOCALE USE_LOCALE_COLLATE USE_LOCALE_CTYPE
USE_LOCALE_NUMERIC USE_LOCALE_TIME USE_PERLIO
USE_PERL_ATOF
Built under linux
Compiled at Jun 1 2015 20:33:19
%ENV:
PERL5LIB=""
PERL5OPT=""
PERL5_CPANPLUS_IS_RUNNING="15626"
PERL5_CPAN_IS_RUNNING="15626"
PERL5_CPAN_IS_RUNNING_IN_RECURSION="15503,15626"
PERLDOC="-MPod::Perldoc::ToTextOverstrike"
PERL_BATCH="yes"
PERL_CPAN_REPORTER_CONFIG="/run/user/1023/cpansmoker/cpanreporter_003_config.ini"
PERL_EXTUTILS_AUTOINSTALL="--defaultdeps"
PERL_HTML_DISPLAY_CLASS="HTML::Display::Mozilla"
@INC:
/opt/perl-5.22.0/lib/site_perl/5.22.0/x86_64-linux
/opt/perl-5.22.0/lib/site_perl/5.22.0
/opt/perl-5.22.0/lib/5.22.0/x86_64-linux
/opt/perl-5.22.0/lib/5.22.0
.