Report for CGI-Application-Server-0.063

Back
From: metabase:user:320bfe00-2aae-11df-837a-5e0a49663a4f
Subject: PASS CGI-Application-Server-0.063 v5.25.11 GNU/Linux
Date: 2017-04-10T15:35:35Z

This distribution has been tested as part of the CPAN Testers
project, supporting the Perl programming language.  See
http://wiki.cpantesters.org/ for more information or email
questions to cpan-testers-discuss@perl.org


--
Dear Ricardo SIGNES,

This is a computer-generated report for CGI-Application-Server-0.063
on perl 5.25.11, created by CPAN-Reporter-1.2018.

Thank you for uploading your work to CPAN.  Congratulations!
All tests were successful.

Sections of this report:

    * Tester comments
    * Program output
    * Prerequisites
    * Environment and other context

------------------------------
TESTER COMMENTS
------------------------------

Additional comments from tester:

this report is from an automated smoke testing program
and was not reviewed by a human for accuracy

------------------------------
PROGRAM OUTPUT
------------------------------

Output from '/usr/bin/make test':

PERL_DL_NONLAZY=1 "/home/sand/src/perl/repoperls/installed-perls/host/k93msid/v5.25.11/2d7c/bin/perl" "-MExtUtils::Command::MM" "-MTest::Harness" "-e" "undef *Test::Harness::Switches; test_harness(0, 'blib/lib', 'blib/arch')" t/*.t
t/00-compile.t ..................... ok
# 
# 
# Generated by Dist::Zilla::Plugin::ReportVersions::Tiny v1.08
# perl: 5.025011 (wanted any version) on linux from /home/sand/src/perl/repoperls/installed-perls/host/k93msid/v5.25.11/2d7c/bin/perl
# 
# CGI                                           => 4.36       (want any version)
# CGI::Application                              => 4.50       (want 4.21)   
# CGI::Application::Dispatch                    => module not found. (want any version)
# CGI::Application::Plugin::Redirect            => 1.00       (want any version)
# Carp                                          => 1.42       (want 0.01)   
# ExtUtils::MakeMaker                           => 7.24       (want 6.30)   
# File::Find                                    => 1.34       (want any version)
# File::Temp                                    => 0.2304     (want any version)
# HTTP::Response                                => 6.11       (want any version)
# HTTP::Server::Simple                          => 0.51       (want 0.18)   
# HTTP::Server::Simple::CGI                     => <undef>    (want any version)
# HTTP::Server::Simple::Static                  => 0.12       (want 0.02)   
# HTTP::Status                                  => 6.11       (want any version)
# Scalar::Util                                  => 1.47       (want 1.18)   
# Test::Exception                               => 0.43       (want any version)
# Test::HTTP::Server::Simple                    => 0.11       (want any version)
# Test::More                                    => 1.302078   (want 0.96)   
# Test::Pod                                     => 1.51       (want 1.41)   
# Test::WWW::Mechanize                          => 1.48       (want any version)
# base                                          => 2.24       (want any version)
# lib                                           => 0.64       (want any version)
# strict                                        => 1.11       (want any version)
# version                                       => 0.9917     (want 0.9901) 
# warnings                                      => 1.37       (want any version)
# 
# Thanks for using my code.  I hope it works for you.
# If not, please try and include this output in the bug report.
# That will help me reproduce the issue and solve your problem.
# 
t/000-report-versions-tiny.t ....... ok
t/000_load.t ....................... ok
t/001_basic.t ...................... ok
t/002_valid_entry_points.t ......... ok
t/003_dispatch.t ................... skipped: CGI::Application::Dispatch required for these tests
t/004_object_as_entry_point.t ...... ok
t/005_mode_param_from_path_info.t .. ok
t/006_docroot_as_entry_point.t ..... ok
CGI::param called in list context from t/lib/ReplaceQueryObject.pm line 14, this can lead to vulnerabilities. See the warning in "Fetching the value or values of a single named parameter" at /home/sand/src/perl/repoperls/installed-perls/host/k93msid/v5.25.11/2d7c/lib/site_perl/5.25.11/CGI.pm line 412, <DATA> line 16.
t/006_replacequeryobject.t ......... ok
t/007_default_target.t ............. ok
All tests successful.
Files=11, Tests=93,  9 wallclock secs ( 0.04 usr  0.06 sys +  1.93 cusr  0.60 csys =  2.63 CPU)
Result: PASS

------------------------------
PREREQUISITES
------------------------------

Prerequisite modules loaded:

requires:

    Module                             Need Have    
    ---------------------------------- ---- --------
    base                               0    2.24    
    Carp                               0.01 1.42    
    CGI                                0    4.36    
    CGI::Application                   4.21 4.50    
    HTTP::Response                     0    6.11    
    HTTP::Server::Simple               0.18 0.51    
    HTTP::Server::Simple::CGI          0    0       
    HTTP::Server::Simple::Static       0.02 0.12    
    HTTP::Status                       0    6.11    
    Scalar::Util                       1.18 1.47    
    strict                             0    1.11    
    warnings                           0    1.37    

build_requires:

    Module                             Need Have    
    ---------------------------------- ---- --------
    CGI::Application                   0    4.50    
  ! CGI::Application::Dispatch         0    n/a     
    CGI::Application::Plugin::Redirect 0    1.00    
    File::Find                         0    1.34    
    File::Temp                         0    0.2304  
    lib                                0    0.64    
    Test::Exception                    0    0.43    
    Test::HTTP::Server::Simple         0    0.11    
    Test::More                         0.96 1.302078
    Test::WWW::Mechanize               0    1.48    

configure_requires:

    Module                             Need Have    
    ---------------------------------- ---- --------
    ExtUtils::MakeMaker                6.30 7.24    


------------------------------
ENVIRONMENT AND OTHER CONTEXT
------------------------------

Environment variables:

    AUTOMATED_TESTING = 1
    LANG = en_US.UTF-8
    PATH = /home/sand/bin:/usr/local/bin:/usr/bin:/bin:/usr/games:/usr/local/perl/bin:/usr/X11/bin:/sbin:/usr/sbin
    PERL5LIB = 
    PERL5OPT = 
    PERL5_CPANPLUS_IS_RUNNING = 26476
    PERL5_CPAN_IS_RUNNING = 26476
    PERL_CANARY_STABILITY_NOPROMPT = 1
    PERL_MM_USE_DEFAULT = 1
    PERL_USE_UNSAFE_INC = 1
    SHELL = /usr/bin/zsh
    TERM = screen

Perl special variables (and OS-specific diagnostics, for MSWin32):

    $^X = /home/sand/src/perl/repoperls/installed-perls/host/k93msid/v5.25.11/2d7c/bin/perl
    $UID/$EUID = 1005 / 1005
    $GID = 1005 1005
    $EGID = 1005 1005

Perl module toolchain versions installed:

    Module              Have      
    ------------------- ----------
    CPAN                2.18      
    CPAN::Meta          2.150010  
    Cwd                 3.67      
    ExtUtils::CBuilder  0.280225  
    ExtUtils::Command   7.24      
    ExtUtils::Install   2.04      
    ExtUtils::MakeMaker 7.24      
    ExtUtils::Manifest  1.70      
    ExtUtils::ParseXS   3.34      
    File::Spec          3.67      
    JSON                2.90      
    JSON::PP            2.27400_02
    Module::Build       0.4220    
    Module::Signature   0.81      
    Parse::CPAN::Meta   2.150010  
    Test::Harness       3.39      
    Test::More          1.302078  
    YAML                1.23      
    YAML::Syck          1.29      
    version             0.9917    


--

Summary of my perl5 (revision 5 version 25 subversion 11) configuration:
  Commit id: 295d6d042a7c8bac9b1d5d201a473c7723b50d3f
  Platform:
    osname=linux
    osvers=4.9.0-2-amd64
    archname=x86_64-linux-ld
    uname='linux k93msid 4.9.0-2-amd64 #1 smp debian 4.9.13-1 (2017-02-27) x86_64 gnulinux '
    config_args='-Dprefix=/home/sand/src/perl/repoperls/installed-perls/host/k93msid/v5.25.11/2d7c -Dmyhostname=k93msid -Dinstallusrbinperl=n -Uversiononly -Dusedevel -des -Ui_db -Dlibswanted=cl pthread socket inet nsl gdbm dbm malloc dl ld sun m crypt sec util c cposix posix ucb BSD gdbm_compat -Uuseithreads -Duselongdouble -DDEBUGGING=-g'
    hint=recommended
    useposix=true
    d_sigaction=define
    useithreads=undef
    usemultiplicity=undef
    use64bitint=define
    use64bitall=define
    uselongdouble=define
    usemymalloc=n
    default_inc_excludes_dot=define
    bincompat5005=undef
  Compiler:
    cc='cc'
    ccflags ='-fwrapv -fno-strict-aliasing -pipe -fstack-protector-strong -I/usr/local/include -D_LARGEFILE_SOURCE -D_FILE_OFFSET_BITS=64'
    optimize='-O2 -g'
    cppflags='-fwrapv -fno-strict-aliasing -pipe -fstack-protector-strong -I/usr/local/include'
    ccversion=''
    gccversion='6.3.0 20170316'
    gccosandvers=''
    intsize=4
    longsize=8
    ptrsize=8
    doublesize=8
    byteorder=12345678
    doublekind=3
    d_longlong=define
    longlongsize=8
    d_longdbl=define
    longdblsize=16
    longdblkind=3
    ivtype='long'
    ivsize=8
    nvtype='long double'
    nvsize=16
    Off_t='off_t'
    lseeksize=8
    alignbytes=16
    prototype=define
  Linker and Libraries:
    ld='cc'
    ldflags =' -fstack-protector-strong -L/usr/local/lib'
    libpth=/usr/local/lib /usr/lib/gcc/x86_64-linux-gnu/6/include-fixed /usr/include/x86_64-linux-gnu /usr/lib /lib/x86_64-linux-gnu /lib/../lib /usr/lib/x86_64-linux-gnu /usr/lib/../lib /lib
    libs=-lpthread -lnsl -ldl -lm -lcrypt -lutil -lc
    perllibs=-lpthread -lnsl -ldl -lm -lcrypt -lutil -lc
    libc=libc-2.24.so
    so=so
    useshrplib=false
    libperl=libperl.a
    gnulibc_version='2.24'
  Dynamic Linking:
    dlsrc=dl_dlopen.xs
    dlext=so
    d_dlsymun=undef
    ccdlflags='-Wl,-E'
    cccdlflags='-fPIC'
    lddlflags='-shared -O2 -g -L/usr/local/lib -fstack-protector-strong'


Characteristics of this binary (from libperl): 
  Compile-time options:
    HAS_TIMES
    PERLIO_LAYERS
    PERL_COPY_ON_WRITE
    PERL_DONT_CREATE_GVSV
    PERL_MALLOC_WRAP
    PERL_OP_PARENT
    PERL_PRESERVE_IVUV
    PERL_USE_DEVEL
    USE_64_BIT_ALL
    USE_64_BIT_INT
    USE_LARGE_FILES
    USE_LOCALE
    USE_LOCALE_COLLATE
    USE_LOCALE_CTYPE
    USE_LOCALE_NUMERIC
    USE_LOCALE_TIME
    USE_LONG_DOUBLE
    USE_PERLIO
    USE_PERL_ATOF
  Built under linux
  Compiled at Mar 20 2017 22:56:45
  %ENV:
    PERL5LIB=""
    PERL5OPT=""
    PERL5_CPANPLUS_IS_RUNNING="26476"
    PERL5_CPAN_IS_RUNNING="26476"
    PERL_CANARY_STABILITY_NOPROMPT="1"
    PERL_MM_USE_DEFAULT="1"
    PERL_USE_UNSAFE_INC="1"
  @INC:
    /home/sand/src/perl/repoperls/installed-perls/host/k93msid/v5.25.11/2d7c/lib/site_perl/5.25.11/x86_64-linux-ld
    /home/sand/src/perl/repoperls/installed-perls/host/k93msid/v5.25.11/2d7c/lib/site_perl/5.25.11
    /home/sand/src/perl/repoperls/installed-perls/host/k93msid/v5.25.11/2d7c/lib/5.25.11/x86_64-linux-ld
    /home/sand/src/perl/repoperls/installed-perls/host/k93msid/v5.25.11/2d7c/lib/5.25.11
    .