SQL-Maker v1.21 Perl 5 v5.18.0 x86_64-linux-ld

Status
Pass
From
Andreas J. König (ANDK)
Dist
SQL-Maker v1.21
Platform
Perl 5 v5.18.0 x86_64-linux-ld
Date
2017-10-17 21:01:26
ID
56f94d88-b37e-11e7-af6c-c0ab9f3bb17c
This distribution has been tested as part of the CPAN Testers
project, supporting the Perl programming language.  See
http://wiki.cpantesters.org/ for more information or email
questions to cpan-testers-discuss@perl.org


--
Dear Author,

This is a computer-generated report for SQL-Maker-1.21
on perl 5.18.0, created by CPAN-Reporter-1.2018.

Thank you for uploading your work to CPAN.  Congratulations!
All tests were successful.

Sections of this report:

    * Tester comments
    * Program output
    * Prerequisites
    * Environment and other context

------------------------------
TESTER COMMENTS
------------------------------

Additional comments from tester:

this report is from an automated smoke testing program
and was not reviewed by a human for accuracy

------------------------------
PROGRAM OUTPUT
------------------------------

Output from './Build test':

t/00_compile.t .......................................... ok
t/01_delete.t ........................................... ok
t/01_insert.t ........................................... ok
t/01_select.t ........................................... ok
t/01_simple.t ........................................... ok
t/01_update.t ........................................... ok
t/01_util.t ............................................. ok
t/02_where.t ............................................ ok
t/09_new_line.t ......................................... ok
t/10_subquery.t ......................................... ok
t/11_set.t .............................................. ok
t/12_insert_empty.t ..................................... ok
t/13_strict.t ........................................... ok
t/14_quote_char.t ....................................... ok
t/condition/01_where.t .................................. ok
t/condition/02_make_term.t .............................. ok
t/condition/03_add_raw.t ................................ ok
t/condition/04_compose_empty.t .......................... ok
t/condition/05_empty_values.t ........................... ok
t/plugins/insert_multi/01_insert_multi.t ................ ok
t/plugins/insert_on_duplicate/01_insert_on_duplicate.t .. ok
t/select/01_statement.t ................................. ok
t/select/02_pod_select.t ................................ ok
t/select/oracle/01_oracle.t ............................. ok
t/sql_type/01_sql_type.t ................................ ok
t/sql_type/02_synopsis.t ................................ ok
All tests successful.
Files=26, Tests=139,  6 wallclock secs ( 0.14 usr  0.22 sys +  2.75 cusr  0.59 csys =  3.70 CPU)
Result: PASS

------------------------------
PREREQUISITES
------------------------------

Prerequisite modules loaded:

requires:

    Module                Need     Have    
    --------------------- -------- --------
    Class::Accessor::Lite 0.05     0.08    
    DBI                   0        1.637   
    Module::Load          0        0.32    
    parent                0        0.225   
    perl                  5.008001 5.018000
    Scalar::Util          0        1.49    
    SQL::QueryMaker       0        0.03    

build_requires:

    Module                Need     Have    
    --------------------- -------- --------
    Test::More            0.98     1.302102
    Test::Requires        0        0.10    
    Tie::IxHash           0        1.23    

configure_requires:

    Module                Need     Have    
    --------------------- -------- --------
    Module::Build::Tiny   0.035    0.039   


------------------------------
ENVIRONMENT AND OTHER CONTEXT
------------------------------

Environment variables:

    AUTOMATED_TESTING = 1
    LANG = en_US.UTF-8
    PATH = /home/sand/bin:/usr/local/bin:/usr/bin:/bin:/usr/games:/usr/local/perl/bin:/usr/X11/bin:/sbin:/usr/sbin
    PERL5LIB = /tmp/loop_over_bdir-23670-idLHTm/SQL-QueryMaker-0.03-0/blib/arch:/tmp/loop_over_bdir-23670-idLHTm/SQL-QueryMaker-0.03-0/blib/lib
    PERL5OPT = 
    PERL5_CPANPLUS_IS_RUNNING = 23710
    PERL5_CPAN_IS_RUNNING = 23710
    PERL5_CPAN_IS_RUNNING_IN_RECURSION = 1256,23710
    PERL_CANARY_STABILITY_NOPROMPT = 1
    PERL_MM_USE_DEFAULT = 1
    PERL_USE_UNSAFE_INC = 1
    SHELL = /usr/bin/zsh
    TERM = screen

Perl special variables (and OS-specific diagnostics, for MSWin32):

    $^X = /home/sand/src/perl/repoperls/installed-perls/host/k93msid/v5.18.0/2d7c/bin/perl
    $UID/$EUID = 1005 / 1005
    $GID = 1005 1005
    $EGID = 1005 1005

Perl module toolchain versions installed:

    Module              Have    
    ------------------- --------
    CPAN                2.18    
    CPAN::Meta          2.150010
    Cwd                 3.62    
    ExtUtils::CBuilder  0.280226
    ExtUtils::Command   7.30    
    ExtUtils::Install   2.06    
    ExtUtils::MakeMaker 7.30    
    ExtUtils::Manifest  1.70    
    ExtUtils::ParseXS   3.35    
    File::Spec          3.62    
    JSON                2.94    
    JSON::PP            2.94    
    Module::Build       0.4224  
    Module::Signature   0.81    
    Parse::CPAN::Meta   2.150010
    Test::Harness       3.39    
    Test::More          1.302102
    YAML                1.23    
    YAML::Syck          1.30    
    version             0.9918  


--

Summary of my perl5 (revision 5 version 18 subversion 0) configuration:
  Derived from: a9acda3b5f74585852a57b51b724804ac586cb0b
  Platform:
    osname=linux, osvers=4.12.0-2-amd64, archname=x86_64-linux-ld
    uname='linux k93msid 4.12.0-2-amd64 #1 smp debian 4.12.13-1 (2017-09-19) x86_64 gnulinux '
    config_args='-Dprefix=/home/sand/src/perl/repoperls/installed-perls/host/k93msid/v5.18.0/2d7c -Dmyhostname=k93msid -Dinstallusrbinperl=n -Uversiononly -Dusedevel -des -Ui_db -Dlibswanted=cl pthread socket inet nsl gdbm dbm malloc dl ld sun m crypt sec util c cposix posix ucb BSD gdbm_compat -Uuseithreads -Duselongdouble -DDEBUGGING=-g'
    hint=recommended, useposix=true, d_sigaction=define
    useithreads=undef, usemultiplicity=undef
    useperlio=define, d_sfio=undef, uselargefiles=define, usesocks=undef
    use64bitint=define, use64bitall=define, uselongdouble=define
    usemymalloc=n, bincompat5005=undef
  Compiler:
    cc='cc', ccflags ='-fno-strict-aliasing -pipe -fstack-protector -I/usr/local/include -D_LARGEFILE_SOURCE -D_FILE_OFFSET_BITS=64',
    optimize='-O2 -g',
    cppflags='-fno-strict-aliasing -pipe -fstack-protector -I/usr/local/include'
    ccversion='', gccversion='7.2.0', gccosandvers=''
    intsize=4, longsize=8, ptrsize=8, doublesize=8, byteorder=12345678
    d_longlong=define, longlongsize=8, d_longdbl=define, longdblsize=16
    ivtype='long', ivsize=8, nvtype='long double', nvsize=16, Off_t='off_t', lseeksize=8
    alignbytes=16, prototype=define
  Linker and Libraries:
    ld='cc', ldflags =' -fstack-protector -L/usr/local/lib'
    libpth=/usr/local/lib /lib/x86_64-linux-gnu /lib/../lib /usr/lib/x86_64-linux-gnu /usr/lib/../lib /lib /usr/lib
    libs=-lpthread -lnsl -ldl -lm -lcrypt -lutil -lc
    perllibs=-lpthread -lnsl -ldl -lm -lcrypt -lutil -lc
    libc=libc-2.24.so, so=so, useshrplib=false, libperl=libperl.a
    gnulibc_version='2.24'
  Dynamic Linking:
    dlsrc=dl_dlopen.xs, dlext=so, d_dlsymun=undef, ccdlflags='-Wl,-E'
    cccdlflags='-fPIC', lddlflags='-shared -O2 -g -L/usr/local/lib -fstack-protector'


Characteristics of this binary (from libperl): 
  Compile-time options: HAS_TIMES PERLIO_LAYERS PERL_DONT_CREATE_GVSV
                        PERL_HASH_FUNC_ONE_AT_A_TIME_HARD PERL_MALLOC_WRAP
                        PERL_PRESERVE_IVUV PERL_SAWAMPERSAND PERL_USE_DEVEL
                        USE_64_BIT_ALL USE_64_BIT_INT USE_LARGE_FILES
                        USE_LOCALE USE_LOCALE_COLLATE USE_LOCALE_CTYPE
                        USE_LOCALE_NUMERIC USE_LONG_DOUBLE USE_PERLIO
                        USE_PERL_ATOF
  Locally applied patches:
	uncommitted-changes
  Built under linux
  Compiled at Oct  4 2017 06:24:09
  %ENV:
    PERL5LIB="/tmp/loop_over_bdir-23670-idLHTm/SQL-QueryMaker-0.03-0/blib/arch:/tmp/loop_over_bdir-23670-idLHTm/SQL-QueryMaker-0.03-0/blib/lib"
    PERL5OPT=""
    PERL5_CPANPLUS_IS_RUNNING="23710"
    PERL5_CPAN_IS_RUNNING="23710"
    PERL5_CPAN_IS_RUNNING_IN_RECURSION="1256,23710"
    PERL_CANARY_STABILITY_NOPROMPT="1"
    PERL_MM_USE_DEFAULT="1"
    PERL_USE_UNSAFE_INC="1"
  @INC:
    /tmp/loop_over_bdir-23670-idLHTm/SQL-QueryMaker-0.03-0/blib/arch
    /tmp/loop_over_bdir-23670-idLHTm/SQL-QueryMaker-0.03-0/blib/lib
    /home/sand/src/perl/repoperls/installed-perls/host/k93msid/v5.18.0/2d7c/lib/site_perl/5.18.0/x86_64-linux-ld
    /home/sand/src/perl/repoperls/installed-perls/host/k93msid/v5.18.0/2d7c/lib/site_perl/5.18.0
    /home/sand/src/perl/repoperls/installed-perls/host/k93msid/v5.18.0/2d7c/lib/5.18.0/x86_64-linux-ld
    /home/sand/src/perl/repoperls/installed-perls/host/k93msid/v5.18.0/2d7c/lib/5.18.0
    .