Report for DBIx-Class-0.08198_01

Back
From: metabase:user:d2c9f356-b46f-11df-9a90-20a83c0b7757
Subject: PASS DBIx-Class-0.08198_01 v5.17.2 SunOS/Solaris
Date: 2012-08-02T00:31:02Z

This distribution has been tested as part of the CPAN Testers
project, supporting the Perl programming language.  See
http://wiki.cpantesters.org/ for more information or email
questions to cpan-testers-discuss@perl.org


--
Dear Jess Robinson,

This is a computer-generated report for DBIx-Class-0.08198_01
on perl 5.17.2, created by CPAN-Reporter-1.2006.

Thank you for uploading your work to CPAN.  Congratulations!
All tests were successful.

Sections of this report:

    * Tester comments
    * Program output
    * Prerequisites
    * Environment and other context

------------------------------
TESTER COMMENTS
------------------------------

Additional comments from tester:

this report is from an automated smoke testing program
and was not reviewed by a human for accuracy

------------------------------
PROGRAM OUTPUT
------------------------------

Output from '/usr/local/bin/make test':

PERL_DL_NONLAZY=1 /export/home/cpant5/perl5/perlbrew/perls/perl-5.17.2/bin/perl5.17.2 "-MExtUtils::Command::MM" "-e" "test_harness(0, 'inc', 'blib/lib', 'blib/arch')" t/*.t t/admin/*.t t/cdbi/*.t t/cdbi/DeepAbstractSearch/*.t t/cdbi/abstract/*.t t/cdbi/sweet/*.t t/count/*.t t/delete/*.t t/inflate/*.t t/multi_create/*.t t/ordered/*.t t/prefetch/*.t t/relationship/*.t t/resultset/*.t t/row/*.t t/schema/*.t t/search/*.t t/sqlmaker/*.t t/sqlmaker/limit_dialects/*.t t/sqlmaker/quotes/*.t t/storage/*.t t/update/*.t
t/04_c3_mro.t .................................... ok
t/05components.t ................................. ok
t/100extra_source.t .............................. ok
datatype mismatch: bind param (0) foo as integer at /export/home/cpant5/perl5/perlbrew/perls/perl-5.17.2/lib/site_perl/5.17.2/i86pc-solaris-64int/DBI.pm line 1985, <> line 1.
t/100populate.t .................................. ok
t/101populate_rs.t ............................... ok
t/101source.t .................................... ok
t/102load_classes.t .............................. ok
t/103many_to_many_warning.t ...................... ok
t/104view.t ...................................... ok
t/105view_deps.t ................................. ok
t/106dbic_carp.t ................................. ok
t/107obj_result_class.t .......................... ok
t/18insert_default.t ............................. ok
t/19retrieve_on_insert.t ......................... ok
t/20setuperrors.t ................................ ok
t/26dumper.t ..................................... ok
t/33exception_wrap.t ............................. ok
t/34exception_action.t ........................... ok
t/39load_namespaces_1.t .......................... ok
t/39load_namespaces_2.t .......................... ok
t/39load_namespaces_3.t .......................... ok
t/39load_namespaces_4.t .......................... ok
t/39load_namespaces_exception.t .................. ok
t/39load_namespaces_rt41083.t .................... ok
t/39load_namespaces_stress.t ..................... ok
t/40compose_connection.t ......................... ok
t/40resultsetmanager.t ........................... ok
t/46where_attribute.t ............................ ok
t/50fork.t ....................................... skipped: Test needs DBD::Pg (see DBIx::Class::Optional::Dependencies for details)
t/51threadnodb.t ................................. skipped: your perl does not support ithreads
t/51threads.t .................................... skipped: your perl does not support ithreads
t/51threadtxn.t .................................. skipped: your perl does not support ithreads
t/52leaks.t ...................................... ok
t/53lean_startup.t ............................... ok
t/54taint.t ...................................... ok
t/55namespaces_cleaned.t ......................... ok
t/60core.t ....................................... ok
t/61findnot.t .................................... ok
t/63register_class.t ............................. ok
t/63register_column.t ............................ ok
t/63register_source.t ............................ ok
t/64db.t ......................................... ok
t/65multipk.t .................................... ok
t/67pager.t ...................................... ok
t/69update.t ..................................... ok
t/70auto.t ....................................... ok
t/71mysql.t ...................................... skipped: Set $ENV{DBICTEST_MYSQL_DSN}, _USER and _PASS to run this test
t/72pg.t ......................................... skipped: Set $ENV{DBICTEST_PG_DSN}, _USER and _PASS to run this test
t/72pg_bytea.t ................................... skipped: Test needs DBD::Pg (see DBIx::Class::Optional::Dependencies for details)
t/73oracle.t ..................................... skipped: Set $ENV{DBICTEST_ORA_DSN}, _USER and _PASS to run this test.
t/73oracle_blob.t ................................ skipped: Set $ENV{DBICTEST_ORA_DSN}, _USER and _PASS to run this test.
t/73oracle_hq.t .................................. skipped: Set $ENV{DBICTEST_ORA_DSN}, _USER and _PASS to run this test.
t/745db2.t ....................................... skipped: Set $ENV{DBICTEST_DB2_DSN}, _USER and _PASS to run this test
t/746db2_400.t ................................... skipped: Set $ENV{DBICTEST_DB2_400_DSN}, _USER and _PASS to run this test
t/746mssql.t ..................................... skipped: Set $ENV{DBICTEST_MSSQL_ODBC_DSN}, _USER and _PASS to run this test
t/746sybase.t .................................... skipped: Set $ENV{DBICTEST_SYBASE_DSN}, _USER and _PASS to run this test. Warning: This test drops and creates the tables: 'artist', 'money_test' and 'bindtype_test'
t/747mssql_ado.t ................................. skipped: Set $ENV{DBICTEST_MSSQL_ADO_DSN}, _USER and _PASS to run this test
t/748informix.t .................................. skipped: Set $ENV{DBICTEST_INFORMIX_DSN}, _USER and _PASS to run this test
t/749sqlanywhere.t ............................... skipped: Set $ENV{DBICTEST_SQLANYWHERE_DSN} and/or $ENV{DBICTEST_SQLANYWHERE_ODBC_DSN},
t/74mssql.t ...................................... skipped: Set $ENV{DBICTEST_MSSQL_DSN}, _USER and _PASS to run this test
t/750firebird.t .................................. skipped: Set $ENV{DBICTEST_FIREBIRD_DSN} and/or $ENV{DBICTEST_FIREBIRD_INTERBASE_DSN} and/or $ENV{DBICTEST_FIREBIRD_ODBC_DSN}, _USER and _PASS to run these tests. WARNING: this test creates and drops the tables "artist", "bindtype_test" and "sequence_test"; the generators "gen_artist_artistid", "pkid1_seq", "pkid2_seq" and "nonpkid_seq" and the trigger "artist_bi".
t/751msaccess.t .................................. skipped: Set $ENV{DBICTEST_MSACCESS_ODBC_DSN} and/or $ENV{DBICTEST_MSACCESS_ADO_DSN} (and optionally _USER and _PASS) to run these tests.
t/752sqlite.t .................................... ok
t/76joins.t ...................................... ok
t/76select.t ..................................... ok
t/77join_count.t ................................. ok
t/78self_referencial.t ........................... ok
t/79aliasing.t ................................... ok
t/80unique.t ..................................... ok
t/82cascade_copy.t ............................... ok
t/83cache.t ...................................... ok
t/84serialize.t .................................. ok
t/85utf8.t ....................................... ok
t/86might_have.t ................................. ok
t/86sqlt.t ....................................... ok
t/87ordered.t .................................... ok
t/88result_set_column.t .......................... ok
t/90ensure_class_loaded.t ........................ ok
t/90join_torture.t ............................... ok
t/91merge_joinpref_attr.t ........................ ok
t/93autocast.t ................................... ok
t/93single_accessor_object.t ..................... ok
t/94pk_mutation.t ................................ ok
t/94versioning.t ................................. skipped: Set $ENV{DBICTEST_MYSQL_DSN}, _USER and _PASS to run this test
t/96_is_deteministic_value.t ..................... ok
t/97result_class.t ............................... ok
t/98savepoints.t ................................. skipped: Set $ENV{DBICTEST_PG_DSN} and/or $ENV{DBICTEST_MYSQL_DSN} _USER and _PASS to run these tests.
t/99dbic_sqlt_parser.t ........................... ok
t/admin/01load.t ................................. skipped: Test needs MooseX::Types::JSON >= 0.02 (see DBIx::Class::Optional::Dependencies for details)
t/admin/02ddl.t .................................. skipped: Test needs MooseX::Types::JSON >= 0.02 (see DBIx::Class::Optional::Dependencies for details)
t/admin/03data.t ................................. skipped: Test needs MooseX::Types::JSON >= 0.02 (see DBIx::Class::Optional::Dependencies for details)
t/admin/10script.t ............................... skipped: Test needs MooseX::Types::JSON >= 0.02
t/cdbi/01-columns.t .............................. ok
t/cdbi/02-Film.t ................................. ok
t/cdbi/03-subclassing.t .......................... ok
t/cdbi/04-lazy.t ................................. ok
t/cdbi/06-hasa.t ................................. ok
t/cdbi/08-inheritcols.t .......................... ok
t/cdbi/09-has_many.t ............................. ok
t/cdbi/11-triggers.t ............................. ok
t/cdbi/12-filter.t ............................... ok
t/cdbi/13-constraint.t ........................... ok
t/cdbi/14-might_have.t ........................... ok
t/cdbi/15-accessor.t ............................. ok
t/cdbi/16-reserved.t ............................. ok
t/cdbi/18-has_a.t ................................ ok
t/cdbi/19-set_sql.t .............................. ok
t/cdbi/21-iterator.t ............................. ok
t/cdbi/22-deflate_order.t ........................ skipped: Time::Piece::MySQL required for this test
t/cdbi/22-self_referential.t ..................... ok
t/cdbi/23-cascade.t .............................. ok
t/cdbi/24-meta_info.t ............................ ok
t/cdbi/26-mutator.t .............................. ok
t/cdbi/30-pager.t ................................ ok
t/cdbi/68-inflate_has_a.t ........................ ok
t/cdbi/98-failure.t .............................. ok
t/cdbi/abstract/search_where.t ................... ok
t/cdbi/columns_as_hashes.t ....................... ok
t/cdbi/columns_dont_override_custom_accessors.t .. ok
t/cdbi/construct.t ............................... ok
t/cdbi/copy.t .................................... ok
t/cdbi/DeepAbstractSearch/01_search.t ............ skipped: Class::DBI::Plugin::DeepAbstractSearch required for this test
t/cdbi/early_column_heisenbug.t .................. ok
t/cdbi/has_many_loads_foreign_class.t ............ ok
t/cdbi/hasa_without_loading.t .................... ok
t/cdbi/max_min_value_of.t ........................ ok
t/cdbi/mk_group_accessors.t ...................... ok
t/cdbi/multi_column_set.t ........................ ok
t/cdbi/object_cache.t ............................ ok
t/cdbi/retrieve_from_sql_with_limit.t ............ ok
t/cdbi/set_to_undef.t ............................ ok
t/cdbi/set_vs_DateTime.t ......................... ok
t/cdbi/sweet/08pager.t ........................... ok
t/count/count_rs.t ............................... ok
Unescaped left brace in regex is deprecated, passed through in regex; marked by <-- HERE in m/select => { <-- HERE  distinct => \.\.\. } syntax is not supported for multiple columns/ at t/count/distinct.t line 83.
t/count/distinct.t ............................... ok
t/count/group_by_func.t .......................... ok
t/count/grouped_pager.t .......................... ok
t/count/in_subquery.t ............................ ok
t/count/joined.t ................................. ok
t/count/prefetch.t ............................... ok
t/count/search_related.t ......................... ok
t/delete/cascade_missing.t ....................... ok
t/delete/complex.t ............................... ok
t/delete/m2m.t ................................... ok
t/delete/related.t ............................... ok
t/discard_changes_in_DESTROY.t ................... ok
t/inflate/core.t ................................. ok
t/inflate/datetime.t ............................. skipped: DT inflation tests need DateTime::Format::SQLite
t/inflate/datetime_determine_parser.t ............ skipped: Test needs DateTime::Format::SQLite
t/inflate/datetime_firebird.t .................... skipped: Set $ENV{DBICTEST_FIREBIRD_DSN} and/or $ENV{DBICTEST_FIREBIRD_INTERBASE_DSN}
t/inflate/datetime_informix.t .................... skipped: Set $ENV{DBICTEST_INFORMIX_DSN} _USER and _PASS to run this test'.
t/inflate/datetime_missing_deps.t ................ ok
t/inflate/datetime_msaccess.t .................... skipped: Set $ENV{DBICTEST_MSACCESS_ODBC_DSN} and/or $ENV{DBICTEST_MSACCESS_ADO_DSN} (and optionally _USER and _PASS) to run these tests.
t/inflate/datetime_mssql.t ....................... skipped: Set $ENV{DBICTEST_MSSQL_ODBC_DSN} and/or $ENV{DBICTEST_MSSQL_DSN} and/or $ENV{DBICTEST_MSSQL_ADO_DSN} _USER and _PASS to run this test
t/inflate/datetime_mysql.t ....................... skipped: Inflation tests need DateTime::Format::MySQL
t/inflate/datetime_oracle.t ...................... skipped: Set $ENV{DBICTEST_ORA_DSN}, _USER and _PASS to run this test. Warning: This test drops and creates a table called 'track'
t/inflate/datetime_pg.t .......................... skipped: Test needs DateTime::Format::Pg >= 0.16004
t/inflate/datetime_sqlanywhere.t ................. skipped: Set $ENV{DBICTEST_SQLANYWHERE_DSN} and/or $ENV{DBICTEST_SQLANYWHERE_ODBC_DSN}
t/inflate/datetime_sybase.t ...................... skipped: Set $ENV{DBICTEST_SYBASE_DSN}, _USER and _PASS to run this test
t/inflate/file_column.t .......................... ok
t/inflate/hri.t .................................. ok
t/inflate/serialize.t ............................ ok
t/multi_create/cd_single.t ....................... ok
t/multi_create/diamond.t ......................... ok
t/multi_create/existing_in_chain.t ............... ok
t/multi_create/has_many.t ........................ ok
t/multi_create/in_memory.t ....................... ok
t/multi_create/insert_defaults.t ................. ok
t/multi_create/m2m.t ............................. ok
t/multi_create/multilev_single_PKeqFK.t .......... ok
t/multi_create/reentrance_count.t ................ ok
t/multi_create/standard.t ........................ ok
t/multi_create/torture.t ......................... ok
t/ordered/cascade_delete.t ....................... ok
t/prefetch/attrs_untouched.t ..................... ok
t/prefetch/correlated.t .......................... ok
t/prefetch/count.t ............................... ok
t/prefetch/diamond.t ............................. ok
t/prefetch/double_prefetch.t ..................... ok
t/prefetch/grouped.t ............................. ok
t/prefetch/incomplete.t .......................... ok
t/prefetch/join_type.t ........................... ok
t/prefetch/multiple_hasmany.t .................... ok
t/prefetch/o2m_o2m_order_by_with_limit.t ......... ok
t/prefetch/one_to_many_to_one.t .................. ok
t/prefetch/standard.t ............................ ok
t/prefetch/via_search_related.t .................. ok
t/prefetch/with_limit.t .......................... ok
t/relationship/after_update.t .................... ok
t/relationship/core.t ............................ ok
t/relationship/custom.t .......................... ok
t/relationship/doesnt_exist.t .................... ok
t/relationship/info.t ............................ ok
t/relationship/proxy.t ........................... ok
t/relationship/set_column_on_fk.t ................ ok
t/relationship/unresolvable.t .................... ok
t/relationship/update_or_create_multi.t .......... ok
t/relationship/update_or_create_single.t ......... ok
t/resultset/as_query.t ........................... ok
t/resultset/as_subselect_rs.t .................... ok
t/resultset/bind_attr.t .......................... ok
t/resultset/is_ordered.t ......................... ok
t/resultset/is_paged.t ........................... ok
t/resultset/nulls_only.t ......................... ok
t/resultset/plus_select.t ........................ ok
t/resultset/update_delete.t ...................... ok
t/resultset_class.t .............................. ok
t/resultset_overload.t ........................... ok
t/row/filter_column.t ............................ ok
t/row/find_one_has_many.t ........................ ok
t/row/inflate_result.t ........................... ok
t/row/pkless.t ................................... ok
t/schema/anon.t .................................. ok
t/schema/clone.t ................................. ok
t/search/distinct.t .............................. ok
t/search/preserve_original_rs.t .................. ok
t/search/related_has_many.t ...................... ok
t/search/related_strip_prefetch.t ................ ok
t/search/select_chains.t ......................... ok
t/search/select_chains_unbalanced.t .............. ok
t/search/subquery.t .............................. ok
t/search/void.t .................................. ok
t/sqlmaker/bind_transport.t ...................... ok
t/sqlmaker/core.t ................................ ok
t/sqlmaker/core_quoted.t ......................... ok
t/sqlmaker/limit_dialects/basic.t ................ ok
t/sqlmaker/limit_dialects/custom.t ............... ok
t/sqlmaker/limit_dialects/fetch_first.t .......... ok
t/sqlmaker/limit_dialects/first_skip.t ........... ok
t/sqlmaker/limit_dialects/generic_subq.t ......... ok
t/sqlmaker/limit_dialects/rno.t .................. ok
t/sqlmaker/limit_dialects/rownum.t ............... ok
t/sqlmaker/limit_dialects/skip_first.t ........... ok
t/sqlmaker/limit_dialects/toplimit.t ............. ok
t/sqlmaker/limit_dialects/torture.t .............. ok
t/sqlmaker/literal_with_bind.t ................... ok
t/sqlmaker/msaccess.t ............................ ok
t/sqlmaker/nest_deprec.t ......................... ok
t/sqlmaker/op_ident.t ............................ ok
t/sqlmaker/op_value.t ............................ ok
t/sqlmaker/oracle.t .............................. skipped: Test needs Math::Base36 >= 0.07
t/sqlmaker/oraclejoin.t .......................... skipped: Test needs Math::Base36 >= 0.07
t/sqlmaker/order_by_bindtransport.t .............. ok
t/sqlmaker/order_by_func.t ....................... ok
t/sqlmaker/quotes/quotes.t ....................... ok
t/sqlmaker/quotes/quotes_newstyle.t .............. ok
t/sqlmaker/sqlite.t .............................. ok
t/storage/base.t ................................. ok
t/storage/cursor.t ............................... ok
t/storage/dbh_do.t ............................... ok
t/storage/dbi_coderef.t .......................... ok
t/storage/dbi_env.t .............................. ok
t/storage/dbic_pretty.t .......................... ok
t/storage/debug.t ................................ ok
t/storage/deploy.t ............................... ok
t/storage/disable_sth_caching.t .................. ok
t/storage/error.t ................................ ok
t/storage/exception.t ............................ ok
t/storage/global_destruction.t ................... ok
t/storage/nobindvars.t ........................... ok
t/storage/on_connect_call.t ...................... ok
t/storage/on_connect_do.t ........................ ok
t/storage/ping_count.t ........................... ok
t/storage/quote_names.t .......................... ok
t/storage/reconnect.t ............................ ok
t/storage/replicated.t ........................... ok
t/storage/source_bind_compat.t ................... ok
t/storage/stats.t ................................ ok
t/storage/txn.t .................................. ok
t/storage/txn_scope_guard.t ...................... ok
t/update/all.t ................................... ok
t/update/ident_cond.t ............................ ok
t/update/type_aware.t ............................ ok
t/zzzzzzz_perl_perf_bug.t ........................ skipped: Skipping as system appears to be a smoker
t/zzzzzzz_sqlite_deadlock.t ...................... ok
All tests successful.

Test Summary Report
-------------------
t/cdbi/15-accessor.t                           (Wstat: 0 Tests: 75 Failed: 0)
  TODO passed:   17-19, 21-23, 25
t/multi_create/existing_in_chain.t             (Wstat: 0 Tests: 10 Failed: 0)
  TODO passed:   1-2, 5-6, 10
t/multi_create/reentrance_count.t              (Wstat: 0 Tests: 18 Failed: 0)
  TODO passed:   1-4, 6-10, 12, 15-16, 18
t/prefetch/multiple_hasmany.t                  (Wstat: 0 Tests: 10 Failed: 0)
  TODO passed:   2, 6-8
t/prefetch/via_search_related.t                (Wstat: 0 Tests: 24 Failed: 0)
  TODO passed:   21-22
t/row/inflate_result.t                         (Wstat: 0 Tests: 12 Failed: 0)
  TODO passed:   3
Files=275, Tests=23260, 274 wallclock secs ( 3.14 usr  0.75 sys + 112.99 cusr 12.74 csys = 129.62 CPU)
Result: PASS

------------------------------
PREREQUISITES
------------------------------

Prerequisite modules loaded:

requires:

    Module                   Need     Have    
    ------------------------ -------- --------
    Class::Accessor::Grouped 0.10002  0.10006 
    Class::C3::Componentised 1.0009   1.001000
    Class::Inspector         1.24     1.27    
    Class::Method::Modifiers 1.06     1.09    
    Config::Any              0.20     0.23    
    Context::Preserve        0.01     0.01    
    Data::Compare            1.22     1.22    
    Data::Dumper::Concise    2.020    2.020   
    Data::Page               2.00     2.02    
    DBD::SQLite              1.29     1.37    
    DBI                      1.57     1.622   
    Devel::GlobalDestruction 0        0.07    
    File::Path               2.07     2.08_01 
    File::Temp               0.22     0.22    
    Hash::Merge              0.12     0.12    
    Module::Find             0.06     0.11    
    Moo                      0.009100 1.000001
    MRO::Compat              0.09     0.11    
    namespace::clean         0.20     0.23    
    Package::Stash           0.28     0.33    
    Path::Class              0.18     0.26    
    perl                     5.008001 5.017002
    Scope::Guard             0.03     0.20    
    SQL::Abstract            1.73     1.73    
    strictures               1.003001 1.004001
    Sub::Name                0.04     0.05    
    Test::Builder            0.94     0.98    
    Test::Exception          0.31     0.31    
    Test::More               0.94     0.98    
    Test::Warn               0.21     0.24    
    Try::Tiny                0.04     0.11    

build_requires:

    Module                   Need     Have    
    ------------------------ -------- --------
    DBD::SQLite              1.29     1.37    
    ExtUtils::MakeMaker      6.59     6.63_02 
    File::Temp               0.22     0.22    
    Package::Stash           0.28     0.33    
    Test::Builder            0.94     0.98    
    Test::Exception          0.31     0.31    
    Test::More               0.94     0.98    
    Test::Warn               0.21     0.24    

configure_requires:

    Module                   Need     Have    
    ------------------------ -------- --------
    ExtUtils::MakeMaker      6.59     6.63_02 


------------------------------
ENVIRONMENT AND OTHER CONTEXT
------------------------------

Environment variables:

    AUTOMATED_TESTING = 1
    LANG = C
    LD_LIBRARY_PATH = /usr/local/lib:
    MANPATH_WITHOUT_PERLBREW = 
    PATH = /export/home/cpant5/perl5/perlbrew/bin:/export/home/cpant5/perl5/perlbrew/perls/perl-5.17.2/bin:/export/home/cpant5/perl5/bin:/usr/local/bin:/usr/bin
    PATH_WITHOUT_PERLBREW = /export/home/cpant5/perl5/bin:/usr/local/bin:/usr/bin
    PERL5LIB = 
    PERL5OPT = 
    PERL5_CPANPLUS_IS_RUNNING = 7679
    PERL5_CPAN_IS_RUNNING = 7679
    PERL5_CPAN_IS_RUNNING_IN_RECURSION = 8920,7679
    PERLBREW_BASHRC_VERSION = 0.44
    PERLBREW_HOME = /export/home/cpant5/.perlbrew
    PERLBREW_MANPATH = /export/home/cpant5/perl5/perlbrew/perls/perl-5.17.2/man
    PERLBREW_PATH = /export/home/cpant5/perl5/perlbrew/bin:/export/home/cpant5/perl5/perlbrew/perls/perl-5.17.2/bin
    PERLBREW_PERL = perl-5.17.2
    PERLBREW_ROOT = /export/home/cpant5/perl5/perlbrew
    PERLBREW_VERSION = 0.44
    PERL_CR_SMOKER_CURRENT = DBIx-Class-0.08198_01
    PERL_EXTUTILS_AUTOINSTALL = --defaultdeps
    PERL_MM_USE_DEFAULT = 1
    SHELL = /bin/bash
    TERM = xterm

Perl special variables (and OS-specific diagnostics, for MSWin32):

    $^X = /export/home/cpant5/perl5/perlbrew/perls/perl-5.17.2/bin/perl5.17.2
    $UID/$EUID = 105 / 105
    $GID = 1 1
    $EGID = 1 1

Perl module toolchain versions installed:

    Module              Have    
    ------------------- --------
    CPAN                1.9800  
    CPAN::Meta          2.120921
    Cwd                 3.39_02 
    ExtUtils::CBuilder  0.280208
    ExtUtils::Command   1.17    
    ExtUtils::Install   1.58    
    ExtUtils::MakeMaker 6.63_02 
    ExtUtils::Manifest  1.61    
    ExtUtils::ParseXS   3.17    
    File::Spec          3.39_02 
    JSON                2.53    
    JSON::PP            2.27200 
    Module::Build       0.4002  
    Module::Signature   n/a     
    Parse::CPAN::Meta   1.4404  
    Test::Harness       3.25_01 
    Test::More          0.98    
    YAML                0.84    
    YAML::Syck          1.20    
    version             0.99    


--

Summary of my perl5 (revision 5 version 17 subversion 2) configuration:
   
  Platform:
    osname=solaris, osvers=2.10, archname=i86pc-solaris-64int
    uname='sunos vmrz0046 5.10 generic_141445-09 i86pc i386 i86pc solaris '
    config_args='-de -Dprefix=/export/home/cpant5/perl5/perlbrew/perls/perl-5.17.2 -Dcc=gcc -Duse64bitint -Dusedevel -Dusedevel -Aeval:scriptdir=/export/home/cpant5/perl5/perlbrew/perls/perl-5.17.2/bin'
    hint=recommended, useposix=true, d_sigaction=define
    useithreads=undef, usemultiplicity=undef
    useperlio=define, d_sfio=undef, uselargefiles=define, usesocks=undef
    use64bitint=define, use64bitall=undef, uselongdouble=undef
    usemymalloc=n, bincompat5005=undef
  Compiler:
    cc='gcc', ccflags ='-DPTR_IS_LONG -fno-strict-aliasing -pipe -I/usr/local/include -D_LARGEFILE_SOURCE -D_FILE_OFFSET_BITS=64 -DPERL_USE_SAFE_PUTENV',
    optimize='-O',
    cppflags='-DPTR_IS_LONG -fno-strict-aliasing -pipe -I/usr/local/include'
    ccversion='', gccversion='3.4.6', gccosandvers='solaris2.10'
    intsize=4, longsize=4, ptrsize=4, doublesize=8, byteorder=12345678
    d_longlong=define, longlongsize=8, d_longdbl=define, longdblsize=12
    ivtype='long long', ivsize=8, nvtype='double', nvsize=8, Off_t='off_t', lseeksize=8
    alignbytes=4, prototype=define
  Linker and Libraries:
    ld='gcc', ldflags =' -L/usr/local/lib '
    libpth=/usr/local/lib /usr/lib /usr/ccs/lib
    libs=-lsocket -lnsl -lgdbm -ldl -lm -lc
    perllibs=-lsocket -lnsl -ldl -lm -lc
    libc=/lib/libc.so, so=so, useshrplib=false, libperl=libperl.a
    gnulibc_version=''
  Dynamic Linking:
    dlsrc=dl_dlopen.xs, dlext=so, d_dlsymun=undef, ccdlflags=' '
    cccdlflags='-fPIC', lddlflags='-G -L/usr/local/lib'


Characteristics of this binary (from libperl): 
  Compile-time options: HAS_TIMES PERLIO_LAYERS PERL_DONT_CREATE_GVSV
                        PERL_MALLOC_WRAP PERL_PRESERVE_IVUV PERL_USE_DEVEL
                        PERL_USE_SAFE_PUTENV USE_64_BIT_INT USE_LARGE_FILES
                        USE_LOCALE USE_LOCALE_COLLATE USE_LOCALE_CTYPE
                        USE_LOCALE_NUMERIC USE_PERLIO USE_PERL_ATOF
  Built under solaris
  Compiled at Jul 31 2012 11:23:09
  %ENV:
    PERL5LIB=""
    PERL5OPT=""
    PERL5_CPANPLUS_IS_RUNNING="7679"
    PERL5_CPAN_IS_RUNNING="7679"
    PERL5_CPAN_IS_RUNNING_IN_RECURSION="8920,7679"
    PERLBREW_BASHRC_VERSION="0.44"
    PERLBREW_HOME="/export/home/cpant5/.perlbrew"
    PERLBREW_MANPATH="/export/home/cpant5/perl5/perlbrew/perls/perl-5.17.2/man"
    PERLBREW_PATH="/export/home/cpant5/perl5/perlbrew/bin:/export/home/cpant5/perl5/perlbrew/perls/perl-5.17.2/bin"
    PERLBREW_PERL="perl-5.17.2"
    PERLBREW_ROOT="/export/home/cpant5/perl5/perlbrew"
    PERLBREW_VERSION="0.44"
    PERL_CR_SMOKER_CURRENT="DBIx-Class-0.08198_01"
    PERL_EXTUTILS_AUTOINSTALL="--defaultdeps"
    PERL_MM_USE_DEFAULT="1"
  @INC:
    /export/home/cpant5/perl5/perlbrew/perls/perl-5.17.2/lib/site_perl/5.17.2/i86pc-solaris-64int
    /export/home/cpant5/perl5/perlbrew/perls/perl-5.17.2/lib/site_perl/5.17.2
    /export/home/cpant5/perl5/perlbrew/perls/perl-5.17.2/lib/5.17.2/i86pc-solaris-64int
    /export/home/cpant5/perl5/perlbrew/perls/perl-5.17.2/lib/5.17.2
    .