Dist-Zilla-Plugin-Test-Legal v0.03 Perl 5 v5.24.2 x86_64-linux

Status
Pass
From
Slaven Rezić (SREZIC)
Dist
Dist-Zilla-Plugin-Test-Legal v0.03
Platform
Perl 5 v5.24.2 x86_64-linux
Date
2018-03-01 05:06:46
ID
57238522-1d0e-11e8-a334-dbbdddf45c93
This distribution has been tested as part of the CPAN Testers
project, supporting the Perl programming language.  See
http://wiki.cpantesters.org/ for more information or email
questions to cpan-testers-discuss@perl.org


--
Dear Alan Young,

This is a computer-generated report for Dist-Zilla-Plugin-Test-Legal-0.03
on perl 5.24.2, created by CPAN-Reporter-1.2018.

Thank you for uploading your work to CPAN.  Congratulations!
All tests were successful.

Sections of this report:

    * Tester comments
    * Program output
    * Prerequisites
    * Environment and other context

------------------------------
TESTER COMMENTS
------------------------------

Additional comments from tester:

none provided

------------------------------
PROGRAM OUTPUT
------------------------------

Output from './Build test':

t/00-check-deps.t ................................... ok
t/00-compile.t ...................................... ok
t/00-compile/lib_Dist_Zilla_Plugin_Test_Legal_pm.t .. ok
t/00-load.t ......................................... ok
# 
# Versions for all modules listed in MYMETA.json (including optional ones):
# 
# === Configure Requires ===
# 
#     Module                   Want   Have
#     ---------------------- ------ ------
#     Module::Build          0.4208 0.4224
#     Module::Build::Version    any   0.87
# 
# === Configure Suggests ===
# 
#     Module      Want Have
#     -------- ------- ----
#     JSON::PP 2.27300 2.95
# 
# === Build Requires ===
# 
#     Module          Want   Have
#     ------------- ------ ------
#     Module::Build 0.4208 0.4224
# 
# === Test Requires ===
# 
#     Module                   Want     Have
#     ----------------------- ----- --------
#     Carp                      any     1.40
#     ExtUtils::MakeMaker       any     7.32
#     File::Spec                any  3.63_01
#     IO::Handle                any     1.36
#     IPC::Open3                any     1.20
#     Scalar::Util              any     1.49
#     Test::CPAN::Meta::JSON    any     0.16
#     Test::CheckDeps         0.010    0.010
#     Test::CheckManifest       any     1.32
#     Test::ConsistentVersion   any    0.3.0
#     Test::DistManifest        any    1.014
#     Test::HasVersion          any    0.014
#     Test::MinimumVersion      any 0.101082
#     Test::More               0.94 1.302122
#     Test::NoSmartComments     any    0.005
#     Test::Perl::Critic        any     1.03
#     Test::Pod::Content        any    0.0.6
#     Test::UseAllModules       any     0.17
#     Test::Version             any     2.05
# 
# === Test Recommends ===
# 
#     Module         Want     Have
#     ---------- -------- --------
#     CPAN::Meta 2.120900 2.150010
# 
# === Runtime Requires ===
# 
#     Module                           Want   Have
#     -------------------------------- ---- ------
#     Dist::Zilla::Plugin::InlineFiles  any  6.010
#     Moose                             any 2.2006
#     namespace::autoclean              any   0.28
#     strict                            any   1.11
#     warnings                          any   1.36
# 
t/00-report-prereqs.t ............................... ok
# Testing with Perl 5.024002, /opt/perl-5.24.2/bin/perl
#     Carp version is 1.40
#     Dist::Zilla::Plugin::InlineFiles version is 6.010
#     ExtUtils::MakeMaker version is 7.32
#     File::Spec version is 3.6301
#     IO::Handle version is 1.36
#     IPC::Open3 version is 1.20
#     Module::Build version is 0.4224
#     Module::Build::Version version is 0.87
#     Moose version is 2.2006
#     Scalar::Util version is 1.49
#     Test::CPAN::Meta::JSON version is 0.16
#     Test::CheckDeps version is 0.010
#     Test::CheckManifest version is 1.32
#     Test::ConsistentVersion version is 0.3.0
#     Test::DistManifest version is 1.014
#     Test::HasVersion version is 0.014
#     Test::MinimumVersion version is 0.101082
#     Test::More version is 1.302122
#     Test::NoSmartComments version is 0.005
#     Test::Perl::Critic version is 1.03
#     Test::Pod::Content version is 0.0.6
#     Test::UseAllModules version is 0.17
#     Test::Version version is 2.05
#     namespace::autoclean version is 0.28
#     strict version is 1.11
#     warnings version is 1.36
t/000-report-versions.t ............................. ok
All tests successful.
Files=6, Tests=58,  1 wallclock secs ( 0.02 usr  0.03 sys +  1.39 cusr  0.26 csys =  1.70 CPU)
Result: PASS

------------------------------
PREREQUISITES
------------------------------

Prerequisite modules loaded:

requires:

    Module                           Need   Have    
    -------------------------------- ------ --------
    Dist::Zilla::Plugin::InlineFiles 0      6.010   
    Moose                            0      2.2006  
    namespace::autoclean             0      0.28    
    perl                             5.006  5.024002
    strict                           0      1.11    
    warnings                         0      1.36    

build_requires:

    Module                           Need   Have    
    -------------------------------- ------ --------
    Carp                             0      1.40    
    ExtUtils::MakeMaker              0      7.32    
    File::Spec                       0      3.63_01 
    IO::Handle                       0      1.36    
    IPC::Open3                       0      1.20    
    Module::Build                    0.4208 0.4224  
    Scalar::Util                     0      1.49    
    Test::CheckDeps                  0.010  0.010   
    Test::CheckManifest              0      1.32    
    Test::ConsistentVersion          0      0.3.0   
    Test::CPAN::Meta::JSON           0      0.16    
    Test::DistManifest               0      1.014   
    Test::HasVersion                 0      0.014   
    Test::MinimumVersion             0      0.101082
    Test::More                       0.94   1.302122
    Test::NoSmartComments            0      0.005   
    Test::Perl::Critic               0      1.03    
    Test::Pod::Content               0      0.0.6   
    Test::UseAllModules              0      0.17    
    Test::Version                    0      2.05    

configure_requires:

    Module                           Need   Have    
    -------------------------------- ------ --------
    Module::Build                    0.4208 0.4224  
    Module::Build::Version           0      0.87    


------------------------------
ENVIRONMENT AND OTHER CONTEXT
------------------------------

Environment variables:

    LANG = C
    PATH = /usr/local/bin:/usr/bin:/bin:/usr/local/sbin:/usr/sbin:/sbin:/home/cpansand/bin/linux-gnu:/home/cpansand/bin/sh:/home/cpansand/bin:/usr/games:/home/cpansand/devel:/home/eserte/src/srezic-misc/scripts
    PERL5LIB = /home/cpansand/.cpan/build/2018030103/Test-NoSmartComments-0.005-1/blib/arch:/home/cpansand/.cpan/build/2018030103/Test-NoSmartComments-0.005-1/blib/lib:/home/cpansand/.cpan/build/2018030103/Test-HasVersion-0.014-1/blib/arch:/home/cpansand/.cpan/build/2018030103/Test-HasVersion-0.014-1/blib/lib:/home/cpansand/.cpan/build/2018030103/Test-DistManifest-1.014-1/blib/arch:/home/cpansand/.cpan/build/2018030103/Test-DistManifest-1.014-1/blib/lib:/home/cpansand/.cpan/build/2018030103/Module-Manifest-1.09-1/blib/arch:/home/cpansand/.cpan/build/2018030103/Module-Manifest-1.09-1/blib/lib:/home/cpansand/.cpan/build/2018030103/Test-Pod-Content-v0.0.6-1/blib/arch:/home/cpansand/.cpan/build/2018030103/Test-Pod-Content-v0.0.6-1/blib/lib:/home/cpansand/.cpan/build/2018030103/Test-ConsistentVersion-v0.3.0-1/blib/arch:/home/cpansand/.cpan/build/2018030103/Test-ConsistentVersion-v0.3.0-1/blib/lib:/home/cpansand/.cpan/build/2018030103/Module-Build-Deprecated-0.4210-1/blib/arch:/home/cpansand/.cpan/build/2018030103/Module-Build-Deprecated-0.4210-1/blib/lib
    PERL5OPT = 
    PERL5_CPANPLUS_IS_RUNNING = 17369
    PERL5_CPAN_IS_RUNNING = 17369
    PERL5_CPAN_IS_RUNNING_IN_RECURSION = 16673,17369
    PERLDOC = -MPod::Perldoc::ToTextOverstrike
    PERL_BATCH = yes
    PERL_CANARY_STABILITY_NOPROMPT = 1
    PERL_CPAN_REPORTER_CONFIG = /var/tmp/cpansmoker-1023/2018030103/cpanreporter_000_config.ini
    PERL_EXTUTILS_AUTOINSTALL = --defaultdeps
    PERL_USE_UNSAFE_INC = 1
    SHELL = /usr/bin/zsh
    TERM = screen
    TMPDIR = /var/tmp/cpansmoker-1023/2018030103

Perl special variables (and OS-specific diagnostics, for MSWin32):

    $^X = /opt/perl-5.24.2/bin/perl
    $UID/$EUID = 1023 / 1023
    $GID = 1023 1023
    $EGID = 1023 1023

Perl module toolchain versions installed:

    Module              Have    
    ------------------- --------
    CPAN                2.16    
    CPAN::Meta          2.150010
    Cwd                 3.63_01 
    ExtUtils::CBuilder  0.280230
    ExtUtils::Command   7.32    
    ExtUtils::Install   2.06    
    ExtUtils::MakeMaker 7.32    
    ExtUtils::Manifest  1.70    
    ExtUtils::ParseXS   3.31    
    File::Spec          3.63_01 
    JSON                2.97001 
    JSON::PP            2.95    
    Module::Build       0.4224  
    Module::Signature   0.81    
    Parse::CPAN::Meta   2.150010
    Test::Harness       3.39    
    Test::More          1.302122
    YAML                1.24    
    YAML::Syck          1.30    
    version             0.9916  


--

Summary of my perl5 (revision 5 version 24 subversion 2) configuration:
   
  Platform:
    osname=linux, osvers=4.9.0-3-amd64, archname=x86_64-linux
    uname='linux debian9 4.9.0-3-amd64 #1 smp debian 4.9.30-2+deb9u2 (2017-06-26) x86_64 gnulinux '
    config_args='-ds -e -Dprefix=/opt/perl-5.24.2 -Dcf_email=srezic@cpan.org'
    hint=recommended, useposix=true, d_sigaction=define
    useithreads=undef, usemultiplicity=undef
    use64bitint=define, use64bitall=define, uselongdouble=undef
    usemymalloc=n, bincompat5005=undef
  Compiler:
    cc='cc', ccflags ='-fwrapv -fno-strict-aliasing -pipe -fstack-protector-strong -I/usr/local/include -D_LARGEFILE_SOURCE -D_FILE_OFFSET_BITS=64',
    optimize='-O2',
    cppflags='-fwrapv -fno-strict-aliasing -pipe -fstack-protector-strong -I/usr/local/include'
    ccversion='', gccversion='6.3.0 20170516', gccosandvers=''
    intsize=4, longsize=8, ptrsize=8, doublesize=8, byteorder=12345678, doublekind=3
    d_longlong=define, longlongsize=8, d_longdbl=define, longdblsize=16, longdblkind=3
    ivtype='long', ivsize=8, nvtype='double', nvsize=8, Off_t='off_t', lseeksize=8
    alignbytes=8, prototype=define
  Linker and Libraries:
    ld='cc', ldflags =' -fstack-protector-strong -L/usr/local/lib'
    libpth=/usr/local/lib /usr/lib/gcc/x86_64-linux-gnu/6/include-fixed /usr/include/x86_64-linux-gnu /usr/lib /lib/x86_64-linux-gnu /lib/../lib /usr/lib/x86_64-linux-gnu /usr/lib/../lib /lib
    libs=-lpthread -lnsl -lgdbm -ldb -ldl -lm -lcrypt -lutil -lc -lgdbm_compat
    perllibs=-lpthread -lnsl -ldl -lm -lcrypt -lutil -lc
    libc=libc-2.24.so, so=so, useshrplib=false, libperl=libperl.a
    gnulibc_version='2.24'
  Dynamic Linking:
    dlsrc=dl_dlopen.xs, dlext=so, d_dlsymun=undef, ccdlflags='-Wl,-E'
    cccdlflags='-fPIC', lddlflags='-shared -O2 -L/usr/local/lib -fstack-protector-strong'


Characteristics of this binary (from libperl): 
  Compile-time options: HAS_TIMES PERLIO_LAYERS PERL_COPY_ON_WRITE
                        PERL_DONT_CREATE_GVSV
                        PERL_HASH_FUNC_ONE_AT_A_TIME_HARD PERL_MALLOC_WRAP
                        PERL_PRESERVE_IVUV USE_64_BIT_ALL USE_64_BIT_INT
                        USE_LARGE_FILES USE_LOCALE USE_LOCALE_COLLATE
                        USE_LOCALE_CTYPE USE_LOCALE_NUMERIC USE_LOCALE_TIME
                        USE_PERLIO USE_PERL_ATOF
  Built under linux
  Compiled at Jul 15 2017 19:40:54
  %ENV:
    PERL5LIB="/home/cpansand/.cpan/build/2018030103/Test-NoSmartComments-0.005-1/blib/arch:/home/cpansand/.cpan/build/2018030103/Test-NoSmartComments-0.005-1/blib/lib:/home/cpansand/.cpan/build/2018030103/Test-HasVersion-0.014-1/blib/arch:/home/cpansand/.cpan/build/2018030103/Test-HasVersion-0.014-1/blib/lib:/home/cpansand/.cpan/build/2018030103/Test-DistManifest-1.014-1/blib/arch:/home/cpansand/.cpan/build/2018030103/Test-DistManifest-1.014-1/blib/lib:/home/cpansand/.cpan/build/2018030103/Module-Manifest-1.09-1/blib/arch:/home/cpansand/.cpan/build/2018030103/Module-Manifest-1.09-1/blib/lib:/home/cpansand/.cpan/build/2018030103/Test-Pod-Content-v0.0.6-1/blib/arch:/home/cpansand/.cpan/build/2018030103/Test-Pod-Content-v0.0.6-1/blib/lib:/home/cpansand/.cpan/build/2018030103/Test-ConsistentVersion-v0.3.0-1/blib/arch:/home/cpansand/.cpan/build/2018030103/Test-ConsistentVersion-v0.3.0-1/blib/lib:/home/cpansand/.cpan/build/2018030103/Module-Build-Deprecated-0.4210-1/blib/arch:/home/cpansand/.cpan/build/2018030103/Module-Build-Deprecated-0.4210-1/blib/lib"
    PERL5OPT=""
    PERL5_CPANPLUS_IS_RUNNING="17369"
    PERL5_CPAN_IS_RUNNING="17369"
    PERL5_CPAN_IS_RUNNING_IN_RECURSION="16673,17369"
    PERLDOC="-MPod::Perldoc::ToTextOverstrike"
    PERL_BATCH="yes"
    PERL_CANARY_STABILITY_NOPROMPT="1"
    PERL_CPAN_REPORTER_CONFIG="/var/tmp/cpansmoker-1023/2018030103/cpanreporter_000_config.ini"
    PERL_EXTUTILS_AUTOINSTALL="--defaultdeps"
    PERL_USE_UNSAFE_INC="1"
  @INC:
    /home/cpansand/.cpan/build/2018030103/Test-NoSmartComments-0.005-1/blib/arch
    /home/cpansand/.cpan/build/2018030103/Test-NoSmartComments-0.005-1/blib/lib
    /home/cpansand/.cpan/build/2018030103/Test-HasVersion-0.014-1/blib/arch
    /home/cpansand/.cpan/build/2018030103/Test-HasVersion-0.014-1/blib/lib
    /home/cpansand/.cpan/build/2018030103/Test-DistManifest-1.014-1/blib/arch
    /home/cpansand/.cpan/build/2018030103/Test-DistManifest-1.014-1/blib/lib
    /home/cpansand/.cpan/build/2018030103/Module-Manifest-1.09-1/blib/arch
    /home/cpansand/.cpan/build/2018030103/Module-Manifest-1.09-1/blib/lib
    /home/cpansand/.cpan/build/2018030103/Test-Pod-Content-v0.0.6-1/blib/arch
    /home/cpansand/.cpan/build/2018030103/Test-Pod-Content-v0.0.6-1/blib/lib
    /home/cpansand/.cpan/build/2018030103/Test-ConsistentVersion-v0.3.0-1/blib/arch
    /home/cpansand/.cpan/build/2018030103/Test-ConsistentVersion-v0.3.0-1/blib/lib
    /home/cpansand/.cpan/build/2018030103/Module-Build-Deprecated-0.4210-1/blib/arch
    /home/cpansand/.cpan/build/2018030103/Module-Build-Deprecated-0.4210-1/blib/lib
    /opt/perl-5.24.2/lib/site_perl/5.24.2/x86_64-linux
    /opt/perl-5.24.2/lib/site_perl/5.24.2
    /opt/perl-5.24.2/lib/5.24.2/x86_64-linux
    /opt/perl-5.24.2/lib/5.24.2
    .