Net-Statsd-Server v0.20 Perl 5 v5.43.3 OpenBSD.amd64-openbsd-thread-multi

Status
Pass
From
Carlos Guevara
Dist
Net-Statsd-Server v0.20
Platform
Perl 5 v5.43.3 OpenBSD.amd64-openbsd-thread-multi
Date
2025-09-04 17:48:18
ID
5730895c-89b7-11f0-a2d7-cba41eb193a2
This distribution has been tested as part of the CPAN Testers
project, supporting the Perl programming language.  See
http://wiki.cpantesters.org/ for more information or email
questions to cpan-testers-discuss@perl.org


--
Dear Cosimo Streppone,

This is a computer-generated report for Net-Statsd-Server-0.20
on perl 5.43.3, created by CPAN-Reporter-1.2020.

Thank you for uploading your work to CPAN.  Congratulations!
All tests were successful.

Sections of this report:

    * Tester comments
    * Program output
    * Prerequisites
    * Environment and other context

------------------------------
TESTER COMMENTS
------------------------------

Additional comments from tester:

this report is from an automated smoke testing program
and was not reviewed by a human for accuracy

------------------------------
PROGRAM OUTPUT
------------------------------

Output from '/usr/bin/make test':

PERL_DL_NONLAZY=1 "/home/cpan/bin/perl/bin/perl5.43.3" "-MExtUtils::Command::MM" "-MTest::Harness" "-e" "undef *Test::Harness::Switches; test_harness(0, 'blib/lib', 'blib/arch')" t/*.t t/integration-tests/*.t
t/000-sanity.t ............................. ok
t/config.t ................................. ok
t/graphite.t ............................... ok
2025-09-04 13:48:06.000000 -0400 note  Net::Statsd::Server: Initializing Net::Statsd::Server::Backend::Console backend
2025-09-04 13:48:06.000000 -0400 note  Net::Statsd::Server: Initializing Net::Statsd::Server::Backend::Graphite backend
2025-09-04 13:48:06.000000 -0400 info  AnyEvent: Autoloaded model 'AnyEvent::Impl::Perl', using it.
Couldn't set SO_RCVBUF: No buffer space available at /home/cpan/.cpan/build/Net-Statsd-Server-0.20-0/bin/../lib/Net/Statsd/Server.pm line 709.
2025-09-04 13:48:06.613976 -0400 note  Net::Statsd::Server: statsd server started on 0.0.0.0:40001 (v0.17)
2025-09-04 13:48:06.614003 -0400 note  Net::Statsd::Server: manager interface started on 0.0.0.0:40002
2025-09-04 13:48:06.614027 -0400 note  Net::Statsd::Server: metrics flush will happen every 1s
2025-09-04 13:48:07.043826 -0400 warn  Net::Statsd::Server: Bad line: 1 in msg "a_bad_test_value|z"
2025-09-04 13:48:07.621359 -0400 note  Net::Statsd::Server: flushing metrics
Flushing stats at Thu Sep  4 13:48:07 2025
{"gauges":{},"sets":null,"timer_data":{},"pctThreshold":[90],"counters":{"statsd.packets_received":1,"statsd.bad_lines_seen":1},"counter_rates":{"statsd.packets_received":1,"statsd.bad_lines_seen":1},"timers":{}}
t/integration-tests/bad-message.t .......... ok
2025-09-04 13:48:07.000000 -0400 note  Net::Statsd::Server: Initializing Net::Statsd::Server::Backend::Console backend
2025-09-04 13:48:07.000000 -0400 note  Net::Statsd::Server: Initializing Net::Statsd::Server::Backend::Graphite backend
2025-09-04 13:48:07.000000 -0400 info  AnyEvent: Autoloaded model 'AnyEvent::Impl::Perl', using it.
Couldn't set SO_RCVBUF: No buffer space available at /home/cpan/.cpan/build/Net-Statsd-Server-0.20-0/bin/../lib/Net/Statsd/Server.pm line 709.
2025-09-04 13:48:07.847364 -0400 note  Net::Statsd::Server: statsd server started on 0.0.0.0:40001 (v0.17)
2025-09-04 13:48:07.847455 -0400 note  Net::Statsd::Server: manager interface started on 0.0.0.0:40002
2025-09-04 13:48:07.847526 -0400 note  Net::Statsd::Server: metrics flush will happen every 1s
2025-09-04 13:48:08.861397 -0400 note  Net::Statsd::Server: flushing metrics
Flushing stats at Thu Sep  4 13:48:08 2025
{"sets":null,"timer_data":{},"counter_rates":{"statsd.packets_received":1,"statsd.bad_lines_seen":0,"a_test_value":100},"gauges":{},"pctThreshold":[90],"counters":{"a_test_value":100,"statsd.bad_lines_seen":0,"statsd.packets_received":1},"timers":{}}
# stats.counters.a_test_value.rate 100.000000 1757008088
# stats.counters.a_test_value.count 100 1757008088
# stats.counters.statsd.bad_lines_seen.rate 0.000000 1757008088
# stats.counters.statsd.bad_lines_seen.count 0 1757008088
# stats.counters.statsd.packets_received.rate 1.000000 1757008088
# stats.counters.statsd.packets_received.count 1 1757008088
# stats.statsd.numStats 3 1757008088
# stats.statsd.graphiteStats.calculationtime 0.081000 1757008088
# stats.statsd.processing_time 0.045 1757008088
# stats.statsd.graphiteStats.last_exception 14027193014856 1757008088
# stats.statsd.graphiteStats.last_flush 14027193014856 1757008088
t/integration-tests/counts-are-valid.t ..... ok
2025-09-04 13:48:09.000000 -0400 note  Net::Statsd::Server: Initializing Net::Statsd::Server::Backend::Graphite backend
2025-09-04 13:48:09.000000 -0400 info  AnyEvent: Autoloaded model 'AnyEvent::Impl::Perl', using it.
Couldn't set SO_RCVBUF: No buffer space available at /home/cpan/.cpan/build/Net-Statsd-Server-0.20-0/bin/../lib/Net/Statsd/Server.pm line 709.
2025-09-04 13:48:09.079699 -0400 note  Net::Statsd::Server: statsd server started on 0.0.0.0:40001 (v0.17)
2025-09-04 13:48:09.079778 -0400 note  Net::Statsd::Server: manager interface started on 0.0.0.0:40002
2025-09-04 13:48:09.079845 -0400 note  Net::Statsd::Server: metrics flush will happen every 1s
2025-09-04 13:48:10.091167 -0400 note  Net::Statsd::Server: flushing metrics
# First flush. Test gauge should be there.
2025-09-04 13:48:11.091337 -0400 note  Net::Statsd::Server: flushing metrics
# Second flush. deleteGauges=false should keep the test gauge.
t/integration-tests/delete-gauges-false.t .. ok
2025-09-04 13:48:11.000000 -0400 note  Net::Statsd::Server: Initializing Net::Statsd::Server::Backend::Graphite backend
2025-09-04 13:48:11.000000 -0400 info  AnyEvent: Autoloaded model 'AnyEvent::Impl::Perl', using it.
Couldn't set SO_RCVBUF: No buffer space available at /home/cpan/.cpan/build/Net-Statsd-Server-0.20-0/bin/../lib/Net/Statsd/Server.pm line 709.
2025-09-04 13:48:11.309776 -0400 note  Net::Statsd::Server: statsd server started on 0.0.0.0:40001 (v0.17)
2025-09-04 13:48:11.309854 -0400 note  Net::Statsd::Server: manager interface started on 0.0.0.0:40002
2025-09-04 13:48:11.309920 -0400 note  Net::Statsd::Server: metrics flush will happen every 1s
2025-09-04 13:48:12.321355 -0400 note  Net::Statsd::Server: flushing metrics
# First flush. Test gauge should be there.
2025-09-04 13:48:13.321332 -0400 note  Net::Statsd::Server: flushing metrics
# Second flush. deleteIdleStats should have cleared the test gauge.
t/integration-tests/delete-idle-stats.t .... ok
2025-09-04 13:48:13.000000 -0400 note  Net::Statsd::Server: Initializing Net::Statsd::Server::Backend::Console backend
2025-09-04 13:48:13.000000 -0400 note  Net::Statsd::Server: Initializing Net::Statsd::Server::Backend::Graphite backend
2025-09-04 13:48:13.000000 -0400 info  AnyEvent: Autoloaded model 'AnyEvent::Impl::Perl', using it.
Couldn't set SO_RCVBUF: No buffer space available at /home/cpan/.cpan/build/Net-Statsd-Server-0.20-0/bin/../lib/Net/Statsd/Server.pm line 709.
2025-09-04 13:48:13.543055 -0400 note  Net::Statsd::Server: statsd server started on 0.0.0.0:40001 (v0.17)
2025-09-04 13:48:13.543135 -0400 note  Net::Statsd::Server: manager interface started on 0.0.0.0:40002
2025-09-04 13:48:13.543204 -0400 note  Net::Statsd::Server: metrics flush will happen every 1s
2025-09-04 13:48:14.551260 -0400 note  Net::Statsd::Server: flushing metrics
Flushing stats at Thu Sep  4 13:48:14 2025
{"counter_rates":{"statsd.bad_lines_seen":0,"statsd.packets_received":1,"a_test_value,category=web,severity=high":100},"gauges":{},"counters":{"statsd.bad_lines_seen":0,"a_test_value,category=web,severity=high":100,"statsd.packets_received":1},"sets":null,"pctThreshold":[90],"timer_data":{},"timers":{}}
# stats.counters.statsd.bad_lines_seen.rate 0.000000 1757008094
# stats.counters.statsd.bad_lines_seen.count 0 1757008094
# stats.counters.a_test_value,category=web,severity=high.rate 100.000000 1757008094
# stats.counters.a_test_value,category=web,severity=high.count 100 1757008094
# stats.counters.statsd.packets_received.rate 1.000000 1757008094
# stats.counters.statsd.packets_received.count 1 1757008094
# stats.statsd.numStats 3 1757008094
# stats.statsd.graphiteStats.calculationtime 0.106000 1757008094
# stats.statsd.processing_time 0.051 1757008094
# stats.statsd.graphiteStats.last_exception 3124518042184 1757008094
# stats.statsd.graphiteStats.last_flush 3124518042184 1757008094
t/integration-tests/keys-with-tags.t ....... ok
2025-09-04 13:48:14.000000 -0400 note  Net::Statsd::Server: Initializing Net::Statsd::Server::Backend::Graphite backend
2025-09-04 13:48:14.000000 -0400 info  AnyEvent: Autoloaded model 'AnyEvent::Impl::Perl', using it.
Couldn't set SO_RCVBUF: No buffer space available at /home/cpan/.cpan/build/Net-Statsd-Server-0.20-0/bin/../lib/Net/Statsd/Server.pm line 709.
2025-09-04 13:48:14.785986 -0400 note  Net::Statsd::Server: statsd server started on 0.0.0.0:40001 (v0.17)
2025-09-04 13:48:14.786078 -0400 note  Net::Statsd::Server: manager interface started on 0.0.0.0:40002
2025-09-04 13:48:14.786148 -0400 note  Net::Statsd::Server: metrics flush will happen every 1s
# Expected mean value is 2010.65
2025-09-04 13:48:15.801357 -0400 note  Net::Statsd::Server: flushing metrics
# stats.counters.statsd.packets_received.rate 100.000000 1757008095
# stats.counters.statsd.packets_received.count 100 1757008095
# stats.counters.statsd.bad_lines_seen.rate 0.000000 1757008095
# stats.counters.statsd.bad_lines_seen.count 0 1757008095
# stats.timers.read_latency.lower 1003.000000 1757008095
# stats.timers.read_latency.mean 2010.650000 1757008095
# stats.timers.read_latency.sum_98 195101.000000 1757008095
# stats.timers.read_latency.upper_99 2979.000000 1757008095
# stats.timers.read_latency.sum_squares 441956257.000000 1757008095
# stats.timers.read_latency.sum_squares_99 433046032.000000 1757008095
# stats.timers.read_latency.median 1978.500000 1757008095
# stats.timers.read_latency.count_99 99.000000 1757008095
# stats.timers.read_latency.count 100.000000 1757008095
# stats.timers.read_latency.upper_98 2970.000000 1757008095
# stats.timers.read_latency.count_ps 100.000000 1757008095
# stats.timers.read_latency.mean_99 2000.808081 1757008095
# stats.timers.read_latency.sum_99 198080.000000 1757008095
# stats.timers.read_latency.mean_95 1960.252632 1757008095
# stats.timers.read_latency.mean_98 1990.826531 1757008095
# stats.timers.read_latency.count_95 95.000000 1757008095
# stats.timers.read_latency.upper 2985.000000 1757008095
# stats.timers.read_latency.sum_95 186224.000000 1757008095
# stats.timers.read_latency.std 613.880402 1757008095
# stats.timers.read_latency.sum_squares_95 397904282.000000 1757008095
# stats.timers.read_latency.sum_squares_98 424171591.000000 1757008095
# stats.timers.read_latency.count_98 98.000000 1757008095
# stats.timers.read_latency.upper_95 2911.000000 1757008095
# stats.timers.read_latency.sum 201065.000000 1757008095
# stats.statsd.numStats 3 1757008095
# stats.statsd.graphiteStats.calculationtime 0.223000 1757008095
# stats.statsd.processing_time 0.625 1757008095
# stats.statsd.graphiteStats.last_exception 7369769957960 1757008095
# stats.statsd.graphiteStats.last_flush 7369769957960 1757008095
t/integration-tests/percent-threshold.t .... ok
2025-09-04 13:48:16.000000 -0400 note  Net::Statsd::Server: Initializing Net::Statsd::Server::Backend::Console backend
2025-09-04 13:48:16.000000 -0400 note  Net::Statsd::Server: Initializing Net::Statsd::Server::Backend::Graphite backend
2025-09-04 13:48:16.000000 -0400 info  AnyEvent: Autoloaded model 'AnyEvent::Impl::Perl', using it.
Couldn't set SO_RCVBUF: No buffer space available at /home/cpan/.cpan/build/Net-Statsd-Server-0.20-0/bin/../lib/Net/Statsd/Server.pm line 709.
2025-09-04 13:48:16.022790 -0400 note  Net::Statsd::Server: statsd server started on 0.0.0.0:40001 (v0.17)
2025-09-04 13:48:16.022876 -0400 note  Net::Statsd::Server: manager interface started on 0.0.0.0:40002
2025-09-04 13:48:16.022943 -0400 note  Net::Statsd::Server: metrics flush will happen every 1s
2025-09-04 13:48:17.031222 -0400 note  Net::Statsd::Server: flushing metrics
Flushing stats at Thu Sep  4 13:48:17 2025
{"timers":{"a_test_value":["100"]},"pctThreshold":["90"],"counter_rates":{"statsd.bad_lines_seen":0,"statsd.packets_received":1},"gauges":{},"sets":null,"counters":{"statsd.bad_lines_seen":0,"statsd.packets_received":1},"timer_data":{"a_test_value":{"sum_squares_90":10000,"std":0,"sum_squares":10000,"upper":"100","count_90":1,"mean":100,"sum":"100","mean_90":"100","median":"100","count":1,"count_ps":1,"upper_90":"100","sum_90":"100","lower":"100"}}}
# stats.counters.statsd.bad_lines_seen.rate 0.000000 1757008097
# stats.counters.statsd.bad_lines_seen.count 0 1757008097
# stats.counters.statsd.packets_received.rate 1.000000 1757008097
# stats.counters.statsd.packets_received.count 1 1757008097
# stats.timers.a_test_value.sum_squares_90 10000.000000 1757008097
# stats.timers.a_test_value.std 0.000000 1757008097
# stats.timers.a_test_value.sum_squares 10000.000000 1757008097
# stats.timers.a_test_value.upper 100.000000 1757008097
# stats.timers.a_test_value.count_90 1.000000 1757008097
# stats.timers.a_test_value.mean 100.000000 1757008097
# stats.timers.a_test_value.sum 100.000000 1757008097
# stats.timers.a_test_value.mean_90 100.000000 1757008097
# stats.timers.a_test_value.median 100.000000 1757008097
# stats.timers.a_test_value.count 1.000000 1757008097
# stats.timers.a_test_value.count_ps 1.000000 1757008097
# stats.timers.a_test_value.upper_90 100.000000 1757008097
# stats.timers.a_test_value.sum_90 100.000000 1757008097
# stats.timers.a_test_value.lower 100.000000 1757008097
# stats.statsd.numStats 3 1757008097
# stats.statsd.graphiteStats.calculationtime 0.152000 1757008097
# stats.statsd.processing_time 0.1 1757008097
# stats.statsd.graphiteStats.last_exception 8140611074632 1757008097
# stats.statsd.graphiteStats.last_flush 8140611074632 1757008097
t/integration-tests/timers-are-valid.t ..... ok
t/process-metrics.t ........................ ok
t/trim.t ................................... ok
All tests successful.
Files=12, Tests=92, 11 wallclock secs ( 0.04 usr  0.02 sys +  0.96 cusr  0.37 csys =  1.39 CPU)
Result: PASS

------------------------------
PREREQUISITES
------------------------------

Prerequisite modules loaded:

requires:

    Module                Need Have    
    --------------------- ---- --------
    AnyEvent::Handle::UDP 0    0.050   
    IO::Socket::INET      0    1.55    
    JSON::XS              0    4.03    

build_requires:

    Module                Need Have    
    --------------------- ---- --------
    ExtUtils::MakeMaker   0    7.76    
    Test::More            0    1.302214

configure_requires:

    Module                Need Have    
    --------------------- ---- --------
    ExtUtils::MakeMaker   0    7.76    


------------------------------
ENVIRONMENT AND OTHER CONTEXT
------------------------------

Environment variables:

    AUTOMATED_TESTING = 1
    DATE_MANIP_TEST_DM5 = 1
    LC_ALL = C
    NONINTERACTIVE_TESTING = 1
    NO_NETWORK_TESTING = 1
    PATH = /home/cpan/bin/perl/bin:/home/cpan/bin:/home/cpan/bin:/bin:/sbin:/usr/bin:/usr/sbin:/usr/X11R6/bin:/usr/local/bin:/usr/local/sbin
    PERL5LIB = 
    PERL5OPT = 
    PERL5_CPANPLUS_IS_RUNNING = 11986
    PERL5_CPAN_IS_RUNNING = 11986
    PERL_MM_USE_DEFAULT = 1
    PERL_PERTURB_KEYS = 0
    PERL_USE_UNSAFE_INC = 1
    SHELL = /usr/local/bin/bash
    TERM = screen
    TMPDIR = /home/cpan/tmp

Perl special variables (and OS-specific diagnostics, for MSWin32):

    $^X = /home/cpan/bin/perl/bin/perl5.43.3
    $UID/$EUID = 1001 / 1001
    $GID = 1001 1001
    $EGID = 1001 1001

Perl module toolchain versions installed:

    Module              Have    
    ------------------- --------
    CPAN                2.38    
    CPAN::Meta          2.150010
    Cwd                 3.94    
    ExtUtils::CBuilder  0.280242
    ExtUtils::Command   7.76    
    ExtUtils::Install   2.22    
    ExtUtils::MakeMaker 7.76    
    ExtUtils::Manifest  1.75    
    ExtUtils::ParseXS   3.60    
    File::Spec          3.94    
    JSON                4.10    
    JSON::PP            4.16    
    Module::Build       0.4234  
    Module::Signature   n/a     
    Parse::CPAN::Meta   2.150010
    Test2               1.302214
    Test::Harness       3.52    
    Test::More          1.302214
    YAML                1.31    
    YAML::Syck          1.34    
    version             0.9933  


--

Summary of my perl5 (revision 5 version 43 subversion 3) configuration:
  Commit id: bb13a224451c8fbf0b9600bbc3d58cad55b3aec9
  Platform:
    osname=openbsd
    osvers=7.7
    archname=OpenBSD.amd64-openbsd-thread-multi
    uname='openbsd cjg-openbsd7 7.7 generic#2 amd64 '
    config_args='-des -Dprefix=/home/cpan/bin/perl -Dscriptdir=/home/cpan/bin/perl/bin -Dusedevel -Duse64bitall -Duseithreads'
    hint=recommended
    useposix=true
    d_sigaction=define
    useithreads=define
    usemultiplicity=define
    use64bitint=define
    use64bitall=define
    uselongdouble=undef
    usemymalloc=n
    default_inc_excludes_dot=define
  Compiler:
    cc='cc'
    ccflags ='-pthread -DNO_LOCALE_NUMERIC -DNO_LOCALE_COLLATE -DNO_LOCALE_MONETARY -DNO_LOCALE_TIME -DNO_LOCALE_MESSAGES -DLIBC_HANDLES_MISMATCHED_CTYPE -fno-strict-aliasing -pipe -fstack-protector-strong -I/usr/local/include'
    optimize='-O2'
    cppflags='-pthread -DNO_LOCALE_NUMERIC -DNO_LOCALE_COLLATE -DNO_LOCALE_MONETARY -DNO_LOCALE_TIME -DNO_LOCALE_MESSAGES -DLIBC_HANDLES_MISMATCHED_CTYPE -fno-strict-aliasing -pipe -fstack-protector-strong -I/usr/local/include'
    ccversion=''
    gccversion='OpenBSD Clang 16.0.6'
    gccosandvers=''
    intsize=4
    longsize=8
    ptrsize=8
    doublesize=8
    byteorder=12345678
    doublekind=3
    d_longlong=define
    longlongsize=8
    d_longdbl=define
    longdblsize=16
    longdblkind=3
    ivtype='long'
    ivsize=8
    nvtype='double'
    nvsize=8
    Off_t='off_t'
    lseeksize=8
    alignbytes=8
    prototype=define
  Linker and Libraries:
    ld='cc'
    ldflags ='-pthread -Wl,-E  -fstack-protector-strong -L/usr/local/lib'
    libpth=/usr/lib/clang/16/lib /usr/lib /usr/local/lib
    libs=-lpthread -lm -lutil -lc
    perllibs=-lpthread -lm -lutil -lc
    libc=/usr/lib/libc.so.100.3
    so=so
    useshrplib=false
    libperl=libperl.a
    gnulibc_version=''
  Dynamic Linking:
    dlsrc=dl_dlopen.xs
    dlext=so
    d_dlsymun=undef
    ccdlflags=' '
    cccdlflags='-DPIC -fPIC '
    lddlflags='-shared -fPIC  -L/usr/local/lib -fstack-protector-strong'


Characteristics of this binary (from libperl): 
  Compile-time options:
    HAS_LONG_DOUBLE
    HAS_STRTOLD
    HAS_TIMES
    MULTIPLICITY
    PERLIO_LAYERS
    PERL_COPY_ON_WRITE
    PERL_DONT_CREATE_GVSV
    PERL_HASH_FUNC_SIPHASH13
    PERL_HASH_USE_SBOX32
    PERL_MALLOC_WRAP
    PERL_OP_PARENT
    PERL_PRESERVE_IVUV
    PERL_USE_DEVEL
    PERL_USE_SAFE_PUTENV
    USE_64_BIT_ALL
    USE_64_BIT_INT
    USE_ITHREADS
    USE_LARGE_FILES
    USE_LOCALE
    USE_LOCALE_CTYPE
    USE_PERLIO
    USE_PERL_ATOF
    USE_REENTRANT_API
    USE_THREAD_SAFE_LOCALE
  Built under openbsd
  Compiled at Sep  3 2025 16:00:38
  %ENV:
    PERL5LIB=""
    PERL5OPT=""
    PERL5_CPANPLUS_IS_RUNNING="11986"
    PERL5_CPAN_IS_RUNNING="11986"
    PERL_MM_USE_DEFAULT="1"
    PERL_PERTURB_KEYS="0"
    PERL_USE_UNSAFE_INC="1"
  @INC:
    /home/cpan/bin/perl/lib/site_perl/5.43.3/OpenBSD.amd64-openbsd-thread-multi
    /home/cpan/bin/perl/lib/site_perl/5.43.3
    /home/cpan/bin/perl/lib/5.43.3/OpenBSD.amd64-openbsd-thread-multi
    /home/cpan/bin/perl/lib/5.43.3
    .