Starman v0.4017 Perl 5 v5.41.7 darwin-2level

Status
Pass
From
John SJ Anderson
Dist
Starman v0.4017
Platform
Perl 5 v5.41.7 darwin-2level
Date
2024-12-20 20:02:29
ID
573efd68-bf0d-11ef-b8dd-9fb244b6efe7
This distribution has been tested as part of the CPAN Testers
project, supporting the Perl programming language.  See
http://wiki.cpantesters.org/ for more information or email
questions to cpan-testers-discuss@perl.org


--
Dear MIYAGAWA,

This is a computer-generated report for Starman-0.4017
on perl 5.41.7, created by App::cpanminus::reporter 0.22 (1.7048).

Thank you for uploading your work to CPAN.  Congratulations!
All tests were successful.

Sections of this report:

    * Tester comments
    * Program output
    * Prerequisites
    * Environment and other context

------------------------------
TESTER COMMENTS
------------------------------

Additional comments from tester:

none provided

------------------------------
PROGRAM OUTPUT
------------------------------

Output from '':

Running Build.PL
Creating new 'Build' script for 'Starman' version '0.4017'
-> OK
Checking dependencies from MYMETA.json ...
Checking if you have Test::Requires 0 ... Yes (0.11)
Checking if you have HTTP::Parser::XS 0 ... No
Checking if you have Data::Dump 0 ... Yes (1.25)
Checking if you have Plack 0.9971 ... Yes (1.0051)
Checking if you have Test::More 0 ... Yes (1.302204)
Checking if you have Net::Server 2.007 ... No
Checking if you have parent 0 ... Yes (0.244)
Checking if you have LWP::UserAgent 0 ... Yes (6.77)
Checking if you have HTTP::Date 0 ... Yes (6.06)
Checking if you have Test::TCP 2.00 ... Yes (2.22)
Checking if you have HTTP::Status 0 ... Yes (7.00)
==> Found dependencies: HTTP::Parser::XS, Net::Server
Searching HTTP::Parser::XS (0) on cpanmetadb ...
--> Working on HTTP::Parser::XS
Fetching http://www.cpan.org/authors/id/K/KA/KAZUHO/HTTP-Parser-XS-0.17.tar.gz
-> OK
Unpacking HTTP-Parser-XS-0.17.tar.gz
PERL_DL_NONLAZY=1 "/opt/plenv/versions/5.41.7/bin/perl5.41.7" "-MExtUtils::Command::MM" "-MTest::Harness" "-e" "\$ENV{q{PERL_ONLY}} = q{1}; undef *Test::Harness::Switches; test_harness(0, 'blib/lib', 'blib/arch'); " t/*.t
# Testing HTTP::Parser::XS/0.17 (pp)
t/00base.t ............. ok
t/01simple.t ........... ok
t/02response.t ......... ok
t/03response-error.t ... ok
t/04response-format.t .. ok
t/05too-much.t ......... skipped: PP has no static limitations
All tests successful.
Files=6, Tests=81,  1 wallclock secs ( 0.01 usr  0.02 sys +  0.38 cusr  0.05 csys =  0.46 CPU)
Result: PASS

------------------------------
PREREQUISITES
------------------------------

Prerequisite modules loaded:

runtime:

    Module              Need     Have    
    ------------------- -------- --------
    Data::Dump          0        1.25    
    HTTP::Date          0        6.06    
    HTTP::Parser::XS    0        0.17    
    HTTP::Status        0        7.00    
    Net::Server         2.007    2.014   
    parent              0        0.244   
    perl                5.008001 5.041007
    Plack               0.9971   1.0051  
    Test::TCP           2.00     2.22    

configure:

    Module              Need     Have    
    ------------------- -------- --------
    Module::Build::Tiny 0.034    0.051   


------------------------------
ENVIRONMENT AND OTHER CONTEXT
------------------------------

Environment variables:

    LANG = en_US.UTF-8
    LC_ALL = en_US.UTF-8
    LC_TERMINAL = iTerm2
    LC_TERMINAL_VERSION = 3.5.1
    PATH = /opt/plenv/versions/5.41.7/bin:/opt/plenv/libexec:/opt/plenv/plugins/perl-build/bin:/opt/rbenv/shims:/Users/genehack/src/git-subrepo/lib:/opt/nextstrain:/Users/genehack/bin:/opt/plenv/shims:/opt/plenv/bin:/opt/git/bin:/opt/local/bin:/usr/local/bin:/usr/local/sbin:/usr/bin:/bin:/usr/sbin:/sbin:/opt/rust/cargo/bin:/opt/edirect:/usr/local/opt/fzf/bin/
    PERL_CPANM_OPT = --skip-installed --prompt
    SHELL = /bin/zsh
    TERM = screen-256color
    TMPDIR = /var/folders/p0/j7mly95s4nd__w74h26sqqkc0000gn/T/

Perl special variables (and OS-specific diagnostics, for MSWin32):

    EGID = 20 20 12 61 79 80 81 98 701 33 100 204 250 395 398 101 400
    EUID = 501
    EXECUTABLE_NAME = /opt/plenv/versions/5.41.7/bin/perl5.41.7
    GID = 20 20 12 61 79 80 81 98 701 33 100 204 250 395 398 101 400
    UID = 501

Perl module toolchain versions installed:

    Module              Have    
    ------------------- --------
    CPAN                2.38    
    CPAN::Meta          2.150010
    Cwd                 3.92    
    ExtUtils::CBuilder  0.280240
    ExtUtils::Command   7.70    
    ExtUtils::Install   2.22    
    ExtUtils::MakeMaker 7.70    
    ExtUtils::Manifest  1.75    
    ExtUtils::ParseXS   3.56    
    File::Spec          3.93    
    JSON                n/a     
    JSON::PP            4.16    
    Module::Build       0.4234  
    Module::Signature   n/a     
    Parse::CPAN::Meta   2.150010
    Test::Harness       3.50    
    Test::More          1.302204
    YAML                1.31    
    YAML::Syck          n/a     
    version             0.9933  


--

Summary of my perl5 (revision 5 version 41 subversion 7) configuration:
   
  Platform:
    osname=darwin
    osvers=24.2.0
    archname=darwin-2level
    uname='darwin nextmac.home.genehack.org 24.2.0 darwin kernel version 24.2.0: fri dec 6 19:02:12 pst 2024; root:xnu-11215.61.5~2release_arm64_t6031 x86_64 i386 darwin '
    config_args='-Dprefix=/opt/plenv/versions/5.41.7 -de -Dversiononly -Dusedevel -A'eval:scriptdir=/opt/plenv/versions/5.41.7/bin''
    hint=recommended
    useposix=true
    d_sigaction=define
    useithreads=undef
    usemultiplicity=undef
    use64bitint=define
    use64bitall=define
    uselongdouble=undef
    usemymalloc=n
    default_inc_excludes_dot=define
  Compiler:
    cc='cc'
    ccflags ='-fno-common -DPERL_DARWIN -mmacosx-version-min=15.2 -DNO_THREAD_SAFE_QUERYLOCALE -DNO_POSIX_2008_LOCALE -DHAS_BROKEN_LANGINFO_CODESET -fno-strict-aliasing -pipe -fstack-protector-strong -I/usr/local/include'
    optimize='-O3'
    cppflags='-fno-common -DPERL_DARWIN -mmacosx-version-min=15.2 -DNO_THREAD_SAFE_QUERYLOCALE -DNO_POSIX_2008_LOCALE -DHAS_BROKEN_LANGINFO_CODESET -fno-strict-aliasing -pipe -fstack-protector-strong -I/usr/local/include'
    ccversion=''
    gccversion='Apple LLVM 16.0.0 (clang-1600.0.26.3)'
    gccosandvers=''
    intsize=4
    longsize=8
    ptrsize=8
    doublesize=8
    byteorder=12345678
    doublekind=3
    d_longlong=define
    longlongsize=8
    d_longdbl=define
    longdblsize=16
    longdblkind=3
    ivtype='long'
    ivsize=8
    nvtype='double'
    nvsize=8
    Off_t='off_t'
    lseeksize=8
    alignbytes=8
    prototype=define
  Linker and Libraries:
    ld='cc'
    ldflags =' -mmacosx-version-min=15.2 -fstack-protector-strong -L/usr/local/lib'
    libpth=/usr/local/lib /Applications/Xcode.app/Contents/Developer/Toolchains/XcodeDefault.xctoolchain/usr/lib/clang/16/lib /Library/Developer/CommandLineTools/SDKs/MacOSX15.2.sdk/usr/lib /Applications/Xcode.app/Contents/Developer/Toolchains/XcodeDefault.xctoolchain/usr/lib /usr/lib
    libs= 
    perllibs=
    libc=
    so=dylib
    useshrplib=false
    libperl=libperl.a
    gnulibc_version=''
  Dynamic Linking:
    dlsrc=dl_dlopen.xs
    dlext=bundle
    d_dlsymun=undef
    ccdlflags=' '
    cccdlflags=' '
    lddlflags=' -mmacosx-version-min=15.2 -bundle -undefined dynamic_lookup -L/usr/local/lib -fstack-protector-strong'


Characteristics of this binary (from libperl): 
  Compile-time options:
    HAS_LONG_DOUBLE
    HAS_STRTOLD
    HAS_TIMES
    PERLIO_LAYERS
    PERL_COPY_ON_WRITE
    PERL_DONT_CREATE_GVSV
    PERL_HASH_FUNC_SIPHASH13
    PERL_HASH_USE_SBOX32
    PERL_MALLOC_WRAP
    PERL_OP_PARENT
    PERL_PRESERVE_IVUV
    PERL_USE_DEVEL
    PERL_USE_SAFE_PUTENV
    USE_64_BIT_ALL
    USE_64_BIT_INT
    USE_LARGE_FILES
    USE_LOCALE
    USE_LOCALE_COLLATE
    USE_LOCALE_CTYPE
    USE_LOCALE_NUMERIC
    USE_LOCALE_TIME
    USE_PERLIO
    USE_PERL_ATOF
  Built under darwin
  Compiled at Dec 20 2024 10:39:38
  %ENV:
    PERL_CPANM_OPT="--skip-installed --prompt"
  @INC:
    /opt/plenv/versions/5.41.7/lib/perl5/site_perl/5.41.7/darwin-2level
    /opt/plenv/versions/5.41.7/lib/perl5/site_perl/5.41.7
    /opt/plenv/versions/5.41.7/lib/perl5/5.41.7/darwin-2level
    /opt/plenv/versions/5.41.7/lib/perl5/5.41.7