Google-AJAX-Library v0.022 Perl 5 v5.27.8 x86_64-linux-thread-multi-ld

Status
Pass
From
Andreas J. König (ANDK)
Dist
Google-AJAX-Library v0.022
Platform
Perl 5 v5.27.8 x86_64-linux-thread-multi-ld
Date
2018-01-05 06:04:50
ID
5752fefc-f1de-11e7-878f-a9b968f0f5c6
This distribution has been tested as part of the CPAN Testers
project, supporting the Perl programming language.  See
http://wiki.cpantesters.org/ for more information or email
questions to cpan-testers-discuss@perl.org


--
Dear Robert Krimen,

This is a computer-generated report for Google-AJAX-Library-0.022
on perl 5.27.8, created by CPAN-Reporter-1.2018.

Thank you for uploading your work to CPAN.  Congratulations!
All tests were successful.

Sections of this report:

    * Tester comments
    * Program output
    * Prerequisites
    * Environment and other context

------------------------------
TESTER COMMENTS
------------------------------

Additional comments from tester:

this report is from an automated smoke testing program
and was not reviewed by a human for accuracy

------------------------------
PROGRAM OUTPUT
------------------------------

Output from '/usr/bin/make test':

PERL_DL_NONLAZY=1 "/tmp/basesmoker-reloperl-DCh9/bin/perl" "-MExtUtils::Command::MM" "-MTest::Harness" "-e" "undef *Test::Harness::Switches; test_harness(0, 'blib/lib', 'blib/arch')" t/*.t
You are overwriting a locally defined function (file) with an accessor at /home/sand/src/perl/repoperls/installed-perls/host/k93msid/v5.27.7-105-g3753712389/ac75/lib/site_perl/5.27.8/x86_64-linux-thread-multi-ld/Moose/Meta/Attribute.pm line 1111.
	Moose::Meta::Attribute::_process_accessors(Moose::Meta::Attribute=HASH(0x55c36b2796f0), "reader", "file", undef) called at /home/sand/src/perl/repoperls/installed-perls/host/k93msid/v5.27.7-105-g3753712389/ac75/lib/site_perl/5.27.8/x86_64-linux-thread-multi-ld/Class/MOP/Attribute.pm line 450
	Class::MOP::Attribute::install_accessors(Moose::Meta::Attribute=HASH(0x55c36b2796f0)) called at /home/sand/src/perl/repoperls/installed-perls/host/k93msid/v5.27.7-105-g3753712389/ac75/lib/site_perl/5.27.8/x86_64-linux-thread-multi-ld/Moose/Meta/Attribute.pm line 1014
	Moose::Meta::Attribute::install_accessors(Moose::Meta::Attribute=HASH(0x55c36b2796f0)) called at /home/sand/src/perl/repoperls/installed-perls/host/k93msid/v5.27.7-105-g3753712389/ac75/lib/site_perl/5.27.8/x86_64-linux-thread-multi-ld/Class/MOP/Class.pm line 899
	Class::MOP::Class::try {...} () called at /home/sand/src/perl/repoperls/installed-perls/host/k93msid/v5.27.7-105-g3753712389/ac75/lib/site_perl/5.27.8/Try/Tiny.pm line 102
	eval {...} called at /home/sand/src/perl/repoperls/installed-perls/host/k93msid/v5.27.7-105-g3753712389/ac75/lib/site_perl/5.27.8/Try/Tiny.pm line 93
	Try::Tiny::try(CODE(0x55c36d1937c0), Try::Tiny::Catch=REF(0x55c36d193ca0)) called at /home/sand/src/perl/repoperls/installed-perls/host/k93msid/v5.27.7-105-g3753712389/ac75/lib/site_perl/5.27.8/x86_64-linux-thread-multi-ld/Class/MOP/Class.pm line 904
	Class::MOP::Class::_post_add_attribute(Moose::Meta::Class=HASH(0x55c36c950dc0), Moose::Meta::Attribute=HASH(0x55c36b2796f0)) called at /home/sand/src/perl/repoperls/installed-perls/host/k93msid/v5.27.7-105-g3753712389/ac75/lib/site_perl/5.27.8/x86_64-linux-thread-multi-ld/Class/MOP/Mixin/HasAttributes.pm line 39
	Class::MOP::Mixin::HasAttributes::add_attribute(Moose::Meta::Class=HASH(0x55c36c950dc0), Moose::Meta::Attribute=HASH(0x55c36b2796f0)) called at /home/sand/src/perl/repoperls/installed-perls/host/k93msid/v5.27.7-105-g3753712389/ac75/lib/site_perl/5.27.8/x86_64-linux-thread-multi-ld/Moose/Meta/Class.pm line 585
	Moose::Meta::Class::add_attribute(Moose::Meta::Class=HASH(0x55c36c950dc0), "file", "definition_context", HASH(0x55c36b2799f0), "is", "ro") called at /home/sand/src/perl/repoperls/installed-perls/host/k93msid/v5.27.7-105-g3753712389/ac75/lib/site_perl/5.27.8/x86_64-linux-thread-multi-ld/Moose.pm line 74
	Moose::has(Moose::Meta::Class=HASH(0x55c36c950dc0), "file", "is", "ro") called at /home/sand/src/perl/repoperls/installed-perls/host/k93msid/v5.27.7-105-g3753712389/ac75/lib/site_perl/5.27.8/x86_64-linux-thread-multi-ld/Moose/Exporter.pm line 419
	Moose::has("file", "is", "ro") called at /tmp/loop_over_bdir-19808-7y14Ih/Google-AJAX-Library-0.022-0/blib/lib/Google/AJAX/Library.pm line 32
	require Google/AJAX/Library.pm called at t/01-basic.t line 5
	main::BEGIN() called at /tmp/loop_over_bdir-19808-7y14Ih/Google-AJAX-Library-0.022-0/blib/lib/Google/AJAX/Library.pm line 0
	eval {...} called at /tmp/loop_over_bdir-19808-7y14Ih/Google-AJAX-Library-0.022-0/blib/lib/Google/AJAX/Library.pm line 0
t/01-basic.t .... ok
You are overwriting a locally defined function (file) with an accessor at /home/sand/src/perl/repoperls/installed-perls/host/k93msid/v5.27.7-105-g3753712389/ac75/lib/site_perl/5.27.8/x86_64-linux-thread-multi-ld/Moose/Meta/Attribute.pm line 1111.
	Moose::Meta::Attribute::_process_accessors(Moose::Meta::Attribute=HASH(0x5601ea157c20), "reader", "file", undef) called at /home/sand/src/perl/repoperls/installed-perls/host/k93msid/v5.27.7-105-g3753712389/ac75/lib/site_perl/5.27.8/x86_64-linux-thread-multi-ld/Class/MOP/Attribute.pm line 450
	Class::MOP::Attribute::install_accessors(Moose::Meta::Attribute=HASH(0x5601ea157c20)) called at /home/sand/src/perl/repoperls/installed-perls/host/k93msid/v5.27.7-105-g3753712389/ac75/lib/site_perl/5.27.8/x86_64-linux-thread-multi-ld/Moose/Meta/Attribute.pm line 1014
	Moose::Meta::Attribute::install_accessors(Moose::Meta::Attribute=HASH(0x5601ea157c20)) called at /home/sand/src/perl/repoperls/installed-perls/host/k93msid/v5.27.7-105-g3753712389/ac75/lib/site_perl/5.27.8/x86_64-linux-thread-multi-ld/Class/MOP/Class.pm line 899
	Class::MOP::Class::try {...} () called at /home/sand/src/perl/repoperls/installed-perls/host/k93msid/v5.27.7-105-g3753712389/ac75/lib/site_perl/5.27.8/Try/Tiny.pm line 102
	eval {...} called at /home/sand/src/perl/repoperls/installed-perls/host/k93msid/v5.27.7-105-g3753712389/ac75/lib/site_perl/5.27.8/Try/Tiny.pm line 93
	Try::Tiny::try(CODE(0x5601ec072b50), Try::Tiny::Catch=REF(0x5601ec073030)) called at /home/sand/src/perl/repoperls/installed-perls/host/k93msid/v5.27.7-105-g3753712389/ac75/lib/site_perl/5.27.8/x86_64-linux-thread-multi-ld/Class/MOP/Class.pm line 904
	Class::MOP::Class::_post_add_attribute(Moose::Meta::Class=HASH(0x5601eb82eab0), Moose::Meta::Attribute=HASH(0x5601ea157c20)) called at /home/sand/src/perl/repoperls/installed-perls/host/k93msid/v5.27.7-105-g3753712389/ac75/lib/site_perl/5.27.8/x86_64-linux-thread-multi-ld/Class/MOP/Mixin/HasAttributes.pm line 39
	Class::MOP::Mixin::HasAttributes::add_attribute(Moose::Meta::Class=HASH(0x5601eb82eab0), Moose::Meta::Attribute=HASH(0x5601ea157c20)) called at /home/sand/src/perl/repoperls/installed-perls/host/k93msid/v5.27.7-105-g3753712389/ac75/lib/site_perl/5.27.8/x86_64-linux-thread-multi-ld/Moose/Meta/Class.pm line 585
	Moose::Meta::Class::add_attribute(Moose::Meta::Class=HASH(0x5601eb82eab0), "file", "definition_context", HASH(0x5601eb683a00), "is", "ro") called at /home/sand/src/perl/repoperls/installed-perls/host/k93msid/v5.27.7-105-g3753712389/ac75/lib/site_perl/5.27.8/x86_64-linux-thread-multi-ld/Moose.pm line 74
	Moose::has(Moose::Meta::Class=HASH(0x5601eb82eab0), "file", "is", "ro") called at /home/sand/src/perl/repoperls/installed-perls/host/k93msid/v5.27.7-105-g3753712389/ac75/lib/site_perl/5.27.8/x86_64-linux-thread-multi-ld/Moose/Exporter.pm line 419
	Moose::has("file", "is", "ro") called at /tmp/loop_over_bdir-19808-7y14Ih/Google-AJAX-Library-0.022-0/blib/lib/Google/AJAX/Library.pm line 32
	require Google/AJAX/Library.pm called at t/02-library.t line 5
	main::BEGIN() called at /tmp/loop_over_bdir-19808-7y14Ih/Google-AJAX-Library-0.022-0/blib/lib/Google/AJAX/Library.pm line 0
	eval {...} called at /tmp/loop_over_bdir-19808-7y14Ih/Google-AJAX-Library-0.022-0/blib/lib/Google/AJAX/Library.pm line 0
t/02-library.t .. ok
You are overwriting a locally defined function (file) with an accessor at /home/sand/src/perl/repoperls/installed-perls/host/k93msid/v5.27.7-105-g3753712389/ac75/lib/site_perl/5.27.8/x86_64-linux-thread-multi-ld/Moose/Meta/Attribute.pm line 1111.
	Moose::Meta::Attribute::_process_accessors(Moose::Meta::Attribute=HASH(0x55ce19aa0450), "reader", "file", undef) called at /home/sand/src/perl/repoperls/installed-perls/host/k93msid/v5.27.7-105-g3753712389/ac75/lib/site_perl/5.27.8/x86_64-linux-thread-multi-ld/Class/MOP/Attribute.pm line 450
	Class::MOP::Attribute::install_accessors(Moose::Meta::Attribute=HASH(0x55ce19aa0450)) called at /home/sand/src/perl/repoperls/installed-perls/host/k93msid/v5.27.7-105-g3753712389/ac75/lib/site_perl/5.27.8/x86_64-linux-thread-multi-ld/Moose/Meta/Attribute.pm line 1014
	Moose::Meta::Attribute::install_accessors(Moose::Meta::Attribute=HASH(0x55ce19aa0450)) called at /home/sand/src/perl/repoperls/installed-perls/host/k93msid/v5.27.7-105-g3753712389/ac75/lib/site_perl/5.27.8/x86_64-linux-thread-multi-ld/Class/MOP/Class.pm line 899
	Class::MOP::Class::try {...} () called at /home/sand/src/perl/repoperls/installed-perls/host/k93msid/v5.27.7-105-g3753712389/ac75/lib/site_perl/5.27.8/Try/Tiny.pm line 102
	eval {...} called at /home/sand/src/perl/repoperls/installed-perls/host/k93msid/v5.27.7-105-g3753712389/ac75/lib/site_perl/5.27.8/Try/Tiny.pm line 93
	Try::Tiny::try(CODE(0x55ce1b9b9df0), Try::Tiny::Catch=REF(0x55ce1b9ba2d0)) called at /home/sand/src/perl/repoperls/installed-perls/host/k93msid/v5.27.7-105-g3753712389/ac75/lib/site_perl/5.27.8/x86_64-linux-thread-multi-ld/Class/MOP/Class.pm line 904
	Class::MOP::Class::_post_add_attribute(Moose::Meta::Class=HASH(0x55ce1b1771a0), Moose::Meta::Attribute=HASH(0x55ce19aa0450)) called at /home/sand/src/perl/repoperls/installed-perls/host/k93msid/v5.27.7-105-g3753712389/ac75/lib/site_perl/5.27.8/x86_64-linux-thread-multi-ld/Class/MOP/Mixin/HasAttributes.pm line 39
	Class::MOP::Mixin::HasAttributes::add_attribute(Moose::Meta::Class=HASH(0x55ce1b1771a0), Moose::Meta::Attribute=HASH(0x55ce19aa0450)) called at /home/sand/src/perl/repoperls/installed-perls/host/k93msid/v5.27.7-105-g3753712389/ac75/lib/site_perl/5.27.8/x86_64-linux-thread-multi-ld/Moose/Meta/Class.pm line 585
	Moose::Meta::Class::add_attribute(Moose::Meta::Class=HASH(0x55ce1b1771a0), "file", "definition_context", HASH(0x55ce19aa06f0), "is", "ro") called at /home/sand/src/perl/repoperls/installed-perls/host/k93msid/v5.27.7-105-g3753712389/ac75/lib/site_perl/5.27.8/x86_64-linux-thread-multi-ld/Moose.pm line 74
	Moose::has(Moose::Meta::Class=HASH(0x55ce1b1771a0), "file", "is", "ro") called at /home/sand/src/perl/repoperls/installed-perls/host/k93msid/v5.27.7-105-g3753712389/ac75/lib/site_perl/5.27.8/x86_64-linux-thread-multi-ld/Moose/Exporter.pm line 419
	Moose::has("file", "is", "ro") called at /tmp/loop_over_bdir-19808-7y14Ih/Google-AJAX-Library-0.022-0/blib/lib/Google/AJAX/Library.pm line 32
	require Google/AJAX/Library.pm called at t/03-fetch.t line 5
	main::BEGIN() called at /tmp/loop_over_bdir-19808-7y14Ih/Google-AJAX-Library-0.022-0/blib/lib/Google/AJAX/Library.pm line 0
	eval {...} called at /tmp/loop_over_bdir-19808-7y14Ih/Google-AJAX-Library-0.022-0/blib/lib/Google/AJAX/Library.pm line 0
t/03-fetch.t .... skipped: Not going out to http://ajax.googleapis.com to test fetching/writing
All tests successful.
Files=3, Tests=61,  1 wallclock secs ( 0.03 usr  0.02 sys +  0.86 cusr  0.09 csys =  1.00 CPU)
Result: PASS

------------------------------
PREREQUISITES
------------------------------

Prerequisite modules loaded:

requires:

    Module              Need Have  
    ------------------- ---- ------
    Carp::Clan::Share   0    0.013 
    HTML::Declare       0    2.6   
    LWP::UserAgent      0    6.31  
    Moose               0    2.2009
    Path::Class         0    0.37  
    URI                 0    1.72  

build_requires:

    Module              Need Have  
    ------------------- ---- ------
    File::Temp          0    0.2304
    Test::Most          0    0.35  

configure_requires:

    Module              Need Have  
    ------------------- ---- ------
    ExtUtils::MakeMaker 6.31 7.30  


------------------------------
ENVIRONMENT AND OTHER CONTEXT
------------------------------

Environment variables:

    AUTOMATED_TESTING = 1
    LANG = en_US.UTF-8
    PATH = /home/sand/bin:/usr/local/bin:/usr/bin:/bin:/usr/games:/usr/local/perl/bin:/usr/X11/bin:/sbin:/usr/sbin
    PERL5LIB = 
    PERL5OPT = 
    PERL5_CPANPLUS_IS_RUNNING = 28863
    PERL5_CPAN_IS_RUNNING = 28863
    PERL_CANARY_STABILITY_NOPROMPT = 1
    PERL_MM_USE_DEFAULT = 1
    PERL_USE_UNSAFE_INC = 1
    SHELL = /usr/bin/zsh
    TERM = screen

Perl special variables (and OS-specific diagnostics, for MSWin32):

    $^X = /tmp/basesmoker-reloperl-DCh9/bin/perl
    $UID/$EUID = 1005 / 1005
    $GID = 1005 1005
    $EGID = 1005 1005

Perl module toolchain versions installed:

    Module              Have    
    ------------------- --------
    CPAN                2.20    
    CPAN::Meta          2.150010
    Cwd                 3.72    
    ExtUtils::CBuilder  0.280230
    ExtUtils::Command   7.30    
    ExtUtils::Install   2.14    
    ExtUtils::MakeMaker 7.30    
    ExtUtils::Manifest  1.70    
    ExtUtils::ParseXS   3.36    
    File::Spec          3.72    
    JSON                2.97001 
    JSON::PP            2.97001 
    Module::Build       0.4224  
    Module::Signature   0.81    
    Parse::CPAN::Meta   2.150010
    Test::Harness       3.39    
    Test::More          1.302120
    YAML                1.24    
    YAML::Syck          1.30    
    version             0.9918  


--

Summary of my perl5 (revision 5 version 27 subversion 8) configuration:
  Commit id: 37537123896a527fb35f766e0ddaaacb49c38dc1
  Platform:
    osname=linux
    osvers=4.12.0-2-amd64
    archname=x86_64-linux-thread-multi-ld
    uname='linux k93msid 4.12.0-2-amd64 #1 smp debian 4.12.13-1 (2017-09-19) x86_64 gnulinux '
    config_args='-Dprefix=/home/sand/src/perl/repoperls/installed-perls/host/k93msid/v5.27.7-105-g3753712389/ac75 -Dmyhostname=k93msid -Dinstallusrbinperl=n -Uversiononly -Dusedevel -des -Ui_db -Dlibswanted=cl pthread socket inet nsl gdbm dbm malloc dl ld sun m crypt sec util c cposix posix ucb BSD gdbm_compat -Duseithreads -Duselongdouble -DEBUGGING=both'
    hint=recommended
    useposix=true
    d_sigaction=define
    useithreads=define
    usemultiplicity=define
    use64bitint=define
    use64bitall=define
    uselongdouble=define
    usemymalloc=n
    default_inc_excludes_dot=define
    bincompat5005=undef
  Compiler:
    cc='cc'
    ccflags ='-D_REENTRANT -D_GNU_SOURCE -fwrapv -DDEBUGGING -fno-strict-aliasing -pipe -fstack-protector-strong -I/usr/local/include -D_LARGEFILE_SOURCE -D_FILE_OFFSET_BITS=64 -D_FORTIFY_SOURCE=2'
    optimize='-O2 -g'
    cppflags='-D_REENTRANT -D_GNU_SOURCE -fwrapv -DDEBUGGING -fno-strict-aliasing -pipe -fstack-protector-strong -I/usr/local/include'
    ccversion=''
    gccversion='7.2.0'
    gccosandvers=''
    intsize=4
    longsize=8
    ptrsize=8
    doublesize=8
    byteorder=12345678
    doublekind=3
    d_longlong=define
    longlongsize=8
    d_longdbl=define
    longdblsize=16
    longdblkind=3
    ivtype='long'
    ivsize=8
    nvtype='long double'
    nvsize=16
    Off_t='off_t'
    lseeksize=8
    alignbytes=16
    prototype=define
  Linker and Libraries:
    ld='cc'
    ldflags =' -fstack-protector-strong -L/usr/local/lib'
    libpth=/usr/local/lib /usr/lib/gcc/x86_64-linux-gnu/7/include-fixed /usr/include/x86_64-linux-gnu /usr/lib /lib/x86_64-linux-gnu /lib/../lib /usr/lib/x86_64-linux-gnu /usr/lib/../lib /lib
    libs=-lpthread -lnsl -ldl -lm -lcrypt -lutil -lc
    perllibs=-lpthread -lnsl -ldl -lm -lcrypt -lutil -lc
    libc=libc-2.24.so
    so=so
    useshrplib=false
    libperl=libperl.a
    gnulibc_version='2.24'
  Dynamic Linking:
    dlsrc=dl_dlopen.xs
    dlext=so
    d_dlsymun=undef
    ccdlflags='-Wl,-E'
    cccdlflags='-fPIC'
    lddlflags='-shared -O2 -g -L/usr/local/lib -fstack-protector-strong'


Characteristics of this binary (from libperl): 
  Compile-time options:
    DEBUGGING
    HAS_TIMES
    MULTIPLICITY
    PERLIO_LAYERS
    PERL_COPY_ON_WRITE
    PERL_DONT_CREATE_GVSV
    PERL_IMPLICIT_CONTEXT
    PERL_MALLOC_WRAP
    PERL_OP_PARENT
    PERL_PRESERVE_IVUV
    PERL_TRACK_MEMPOOL
    PERL_USE_DEVEL
    USE_64_BIT_ALL
    USE_64_BIT_INT
    USE_ITHREADS
    USE_LARGE_FILES
    USE_LOCALE
    USE_LOCALE_COLLATE
    USE_LOCALE_CTYPE
    USE_LOCALE_NUMERIC
    USE_LOCALE_TIME
    USE_LONG_DOUBLE
    USE_PERLIO
    USE_PERL_ATOF
    USE_REENTRANT_API
  Built under linux
  Compiled at Jan  2 2018 22:40:34
  %ENV:
    PERL5LIB=""
    PERL5OPT=""
    PERL5_CPANPLUS_IS_RUNNING="28863"
    PERL5_CPAN_IS_RUNNING="28863"
    PERL_CANARY_STABILITY_NOPROMPT="1"
    PERL_MM_USE_DEFAULT="1"
    PERL_USE_UNSAFE_INC="1"
  @INC:
    /home/sand/src/perl/repoperls/installed-perls/host/k93msid/v5.27.7-105-g3753712389/ac75/lib/site_perl/5.27.8/x86_64-linux-thread-multi-ld
    /home/sand/src/perl/repoperls/installed-perls/host/k93msid/v5.27.7-105-g3753712389/ac75/lib/site_perl/5.27.8
    /home/sand/src/perl/repoperls/installed-perls/host/k93msid/v5.27.7-105-g3753712389/ac75/lib/5.27.8/x86_64-linux-thread-multi-ld
    /home/sand/src/perl/repoperls/installed-perls/host/k93msid/v5.27.7-105-g3753712389/ac75/lib/5.27.8
    .