Log-Log4perl-Shortcuts v0.015 Perl 5 v5.24.4 amd64-freebsd

Status
Pass
From
Slaven Rezić (SREZIC)
Dist
Log-Log4perl-Shortcuts v0.015
Platform
Perl 5 v5.24.4 amd64-freebsd
Date
2018-09-12 05:33:12
ID
5764d42c-b64d-11e8-9fdc-c0d2b41cbd01
This distribution has been tested as part of the CPAN Testers
project, supporting the Perl programming language.  See
http://wiki.cpantesters.org/ for more information or email
questions to cpan-testers-discuss@perl.org


--
Dear Steve Dondley,

This is a computer-generated report for Log-Log4perl-Shortcuts-0.015
on perl 5.24.4, created by CPAN-Reporter-1.2018.

Thank you for uploading your work to CPAN.  Congratulations!
All tests were successful.

Sections of this report:

    * Tester comments
    * Program output
    * Prerequisites
    * Environment and other context

------------------------------
TESTER COMMENTS
------------------------------

Additional comments from tester:

none provided

------------------------------
PROGRAM OUTPUT
------------------------------

Output from '/usr/bin/make test':

Skip blib/lib/auto/share/dist/Log-Log4perl-Shortcuts/log_config/default.cfg (unchanged)
PERL_DL_NONLAZY=1 "/usr/perl5.24.4p/bin/perl5.24.4" "-MExtUtils::Command::MM" "-MTest::Harness" "-e" "undef *Test::Harness::Switches; test_harness(0, 'blib/lib', 'blib/arch')" t/*.t
t/00-use_ok.t ............ ok
# Running export tests
t/01-export_ok.t ......... ok
# Running my tests
t/02-output_ok.t ......... ok
# Running change log config tests
t/03-set_log_config.t .... ok
# Running my tests
t/04-change_log_level.t .. ok
All tests successful.
Files=5, Tests=18,  2 wallclock secs ( 0.05 usr  0.00 sys +  0.75 cusr  0.30 csys =  1.10 CPU)
Result: PASS

------------------------------
PREREQUISITES
------------------------------

Prerequisite modules loaded:

requires:

    Module                       Need     Have    
    ---------------------------- -------- --------
    Carp                         0        1.40    
    Data::Dumper                 0        2.160   
    Exporter                     0        5.72    
    File::UserConfig             0        0.06    
    Log::Log4perl                0        1.49    
    Log::Log4perl::Level         0        0       
    Module::Data                 0        0.013   
    Path::Tiny                   0        0.104   
    perl                         5.010000 5.024004

build_requires:

    Module                       Need     Have    
    ---------------------------- -------- --------
    ExtUtils::MakeMaker          0        7.10_02 
    File::Copy                   0        2.31    
    File::HomeDir                0        1.002   
    File::Temp                   0        0.2304  
    File::UserConfig             0        0.06    
    lib                          0        0.63    
    Path::Tiny                   0        0.104   
    strict                       0        1.11    
    Test::Exception              0        0.43    
    Test::Fatal                  0        0.014   
    Test::File::ShareDir::Dist   0        1.001002
    Test::File::ShareDir::Module 0        1.001002
    Test::More                   0        1.302135
    Test::NoWarnings             0        1.04    
    Test::Output                 0        1.031   
    Test::Warn                   0        0.32    
    warnings                     0        1.36    

configure_requires:

    Module                       Need     Have    
    ---------------------------- -------- --------
    ExtUtils::MakeMaker          0        7.10_02 
    File::ShareDir::Install      0.06     0.11    


------------------------------
ENVIRONMENT AND OTHER CONTEXT
------------------------------

Environment variables:

    PATH = /usr/perl5.24.4p/bin:/usr/local/bin:/usr/bin:/bin:/usr/local/sbin:/usr/sbin:/sbin:/home/cpansand/bin/freebsd11.1:/home/cpansand/bin/sh:/home/cpansand/bin:/usr/games:/home/cpansand/devel:/home/eserte/src/srezic-misc/scripts
    PERL5LIB = /home/cpansand/.cpan/build/2018091214/Module-Data-0.013-5SpuvP/blib/arch:/home/cpansand/.cpan/build/2018091214/Module-Data-0.013-5SpuvP/blib/lib:/home/cpansand/.cpan/build/2018091214/Path-ScanINC-1.000003-nxiE8d/blib/arch:/home/cpansand/.cpan/build/2018091214/Path-ScanINC-1.000003-nxiE8d/blib/lib:/home/cpansand/.cpan/build/2018091214/File-UserConfig-0.06-rnYFzC/blib/arch:/home/cpansand/.cpan/build/2018091214/File-UserConfig-0.06-rnYFzC/blib/lib:/home/cpansand/.cpan/build/2018091214/OptArgs-0.1.20-d2F7YY/blib/arch:/home/cpansand/.cpan/build/2018091214/OptArgs-0.1.20-d2F7YY/blib/lib:/home/cpansand/.cpan/build/2018091214/IO-Capture-0.05-MTmJw5/blib/arch:/home/cpansand/.cpan/build/2018091214/IO-Capture-0.05-MTmJw5/blib/lib:/home/cpansand/.cpan/build/2018091214/Exporter-Tidy-0.08-KlgRPt/blib/arch:/home/cpansand/.cpan/build/2018091214/Exporter-Tidy-0.08-KlgRPt/blib/lib:/home/cpansand/.cpan/build/2018091214/Test-Output-1.031-PLU2F4/blib/arch:/home/cpansand/.cpan/build/2018091214/Test-Output-1.031-PLU2F4/blib/lib
    PERL5OPT = 
    PERL5_CPANPLUS_IS_RUNNING = 40333
    PERL5_CPAN_IS_RUNNING = 40333
    PERL5_CPAN_IS_RUNNING_IN_RECURSION = 40319,40333
    PERLDOC = -MPod::Perldoc::ToTextOverstrike
    PERL_BATCH = yes
    PERL_CANARY_STABILITY_NOPROMPT = 1
    PERL_CPAN_REPORTER_CONFIG = /var/tmp/cpansmoker-1023/2018091214/cpanreporter_000_config.ini
    PERL_EXTUTILS_AUTOINSTALL = --defaultdeps
    SHELL = /usr/local/bin/zsh
    TERM = screen
    TMPDIR = /var/tmp/cpansmoker-1023/2018091214

Perl special variables (and OS-specific diagnostics, for MSWin32):

    $^X = /usr/perl5.24.4p/bin/perl5.24.4
    $UID/$EUID = 1023 / 1023
    $GID = 1023 1023
    $EGID = 1023 1023

Perl module toolchain versions installed:

    Module              Have      
    ------------------- ----------
    CPAN                2.11_01   
    CPAN::Meta          2.150005  
    Cwd                 3.63_01   
    ExtUtils::CBuilder  0.280225  
    ExtUtils::Command   7.10_02   
    ExtUtils::Install   2.04      
    ExtUtils::MakeMaker 7.10_02   
    ExtUtils::Manifest  1.70      
    ExtUtils::ParseXS   3.31      
    File::Spec          3.63_01   
    JSON                2.97001   
    JSON::PP            2.27300_01
    Module::Build       0.4224    
    Module::Signature   n/a       
    Parse::CPAN::Meta   1.4417_001
    Test::Harness       3.36_01   
    Test::More          1.302135  
    YAML                1.24      
    YAML::Syck          1.30      
    version             0.9916    


--

Summary of my perl5 (revision 5 version 24 subversion 4) configuration:
   
  Platform:
    osname=freebsd, osvers=11.1-release-p8, archname=amd64-freebsd
    uname='freebsd ali2.bbbike.org 11.1-release-p8 freebsd 11.1-release-p8 #0: tue mar 13 17:07:05 utc 2018 root@amd64-builder.daemonology.net:usrobjusrsrcsysgeneric amd64 '
    config_args='-ds -e -Dprefix=/usr/perl5.24.4p -Dcf_email=srezic@cpan.org -Doptimize=-O2 -pipe'
    hint=recommended, useposix=true, d_sigaction=define
    useithreads=undef, usemultiplicity=undef
    use64bitint=define, use64bitall=define, uselongdouble=undef
    usemymalloc=n, bincompat5005=undef
  Compiler:
    cc='cc', ccflags ='-DHAS_FPSETMASK -DHAS_FLOATINGPOINT_H -fno-strict-aliasing -pipe -fstack-protector-strong -I/usr/local/include -D_FORTIFY_SOURCE=2',
    optimize='-O2 -pipe',
    cppflags='-DHAS_FPSETMASK -DHAS_FLOATINGPOINT_H -fno-strict-aliasing -pipe -fstack-protector-strong -I/usr/local/include'
    ccversion='', gccversion='4.2.1 Compatible FreeBSD Clang 4.0.0 (tags/RELEASE_400/final 297347)', gccosandvers=''
    intsize=4, longsize=8, ptrsize=8, doublesize=8, byteorder=12345678, doublekind=3
    d_longlong=define, longlongsize=8, d_longdbl=define, longdblsize=16, longdblkind=3
    ivtype='long', ivsize=8, nvtype='double', nvsize=8, Off_t='off_t', lseeksize=8
    alignbytes=8, prototype=define
  Linker and Libraries:
    ld='cc', ldflags ='-pthread -Wl,-E  -fstack-protector-strong -L/usr/local/lib'
    libpth=/usr/lib /usr/local/lib /usr/bin/../lib/clang/4.0.0/lib /usr/lib
    libs=-lpthread -lgdbm -lm -lcrypt -lutil -lc
    perllibs=-lpthread -lm -lcrypt -lutil -lc
    libc=, so=so, useshrplib=false, libperl=libperl.a
    gnulibc_version=''
  Dynamic Linking:
    dlsrc=dl_dlopen.xs, dlext=so, d_dlsymun=undef, ccdlflags=' '
    cccdlflags='-DPIC -fPIC', lddlflags='-shared  -L/usr/local/lib -fstack-protector-strong'


Characteristics of this binary (from libperl): 
  Compile-time options: HAS_TIMES PERLIO_LAYERS PERL_COPY_ON_WRITE
                        PERL_DONT_CREATE_GVSV
                        PERL_HASH_FUNC_ONE_AT_A_TIME_HARD PERL_MALLOC_WRAP
                        PERL_PRESERVE_IVUV USE_64_BIT_ALL USE_64_BIT_INT
                        USE_LARGE_FILES USE_LOCALE USE_LOCALE_COLLATE
                        USE_LOCALE_CTYPE USE_LOCALE_NUMERIC USE_LOCALE_TIME
                        USE_PERLIO USE_PERL_ATOF
  Built under freebsd
  Compiled at Apr 18 2018 14:07:41
  %ENV:
    PERL5LIB="/home/cpansand/.cpan/build/2018091214/Module-Data-0.013-5SpuvP/blib/arch:/home/cpansand/.cpan/build/2018091214/Module-Data-0.013-5SpuvP/blib/lib:/home/cpansand/.cpan/build/2018091214/Path-ScanINC-1.000003-nxiE8d/blib/arch:/home/cpansand/.cpan/build/2018091214/Path-ScanINC-1.000003-nxiE8d/blib/lib:/home/cpansand/.cpan/build/2018091214/File-UserConfig-0.06-rnYFzC/blib/arch:/home/cpansand/.cpan/build/2018091214/File-UserConfig-0.06-rnYFzC/blib/lib:/home/cpansand/.cpan/build/2018091214/OptArgs-0.1.20-d2F7YY/blib/arch:/home/cpansand/.cpan/build/2018091214/OptArgs-0.1.20-d2F7YY/blib/lib:/home/cpansand/.cpan/build/2018091214/IO-Capture-0.05-MTmJw5/blib/arch:/home/cpansand/.cpan/build/2018091214/IO-Capture-0.05-MTmJw5/blib/lib:/home/cpansand/.cpan/build/2018091214/Exporter-Tidy-0.08-KlgRPt/blib/arch:/home/cpansand/.cpan/build/2018091214/Exporter-Tidy-0.08-KlgRPt/blib/lib:/home/cpansand/.cpan/build/2018091214/Test-Output-1.031-PLU2F4/blib/arch:/home/cpansand/.cpan/build/2018091214/Test-Output-1.031-PLU2F4/blib/lib"
    PERL5OPT=""
    PERL5_CPANPLUS_IS_RUNNING="40333"
    PERL5_CPAN_IS_RUNNING="40333"
    PERL5_CPAN_IS_RUNNING_IN_RECURSION="40319,40333"
    PERLDOC="-MPod::Perldoc::ToTextOverstrike"
    PERL_BATCH="yes"
    PERL_CANARY_STABILITY_NOPROMPT="1"
    PERL_CPAN_REPORTER_CONFIG="/var/tmp/cpansmoker-1023/2018091214/cpanreporter_000_config.ini"
    PERL_EXTUTILS_AUTOINSTALL="--defaultdeps"
  @INC:
    /home/cpansand/.cpan/build/2018091214/Module-Data-0.013-5SpuvP/blib/arch
    /home/cpansand/.cpan/build/2018091214/Module-Data-0.013-5SpuvP/blib/lib
    /home/cpansand/.cpan/build/2018091214/Path-ScanINC-1.000003-nxiE8d/blib/arch
    /home/cpansand/.cpan/build/2018091214/Path-ScanINC-1.000003-nxiE8d/blib/lib
    /home/cpansand/.cpan/build/2018091214/File-UserConfig-0.06-rnYFzC/blib/arch
    /home/cpansand/.cpan/build/2018091214/File-UserConfig-0.06-rnYFzC/blib/lib
    /home/cpansand/.cpan/build/2018091214/OptArgs-0.1.20-d2F7YY/blib/arch
    /home/cpansand/.cpan/build/2018091214/OptArgs-0.1.20-d2F7YY/blib/lib
    /home/cpansand/.cpan/build/2018091214/IO-Capture-0.05-MTmJw5/blib/arch
    /home/cpansand/.cpan/build/2018091214/IO-Capture-0.05-MTmJw5/blib/lib
    /home/cpansand/.cpan/build/2018091214/Exporter-Tidy-0.08-KlgRPt/blib/arch
    /home/cpansand/.cpan/build/2018091214/Exporter-Tidy-0.08-KlgRPt/blib/lib
    /home/cpansand/.cpan/build/2018091214/Test-Output-1.031-PLU2F4/blib/arch
    /home/cpansand/.cpan/build/2018091214/Test-Output-1.031-PLU2F4/blib/lib
    /usr/perl5.24.4p/lib/site_perl/5.24.4/amd64-freebsd
    /usr/perl5.24.4p/lib/site_perl/5.24.4
    /usr/perl5.24.4p/lib/5.24.4/amd64-freebsd
    /usr/perl5.24.4p/lib/5.24.4
    .