DBIx-Class v0.082843 Perl 5 v5.34.0 i686-linux-quadmath

Status
Pass
From
Chris Williams (BINGOS)
Dist
DBIx-Class v0.082843
Platform
Perl 5 v5.34.0 i686-linux-quadmath
Date
2022-06-05 23:29:27
ID
57777bec-e527-11ec-8f4e-c962458f5e5b
This distribution has been tested as part of the CPAN Testers
project, supporting the Perl programming language.  See
http://wiki.cpantesters.org/ for more information or email
questions to cpan-testers-discuss@perl.org


--

Dear Peter Rabbitson,

This is a computer-generated error report created automatically by
CPANPLUS, version 0.9914. Testers personal comments may appear
at the end of this report.


Thank you for uploading your work to CPAN.  Congratulations!
All tests were successful.

TEST RESULTS:

Below is the error stack from stage 'make test':

PERL_DL_NONLAZY=1 "/home/cpan/pit/bare-qm/perl-5.34.0/bin/perl" "-MExtUtils::Command::MM" "-MTest::Harness" "-e" "undef *Test::Harness::Switches; test_harness(0, 'inc', 'blib/lib', 'blib/arch')" t/*.t t/admin/*.t t/cdbi/*.t t/cdbi/DeepAbstractSearch/*.t t/cdbi/abstract/*.t t/cdbi/sweet/*.t t/count/*.t t/debug/*.t t/delete/*.t t/inflate/*.t t/multi_create/*.t t/ordered/*.t t/pager/*.t t/pager/data_page_compat/*.t t/prefetch/*.t t/relationship/*.t t/resultset/*.t t/resultsource/*.t t/row/*.t t/schema/*.t t/search/*.t t/sqlmaker/*.t t/sqlmaker/hierarchical/*.t t/sqlmaker/limit_dialects/*.t t/storage/*.t t/update/*.t xt/*.t
# 
# 
# List of loadable modules within both *OPTIONAL* and core dependency chains
# present on this system (modules sourced from ./blib, ./lib, ./t, and ./xt
# with versions identical to their parent namespace were omitted for brevity)
# 
#     *** Note that *MANY* of these modules will *NEVER* be loaded ***
#             *** during normal operation of DBIx::Class ***
# 
# @INC at startup (does not reflect manipulation at runtime):
#   0: ./inc/
#   1: ./blib/lib/
#   2: ./blib/arch/
#   ...
#   6: /home/cpan/pit/jail/PdCRTRK8wH/lib/perl5/i686-linux-quadmath
#   ...
#  10: /home/cpan/pit/jail/PdCRTRK8wH/lib/perl5
#   ...
#  15: ./blib/lib/
#  16: ./blib/arch/
#  17: <<SA>>/
#  18: <<SL>>/
#  19: <<PA>>/
#  20: <<PL>>/
#  21: ./
# 
# Sourcing markers:
#        PA: $Config{archlib}
#        PL: $Config{privlib}
#        SA: $Config{sitearch}
#        SL: $Config{sitelib}
#       BLL: ./blib/lib/
# 
# =============================
#        PA            1.82  B                                                                               [ MD5: 5cc2205b34318627c43b62e2e008c193 ]
#  $INC[10]            0.26  B::Hooks::EndOfScope                                                            [ MD5: 81d925c811e2cc8823f5c412f9effb9c ]
#  $INC[10]            0.26  B::Hooks::EndOfScope::XS                                                        [ MD5: ee7befcbdfcd80d29413fff85df3f8e6 ]
#        PL            2.27  base                                                                            [ MD5: 23b7d65e22b42927d6fcec631ab1c211 ]
#        PL            1.08  bytes                                                                           [ MD5: 1fbae15efa7821b0c878a80bf20ba6da ]
#        PL            1.52  Carp                                                                            [ MD5: 2818f5e24698c7868b844303f26c3628 ]
#        PL            1.52  Carp::Heavy                                                                     [ MD5: 72e2bc4169d7cff91916ccfb20699362 ]
#  $INC[10]         0.10014  Class::Accessor::Grouped                                                        [ MD5: e62be17499d53d13f67a4361268aac40 ]
#  $INC[10]        1.001002  Class::C3::Componentised                                                        [ MD5: 2e92d4f7f9a7d2eda3cd1100583541a2 ]
#  $INC[10]            1.36  Class::Inspector                                                                [ MD5: 7aed0ce1dfc5dd2067632ea22fd2f483 ]
#        PL            0.66  Class::Struct                                                                   [ MD5: 8831e7cf464bcdbc450181106fc0a1c3 ]
#   $INC[6]            1.19  Class::XSAccessor                                                               [ MD5: 0b7adfcc61192a80f97463e89d6d1696 ]
#   $INC[6]            1.19  Class::XSAccessor::Heavy                                                        [ MD5: db9379a668d6133fce801e4648cdef45 ]
#  $INC[10]           0.010  Clone::Choose                                                                   [ MD5: 884cece05d3959f067c7e20ed3d05cf5 ]
#        PA        5.034000  Config                                                                          [ MD5: 041c22d79cb2077261cdc55d73bbcff6 ]
#        PL            1.33  constant                                                                        [ MD5: 56cde6eba0f667ab56196613df3933c1 ]
#  $INC[10]            0.03  Context::Preserve                                                               [ MD5: 62155e2bc041508eff050250d74a0c38 ]
#        PA            3.80  Cwd                                                                             [ MD5: f3496314fab005ab97a9ddccd381d870 ]
#        PA           2.179  Data::Dumper                                                                    [ MD5: e5be6724884264d5a76d65f459abc095 ]
#  $INC[10]           2.023  Data::Dumper::Concise                                                           [ MD5: b18cb47e46e385ccee825ac7e5e59d9e ]
#   $INC[6]            1.70  DBD::SQLite                                                                     [ MD5: 3ca3c09548b8f3132641b67c848bfff1 ]
#   $INC[6]           1.643  DBI                                                                             [ MD5: f21c16d842093e2a90b21537379e38df ]
#       BLL        0.082843  DBIx::Class                                                                     [ MD5: c7e0efa8ca59419329d4b8c7a6364ea1 ]
#  $INC[10]            0.14  Devel::GlobalDestruction                                                        [ MD5: fa8dcedeb9a8a3d29fbef7dfce342970 ]
#        PL            1.19  Digest::base                                                                    [ MD5: 7fefd1f0802e52b925d11df7bba710db ]
#        PA            2.58  Digest::MD5                                                                     [ MD5: d75a3d708ce93ad8d99fcbdefa2c8429 ]
#        PA            1.50  DynaLoader                                                                      [ MD5: 6be6a2b482e71c7b48b7793277506137 ]
#        PA            3.08  Encode                                                                          [ MD5: 2e1bb29150fb2b1c79bfe1340d95c6f8 ]
#        PA            2.24  Encode::Alias                                                                   [ MD5: c3280193456386938373947a4be14c6b ]
#        PA            2.05  Encode::Config                                                                  [ MD5: 7bdd1d8dffa8d3500086802451fc020d ]
#        PA            2.08  Encode::Encoding                                                                [ MD5: 3f40faa217288ed2cb4e34af87b6bfd6 ]
#        PA            1.03  Encode::MIME::Name                                                              [ MD5: 056ea8f31df117e2984d9bd3a77555dc ]
#        PA            1.33  Errno                                                                           [ MD5: 959612fcf13948dc501cbe6e30013f83 ]
#        PL            5.76  Exporter                                                                        [ MD5: 1bfe382fb0cae69f5ce6a3e94c77a567 ]
#        PL            5.76  Exporter::Heavy                                                                 [ MD5: 9a27c5b93139448a26a60aac33704d78 ]
#        SL            7.64  ExtUtils::Liblist                                                               [ MD5: 7505134abff36b1cb078c0075253d01e ]
#        SL            7.64  ExtUtils::Liblist::Kid                                                          [ MD5: 834e97c4eab6307a94b3fee7f4bf56f9 ]
#        SL            7.64  ExtUtils::MakeMaker                                                             [ MD5: 5d09dfe43f345694faa9c79a2c3d989e ]
#        SL            7.64  ExtUtils::MakeMaker::Config                                                     [ MD5: b654fc815d7ce31484e23caab2a2ae84 ]
#        SL            7.64  ExtUtils::MakeMaker::Locale                                                     [ MD5: 30824f063dbecb321f7f0a551778ead1 ]
#        SL            7.64  ExtUtils::MakeMaker::version                                                    [ MD5: 7f807dd16caceca5071848db18150c54 ]
#        SL            7.64  ExtUtils::MM                                                                    [ MD5: 4606ac39087ef4475cfa765648b206eb ]
#        SL            7.64  ExtUtils::MM_Any                                                                [ MD5: 2fc0b695dc1e32651ac6b0adcd6ca019 ]
#        SL            7.64  ExtUtils::MM_Unix                                                               [ MD5: a405d0a63233c5de0871a17fbd73a79b ]
#        SL            7.64  ExtUtils::MY                                                                    [ MD5: 55734b0a74c06ddcc61e09c1318f7d32 ]
#        PA            1.14  Fcntl                                                                           [ MD5: 13ac86687cf3e04e931dfe1d162529a7 ]
#        PL            2.85  File::Basename                                                                  [ MD5: 060f029d056cc44e536c7d278f69bf43 ]
#        PL            2.35  File::Copy                                                                      [ MD5: a7e2dad98e573f6ee73f7a1842a2ac6d ]
#        PL            1.39  File::Find                                                                      [ MD5: 747757a178888b67d7034e457cab914c ]
#        PA            1.33  File::Glob                                                                      [ MD5: 9339f9e86bd5ed7caff8f0d42495e422 ]
#        PL            2.18  File::Path                                                                      [ MD5: 3e82792800b06742b5e275937e6637d5 ]
#        PA            3.80  File::Spec                                                                      [ MD5: a6f7440a6446b72ce5231261c9c34bd4 ]
#        PA            3.80  File::Spec::Unix                                                                [ MD5: 320e05509e7b47b9716e8ce52024006e ]
#        PL            1.09  File::stat                                                                      [ MD5: 6e84c6e71661d3d597ce5866a0295d90 ]
#        PL          0.2311  File::Temp                                                                      [ MD5: d1685b3aa6a3cea2b2b6c61aa1111db8 ]
#                    0.2311  File::Temp::Dir                                                               ! -f $INC{'File/Temp/Dir.pm'}
#  $INC[10]           0.302  Hash::Merge                                                                     [ MD5: 85df9910eb2a543ae53fff090dcb3901 ]
#        PA            0.19  I18N::Langinfo                                                                  [ MD5: 4ecc8bc21eb8b0c9fa537e079985fc33 ]
#        PL            1.01  integer                                                                         [ MD5: 3e5ff5fb486c95945e10e79859dd5bfb ]
#        PA            1.46  IO                                                                              [ MD5: ec63e980ca03686f702ab9235ed5e04a ]
#        PA            1.46  IO::Dir                                                                         [ MD5: 1c87e26be0261fa684a97179e7c154bc ]
#        PA            1.46  IO::File                                                                        [ MD5: 2df0288c32b50dc1f7c0864c51c72a2b ]
#        PA            1.46  IO::Handle                                                                      [ MD5: 741f8c2bc31b3441be77c316b6b3251a ]
#        PA            1.46  IO::Seekable                                                                    [ MD5: 596e946a8985de95b4aad59be5212cd1 ]
#        PL            4.06  JSON::PP                                                                        [ MD5: d79d8d70ab784dc92dc61846a94b21a4 ]
#        PL            4.06  JSON::PP::Boolean                                                               [ MD5: 4b36ed10abd55056ba208a5cd37b6346 ]
#                      1.01  JSON::PP::IncrParser                                                          ! -f $INC{'JSON/PP/IncrParser.pm'}
#        PA            1.55  List::Util                                                                      [ MD5: 06c5174d5be74c84821e733caeaf8342 ]
#        PL            1.10  locale                                                                          [ MD5: 8dbb999ea6e31452fef494cb2fe22218 ]
#        PL        1.999818  Math::BigInt                                                                    [ MD5: 9c0e106bb8bc2ed782f8d1a1ad17b9b2 ]
#  $INC[10]                  Method::Generate::Accessor                                                      [ MD5: 553c297417b01f995ee4826b1e154733 ]
#  $INC[10]                  Method::Generate::Constructor                                                   [ MD5: d33d2fc8977016214174a74af38df8b9 ]
#  $INC[10]            0.09  Module::Implementation                                                          [ MD5: 2a146bb117cd6b798e2b928231799546 ]
#  $INC[10]           0.016  Module::Runtime                                                                 [ MD5: db1042b0f9341111c7f904480a82596a ]
#  $INC[10]        2.005004  Moo                                                                             [ MD5: 283068faf3b877947e1693c7650e8be4 ]
#  $INC[10]                  Moo::Object                                                                     [ MD5: f6f8cdcf4b6326f4bf927941d2276d4f ]
#  $INC[10]                  Moo::sification                                                                 [ MD5: 1c3b20406b7da09888e8557b40e9ce0d ]
#        PA        1.25_001  mro                                                                             [ MD5: 18c406dca2cce9a4f9056068d15600c2 ]
#  $INC[10]            0.15  MRO::Compat                                                                     [ MD5: bef0019fecfbcbba419a25fef7883ff3 ]
#  $INC[10]            0.27  namespace::clean                                                                [ MD5: f3e03f7f5f26391565d98357834e909b ]
#        PL            1.33  overload                                                                        [ MD5: 42ac63b258a97853af6b7af93856a6ea ]
#        PL            0.02  overloading                                                                     [ MD5: 36e1b34f8175e036d57e51fd7d56becd ]
#  $INC[10]            0.40  Package::Stash                                                                  [ MD5: a30009fe1da4beeffea3864a6eca7e0a ]
#   $INC[6]            0.29  Package::Stash::XS                                                              [ MD5: fd533e932b5895d3a734d7f04ee3bf87 ]
#        PL           0.238  parent                                                                          [ MD5: 1abaf367f411a7a8634a80d8d12c3761 ]
#  $INC[10]            0.37  Path::Class                                                                     [ MD5: 62b3248e0d25291933a8d0f09e731547 ]
#  $INC[10]            0.37  Path::Class::Dir                                                                [ MD5: 9b7bd783037e1e812d6a82d62bcecb92 ]
#  $INC[10]            0.37  Path::Class::Entity                                                             [ MD5: 8e14d34b8f5a0909736e9bdaac460848 ]
#  $INC[10]            0.37  Path::Class::File                                                               [ MD5: b7f9029ac9e90dc1d509a95d12103c69 ]
#                  5.034000  perl                                                                            [ MD5: 7ff4834ac11bbabc4a34813f6843c8b8 ]
#        PL            1.11  PerlIO                                                                          [ MD5: bc841e455d781039c264158f6fc48cd9 ]
#        PA            1.97  POSIX                                                                           [ MD5: fd555bb975ebd465bb09baa0bbeef395 ]
#        PA            1.55  Scalar::Util                                                                    [ MD5: a22d28f90955ff2a37ae8b1dec4611a0 ]
#  $INC[10]            0.21  Scope::Guard                                                                    [ MD5: 914494bdeb65cd340f14eae265635cf2 ]
#        PL            1.02  SelectSaver                                                                     [ MD5: bddc465e351ad0508581b94ef112d322 ]
#  $INC[10]            1.91  SQL::Abstract::Classic                                                          [ MD5: 82c47bb99257b1225bb3576458e85992 ]
#  $INC[10]                  SQL::Abstract::Tree                                                             [ MD5: 4ebd475571c49fd341fd961558c89c7b ]
#  $INC[10]                  SQL::Abstract::Util                                                             [ MD5: 4599b28bcd164597e690650c495bd658 ]
#        SA            3.25  Storable                                                                        [ MD5: e9a33f56cbcade2846ccdb2e4a0dd2c6 ]
#        PL            1.12  strict                                                                          [ MD5: 31b6105d6dc1cde54154291b86c8b285 ]
#  $INC[10]        2.006006  Sub::Defer                                                                      [ MD5: d3942ab62222394a34d49d8a4e5d7e69 ]
#  $INC[10]        0.001013  Sub::Exporter::Progressive                                                      [ MD5: 5f37412f2438f87c7b088c7b2e6dd8ab ]
#   $INC[6]            0.26  Sub::Name                                                                       [ MD5: 9ffca0ac7776cb7653a81b85330b6b71 ]
#  $INC[10]        2.006006  Sub::Quote                                                                      [ MD5: 5601633673df930e47b212c2022b4eec ]
#        PA            1.55  Sub::Util                                                                       [ MD5: 7e1303211a97edca3318eaeb5d765d9d ]
#        PL            1.09  Symbol                                                                          [ MD5: 1212e080ddc044e44a9ae4c8350f1338 ]
#        SL        1.302190  Test2::API                                                                      [ MD5: 3a9c301b324592aef1efae28db633e13 ]
#        SL        1.302190  Test2::API::Context                                                             [ MD5: 1658bd027cc95dc945eec16a9a4880b5 ]
#        SL        1.302190  Test2::API::Instance                                                            [ MD5: 6de6be6e9d41a61b2a5629d4fa9a4dae ]
#        SL        1.302190  Test2::API::Stack                                                               [ MD5: 6291b9bc736f024da94269567d2394a5 ]
#        SL        1.302190  Test2::Event                                                                    [ MD5: b4b487e390573a729d216b62d842801a ]
#        SL        1.302190  Test2::Event::Bail                                                              [ MD5: 80de46c8bd525d4e9b91fcaae5d978ef ]
#        SL        1.302190  Test2::Event::Diag                                                              [ MD5: cbe4a79127d0ba487bd45d0cb09284de ]
#        SL        1.302190  Test2::Event::Exception                                                         [ MD5: cf39c6da232557143fd5ecceffa59163 ]
#        SL        1.302190  Test2::Event::Fail                                                              [ MD5: e7fa81ec1a5792295ccf29ea21d6ae70 ]
#        SL        1.302190  Test2::Event::Note                                                              [ MD5: d1d29e6d3a6e72de8f296e50c8b5a913 ]
#        SL        1.302190  Test2::Event::Ok                                                                [ MD5: b592b49a54a1ec878178ae677cbe81c4 ]
#        SL        1.302190  Test2::Event::Pass                                                              [ MD5: bf5d732f139e44dc64b3611149419c90 ]
#        SL        1.302190  Test2::Event::Plan                                                              [ MD5: 9e021c781988c7389ba90117a6e342eb ]
#        SL        1.302190  Test2::Event::Skip                                                              [ MD5: bd2c7672738ac4c374ad25b990d88a62 ]
#        SL        1.302190  Test2::Event::Subtest                                                           [ MD5: 8ec3e4dafa8aa0335bee5a99cd904a00 ]
#        SL        1.302190  Test2::Event::V2                                                                [ MD5: 2364822dd0abe4a193695e242c94a6b3 ]
#        SL        1.302190  Test2::Event::Waiting                                                           [ MD5: ebb8b3cd5dfe43fd2a9fe399bdeeb001 ]
#        SL        1.302190  Test2::EventFacet                                                               [ MD5: 210dab9da36aada13e0ff27582cf0fc0 ]
#        SL        1.302190  Test2::EventFacet::About                                                        [ MD5: d146c13f7bfd3409fed4af15f4864f76 ]
#        SL        1.302190  Test2::EventFacet::Amnesty                                                      [ MD5: 447dda1594c407e8a622f957e739e5b3 ]
#        SL        1.302190  Test2::EventFacet::Assert                                                       [ MD5: 85fcdb6fa4b4831af6fa2b14b6ca4809 ]
#        SL        1.302190  Test2::EventFacet::Control                                                      [ MD5: ed1e40382e6de89c590cf5f6a0f6851c ]
#        SL        1.302190  Test2::EventFacet::Error                                                        [ MD5: aca6211e00af2565f982fd281b565930 ]
#        SL        1.302190  Test2::EventFacet::Hub                                                          [ MD5: 3497901c0be31411786da0339b602dd2 ]
#        SL        1.302190  Test2::EventFacet::Info                                                         [ MD5: 364a0d4ff900a5eeb481e80e8f345506 ]
#        SL        1.302190  Test2::EventFacet::Meta                                                         [ MD5: a08fa87da18428a992d4d0eb46ffaa99 ]
#        SL        1.302190  Test2::EventFacet::Parent                                                       [ MD5: 7549464383743af13b7619e684b63fdf ]
#        SL        1.302190  Test2::EventFacet::Plan                                                         [ MD5: 1d1c2a615ea7af958a6e1be08b25a9a4 ]
#        SL        1.302190  Test2::EventFacet::Trace                                                        [ MD5: d93e45b091562bbf77f2ba1ed3e0df2d ]
#        SL        1.302190  Test2::Formatter                                                                [ MD5: 5c5775bf38f3da638deb1b1efbc1b783 ]
#        SL        1.302190  Test2::Formatter::TAP                                                           [ MD5: ccaabc641f09ff8b5b69495831711155 ]
#        SL        1.302190  Test2::Hub                                                                      [ MD5: d00a2eba7b905b238518c281c1e568e4 ]
#        SL        1.302190  Test2::Hub::Interceptor                                                         [ MD5: 3b3cc1987e6e9c5bc9a01f97651282e3 ]
#        SL        1.302190  Test2::Hub::Interceptor::Terminator                                             [ MD5: de8e1120b69d14303cba4bdcfd60be48 ]
#        SL        1.302190  Test2::Hub::Subtest                                                             [ MD5: 0f014d2ce5fe26912d41e1244ea6b85a ]
#        SL        1.302190  Test2::Util                                                                     [ MD5: 5228d81d916abcc5c1096a5d80907213 ]
#        SL        1.302190  Test2::Util::ExternalMeta                                                       [ MD5: c209cebb34567000291b3a5fc585ec5f ]
#        SL        1.302190  Test2::Util::Facets2Legacy                                                      [ MD5: f04f9ec9e5c49c7c0398b96f116f3563 ]
#        SL        1.302190  Test2::Util::HashBase                                                           [ MD5: d47d8e7cf14b5dfeff4f9102e569abad ]
#        SL        1.302190  Test2::Util::Trace                                                              [ MD5: 993c68caf9c177347bb47a079f29fb61 ]
#        SL        1.302190  Test::Builder                                                                   [ MD5: fc42321fdb0d6900590dfc64cd315bf3 ]
#        SL        1.302190  Test::Builder::Formatter                                                        [ MD5: cd1e35a68b59305535a0a8fb1c1309f0 ]
#        SL        1.302190  Test::Builder::Module                                                           [ MD5: f543801ae1c797b39771adcb7bf61534 ]
#        SL        1.302190  Test::Builder::TodoDiag                                                         [ MD5: 6b82ddf328037a8c393f2c4413a9448c ]
#        SL        1.302190  Test::More                                                                      [ MD5: cff473a3c02b51a7eb2339129f42e77d ]
#        PL            1.05  Tie::Hash                                                                       [ MD5: acc4709f0adb89bef2863771b6995d2b ]
#        PA          1.9767  Time::HiRes                                                                     [ MD5: 5567fd697bdb99195e9d55d2ef6f8594 ]
#  $INC[10]            0.31  Try::Tiny                                                                       [ MD5: bd4812ceab0afd05e1c985d727a8b3a1 ]
#        PL            1.24  utf8                                                                            [ MD5: 7d644c7ccecc817424b5b9c0cf4c591b ]
#   $INC[6]            0.62  Variable::Magic                                                                 [ MD5: f799b01d18fef4f04032b0737bca868c ]
#        PL            1.05  vars                                                                            [ MD5: fec1c1985d96c2edd842ff2b71821afb ]
#        SA          0.9929  version                                                                         [ MD5: 33dfd312065e371a3041bac12dcae7c2 ]
#        SA          0.9929  version::regex                                                                  [ MD5: 1ba9cdbd93b3c9ebe720b5f90d868653 ]
#        SA          0.9929  version::vxs                                                                    [ MD5: 8ee776a5382d13336bf16a377ad65783 ]
#        PL            1.51  warnings                                                                        [ MD5: 76151d4450779687732f74c7a762fe96 ]
#        PL            1.04  warnings::register                                                              [ MD5: 2d8f6ce093a2176b982c0e12c0194b3b ]
#        PL            0.30  XSLoader                                                                        [ MD5: f868a2bca863df438aafe6a677cbfa42 ]
# =============================
# 
# List of loadable modules within both *OPTIONAL* and core dependency chains
# present on this system (modules sourced from ./blib, ./lib, ./t, and ./xt
# with versions identical to their parent namespace were omitted for brevity)
# 
#     *** Note that *MANY* of these modules will *NEVER* be loaded ***
#             *** during normal operation of DBIx::Class ***
# 
# 
t/00describe_environment.t .......................... ok
t/04_c3_mro.t ....................................... ok
t/05components.t .................................... ok
t/100extra_source.t ................................. ok
t/100populate.t ..................................... ok
t/101populate_rs.t .................................. ok
t/101source.t ....................................... ok
t/102load_classes.t ................................. ok
t/103many_to_many_warning.t ......................... ok
t/104view.t ......................................... ok
t/106dbic_carp.t .................................... ok
t/107obj_result_class.t ............................. ok
t/18insert_default.t ................................ ok
t/19retrieve_on_insert.t ............................ ok
t/20setuperrors.t ................................... ok
t/26dumper.t ........................................ ok
t/33exception_wrap.t ................................ ok
t/34exception_action.t .............................. ok
t/35exception_inaction.t ............................ ok
t/39load_namespaces_1.t ............................. ok
t/39load_namespaces_2.t ............................. ok
t/39load_namespaces_3.t ............................. ok
t/39load_namespaces_4.t ............................. ok
t/39load_namespaces_exception.t ..................... ok
t/39load_namespaces_rt41083.t ....................... ok
t/39load_namespaces_stress.t ........................ ok
t/40compose_connection.t ............................ ok
t/40resultsetmanager.t .............................. ok
t/46where_attribute.t ............................... ok
t/50fork.t .......................................... skipped: Test needs DBD::Pg (see DBIx::Class::Optional::Dependencies for details)
t/51threadnodb.t .................................... skipped: your perl does not support ithreads
t/51threads.t ....................................... skipped: your perl does not support ithreads
t/51threadtxn.t ..................................... skipped: your perl does not support ithreads
t/52leaks.t ......................................... ok
t/53lean_startup.t .................................. ok
t/55namespaces_cleaned.t ............................ ok
t/60core.t .......................................... ok
t/61findnot.t ....................................... ok
t/63register_class.t ................................ ok
t/63register_column.t ............................... ok
t/63register_source.t ............................... ok
t/64db.t ............................................ ok
t/65multipk.t ....................................... ok
t/69update.t ........................................ ok
t/70auto.t .......................................... ok
t/71mysql.t ......................................... skipped: Set $ENV{DBICTEST_MYSQL_DSN}, _USER and _PASS to run this test
t/72pg.t ............................................ skipped: Set $ENV{DBICTEST_PG_DSN}, _USER and _PASS to run this test
t/72pg_bytea.t ...................................... skipped: Test needs DBD::Pg (see DBIx::Class::Optional::Dependencies for details)
t/73oracle.t ........................................ skipped: Set $ENV{DBICTEST_ORA_DSN}, _USER and _PASS to run this test.
t/73oracle_blob.t ................................... skipped: Set $ENV{DBICTEST_ORA_DSN}, _USER and _PASS to run this test.
t/73oracle_hq.t ..................................... skipped: Set $ENV{DBICTEST_ORA_DSN}, _USER and _PASS to run this test.
t/745db2.t .......................................... skipped: Set $ENV{DBICTEST_DB2_DSN}, _USER and _PASS to run this test
t/746db2_400.t ...................................... skipped: Set $ENV{DBICTEST_DB2_400_DSN}, _USER and _PASS to run this test
t/746mssql.t ........................................ skipped: Set $ENV{DBICTEST_MSSQL_ODBC_DSN}, _USER and _PASS to run this test
t/746sybase.t ....................................... skipped: Set $ENV{DBICTEST_SYBASE_DSN}, _USER and _PASS to run this test. Warning: This test drops and creates the tables: 'artist', 'money_test' and 'bindtype_test'
t/747mssql_ado.t .................................... skipped: Set $ENV{DBICTEST_MSSQL_ADO_DSN}, _USER and _PASS to run this test
t/748informix.t ..................................... skipped: Set $ENV{DBICTEST_INFORMIX_DSN}, _USER and _PASS to run this test
t/749sqlanywhere.t .................................. skipped: Set $ENV{DBICTEST_SQLANYWHERE_DSN} and/or $ENV{DBICTEST_SQLANYWHERE_ODBC_DSN},
t/74mssql.t ......................................... skipped: Set $ENV{DBICTEST_MSSQL_DSN}, _USER and _PASS to run this test
t/750firebird.t ..................................... skipped: Set $ENV{DBICTEST_FIREBIRD_DSN} and/or $ENV{DBICTEST_FIREBIRD_INTERBASE_DSN} and/or $ENV{DBICTEST_FIREBIRD_ODBC_DSN}, _USER and _PASS to run these tests. WARNING: this test creates and drops the tables "artist", "bindtype_test" and "sequence_test"; the generators "gen_artist_artistid", "pkid1_seq", "pkid2_seq" and "nonpkid_seq" and the trigger "artist_bi".
t/751msaccess.t ..................................... skipped: Set $ENV{DBICTEST_MSACCESS_ODBC_DSN} and/or $ENV{DBICTEST_MSACCESS_ADO_DSN} (and optionally _USER and _PASS) to run these tests.
t/752sqlite.t ....................................... ok
t/76joins.t ......................................... ok
t/76select.t ........................................ ok
t/77join_count.t .................................... ok
t/78self_referencial.t .............................. ok
t/79aliasing.t ...................................... ok
t/80unique.t ........................................ ok
t/82cascade_copy.t .................................. ok
t/83cache.t ......................................... ok
t/84serialize.t ..................................... ok
t/85utf8.t .......................................... ok
t/86might_have.t .................................... ok
t/86sqlt.t .......................................... skipped: Test needs SQL::Translator >= 0.11018 (see DBIx::Class::Optional::Dependencies for details)
t/87ordered.t ....................................... ok
t/88result_set_column.t ............................. ok
t/90ensure_class_loaded.t ........................... ok
t/90join_torture.t .................................. ok
t/91merge_joinpref_attr.t ........................... ok
t/93autocast.t ...................................... ok
t/93single_accessor_object.t ........................ ok
t/94pk_mutation.t ................................... ok
t/94versioning.t .................................... skipped: Set $ENV{DBICTEST_MYSQL_DSN}, _USER and _PASS to run this test
t/96_is_deteministic_value.t ........................ skipped: Test needs DateTime >= 0.55, DateTime::Format::Strptime >= 1.2
t/97result_class.t .................................. ok
t/99dbic_sqlt_parser.t .............................. skipped: Test needs SQL::Translator >= 0.11018 (see DBIx::Class::Optional::Dependencies for details)
t/admin/01load.t .................................... skipped: Test needs JSON::Any >= 1.23, Moose >= 0.98, MooseX::Types >= 0.21, MooseX::Types::JSON >= 0.02, MooseX::Types::LoadableClass >= 0.011, MooseX::Types::Path::Class >= 0.05 (see DBIx::Class::Optional::Dependencies for details)
t/admin/02ddl.t ..................................... skipped: Test needs JSON::Any >= 1.23, Moose >= 0.98, MooseX::Types >= 0.21, MooseX::Types::JSON >= 0.02, MooseX::Types::LoadableClass >= 0.011, MooseX::Types::Path::Class >= 0.05 (see DBIx::Class::Optional::Dependencies for details)
t/admin/03data.t .................................... skipped: Test needs JSON::Any >= 1.23, Moose >= 0.98, MooseX::Types >= 0.21, MooseX::Types::JSON >= 0.02, MooseX::Types::LoadableClass >= 0.011, MooseX::Types::Path::Class >= 0.05 (see DBIx::Class::Optional::Dependencies for details)
t/admin/10script.t .................................. skipped: Test needs Cpanel::JSON::XS, Getopt::Long::Descriptive >= 0.081, JSON, JSON::Any >= 1.31, JSON::DWIW, JSON::XS, Moose >= 0.98, MooseX::Types >= 0.21, MooseX::Types::JSON >= 0.02, MooseX::Types::LoadableClass >= 0.011, MooseX::Types::Path::Class >= 0.05, Text::CSV >= 1.16
t/cdbi/01-columns.t ................................. skipped: Class::DBI required for this test
t/cdbi/02-Film.t .................................... skipped: Class::DBI required for this test
t/cdbi/03-subclassing.t ............................. skipped: Class::DBI required for this test
t/cdbi/04-lazy.t .................................... skipped: Class::DBI required for this test
t/cdbi/06-hasa.t .................................... skipped: Class::DBI required for this test
t/cdbi/08-inheritcols.t ............................. skipped: Class::DBI required for this test
t/cdbi/09-has_many.t ................................ skipped: Class::DBI required for this test
t/cdbi/11-triggers.t ................................ skipped: Class::DBI required for this test
t/cdbi/12-filter.t .................................. skipped: Class::DBI required for this test
t/cdbi/13-constraint.t .............................. skipped: Class::DBI required for this test
t/cdbi/14-might_have.t .............................. skipped: Class::DBI required for this test
t/cdbi/15-accessor.t ................................ skipped: Class::DBI required for this test
t/cdbi/16-reserved.t ................................ skipped: Class::DBI required for this test
t/cdbi/18-has_a.t ................................... skipped: Class::DBI required for this test
t/cdbi/19-set_sql.t ................................. skipped: Class::DBI required for this test
t/cdbi/21-iterator.t ................................ skipped: Class::DBI required for this test
t/cdbi/22-deflate_order.t ........................... skipped: Class::DBI required for this test
t/cdbi/22-self_referential.t ........................ skipped: Class::DBI required for this test
t/cdbi/23-cascade.t ................................. skipped: Class::DBI required for this test
t/cdbi/24-meta_info.t ............................... skipped: Class::DBI required for this test
t/cdbi/26-mutator.t ................................. skipped: Class::DBI required for this test
t/cdbi/30-pager.t ................................... skipped: Class::DBI required for this test
t/cdbi/68-inflate_has_a.t ........................... skipped: Class::DBI required for this test
t/cdbi/70_implicit_inflate.t ........................ skipped: Test needs DateTime >= 0.55, DateTime::Format::SQLite, DateTime::Format::Strptime >= 1.2
t/cdbi/71_column_object.t ........................... skipped: The tested functionality is only available in Class::DBI >= 3.0.5
t/cdbi/98-failure.t ................................. skipped: Class::DBI required for this test
t/cdbi/abstract/search_where.t ...................... skipped: Class::DBI required for this test
t/cdbi/columns_as_hashes.t .......................... skipped: Class::DBI required for this test
t/cdbi/columns_dont_override_custom_accessors.t ..... skipped: Class::DBI required for this test
t/cdbi/construct.t .................................. skipped: Class::DBI required for this test
t/cdbi/copy.t ....................................... skipped: Class::DBI required for this test
t/cdbi/DeepAbstractSearch/01_search.t ............... skipped: Class::DBI required for this test
t/cdbi/early_column_heisenbug.t ..................... skipped: Class::DBI required for this test
t/cdbi/has_many_loads_foreign_class.t ............... skipped: Class::DBI required for this test
t/cdbi/hasa_without_loading.t ....................... skipped: Class::DBI required for this test
t/cdbi/max_min_value_of.t ........................... skipped: Class::DBI required for this test
t/cdbi/mk_group_accessors.t ......................... skipped: Class::DBI required for this test
t/cdbi/multi_column_set.t ........................... skipped: Class::DBI required for this test
t/cdbi/object_cache.t ............................... skipped: Class::DBI required for this test
t/cdbi/retrieve_from_sql_with_limit.t ............... skipped: Class::DBI required for this test
t/cdbi/set_to_undef.t ............................... skipped: Class::DBI required for this test
t/cdbi/set_vs_DateTime.t ............................ skipped: Class::DBI required for this test
t/cdbi/sweet/08pager.t .............................. skipped: Class::DBI required for this test
t/count/count_rs.t .................................. ok
t/count/distinct.t .................................. ok
t/count/group_by_func.t ............................. ok
t/count/grouped_pager.t ............................. ok
t/count/in_subquery.t ............................... ok
t/count/joined.t .................................... ok
t/count/prefetch.t .................................. ok
t/count/search_related.t ............................ ok
t/debug/bulk-insert.t ............................... ok
t/debug/core.t ...................................... ok
t/debug/no-repeats.t ................................ ok
t/debug/pretty.t .................................... skipped: Test needs JSON::Any >= 1.23
t/debug/show-progress.t ............................. ok
t/delete/cascade_missing.t .......................... ok
t/delete/complex.t .................................. ok
t/delete/m2m.t ...................................... ok
t/delete/related.t .................................. ok
t/discard_changes_in_DESTROY.t ...................... ok
t/inflate/core.t .................................... skipped: Inflation tests need DateTime >= 0.55, DateTime::Format::Strptime >= 1.2
t/inflate/datetime.t ................................ skipped: DT inflation tests need DateTime >= 0.55, DateTime::Format::SQLite, DateTime::Format::Strptime >= 1.2
t/inflate/datetime_determine_parser.t ............... skipped: Test needs DateTime >= 0.55, DateTime::Format::SQLite, DateTime::Format::Strptime >= 1.2
t/inflate/datetime_firebird.t ....................... skipped: Set $ENV{DBICTEST_FIREBIRD_DSN} and/or $ENV{DBICTEST_FIREBIRD_INTERBASE_DSN} and/or $ENV{DBICTEST_FIREBIRD_ODBC_DSN}, _USER and _PASS to run these tests. WARNING: This test drops and creates a table called 'event'
t/inflate/datetime_informix.t ....................... skipped: Test needs DateTime >= 0.55, DateTime::Format::Strptime >= 1.2 and
t/inflate/datetime_missing_deps.t ................... ok
t/inflate/datetime_msaccess.t ....................... skipped: Set $ENV{DBICTEST_MSACCESS_ODBC_DSN} and/or $ENV{DBICTEST_MSACCESS_ADO_DSN} (and optionally _USER and _PASS) to run these tests.
t/inflate/datetime_mssql.t .......................... skipped: Set $ENV{DBICTEST_MSSQL_ODBC_DSN} and/or $ENV{DBICTEST_MSSQL_DSN} and/or $ENV{DBICTEST_MSSQL_ADO_DSN} _USER and _PASS to run this test
t/inflate/datetime_mysql.t .......................... skipped: Inflation tests need DateTime >= 0.55, DateTime::Format::MySQL, DateTime::Format::Strptime >= 1.2
t/inflate/datetime_oracle.t ......................... skipped: Set $ENV{DBICTEST_ORA_DSN}, _USER and _PASS to run this test. Warning: This test drops and creates a table called 'event'
t/inflate/datetime_pg.t ............................. skipped: Test needs DateTime >= 0.55, DateTime::Format::Pg >= 0.16004, DateTime::Format::Strptime >= 1.2
t/inflate/datetime_sqlanywhere.t .................... skipped: Set $ENV{DBICTEST_SQLANYWHERE_DSN} and/or $ENV{DBICTEST_SQLANYWHERE_ODBC_DSN}
t/inflate/datetime_sybase.t ......................... skipped: Test needs DateTime >= 0.55, DateTime::Format::Strptime >= 1.2 and
t/inflate/file_column.t ............................. ok
t/inflate/hri.t ..................................... ok
t/inflate/hri_torture.t ............................. ok
t/inflate/serialize.t ............................... ok
t/multi_create/cd_single.t .......................... ok
t/multi_create/diamond.t ............................ ok
t/multi_create/existing_in_chain.t .................. ok
t/multi_create/find_or_multicreate.t ................ ok
t/multi_create/has_many.t ........................... ok
t/multi_create/in_memory.t .......................... ok
t/multi_create/insert_defaults.t .................... ok
t/multi_create/m2m.t ................................ ok
t/multi_create/multilev_single_PKeqFK.t ............. ok
t/multi_create/reentrance_count.t ................... skipped: Disable test entirely until multicreate is rewritten in terms of subqueries
t/multi_create/standard.t ........................... ok
t/multi_create/torture.t ............................ ok
t/ordered/cascade_delete.t .......................... ok
t/ordered/unordered_movement.t ...................... ok
t/pager/data_page_compat/constructor.t .............. ok
t/pager/data_page_compat/simple.t ................... ok
t/pager/dbic_core.t ................................. ok
t/prefetch/attrs_untouched.t ........................ ok
t/prefetch/correlated.t ............................. ok
t/prefetch/count.t .................................. ok
t/prefetch/diamond.t ................................ ok
t/prefetch/double_prefetch.t ........................ ok
t/prefetch/empty_cache.t ............................ ok
t/prefetch/false_colvalues.t ........................ ok
t/prefetch/grouped.t ................................ ok
t/prefetch/incomplete.t ............................. ok
t/prefetch/join_type.t .............................. ok
t/prefetch/lazy_cursor.t ............................ ok
t/prefetch/manual.t ................................. ok
t/prefetch/multiple_hasmany.t ....................... ok
t/prefetch/multiple_hasmany_torture.t ............... ok
t/prefetch/o2m_o2m_order_by_with_limit.t ............ ok
t/prefetch/one_to_many_to_one.t ..................... ok
t/prefetch/refined_search_on_relation.t ............. ok
t/prefetch/restricted_children_set.t ................ ok
t/prefetch/standard.t ............................... ok
t/prefetch/via_search_related.t ..................... ok
t/prefetch/with_limit.t ............................. ok
t/relationship/after_update.t ....................... ok
t/relationship/core.t ............................... ok
t/relationship/custom.t ............................. ok
t/relationship/custom_opaque.t ...................... ok
t/relationship/custom_with_null_in_cond.t ........... ok
t/relationship/doesnt_exist.t ....................... ok
t/relationship/dynamic_foreign_columns.t ............ ok
t/relationship/info.t ............................... ok
t/relationship/malformed_declaration.t .............. ok
t/relationship/proxy.t .............................. ok
t/relationship/set_column_on_fk.t ................... ok
t/relationship/unresolvable.t ....................... ok
t/relationship/update_or_create_multi.t ............. ok
t/relationship/update_or_create_single.t ............ ok
t/resultset/as_query.t .............................. ok
t/resultset/as_subselect_rs.t ....................... ok
t/resultset/bind_attr.t ............................. ok
t/resultset/find_on_subquery_cond.t ................. ok
t/resultset/inflate_result_api.t .................... ok
t/resultset/inflatemap_abuse.t ...................... ok
t/resultset/is_ordered.t ............................ ok
t/resultset/is_paged.t .............................. ok
t/resultset/nulls_only.t ............................ ok
t/resultset/plus_select.t ........................... ok
t/resultset/rowparser_internals.t ................... ok
t/resultset/update_delete.t ......................... ok
t/resultset_class.t ................................. ok
t/resultset_overload.t .............................. ok
t/resultsource/bare_resultclass_exception.t ......... ok
t/resultsource/set_primary_key.t .................... ok
t/row/copy_with_extra_selection.t ................... ok
t/row/filter_column.t ............................... ok
t/row/find_one_has_many.t ........................... ok
t/row/inflate_result.t .............................. ok
t/row/pkless.t ...................................... ok
t/row/set_extra_column.t ............................ ok
t/schema/anon.t ..................................... ok
t/schema/clone.t .................................... ok
t/search/deprecated_attributes.t .................... ok
t/search/distinct.t ................................. ok
t/search/empty_attrs.t .............................. ok
t/search/preserve_original_rs.t ..................... ok
t/search/reentrancy.t ............................... ok
t/search/related_has_many.t ......................... ok
t/search/related_strip_prefetch.t ................... ok
t/search/select_chains.t ............................ ok
t/search/select_chains_unbalanced.t ................. ok
t/search/stack_cond.t ............................... ok
t/search/subquery.t ................................. ok
t/search/void.t ..................................... ok
t/sqlmaker/bind_transport.t ......................... ok
t/sqlmaker/core.t ................................... ok
t/sqlmaker/core_quoted.t ............................ ok
t/sqlmaker/dbihacks_internals.t ..................... ok
t/sqlmaker/hierarchical/oracle.t .................... skipped: Test needs Math::Base36 >= 0.07
t/sqlmaker/legacy_joins.t ........................... ok
t/sqlmaker/limit_dialects/basic.t ................... ok
t/sqlmaker/limit_dialects/custom.t .................. ok
t/sqlmaker/limit_dialects/fetch_first.t ............. ok
t/sqlmaker/limit_dialects/first_skip.t .............. ok
t/sqlmaker/limit_dialects/generic_subq.t ............ ok
t/sqlmaker/limit_dialects/mssql_torture.t ........... ok
t/sqlmaker/limit_dialects/rno.t ..................... ok
t/sqlmaker/limit_dialects/rownum.t .................. ok
t/sqlmaker/limit_dialects/skip_first.t .............. ok
t/sqlmaker/limit_dialects/toplimit.t ................ ok
t/sqlmaker/limit_dialects/torture.t ................. ok
t/sqlmaker/literal_with_bind.t ...................... ok
t/sqlmaker/msaccess.t ............................... ok
t/sqlmaker/mysql.t .................................. ok
t/sqlmaker/nest_deprec.t ............................ ok
t/sqlmaker/oracle.t ................................. skipped: Test needs Math::Base36 >= 0.07
t/sqlmaker/oraclejoin.t ............................. skipped: Test needs Math::Base36 >= 0.07
t/sqlmaker/order_by_bindtransport.t ................. ok
t/sqlmaker/order_by_func.t .......................... ok
t/sqlmaker/pg.t ..................................... ok
t/sqlmaker/quotes.t ................................. ok
t/sqlmaker/rebase.t ................................. ok
t/sqlmaker/sqlite.t ................................. ok
t/storage/base.t .................................... ok
t/storage/cursor.t .................................. ok
t/storage/dbh_do.t .................................. ok
t/storage/dbi_coderef.t ............................. ok
t/storage/dbi_env.t ................................. ok
t/storage/deploy.t .................................. skipped: Test needs SQL::Translator >= 0.11018 (see DBIx::Class::Optional::Dependencies for details)
t/storage/deprecated_exception_source_bind_attrs.t .. ok
t/storage/disable_sth_caching.t ..................... ok
t/storage/error.t ................................... ok
t/storage/exception.t ............................... ok
t/storage/global_destruction.t ...................... ok
t/storage/nobindvars.t .............................. ok
t/storage/on_connect_call.t ......................... ok
t/storage/on_connect_do.t ........................... ok
t/storage/ping_count.t .............................. ok
t/storage/prefer_stringification.t .................. ok
t/storage/quote_names.t ............................. ok
t/storage/reconnect.t ............................... ok
t/storage/replicated.t .............................. skipped: Test needs Clone, Moose >= 0.98, MooseX::Types >= 0.21, MooseX::Types::LoadableClass >= 0.011, Test::Moose
t/storage/savepoints.t .............................. ok
t/storage/stats.t ................................... ok
t/storage/txn.t ..................................... ok
t/storage/txn_scope_guard.t ......................... ok
t/update/all.t ...................................... ok
t/update/ident_cond.t ............................... ok
t/update/type_aware.t ............................... ok
# 
# 
# 
# 211 contributors made this library what it is today
# 
# 
# Distinguished patrons:
#   * ( 2014 ~ 2015 ) Henry Van Styn, creator of http://p3rl.org/RapidApp
# 
# 
t/zzzzzzz_authors.t ................................. ok
t/zzzzzzz_perl_perf_bug.t ........................... skipped: Skipping as system appears to be a smoker
t/zzzzzzz_sqlite_deadlock.t ......................... ok
xt/authors.t ........................................ ok
xt/dbictest_unlink_guard.t .......................... ok
xt/footers.t ........................................ ok
xt/old_envvars.t .................................... ok
xt/optional_deps.t .................................. ok
xt/pod.t ............................................ skipped: Test needs: Test::Pod >= 1.42
xt/podcoverage.t .................................... skipped: Test needs: Pod::Coverage >= 0.20, Test::Pod::Coverage >= 1.08
xt/quote_sub.t ...................................... ok
xt/standalone_testschema_resultclasses.t ............ ok
xt/strictures.t ..................................... skipped: Test needs: Test::Strict >= 0.20
xt/whitespace.t ..................................... skipped: Test needs: Test::EOL >= 1.0, Test::NoTabs >= 0.9
All tests successful.

Test Summary Report
-------------------
t/sqlmaker/limit_dialects/generic_subq.t          (Wstat: 0 Tests: 19 Failed: 0)
  TODO passed:   9, 11, 13, 15, 17
Files=325, Tests=42258, 117 wallclock secs ( 3.76 usr  0.42 sys + 104.75 cusr  7.12 csys = 116.05 CPU)
Result: PASS


PREREQUISITES:

Here is a list of prerequisites you specified and versions we
managed to load:

	  Module Name                        Have     Want
	  Class::Accessor::Grouped        0.10014  0.10012
	  Class::C3::Componentised       1.001002   1.0009
	  Class::Inspector                   1.36     1.24
	  Config::Any                        0.32     0.20
	  Context::Preserve                  0.03     0.01
	  DBD::SQLite                        1.70     1.29
	  DBI                               1.643     1.57
	  Data::Dumper::Concise             2.023    2.020
	  Devel::GlobalDestruction           0.14     0.09
	  ExtUtils::MakeMaker                7.64     6.59
	  File::Temp                       0.2311     0.22
	  Hash::Merge                       0.302     0.12
	  MRO::Compat                        0.15     0.12
	  Module::Find                       0.15     0.07
	  Moo                            2.005004    2.000
	  Package::Stash                     0.40     0.28
	  Path::Class                        0.37     0.18
	  SQL::Abstract::Classic             1.91     1.91
	  Scope::Guard                       0.21     0.03
	  Sub::Name                          0.26     0.04
	  Test::Deep                        1.130    0.101
	  Test::Exception                    0.43     0.31
	  Test::More                     1.302190     0.94
	  Test::Warn                         0.36     0.21
	  Text::Balanced                     2.04     2.00
	  Try::Tiny                          0.31     0.07
	  namespace::clean                   0.27     0.24

Perl module toolchain versions installed:
	Module Name                        Have
	CPANPLUS                         0.9914
	CPANPLUS::Dist::Build              0.90
	Cwd                                3.80
	ExtUtils::CBuilder             0.280236
	ExtUtils::Command                  7.64
	ExtUtils::Install                  2.20
	ExtUtils::MakeMaker                7.64
	ExtUtils::Manifest                 1.73
	ExtUtils::ParseXS                  3.44
	File::Spec                         3.80
	Module::Build                    0.4231
	Pod::Parser                           0
	Pod::Simple                        3.42
	Test2                          1.302190
	Test::Harness                      3.44
	Test::More                     1.302190
	version                          0.9929

******************************** NOTE ********************************
The comments above are created mechanically, possibly without manual
checking by the sender.  As there are many people performing automatic
tests on each upload to CPAN, it is likely that you will receive
identical messages about the same problem.

If you believe that the message is mistaken, please reply to the first
one with correction and/or additional informations, and do not take
it personally.  We appreciate your patience. :)
**********************************************************************

Additional comments:


This report was machine-generated by CPANPLUS::Dist::YACSmoke 1.08.
Powered by minismokebox version 0.68

CPANPLUS is prefering Build.PL

------------------------------
ENVIRONMENT AND OTHER CONTEXT
------------------------------

Environment variables:

    AUTOMATED_TESTING = 1
    LANG = en_GB.UTF-8
    LANGUAGE = en_GB:en
    NONINTERACTIVE_TESTING = 1
    PATH = /home/cpan/pit/bare-qm/conf/perl-5.34.0/.cpanplus/5.34.0/build/W0ncrUc1UC/DBIx-Class-0.082843/blib/script:/usr/local/bin:/usr/bin:/bin:/usr/local/games:/usr/games
    PERL5LIB = /home/cpan/pit/jail/PdCRTRK8wH/lib/perl5:/home/cpan/pit/bare-qm/conf/perl-5.34.0/.cpanplus/5.34.0/build/W0ncrUc1UC/DBIx-Class-0.082843/blib/lib:/home/cpan/pit/bare-qm/conf/perl-5.34.0/.cpanplus/5.34.0/build/W0ncrUc1UC/DBIx-Class-0.082843/blib/arch
    PERL5_CPANPLUS_IS_RUNNING = 1604
    PERL5_CPANPLUS_IS_VERSION = 0.9914
    PERL5_MINISMOKEBOX = 0.68
    PERL5_YACSMOKE_BASE = /home/cpan/pit/bare-qm/conf/perl-5.34.0
    PERL_EXTUTILS_AUTOINSTALL = --defaultdeps
    PERL_LOCAL_LIB_ROOT = /home/cpan/pit/jail/PdCRTRK8wH
    PERL_MB_OPT = --install_base "/home/cpan/pit/jail/PdCRTRK8wH"
    PERL_MM_OPT = INSTALL_BASE=/home/cpan/pit/jail/PdCRTRK8wH
    PERL_MM_USE_DEFAULT = 1
    SHELL = /bin/bash
    TERM = screen.xterm-256color

Perl special variables (and OS-specific diagnostics, for MSWin32):

    Perl: $^X = /home/cpan/pit/bare-qm/perl-5.34.0/bin/perl
    UID:  $<  = 1001
    EUID: $>  = 1001
    GID:  $(  = 1001 1001
    EGID: $)  = 1001 1001


-------------------------------


--

Summary of my perl5 (revision 5 version 34 subversion 0) configuration:
   
  Platform:
    osname=linux
    osvers=5.10.0-12-686
    archname=i686-linux-quadmath
    uname='linux dagobah 5.10.0-12-686 #1 smp debian 5.10.103-1 (2022-03-07) i686 gnulinux '
    config_args='-des -Dprefix=/home/cpan/pit/bare-qm/perl-5.34.0 -Dusequadmath'
    hint=recommended
    useposix=true
    d_sigaction=define
    useithreads=undef
    usemultiplicity=undef
    use64bitint=undef
    use64bitall=undef
    uselongdouble=undef
    usemymalloc=n
    default_inc_excludes_dot=define
  Compiler:
    cc='cc'
    ccflags ='-fwrapv -fno-strict-aliasing -pipe -fstack-protector-strong -I/usr/local/include -D_LARGEFILE_SOURCE -D_FILE_OFFSET_BITS=64 -D_FORTIFY_SOURCE=2'
    optimize='-O2'
    cppflags='-fwrapv -fno-strict-aliasing -pipe -fstack-protector-strong -I/usr/local/include'
    ccversion=''
    gccversion='10.2.1 20210110'
    gccosandvers=''
    intsize=4
    longsize=4
    ptrsize=4
    doublesize=8
    byteorder=1234
    doublekind=3
    d_longlong=define
    longlongsize=8
    d_longdbl=define
    longdblsize=12
    longdblkind=3
    ivtype='long'
    ivsize=4
    nvtype='__float128'
    nvsize=16
    Off_t='off_t'
    lseeksize=8
    alignbytes=16
    prototype=define
  Linker and Libraries:
    ld='cc'
    ldflags =' -fstack-protector-strong -L/usr/local/lib'
    libpth=/usr/local/lib /usr/lib/i386-linux-gnu /usr/lib /usr/lib64
    libs=-lpthread -lnsl -lgdbm -ldl -lm -lcrypt -lutil -lc -lquadmath
    perllibs=-lpthread -lnsl -ldl -lm -lcrypt -lutil -lc -lquadmath
    libc=libc-2.31.so
    so=so
    useshrplib=false
    libperl=libperl.a
    gnulibc_version='2.31'
  Dynamic Linking:
    dlsrc=dl_dlopen.xs
    dlext=so
    d_dlsymun=undef
    ccdlflags='-Wl,-E'
    cccdlflags='-fPIC'
    lddlflags='-shared -O2 -L/usr/local/lib -fstack-protector-strong'


Characteristics of this binary (from libperl): 
  Compile-time options:
    HAS_TIMES
    PERLIO_LAYERS
    PERL_COPY_ON_WRITE
    PERL_DONT_CREATE_GVSV
    PERL_MALLOC_WRAP
    PERL_OP_PARENT
    PERL_PRESERVE_IVUV
    USE_LARGE_FILES
    USE_LOCALE
    USE_LOCALE_COLLATE
    USE_LOCALE_CTYPE
    USE_LOCALE_NUMERIC
    USE_LOCALE_TIME
    USE_PERLIO
    USE_PERL_ATOF
    USE_QUADMATH
  Built under linux
  Compiled at Mar 20 2022 16:22:37
  %ENV:
    PERL5LIB="/home/cpan/pit/jail/PdCRTRK8wH/lib/perl5:/home/cpan/pit/bare-qm/conf/perl-5.34.0/.cpanplus/5.34.0/build/W0ncrUc1UC/DBIx-Class-0.082843/blib/lib:/home/cpan/pit/bare-qm/conf/perl-5.34.0/.cpanplus/5.34.0/build/W0ncrUc1UC/DBIx-Class-0.082843/blib/arch"
    PERL5_CPANPLUS_IS_RUNNING="1604"
    PERL5_CPANPLUS_IS_VERSION="0.9914"
    PERL5_MINISMOKEBOX="0.68"
    PERL5_YACSMOKE_BASE="/home/cpan/pit/bare-qm/conf/perl-5.34.0"
    PERL_EXTUTILS_AUTOINSTALL="--defaultdeps"
    PERL_LOCAL_LIB_ROOT="/home/cpan/pit/jail/PdCRTRK8wH"
    PERL_MB_OPT="--install_base "/home/cpan/pit/jail/PdCRTRK8wH""
    PERL_MM_OPT="INSTALL_BASE=/home/cpan/pit/jail/PdCRTRK8wH"
    PERL_MM_USE_DEFAULT="1"
  @INC:
    /home/cpan/pit/jail/PdCRTRK8wH/lib/perl5/5.34.0/i686-linux-quadmath
    /home/cpan/pit/jail/PdCRTRK8wH/lib/perl5/5.34.0
    /home/cpan/pit/jail/PdCRTRK8wH/lib/perl5/i686-linux-quadmath
    /home/cpan/pit/jail/PdCRTRK8wH/lib/perl5
    /home/cpan/pit/bare-qm/conf/perl-5.34.0/.cpanplus/5.34.0/build/W0ncrUc1UC/DBIx-Class-0.082843/blib/lib
    /home/cpan/pit/bare-qm/conf/perl-5.34.0/.cpanplus/5.34.0/build/W0ncrUc1UC/DBIx-Class-0.082843/blib/arch
    /home/cpan/pit/bare-qm/perl-5.34.0/lib/site_perl/5.34.0/i686-linux-quadmath
    /home/cpan/pit/bare-qm/perl-5.34.0/lib/site_perl/5.34.0
    /home/cpan/pit/bare-qm/perl-5.34.0/lib/5.34.0/i686-linux-quadmath
    /home/cpan/pit/bare-qm/perl-5.34.0/lib/5.34.0