Astro-Catalog v4.33 Perl 5 v5.26.1 OpenBSD.amd64-openbsd

Status
Pass
From
Alceu Rodrigues de Freitas Junior
Dist
Astro-Catalog v4.33
Platform
Perl 5 v5.26.1 OpenBSD.amd64-openbsd
Date
2018-03-05 21:01:15
ID
57922150-20b8-11e8-b1c2-b9478c48ac9c
This distribution has been tested as part of the CPAN Testers
project, supporting the Perl programming language.  See
http://wiki.cpantesters.org/ for more information or email
questions to cpan-testers-discuss@perl.org


--
Dear Graham Bell,

This is a computer-generated report for Astro-Catalog-4.33
on perl 5.26.1, created by CPAN-Reporter-1.2018.

Thank you for uploading your work to CPAN.  Congratulations!
All tests were successful.

Sections of this report:

    * Tester comments
    * Program output
    * Prerequisites
    * Environment and other context

------------------------------
TESTER COMMENTS
------------------------------

Additional comments from tester:

this report is from an automated smoke testing program
and was not reviewed by a human for accuracy

------------------------------
PROGRAM OUTPUT
------------------------------

Output from './Build test':

# Astro::Catalog::IO::FITSTable can not locate Astro/FITS/CFITSIO.pm
# Astro::Catalog::IO::LCOGTFITSTable can not locate Astro/FITS/CFITSIO.pm
# Astro::Catalog::IO::VOTable can not locate Astro/VO/VOTable/Document.pm
t/1_compile.t ..... ok
t/2_astrom.t ...... ok
t/2_cluster.t ..... ok
t/2_findoff.t ..... ok
t/2_fitstable.t ... skipped: Tests require Astro::FITS::CFITSIO
t/2_gaiapick.t .... ok
t/2_jcmt.t ........ ok
t/2_jcmt_loose.t .. ok
t/2_northstar.t ... ok
t/2_ritmatch.t .... ok
t/2_sextractor.t .. ok
t/2_simple.t ...... ok
t/2_stl.t ......... ok
t/2_tst.t ......... ok
t/2_ukirtbs.t ..... ok
t/2_votable.t ..... skipped: Astro::VO::VOTable not installed
t/2_xy.t .......... ok
t/3_catalog.t ..... ok
t/3_item.t ........ ok
t/3_morphology.t .. ok
t/3_star.t ........ ok
t/4_cmc.t ......... ok
Unable to find plausible coordinate in string '------ ------ ------' at /home/goku/perl5/perlbrew/perls/perl-5.26.1/lib/site_perl/5.26.1/Astro/Coords/Equatorial.pm line 142.
Unable to find plausible coordinate in string '------ ----- ----' at /home/goku/perl5/perlbrew/perls/perl-5.26.1/lib/site_perl/5.26.1/Astro/Coords/Equatorial.pm line 144.
# Cannot connect to ESO GSC: Coordinates must be an Astro::Coords object at /mnt/cpan_build_dir/goku/Astro-Catalog-4.33-0/blib/lib/Astro/Catalog/Query/GSC.pm line 224.
t/4_gsc.t ......... ok
# Error 404: Failed to establish network connection using url http://scully.harvard.edu/~cgi/MPCheck.COM?needed=f&day=1.87&mot=h&limit=20&decl=-14+02+00&sort=d&type=p&oc=500&ra=07+13+42&year=2004&which=pos&month=3&TextArea=&tmot=s&ps=n&radius=300 at t/4_mpc.t line 104.
t/4_mpc.t ......... ok
Subroutine _call redefined at (eval 332) line 60.
Subroutine SesameService::want_som redefined at (eval 332) line 105.
Subroutine AUTOLOAD redefined at (eval 332) line 122.
Subroutine SesameService::Sesame redefined at (eval 332) line 120.
Subroutine SesameService::SesameXML redefined at (eval 332) line 120.
Subroutine SesameService::main redefined at (eval 332) line 120.
Subroutine SesameService::sesame redefined at (eval 332) line 120.
Subroutine SesameService::getAvailability redefined at (eval 332) line 120.
t/4_sesame.t ...... ok
# Can not construct Skycat client: unable to find a remote service named gsc@eso at t/4_skycat_gsc.t line 126.
t/4_skycat_gsc.t .. ok
# Cannot connect to USNO-A2: Error 404: Failed to establish network connection using url http://archive.eso.org/skycat/servers/usnoa_res?sort=ra&radmax=1&format=1&magfaint=100&object=HT Cas&magbright=0&nout=2000 at t/4_usnoa2.t line 174.
t/4_usnoa2.t ...... ok
All tests successful.
Files=27, Tests=2974, 41 wallclock secs ( 0.24 usr  0.63 sys + 24.24 cusr  6.16 csys = 31.27 CPU)
Result: PASS

------------------------------
PREREQUISITES
------------------------------

Prerequisite modules loaded:

requires:

    Module                    Need    Have    
    ------------------------- ------- --------
    Astro::Coords             0.12    0.14    
    Astro::Flux               0.01    0.01    
    Astro::Telescope          0.5     0.71    
    Carp                      1.01    1.38    
    Class::Struct             0.63    0.65    
    Data::Dumper              2.12    2.161   
    DateTime                  0       1.46    
    DateTime::Format::ISO8601 0       0.08    
    File::Spec                0.84    3.74    
    File::Temp                0.14    0.2304  
    LWP                       5.53    6.33    
    Misc::Quality             0.01    0.01    
    Net::Domain               2.13    3.11    
    Number::Uncertainty       0.01    1.4     
    Pod::Usage                1.14    1.69    
    Scalar::Util              1.14    1.50    
    SOAP::Lite                0       1.26    
    Time::Piece               1.08    1.3204  

build_requires:

    Module                    Need    Have    
    ------------------------- ------- --------
    Test::More                0       1.302127

configure_requires:

    Module                    Need    Have    
    ------------------------- ------- --------
    Module::Build             0.3     0.4224  

opt_requires:

    Module                    Need    Have    
    ------------------------- ------- --------
  ! Astro::FITS::CFITSIO      1.03    n/a     
  ! Astro::VO::VOTable        0.9     n/a     
    Tk                        804.029 804.034 


------------------------------
ENVIRONMENT AND OTHER CONTEXT
------------------------------

Environment variables:

    AUTOMATED_TESTING = 1
    DBD_MYSQL_TESTDB = test
    DBD_MYSQL_TESTHOST = localhost
    DBD_MYSQL_TESTPASSWORD = 
    DBD_MYSQL_TESTPORT = 3306
    DBD_MYSQL_TESTUSER = goku
    EXTENDED_TESTING = 1
    PATH = /home/goku/perl5/perlbrew/bin:/home/goku/perl5/perlbrew/perls/perl-5.26.1/bin:/home/goku/bin:/usr/bin:/bin:/usr/sbin:/sbin:/usr/X11R6/bin:/usr/local/bin:/usr/local/sbin
    PERL5LIB = 
    PERL5OPT = 
    PERL5_CPANPLUS_IS_RUNNING = 8439
    PERL5_CPAN_IS_RUNNING = 8439
    PERL5_CPAN_IS_RUNNING_IN_RECURSION = 42990,8439
    PERLBREW_HOME = /home/goku/.perlbrew
    PERLBREW_MANPATH = /home/goku/perl5/perlbrew/perls/perl-5.26.1/man
    PERLBREW_PATH = /home/goku/perl5/perlbrew/bin:/home/goku/perl5/perlbrew/perls/perl-5.26.1/bin
    PERLBREW_PERL = perl-5.26.1
    PERLBREW_ROOT = /home/goku/perl5/perlbrew
    PERLBREW_SHELLRC_VERSION = 0.82
    PERLBREW_VERSION = 0.82
    PERL_CR_SMOKER_CURRENT = Astro-Catalog-4.33
    PERL_EXTUTILS_AUTOINSTALL = --defaultdeps
    PERL_MM_USE_DEFAULT = 1
    SHELL = /usr/local/bin/bash
    TERM = xterm

Perl special variables (and OS-specific diagnostics, for MSWin32):

    $^X = /home/goku/perl5/perlbrew/perls/perl-5.26.1/bin/perl
    $UID/$EUID = 1001 / 1001
    $GID = 998 998 1001
    $EGID = 998 998 1001

Perl module toolchain versions installed:

    Module              Have    
    ------------------- --------
    CPAN                2.16    
    CPAN::Meta          2.150010
    Cwd                 3.74    
    ExtUtils::CBuilder  0.280230
    ExtUtils::Command   7.32    
    ExtUtils::Install   2.14    
    ExtUtils::MakeMaker 7.32    
    ExtUtils::Manifest  1.70    
    ExtUtils::ParseXS   3.35    
    File::Spec          3.74    
    JSON                2.97001 
    JSON::PP            2.97001 
    Module::Build       0.4224  
    Module::Signature   n/a     
    Parse::CPAN::Meta   2.150010
    Test::Harness       3.39    
    Test::More          1.302127
    YAML                1.24    
    YAML::Syck          1.30    
    version             0.9918  


--

Summary of my perl5 (revision 5 version 26 subversion 1) configuration:
   
  Platform:
    osname=openbsd
    osvers=6.2
    archname=OpenBSD.amd64-openbsd
    uname='openbsd cpan-smoker-openbsd 6.2 generic.mp#134 amd64 '
    config_args='-de -Dprefix=/home/goku/perl5/perlbrew/perls/perl-5.26.1 -Aeval:scriptdir=/home/goku/perl5/perlbrew/perls/perl-5.26.1/bin'
    hint=recommended
    useposix=true
    d_sigaction=define
    useithreads=undef
    usemultiplicity=undef
    use64bitint=define
    use64bitall=define
    uselongdouble=undef
    usemymalloc=n
    default_inc_excludes_dot=define
    bincompat5005=undef
  Compiler:
    cc='cc'
    ccflags ='-fno-strict-aliasing -pipe -fstack-protector-strong -I/usr/local/include -D_FORTIFY_SOURCE=2'
    optimize='-O2'
    cppflags='-fno-strict-aliasing -pipe -fstack-protector-strong -I/usr/local/include'
    ccversion=''
    gccversion='4.2.1 Compatible OpenBSD Clang 4.0.0 (tags/RELEASE_400/final)'
    gccosandvers=''
    intsize=4
    longsize=8
    ptrsize=8
    doublesize=8
    byteorder=12345678
    doublekind=3
    d_longlong=define
    longlongsize=8
    d_longdbl=define
    longdblsize=16
    longdblkind=3
    ivtype='long'
    ivsize=8
    nvtype='double'
    nvsize=8
    Off_t='off_t'
    lseeksize=8
    alignbytes=8
    prototype=define
  Linker and Libraries:
    ld='cc'
    ldflags ='-Wl,-E  -fstack-protector-strong -L/usr/local/lib'
    libpth=/usr/lib /usr/local/lib
    libs=-lpthread -lm -lutil -lc
    perllibs=-lpthread -lm -lutil -lc
    libc=/usr/lib/libc.so.90.0
    so=so
    useshrplib=false
    libperl=libperl.a
    gnulibc_version=''
  Dynamic Linking:
    dlsrc=dl_dlopen.xs
    dlext=so
    d_dlsymun=undef
    ccdlflags=' '
    cccdlflags='-DPIC -fPIC '
    lddlflags='-shared -fPIC  -L/usr/local/lib -fstack-protector-strong'


Characteristics of this binary (from libperl): 
  Compile-time options:
    HAS_TIMES
    PERLIO_LAYERS
    PERL_COPY_ON_WRITE
    PERL_DONT_CREATE_GVSV
    PERL_MALLOC_WRAP
    PERL_OP_PARENT
    PERL_PRESERVE_IVUV
    USE_64_BIT_ALL
    USE_64_BIT_INT
    USE_LARGE_FILES
    USE_LOCALE
    USE_LOCALE_COLLATE
    USE_LOCALE_CTYPE
    USE_LOCALE_NUMERIC
    USE_LOCALE_TIME
    USE_PERLIO
    USE_PERL_ATOF
  Locally applied patches:
    Devel::PatchPerl 1.48
  Built under openbsd
  Compiled at Dec 20 2017 18:45:59
  %ENV:
    PERL5LIB=""
    PERL5OPT=""
    PERL5_CPANPLUS_IS_RUNNING="8439"
    PERL5_CPAN_IS_RUNNING="8439"
    PERL5_CPAN_IS_RUNNING_IN_RECURSION="42990,8439"
    PERLBREW_HOME="/home/goku/.perlbrew"
    PERLBREW_MANPATH="/home/goku/perl5/perlbrew/perls/perl-5.26.1/man"
    PERLBREW_PATH="/home/goku/perl5/perlbrew/bin:/home/goku/perl5/perlbrew/perls/perl-5.26.1/bin"
    PERLBREW_PERL="perl-5.26.1"
    PERLBREW_ROOT="/home/goku/perl5/perlbrew"
    PERLBREW_SHELLRC_VERSION="0.82"
    PERLBREW_VERSION="0.82"
    PERL_CR_SMOKER_CURRENT="Astro-Catalog-4.33"
    PERL_EXTUTILS_AUTOINSTALL="--defaultdeps"
    PERL_MM_USE_DEFAULT="1"
  @INC:
    /home/goku/perl5/perlbrew/perls/perl-5.26.1/lib/site_perl/5.26.1/OpenBSD.amd64-openbsd
    /home/goku/perl5/perlbrew/perls/perl-5.26.1/lib/site_perl/5.26.1
    /home/goku/perl5/perlbrew/perls/perl-5.26.1/lib/5.26.1/OpenBSD.amd64-openbsd
    /home/goku/perl5/perlbrew/perls/perl-5.26.1/lib/5.26.1