Back
From: metabase:user:31d414ea-2aae-11df-837a-5e0a49663a4f
Subject: PASS DBIx-Class-Graph-1.05 v5.10.1 Mac OS X
Date: 2012-01-09T16:31:12Z
This distribution has been tested as part of the CPAN Testers
project, supporting the Perl programming language. See
http://wiki.cpantesters.org/ for more information or email
questions to cpan-testers-discuss@perl.org
--
Dear Moritz Onken,
This is a computer-generated report for DBIx-Class-Graph-1.05
on perl 5.10.1, created by CPAN-Reporter-1.1902.
Thank you for uploading your work to CPAN. Congratulations!
All tests were successful.
Sections of this report:
* Tester comments
* Program output
* Prerequisites
* Environment and other context
------------------------------
TESTER COMMENTS
------------------------------
Additional comments from tester:
this report is from an automated smoke testing program
and was not reviewed by a human for accuracy
------------------------------
PROGRAM OUTPUT
------------------------------
Output from './Build test':
t/00-compile.t ................ ok
#
#
# perl: v5.10.1 (wanted any version) on darwin from /Users/david/cpantesting/perl-5.10.1/bin/perl
#
# Class::C3 => 0.23 (want any version)
# DBIx::Class => 0.08196 (want any version)
# DBIx::Class::ResultSet => <undef> (want any version)
# DBIx::Class::Schema => <undef> (want any version)
# File::Find => 1.14 (want any version)
# File::Temp => 0.22 (want any version)
# Graph => 0.94 (want 0.94)
# List::MoreUtils => 0.33 (want any version)
# Module::Build => 0.38 (want 0.3601)
# Moose => 2.0401 (want any version)
# Moose::Role => 2.0401 (want any version)
# Scalar::Util => 1.21 (want any version)
# Test::Memory::Cycle => 1.04 (want any version)
# Test::More => 0.98 (want 0.88)
# base => 2.14 (want any version)
# strict => 1.04 (want any version)
# warnings => 1.06 (want any version)
#
# Thanks for using my code. I hope it works for you.
# If not, please try and include this output in the bug report.
# That will help me reproduce the issue and solve you problem.
#
t/000-report-versions-tiny.t .. ok
t/complex.t ................... ok
t/leak.t ...................... ok
t/release-has-version.t ....... skipped: these tests are for release candidate testing
t/release-kwalitee.t .......... skipped: these tests are for release candidate testing
t/release-minimum-version.t ... skipped: these tests are for release candidate testing
t/release-pod-coverage.t ...... skipped: these tests are for release candidate testing
t/release-pod-syntax.t ........ skipped: these tests are for release candidate testing
t/result.t .................... ok
t/resultset.t ................. ok
t/simple01.t .................. ok
t/simple02.t .................. ok
t/simplesucc.t ................ ok
t/wrapper.t ................... ok
All tests successful.
Files=15, Tests=69, 12 wallclock secs ( 0.10 usr 0.07 sys + 10.64 cusr 0.79 csys = 11.60 CPU)
Result: PASS
------------------------------
PREREQUISITES
------------------------------
Prerequisite modules loaded:
requires:
Module Need Have
---------------------- ------ -------
base 0 2.14
Class::C3 0 0.23
DBIx::Class 0 0.08196
DBIx::Class::ResultSet 0 0
Graph 0.94 0.94
List::MoreUtils 0 0.33
Moose 0 2.0401
Moose::Role 0 2.0401
Scalar::Util 0 1.21
strict 0 1.04
warnings 0 1.06
build_requires:
Module Need Have
---------------------- ------ -------
DBIx::Class::Schema 0 0
File::Find 0 1.14
File::Temp 0 0.22
Module::Build 0.3601 0.3800
Test::Memory::Cycle 0 1.04
Test::More 0.88 0.98
configure_requires:
Module Need Have
---------------------- ------ -------
Module::Build 0.3601 0.3800
------------------------------
ENVIRONMENT AND OTHER CONTEXT
------------------------------
Environment variables:
AUTOMATED_TESTING = 1
PATH = /usr/bin:/bin:/usr/sbin:/sbin
PERL5LIB =
PERL5OPT =
PERL5_CPANPLUS_IS_RUNNING = 99564
PERL5_CPAN_IS_RUNNING = 99564
PERLVER = 5.10.1
SHELL = /bin/bash
TERM = screen
Perl special variables (and OS-specific diagnostics, for MSWin32):
$^X = /Users/david/cpantesting/perl-5.10.1/bin/perl
$UID/$EUID = 501 / 501
$GID = 20 20 204 100 98 81 80 79 61 12 402 401
$EGID = 20 20 204 100 98 81 80 79 61 12 402 401
Perl module toolchain versions installed:
Module Have
------------------- --------
CPAN 1.9600
Cwd 3.30
ExtUtils::CBuilder 0.280202
ExtUtils::Command 1.16
ExtUtils::Install 1.54
ExtUtils::MakeMaker 6.62
ExtUtils::Manifest 1.58
ExtUtils::ParseXS 3.11
File::Spec 3.30
Module::Build 0.3800
Module::Signature n/a
Test::Harness 3.23
Test::More 0.98
YAML 0.78
YAML::Syck n/a
version 0.95
--
Summary of my perl5 (revision 5 version 10 subversion 1) configuration:
Platform:
osname=darwin, osvers=10.6.0, archname=darwin-thread-multi-2level
uname='darwin cowshed-door.barnyard.co.uk 10.6.0 darwin kernel version 10.6.0: wed nov 10 18:13:17 pst 2010; root:xnu-1504.9.26~3release_i386 i386 '
config_args='-de -Dprefix=/Users/david/cpantesting/perl-5.10.1 -Dusethreads'
hint=recommended, useposix=true, d_sigaction=define
useithreads=define, usemultiplicity=define
useperlio=define, d_sfio=undef, uselargefiles=define, usesocks=undef
use64bitint=undef, use64bitall=undef, uselongdouble=undef
usemymalloc=n, bincompat5005=undef
Compiler:
cc='cc', ccflags ='-fno-common -DPERL_DARWIN -no-cpp-precomp -fno-strict-aliasing -pipe -fstack-protector',
optimize='-O3',
cppflags='-no-cpp-precomp -fno-common -DPERL_DARWIN -no-cpp-precomp -fno-strict-aliasing -pipe -fstack-protector'
ccversion='', gccversion='4.2.1 (Apple Inc. build 5646)', gccosandvers=''
intsize=4, longsize=4, ptrsize=4, doublesize=8, byteorder=1234
d_longlong=define, longlongsize=8, d_longdbl=define, longdblsize=16
ivtype='long', ivsize=4, nvtype='double', nvsize=8, Off_t='off_t', lseeksize=8
alignbytes=8, prototype=define
Linker and Libraries:
ld='env MACOSX_DEPLOYMENT_TARGET=10.3 cc', ldflags =' -fstack-protector'
libpth=/usr/lib
libs=-ldbm -ldl -lm -lutil -lc
perllibs=-ldl -lm -lutil -lc
libc=/usr/lib/libc.dylib, so=dylib, useshrplib=false, libperl=libperl.a
gnulibc_version=''
Dynamic Linking:
dlsrc=dl_dlopen.xs, dlext=bundle, d_dlsymun=undef, ccdlflags=' '
cccdlflags=' ', lddlflags=' -bundle -undefined dynamic_lookup -fstack-protector'
Characteristics of this binary (from libperl):
Compile-time options: MULTIPLICITY PERL_DONT_CREATE_GVSV
PERL_IMPLICIT_CONTEXT PERL_MALLOC_WRAP USE_ITHREADS
USE_LARGE_FILES USE_PERLIO USE_REENTRANT_API
Built under darwin
Compiled at Apr 27 2011 13:16:11
%ENV:
PERL5LIB=""
PERL5OPT=""
PERL5_CPANPLUS_IS_RUNNING="99564"
PERL5_CPAN_IS_RUNNING="99564"
PERLVER="5.10.1"
@INC:
/Users/david/cpantesting/perl-5.10.1/lib/5.10.1/darwin-thread-multi-2level
/Users/david/cpantesting/perl-5.10.1/lib/5.10.1
/Users/david/cpantesting/perl-5.10.1/lib/site_perl/5.10.1/darwin-thread-multi-2level
/Users/david/cpantesting/perl-5.10.1/lib/site_perl/5.10.1
.