ODF-lpOD_Helper v6.014 Perl 5 v5.38.2 aarch64-linux-ld

Status
Pass
From
Slaven Rezić
Dist
ODF-lpOD_Helper v6.014
Platform
Perl 5 v5.38.2 aarch64-linux-ld
Date
2024-08-26 04:26:19
ID
57c26cbc-6363-11ef-aa3b-39406e8775ea
This distribution has been tested as part of the CPAN Testers
project, supporting the Perl programming language.  See
http://wiki.cpantesters.org/ for more information or email
questions to cpan-testers-discuss@perl.org


--
Dear Jim Avera,

This is a computer-generated report for ODF-lpOD_Helper-6.014
on perl 5.38.2, created by CPAN-Reporter-1.2019.

Thank you for uploading your work to CPAN.  Congratulations!
All tests were successful.

Sections of this report:

    * Tester comments
    * Program output
    * Prerequisites
    * Environment and other context

------------------------------
TESTER COMMENTS
------------------------------

Additional comments from tester:

none provided

------------------------------
PROGRAM OUTPUT
------------------------------

Output from '/usr/bin/make test':

PERL_DL_NONLAZY=1 "/opt/perl-5.38.2D/bin/perl" "-MExtUtils::Command::MM" "-MTest::Harness" "-e" "undef *Test::Harness::Switches; test_harness(0, 'blib/lib', 'blib/arch')" t/*.t
t/20_next_elt_masked.t .... ok
t/25_Hnormalize.t ......... ok
t/30_styles.t ............. ok
t/40_unicode.t ............ ok
t/41_charstag.t ........... ok
t/42_Hor_cond.t ........... ok
t/45_Hsearch.t ............ ok
t/47_Hsplit_element_at.t .. ok
t/50_Hinsert_element.t .... skipped: These tests are for testing by the author
t/51_insert_content.t ..... ok
t/55_Hreplace.t ........... ok
t/60_encoding.t ........... ok
t/author-pod-coverage.t ... skipped: these tests are for testing by the author
t/author-pod-syntax.t ..... skipped: these tests are for testing by the author
All tests successful.
Files=14, Tests=904, 17 wallclock secs ( 0.20 usr  0.05 sys + 16.53 cusr  0.78 csys = 17.56 CPU)
Result: PASS

------------------------------
PREREQUISITES
------------------------------

Prerequisite modules loaded:

requires:

    Module                    Need  Have    
    ------------------------- ----- --------
    Carp                      0     1.54    
    constant                  0     1.33    
    Data::Dumper::Interp      6.006 7.007   
    Exporter                  0     5.77    
    feature                   0     1.82    
    File::Basename            0     2.86    
    Getopt::Long              0     2.58    
    List::Util                0     1.63    
    ODF::lpOD                 1.201 2.001   
    open                      0     1.13    
    parent                    0     0.241   
    perl                      5.018 5.038002
    Scalar::Util              0     1.63    
    strict                    0     1.12    
    utf8                      0     1.25    
    warnings                  0     1.65    
    warnings::register        0     1.05    

build_requires:

    Module                    Need  Have    
    ------------------------- ----- --------
    Archive::Zip              0     1.68    
    autovivification          0     0.18    
    bytes                     0     1.08    
    Capture::Tiny             0     0.48    
    Carp::Always              0     0.16    
    Cwd                       0     3.89    
    Data::Dumper              0     2.188   
    Data::Dumper::Interp      6.006 7.007   
    Encode                    0     3.19    
    English                   0     1.11    
    Env                       0     1.06    
    ExtUtils::MakeMaker       0     7.70    
    File::Path                0     2.18    
    File::Spec                0     3.88    
    File::Spec::Functions     0     3.88    
    File::Temp                0.23  0.2311  
    FindBin                   0     1.53    
    Guard                     0     1.023   
    Import::Into              0     1.002005
    indirect                  0     0.39    
    JSON                      0     4.10    
    lib                       0     0.65    
    multidimensional          0     0.014   
    Path::Tiny                0     0.146   
    POSIX                     0     2.13    
    Test2::Plugin::BailOnFail 0     0.000163
    Test2::Tools::Compare     0     0.000163
    Test2::V0                 0     0.000163
    Time::HiRes               0     1.9775  

configure_requires:

    Module                    Need  Have    
    ------------------------- ----- --------
    ExtUtils::MakeMaker       0     7.70    


------------------------------
ENVIRONMENT AND OTHER CONTEXT
------------------------------

Environment variables:

    LANG = en_US.UTF-8
    PATH = /usr/local/bin:/usr/bin:/bin:/usr/local/sbin:/usr/sbin:/sbin:/home/cpansand/bin/linux-gnu:/home/cpansand/bin/sh:/home/cpansand/bin:/usr/games:/home/cpansand/devel:/home/eserte/src/srezic-misc/scripts
    PERL5LIB = 
    PERL5OPT = 
    PERL5_CPANPLUS_IS_RUNNING = 2329946
    PERL5_CPAN_IS_RUNNING = 2329946
    PERL5_CPAN_IS_RUNNING_IN_RECURSION = 2329871,2329946
    PERLDOC = -MPod::Perldoc::ToTextOverstrike
    PERL_BATCH = yes
    PERL_CANARY_STABILITY_NOPROMPT = 1
    PERL_CPAN_REPORTER_CONFIG = /var/tmp/cpansmoker-1023/2024082604/cpanreporter_000_config.ini
    PERL_EXTUTILS_AUTOINSTALL = --defaultdeps
    PERL_USE_UNSAFE_INC = 1
    SHELL = /usr/bin/zsh
    TERM = screen
    TMPDIR = /var/tmp/cpansmoker-1023/2024082604

Perl special variables (and OS-specific diagnostics, for MSWin32):

    $^X = /opt/perl-5.38.2D/bin/perl
    $UID/$EUID = 1023 / 1023
    $GID = 1023 1023
    $EGID = 1023 1023

Perl module toolchain versions installed:

    Module              Have    
    ------------------- --------
    CPAN                2.36    
    CPAN::Meta          2.150010
    Cwd                 3.89    
    ExtUtils::CBuilder  0.280238
    ExtUtils::Command   7.70    
    ExtUtils::Install   2.22    
    ExtUtils::MakeMaker 7.70    
    ExtUtils::Manifest  1.75    
    ExtUtils::ParseXS   3.51    
    File::Spec          3.88    
    JSON                4.10    
    JSON::PP            4.16    
    Module::Build       0.4234  
    Module::Signature   n/a     
    Parse::CPAN::Meta   2.150010
    Test2               1.302194
    Test::Harness       3.44    
    Test::More          1.302194
    YAML                1.31    
    YAML::Syck          1.34    
    version             0.9929  


--

Summary of my perl5 (revision 5 version 38 subversion 2) configuration:
   
  Platform:
    osname=linux
    osvers=6.8.0-35-generic
    archname=aarch64-linux-ld
    uname='linux cloud6.bbbike.org 6.8.0-35-generic #35-ubuntu smp preempt_dynamic tue may 21 07:52:29 utc 2024 aarch64 aarch64 aarch64 gnulinux '
    config_args='-ds -e -Dprefix=/opt/perl-5.38.2D -Uinstallusrbinperl -Duselongdouble -Dcf_email=srezic@cpan.org'
    hint=recommended
    useposix=true
    d_sigaction=define
    useithreads=undef
    usemultiplicity=undef
    use64bitint=define
    use64bitall=define
    uselongdouble=define
    usemymalloc=n
    default_inc_excludes_dot=define
  Compiler:
    cc='cc'
    ccflags ='-fwrapv -fno-strict-aliasing -pipe -fstack-protector-strong -I/usr/local/include -D_LARGEFILE_SOURCE -D_FILE_OFFSET_BITS=64'
    optimize='-O2'
    cppflags='-fwrapv -fno-strict-aliasing -pipe -fstack-protector-strong -I/usr/local/include'
    ccversion=''
    gccversion='13.2.0'
    gccosandvers=''
    intsize=4
    longsize=8
    ptrsize=8
    doublesize=8
    byteorder=12345678
    doublekind=3
    d_longlong=define
    longlongsize=8
    d_longdbl=define
    longdblsize=16
    longdblkind=1
    ivtype='long'
    ivsize=8
    nvtype='long double'
    nvsize=16
    Off_t='off_t'
    lseeksize=8
    alignbytes=16
    prototype=define
  Linker and Libraries:
    ld='cc'
    ldflags =' -fstack-protector-strong -L/usr/local/lib'
    libpth=/usr/local/lib /usr/lib/aarch64-linux-gnu /usr/lib
    libs=-lpthread -ldb -ldl -lm -lcrypt -lutil -lc
    perllibs=-lpthread -ldl -lm -lcrypt -lutil -lc
    libc=/lib/aarch64-linux-gnu/libc.so.6
    so=so
    useshrplib=false
    libperl=libperl.a
    gnulibc_version='2.39'
  Dynamic Linking:
    dlsrc=dl_dlopen.xs
    dlext=so
    d_dlsymun=undef
    ccdlflags='-Wl,-E'
    cccdlflags='-fPIC'
    lddlflags='-shared -O2 -L/usr/local/lib -fstack-protector-strong'


Characteristics of this binary (from libperl): 
  Compile-time options:
    HAS_LONG_DOUBLE
    HAS_STRTOLD
    HAS_TIMES
    PERLIO_LAYERS
    PERL_COPY_ON_WRITE
    PERL_DONT_CREATE_GVSV
    PERL_HASH_FUNC_SIPHASH13
    PERL_HASH_USE_SBOX32
    PERL_MALLOC_WRAP
    PERL_OP_PARENT
    PERL_PRESERVE_IVUV
    PERL_USE_SAFE_PUTENV
    USE_64_BIT_ALL
    USE_64_BIT_INT
    USE_LARGE_FILES
    USE_LOCALE
    USE_LOCALE_COLLATE
    USE_LOCALE_CTYPE
    USE_LOCALE_NUMERIC
    USE_LOCALE_TIME
    USE_LONG_DOUBLE
    USE_PERLIO
    USE_PERL_ATOF
  Built under linux
  Compiled at Jun 27 2024 19:26:37
  %ENV:
    PERL5LIB=""
    PERL5OPT=""
    PERL5_CPANPLUS_IS_RUNNING="2329946"
    PERL5_CPAN_IS_RUNNING="2329946"
    PERL5_CPAN_IS_RUNNING_IN_RECURSION="2329871,2329946"
    PERLDOC="-MPod::Perldoc::ToTextOverstrike"
    PERL_BATCH="yes"
    PERL_CANARY_STABILITY_NOPROMPT="1"
    PERL_CPAN_REPORTER_CONFIG="/var/tmp/cpansmoker-1023/2024082604/cpanreporter_000_config.ini"
    PERL_EXTUTILS_AUTOINSTALL="--defaultdeps"
    PERL_USE_UNSAFE_INC="1"
  @INC:
    /opt/perl-5.38.2D/lib/site_perl/5.38.2/aarch64-linux-ld
    /opt/perl-5.38.2D/lib/site_perl/5.38.2
    /opt/perl-5.38.2D/lib/5.38.2/aarch64-linux-ld
    /opt/perl-5.38.2D/lib/5.38.2
    .