POE-Loop-Glib v0.038 Perl 5 v5.26.2 amd64-freebsd-thread-multi

Status
Pass
From
Slaven Rezić (SREZIC)
Dist
POE-Loop-Glib v0.038
Platform
Perl 5 v5.26.2 amd64-freebsd-thread-multi
Date
2018-06-10 19:56:20
ID
580a7020-6ce8-11e8-8e9d-9b26df773026
This distribution has been tested as part of the CPAN Testers
project, supporting the Perl programming language.  See
http://wiki.cpantesters.org/ for more information or email
questions to cpan-testers-discuss@perl.org


--
Dear Apocalypse,

This is a computer-generated report for POE-Loop-Glib-0.038
on perl 5.26.2, created by CPAN-Reporter-1.2018.

Thank you for uploading your work to CPAN.  Congratulations!
All tests were successful.

Sections of this report:

    * Tester comments
    * Program output
    * Prerequisites
    * Environment and other context

------------------------------
TESTER COMMENTS
------------------------------

Additional comments from tester:

none provided

------------------------------
PROGRAM OUTPUT
------------------------------

Output from '/usr/bin/make test':

/usr/local/bin/perl5.26.2 Build --makefile_env_macros 1 test
t/1_load.t ............................. ok
t/apocalypse.t ......................... skipped: Test::Apocalypse required for validating the distribution
# Testing POE 1.367, POE::Test::Loops 1.360, Using Loop(POE::Loop::Glib), Perl 5.026002, /usr/local/bin/perl5.26.2 on freebsd
t/glib/00_info.t ....................... ok
t/glib/all_errors.t .................... skipped: most of these should move into other test files
GLib-CRITICAL **: Source ID 4 was not found when attempting to remove it at /home/cpansand/.cpan/build/2018061100/POE-Loop-Glib-0.038-0/blib/lib/POE/Loop/Glib.pm line 53.
GLib-CRITICAL **: Source ID 10 was not found when attempting to remove it at /home/cpansand/.cpan/build/2018061100/POE-Loop-Glib-0.038-0/blib/lib/POE/Loop/Glib.pm line 53.
t/glib/comp_tcp.t ...................... ok
# You might see a 'disconnect' error during this test.
# It may be ignored.
GLib-CRITICAL **: Source ID 4 was not found when attempting to remove it at /home/cpansand/.cpan/build/2018061100/POE-Loop-Glib-0.038-0/blib/lib/POE/Loop/Glib.pm line 53.
GLib-CRITICAL **: Source ID 26 was not found when attempting to remove it at /home/cpansand/.cpan/build/2018061100/POE-Loop-Glib-0.038-0/blib/lib/POE/Loop/Glib.pm line 53.
GLib-CRITICAL **: Source ID 87 was not found when attempting to remove it at /home/cpansand/.cpan/build/2018061100/POE-Loop-Glib-0.038-0/blib/lib/POE/Loop/Glib.pm line 53.
GLib-CRITICAL **: Source ID 94 was not found when attempting to remove it at /home/cpansand/.cpan/build/2018061100/POE-Loop-Glib-0.038-0/blib/lib/POE/Loop/Glib.pm line 53.
GLib-CRITICAL **: Source ID 96 was not found when attempting to remove it at /home/cpansand/.cpan/build/2018061100/POE-Loop-Glib-0.038-0/blib/lib/POE/Loop/Glib.pm line 53.
GLib-CRITICAL **: Source ID 99 was not found when attempting to remove it at /home/cpansand/.cpan/build/2018061100/POE-Loop-Glib-0.038-0/blib/lib/POE/Loop/Glib.pm line 53.
GLib-CRITICAL **: Source ID 110 was not found when attempting to remove it at /home/cpansand/.cpan/build/2018061100/POE-Loop-Glib-0.038-0/blib/lib/POE/Loop/Glib.pm line 53.
GLib-CRITICAL **: Source ID 115 was not found when attempting to remove it at /home/cpansand/.cpan/build/2018061100/POE-Loop-Glib-0.038-0/blib/lib/POE/Loop/Glib.pm line 53.
GLib-CRITICAL **: Source ID 119 was not found when attempting to remove it at /home/cpansand/.cpan/build/2018061100/POE-Loop-Glib-0.038-0/blib/lib/POE/Loop/Glib.pm line 53.
GLib-CRITICAL **: Source ID 127 was not found when attempting to remove it at /home/cpansand/.cpan/build/2018061100/POE-Loop-Glib-0.038-0/blib/lib/POE/Loop/Glib.pm line 53.
GLib-CRITICAL **: Source ID 129 was not found when attempting to remove it at /home/cpansand/.cpan/build/2018061100/POE-Loop-Glib-0.038-0/blib/lib/POE/Loop/Glib.pm line 53.
GLib-CRITICAL **: Source ID 131 was not found when attempting to remove it at /home/cpansand/.cpan/build/2018061100/POE-Loop-Glib-0.038-0/blib/lib/POE/Loop/Glib.pm line 53.
GLib-CRITICAL **: Source ID 135 was not found when attempting to remove it at /home/cpansand/.cpan/build/2018061100/POE-Loop-Glib-0.038-0/blib/lib/POE/Loop/Glib.pm line 53.
GLib-CRITICAL **: Source ID 136 was not found when attempting to remove it at /home/cpansand/.cpan/build/2018061100/POE-Loop-Glib-0.038-0/blib/lib/POE/Loop/Glib.pm line 53.
GLib-CRITICAL **: Source ID 140 was not found when attempting to remove it at /home/cpansand/.cpan/build/2018061100/POE-Loop-Glib-0.038-0/blib/lib/POE/Loop/Glib.pm line 53.
GLib-CRITICAL **: Source ID 142 was not found when attempting to remove it at /home/cpansand/.cpan/build/2018061100/POE-Loop-Glib-0.038-0/blib/lib/POE/Loop/Glib.pm line 53.
GLib-CRITICAL **: Source ID 143 was not found when attempting to remove it at /home/cpansand/.cpan/build/2018061100/POE-Loop-Glib-0.038-0/blib/lib/POE/Loop/Glib.pm line 53.
GLib-CRITICAL **: Source ID 147 was not found when attempting to remove it at /home/cpansand/.cpan/build/2018061100/POE-Loop-Glib-0.038-0/blib/lib/POE/Loop/Glib.pm line 53.
GLib-CRITICAL **: Source ID 149 was not found when attempting to remove it at /home/cpansand/.cpan/build/2018061100/POE-Loop-Glib-0.038-0/blib/lib/POE/Loop/Glib.pm line 53.
GLib-CRITICAL **: Source ID 150 was not found when attempting to remove it at /home/cpansand/.cpan/build/2018061100/POE-Loop-Glib-0.038-0/blib/lib/POE/Loop/Glib.pm line 53.
GLib-CRITICAL **: Source ID 154 was not found when attempting to remove it at /home/cpansand/.cpan/build/2018061100/POE-Loop-Glib-0.038-0/blib/lib/POE/Loop/Glib.pm line 53.
GLib-CRITICAL **: Source ID 156 was not found when attempting to remove it at /home/cpansand/.cpan/build/2018061100/POE-Loop-Glib-0.038-0/blib/lib/POE/Loop/Glib.pm line 53.
GLib-CRITICAL **: Source ID 157 was not found when attempting to remove it at /home/cpansand/.cpan/build/2018061100/POE-Loop-Glib-0.038-0/blib/lib/POE/Loop/Glib.pm line 53.
GLib-CRITICAL **: Source ID 161 was not found when attempting to remove it at /home/cpansand/.cpan/build/2018061100/POE-Loop-Glib-0.038-0/blib/lib/POE/Loop/Glib.pm line 53.
GLib-CRITICAL **: Source ID 163 was not found when attempting to remove it at /home/cpansand/.cpan/build/2018061100/POE-Loop-Glib-0.038-0/blib/lib/POE/Loop/Glib.pm line 53.
GLib-CRITICAL **: Source ID 164 was not found when attempting to remove it at /home/cpansand/.cpan/build/2018061100/POE-Loop-Glib-0.038-0/blib/lib/POE/Loop/Glib.pm line 53.
GLib-CRITICAL **: Source ID 168 was not found when attempting to remove it at /home/cpansand/.cpan/build/2018061100/POE-Loop-Glib-0.038-0/blib/lib/POE/Loop/Glib.pm line 53.
GLib-CRITICAL **: Source ID 171 was not found when attempting to remove it at /home/cpansand/.cpan/build/2018061100/POE-Loop-Glib-0.038-0/blib/lib/POE/Loop/Glib.pm line 53.
t/glib/comp_tcp_concurrent.t ........... ok
t/glib/connect_errors.t ................ ok
t/glib/k_alarms.t ...................... ok
t/glib/k_aliases.t ..................... ok
t/glib/k_detach.t ...................... ok
t/glib/k_run_returns.t ................. ok
GLib-CRITICAL **: Source ID 6 was not found when attempting to remove it at /home/cpansand/.cpan/build/2018061100/POE-Loop-Glib-0.038-0/blib/lib/POE/Loop/Glib.pm line 53.
GLib-CRITICAL **: Source ID 33 was not found when attempting to remove it at /home/cpansand/.cpan/build/2018061100/POE-Loop-Glib-0.038-0/blib/lib/POE/Loop/Glib.pm line 53.
GLib-CRITICAL **: Source ID 49 was not found when attempting to remove it at /home/cpansand/.cpan/build/2018061100/POE-Loop-Glib-0.038-0/blib/lib/POE/Loop/Glib.pm line 53.
GLib-CRITICAL **: Source ID 65 was not found when attempting to remove it at /home/cpansand/.cpan/build/2018061100/POE-Loop-Glib-0.038-0/blib/lib/POE/Loop/Glib.pm line 53.
GLib-CRITICAL **: Source ID 81 was not found when attempting to remove it at /home/cpansand/.cpan/build/2018061100/POE-Loop-Glib-0.038-0/blib/lib/POE/Loop/Glib.pm line 53.
t/glib/k_selects.t ..................... ok
t/glib/k_sig_child.t ................... ok
t/glib/k_signals.t ..................... ok
GLib-CRITICAL **: Source ID 3 was not found when attempting to remove it at /home/cpansand/.cpan/build/2018061100/POE-Loop-Glib-0.038-0/blib/lib/POE/Loop/Glib.pm line 53.
GLib-CRITICAL **: Source ID 23 was not found when attempting to remove it at /home/cpansand/.cpan/build/2018061100/POE-Loop-Glib-0.038-0/blib/lib/POE/Loop/Glib.pm line 53.
GLib-CRITICAL **: Source ID 34 was not found when attempting to remove it at /home/cpansand/.cpan/build/2018061100/POE-Loop-Glib-0.038-0/blib/lib/POE/Loop/Glib.pm line 53.
GLib-CRITICAL **: Source ID 45 was not found when attempting to remove it at /home/cpansand/.cpan/build/2018061100/POE-Loop-Glib-0.038-0/blib/lib/POE/Loop/Glib.pm line 53.
GLib-CRITICAL **: Source ID 56 was not found when attempting to remove it at /home/cpansand/.cpan/build/2018061100/POE-Loop-Glib-0.038-0/blib/lib/POE/Loop/Glib.pm line 53.
GLib-CRITICAL **: Source ID 67 was not found when attempting to remove it at /home/cpansand/.cpan/build/2018061100/POE-Loop-Glib-0.038-0/blib/lib/POE/Loop/Glib.pm line 53.
GLib-CRITICAL **: Source ID 78 was not found when attempting to remove it at /home/cpansand/.cpan/build/2018061100/POE-Loop-Glib-0.038-0/blib/lib/POE/Loop/Glib.pm line 53.
t/glib/k_signals_rerun.t ............... ok
t/glib/sbk_signal_init.t ............... ok
t/glib/ses_nfa.t ....................... ok
# This test generates some STDERR during trace testing.
=== 84973 === 23 -> _start (from /home/cpansand/.cpan/build/2018061100/POE-1.367-0/blib/lib/POE/Kernel.pm at 1497)
=== 84973 === 23 -> woot (from /home/cpansand/.cpan/build/2018061100/POE-Test-Loops-1.360-0/blib/lib/POE/Test/Loops/ses_session.pm at 691)
=== 84973 === 23 -> narf (from /home/cpansand/.cpan/build/2018061100/POE-Test-Loops-1.360-0/blib/lib/POE/Test/Loops/ses_session.pm at 692)
=== 84973 === 23 -> _stop (from /home/cpansand/.cpan/build/2018061100/POE-1.367-0/blib/lib/POE/Resource/Sessions.pm at 571)
t/glib/ses_session.t ................... ok
t/glib/wheel_accept.t .................. ok
t/glib/wheel_curses.t .................. skipped: Curses not available
t/glib/wheel_readline.t ................ ok
GLib-CRITICAL **: Source ID 17 was not found when attempting to remove it at /home/cpansand/.cpan/build/2018061100/POE-Loop-Glib-0.038-0/blib/lib/POE/Loop/Glib.pm line 53.
t/glib/wheel_readwrite.t ............... ok
t/glib/wheel_run.t ..................... ok
t/glib/wheel_run_size.t ................ skipped: This test requires Term::Size
t/glib/wheel_sf_ipv6.t ................. skipped: Socket::GetAddrInfo is needed for IPv6 tests
GLib-CRITICAL **: Source ID 4 was not found when attempting to remove it at /home/cpansand/.cpan/build/2018061100/POE-Loop-Glib-0.038-0/blib/lib/POE/Loop/Glib.pm line 53.
t/glib/wheel_sf_tcp.t .................. ok
t/glib/wheel_sf_udp.t .................. ok
GLib-CRITICAL **: Source ID 4 was not found when attempting to remove it at /home/cpansand/.cpan/build/2018061100/POE-Loop-Glib-0.038-0/blib/lib/POE/Loop/Glib.pm line 53.
t/glib/wheel_sf_unix.t ................. ok
t/glib/wheel_tail.t .................... ok
t/glib/z_kogman_sig_order.t ............ ok
t/glib/z_leolo_wheel_run.t ............. ok
# Using '/usr/bin/true' as our thing to run under system()
t/glib/z_merijn_sigchld_system.t ....... ok
GLib-CRITICAL **: Source ID 6 was not found when attempting to remove it at /home/cpansand/.cpan/build/2018061100/POE-Loop-Glib-0.038-0/blib/lib/POE/Loop/Glib.pm line 53.
GLib-CRITICAL **: Source ID 17 was not found when attempting to remove it at /home/cpansand/.cpan/build/2018061100/POE-Loop-Glib-0.038-0/blib/lib/POE/Loop/Glib.pm line 53.
t/glib/z_rt39872_sigchld.t ............. ok
# Parent 85014 waiting 3sec for slow systems to settle.
# sending sigusr1
85015: GLib-CRITICAL **: Source ID 5 was not found when attempting to remove it at /home/cpansand/.cpan/build/2018061100/POE-Loop-Glib-0.038-0/blib/lib/POE/Loop/Glib.pm line 53.
# sent sigusr1
85014: GLib-CRITICAL **: Source ID 8 was not found when attempting to remove it at /home/cpansand/.cpan/build/2018061100/POE-Loop-Glib-0.038-0/blib/lib/POE/Loop/Glib.pm line 53.
85016: GLib-CRITICAL **: Source ID 5 was not found when attempting to remove it at /home/cpansand/.cpan/build/2018061100/POE-Loop-Glib-0.038-0/blib/lib/POE/Loop/Glib.pm line 53.
85014: GLib-CRITICAL **: Source ID 13 was not found when attempting to remove it at /home/cpansand/.cpan/build/2018061100/POE-Loop-Glib-0.038-0/blib/lib/POE/Loop/Glib.pm line 53.
t/glib/z_rt39872_sigchld_stop.t ........ ok
GLib-CRITICAL **: Source ID 14 was not found when attempting to remove it at /home/cpansand/.cpan/build/2018061100/POE-Loop-Glib-0.038-0/blib/lib/POE/Loop/Glib.pm line 53.
GLib-CRITICAL **: Source ID 34 was not found when attempting to remove it at /home/cpansand/.cpan/build/2018061100/POE-Loop-Glib-0.038-0/blib/lib/POE/Loop/Glib.pm line 53.
t/glib/z_rt53302_fh_watchers.t ......... ok
t/glib/z_rt54319_bazerka_followtail.t .. ok
t/glib/z_steinert_signal_integrity.t ... ok
All tests successful.
Files=37, Tests=486, 34 wallclock secs ( 0.18 usr  0.14 sys +  6.88 cusr  2.44 csys =  9.63 CPU)
Result: PASS

------------------------------
PREREQUISITES
------------------------------

Prerequisite modules loaded:

requires:

    Module           Need  Have    
    ---------------- ----- --------
    Glib             1.222 1.327   
    perl             5.006 5.026002
    POE              1.288 1.367   

configure_requires:

    Module           Need  Have    
    ---------------- ----- --------
    Module::Build    0.36  0.4224  
    POE::Test::Loops 1.034 1.360   


------------------------------
ENVIRONMENT AND OTHER CONTEXT
------------------------------

Environment variables:

    PATH = /usr/local/bin:/usr/bin:/bin:/usr/local/sbin:/usr/sbin:/sbin:/home/cpansand/bin/freebsd12.0:/home/cpansand/bin/sh:/home/cpansand/bin:/usr/games:/home/cpansand/devel:/home/eserte/src/srezic-misc/scripts
    PERL5LIB = /home/cpansand/.cpan/build/2018061100/Glib-1.327-0/blib/arch:/home/cpansand/.cpan/build/2018061100/Glib-1.327-0/blib/lib:/home/cpansand/.cpan/build/2018061100/ExtUtils-PkgConfig-1.16-0/blib/arch:/home/cpansand/.cpan/build/2018061100/ExtUtils-PkgConfig-1.16-0/blib/lib:/home/cpansand/.cpan/build/2018061100/ExtUtils-Depends-0.405-0/blib/arch:/home/cpansand/.cpan/build/2018061100/ExtUtils-Depends-0.405-0/blib/lib:/home/cpansand/.cpan/build/2018061100/Module-Build-0.4224-0/blib/arch:/home/cpansand/.cpan/build/2018061100/Module-Build-0.4224-0/blib/lib:/home/cpansand/.cpan/build/2018061100/POE-1.367-0/blib/arch:/home/cpansand/.cpan/build/2018061100/POE-1.367-0/blib/lib:/home/cpansand/.cpan/build/2018061100/IO-Pipely-0.005-0/blib/arch:/home/cpansand/.cpan/build/2018061100/IO-Pipely-0.005-0/blib/lib:/home/cpansand/.cpan/build/2018061100/POE-Test-Loops-1.360-0/blib/arch:/home/cpansand/.cpan/build/2018061100/POE-Test-Loops-1.360-0/blib/lib
    PERL5OPT = 
    PERL5_CPANPLUS_IS_RUNNING = 78909
    PERL5_CPAN_IS_RUNNING = 78909
    PERL5_CPAN_IS_RUNNING_IN_RECURSION = 78880,78909
    PERLDOC = -MPod::Perldoc::ToTextOverstrike
    PERL_BATCH = yes
    PERL_CANARY_STABILITY_NOPROMPT = 1
    PERL_CPAN_REPORTER_CONFIG = /var/tmp/cpansmoker-1023/2018061100/cpanreporter_000_config.ini
    PERL_EXTUTILS_AUTOINSTALL = --defaultdeps
    PERL_USE_UNSAFE_INC = 1
    SHELL = /usr/local/bin/zsh
    TERM = screen
    TMPDIR = /var/tmp/cpansmoker-1023/2018061100

Perl special variables (and OS-specific diagnostics, for MSWin32):

    $^X = /usr/local/bin/perl5.26.2
    $UID/$EUID = 1023 / 1023
    $GID = 1023 1023
    $EGID = 1023 1023

Perl module toolchain versions installed:

    Module              Have      
    ------------------- ----------
    CPAN                2.18      
    CPAN::Meta          2.150010  
    Cwd                 3.67      
    ExtUtils::CBuilder  0.280225  
    ExtUtils::Command   7.24      
    ExtUtils::Install   2.04      
    ExtUtils::MakeMaker 7.24      
    ExtUtils::Manifest  1.70      
    ExtUtils::ParseXS   3.34      
    File::Spec          3.67      
    JSON                n/a       
    JSON::PP            2.27400_02
    Module::Build       0.4224    
    Module::Signature   n/a       
    Parse::CPAN::Meta   2.150010  
    Test::Harness       3.38      
    Test::More          1.302073  
    YAML                1.24      
    YAML::Syck          1.27      
    version             0.9917    


--

Summary of my perl5 (revision 5 version 26 subversion 2) configuration:
   
  Platform:
    osname=freebsd
    osvers=12.0-current
    archname=amd64-freebsd-thread-multi
    uname='freebsd head-amd64-default-job-01 12.0-current freebsd 12.0-current 1200062 amd64 '
    config_args='-sde -Dprefix=/usr/local -Dlibperl=libperl.so.5.26.2 -Darchlib=/usr/local/lib/perl5/5.26/mach -Dprivlib=/usr/local/lib/perl5/5.26 -Dman3dir=/usr/local/lib/perl5/5.26/perl/man/man3 -Dman1dir=/usr/local/lib/perl5/5.26/perl/man/man1 -Dsitearch=/usr/local/lib/perl5/site_perl/mach/5.26 -Dsitelib=/usr/local/lib/perl5/site_perl -Dscriptdir=/usr/local/bin -Dsiteman3dir=/usr/local/lib/perl5/site_perl/man/man3 -Dsiteman1dir=/usr/local/lib/perl5/site_perl/man/man1 -Ui_malloc -Ui_iconv -Uinstallusrbinperl -Dusenm=n -Dcc=cc -Duseshrplib -Dinc_version_list=none -Dcf_by=perl -Dcf_email=perl@FreeBSD.org -Dcf_time=Sat Apr 14 11:27:49 UTC 2018 -Alddlflags=-L/wrkdirs/usr/ports/lang/perl5.26/work/perl-5.26.2 -L/usr/local/lib/perl5/5.26/mach/CORE -lperl -Dshrpldflags=$(LDDLFLAGS:N-L/wrkdirs/usr/ports/lang/perl5.26/work/perl-5.26.2:N-L/usr/local/lib/perl5/5.26/mach/CORE:N-lperl) -Wl,-soname,$(LIBPERL:R) -Doptimize=-O2 -pipe  -fstack-protector -fno-strict-aliasing -Dusedtrace -Ui_gdbm -Dusemultiplicity=y -Duse64bitint -Dusemymalloc=n -Dusethreads=y'
    hint=recommended
    useposix=true
    d_sigaction=define
    useithreads=define
    usemultiplicity=define
    use64bitint=define
    use64bitall=define
    uselongdouble=undef
    usemymalloc=n
    default_inc_excludes_dot=define
    bincompat5005=undef
  Compiler:
    cc='cc'
    ccflags ='-DHAS_FPSETMASK -DHAS_FLOATINGPOINT_H -fno-strict-aliasing -pipe -fstack-protector-strong -I/usr/local/include -D_FORTIFY_SOURCE=2'
    optimize='-O2 -pipe -fstack-protector -fno-strict-aliasing'
    cppflags='-DHAS_FPSETMASK -DHAS_FLOATINGPOINT_H -fno-strict-aliasing -pipe -fstack-protector-strong -I/usr/local/include'
    ccversion=''
    gccversion='4.2.1 Compatible FreeBSD Clang 6.0.0 (tags/RELEASE_600/final 326565)'
    gccosandvers=''
    intsize=4
    longsize=8
    ptrsize=8
    doublesize=8
    byteorder=12345678
    doublekind=3
    d_longlong=define
    longlongsize=8
    d_longdbl=define
    longdblsize=16
    longdblkind=3
    ivtype='long'
    ivsize=8
    nvtype='double'
    nvsize=8
    Off_t='off_t'
    lseeksize=8
    alignbytes=8
    prototype=define
  Linker and Libraries:
    ld='cc'
    ldflags ='-pthread -Wl,-E  -fstack-protector-strong -L/usr/local/lib'
    libpth=/usr/lib /usr/local/lib /usr/lib/clang/6.0.0/lib /usr/lib
    libs=-lpthread -lm -lcrypt -lutil
    perllibs=-lpthread -lm -lcrypt -lutil
    libc=
    so=so
    useshrplib=true
    libperl=libperl.so.5.26.2
    gnulibc_version=''
  Dynamic Linking:
    dlsrc=dl_dlopen.xs
    dlext=so
    d_dlsymun=undef
    ccdlflags='  -Wl,-R/usr/local/lib/perl5/5.26/mach/CORE'
    cccdlflags='-DPIC -fPIC'
    lddlflags='-shared  -L/usr/local/lib/perl5/5.26/mach/CORE -lperl -L/usr/local/lib -fstack-protector-strong'


Characteristics of this binary (from libperl): 
  Compile-time options:
    HAS_TIMES
    MULTIPLICITY
    PERLIO_LAYERS
    PERL_COPY_ON_WRITE
    PERL_DONT_CREATE_GVSV
    PERL_IMPLICIT_CONTEXT
    PERL_MALLOC_WRAP
    PERL_OP_PARENT
    PERL_PRESERVE_IVUV
    USE_64_BIT_ALL
    USE_64_BIT_INT
    USE_ITHREADS
    USE_LARGE_FILES
    USE_LOCALE
    USE_LOCALE_COLLATE
    USE_LOCALE_CTYPE
    USE_LOCALE_NUMERIC
    USE_LOCALE_TIME
    USE_PERLIO
    USE_PERL_ATOF
    USE_REENTRANT_API
  Built under freebsd
  %ENV:
    PERL5LIB="/home/cpansand/.cpan/build/2018061100/Glib-1.327-0/blib/arch:/home/cpansand/.cpan/build/2018061100/Glib-1.327-0/blib/lib:/home/cpansand/.cpan/build/2018061100/ExtUtils-PkgConfig-1.16-0/blib/arch:/home/cpansand/.cpan/build/2018061100/ExtUtils-PkgConfig-1.16-0/blib/lib:/home/cpansand/.cpan/build/2018061100/ExtUtils-Depends-0.405-0/blib/arch:/home/cpansand/.cpan/build/2018061100/ExtUtils-Depends-0.405-0/blib/lib:/home/cpansand/.cpan/build/2018061100/Module-Build-0.4224-0/blib/arch:/home/cpansand/.cpan/build/2018061100/Module-Build-0.4224-0/blib/lib:/home/cpansand/.cpan/build/2018061100/POE-1.367-0/blib/arch:/home/cpansand/.cpan/build/2018061100/POE-1.367-0/blib/lib:/home/cpansand/.cpan/build/2018061100/IO-Pipely-0.005-0/blib/arch:/home/cpansand/.cpan/build/2018061100/IO-Pipely-0.005-0/blib/lib:/home/cpansand/.cpan/build/2018061100/POE-Test-Loops-1.360-0/blib/arch:/home/cpansand/.cpan/build/2018061100/POE-Test-Loops-1.360-0/blib/lib"
    PERL5OPT=""
    PERL5_CPANPLUS_IS_RUNNING="78909"
    PERL5_CPAN_IS_RUNNING="78909"
    PERL5_CPAN_IS_RUNNING_IN_RECURSION="78880,78909"
    PERLDOC="-MPod::Perldoc::ToTextOverstrike"
    PERL_BATCH="yes"
    PERL_CANARY_STABILITY_NOPROMPT="1"
    PERL_CPAN_REPORTER_CONFIG="/var/tmp/cpansmoker-1023/2018061100/cpanreporter_000_config.ini"
    PERL_EXTUTILS_AUTOINSTALL="--defaultdeps"
    PERL_USE_UNSAFE_INC="1"
  @INC:
    /home/cpansand/.cpan/build/2018061100/Glib-1.327-0/blib/arch
    /home/cpansand/.cpan/build/2018061100/Glib-1.327-0/blib/lib
    /home/cpansand/.cpan/build/2018061100/ExtUtils-PkgConfig-1.16-0/blib/arch
    /home/cpansand/.cpan/build/2018061100/ExtUtils-PkgConfig-1.16-0/blib/lib
    /home/cpansand/.cpan/build/2018061100/ExtUtils-Depends-0.405-0/blib/arch
    /home/cpansand/.cpan/build/2018061100/ExtUtils-Depends-0.405-0/blib/lib
    /home/cpansand/.cpan/build/2018061100/Module-Build-0.4224-0/blib/arch
    /home/cpansand/.cpan/build/2018061100/Module-Build-0.4224-0/blib/lib
    /home/cpansand/.cpan/build/2018061100/POE-1.367-0/blib/arch
    /home/cpansand/.cpan/build/2018061100/POE-1.367-0/blib/lib
    /home/cpansand/.cpan/build/2018061100/IO-Pipely-0.005-0/blib/arch
    /home/cpansand/.cpan/build/2018061100/IO-Pipely-0.005-0/blib/lib
    /home/cpansand/.cpan/build/2018061100/POE-Test-Loops-1.360-0/blib/arch
    /home/cpansand/.cpan/build/2018061100/POE-Test-Loops-1.360-0/blib/lib
    /usr/local/lib/perl5/site_perl/mach/5.26
    /usr/local/lib/perl5/site_perl
    /usr/local/lib/perl5/5.26/mach
    /usr/local/lib/perl5/5.26
    .