Report for POEx-HTTP-Server-0.0902

Back
From: metabase:user:320bfe00-2aae-11df-837a-5e0a49663a4f
Subject: PASS POEx-HTTP-Server-0.0902 v5.25.1 GNU/Linux
Date: 2016-05-16T00:01:30Z

This distribution has been tested as part of the CPAN Testers
project, supporting the Perl programming language.  See
http://wiki.cpantesters.org/ for more information or email
questions to cpan-testers-discuss@perl.org


--
Dear Philip Gwyn,

This is a computer-generated report for POEx-HTTP-Server-0.0902
on perl 5.25.1, created by CPAN-Reporter-1.2017.

Thank you for uploading your work to CPAN.  Congratulations!
All tests were successful.

Sections of this report:

    * Tester comments
    * Program output
    * Prerequisites
    * Environment and other context

------------------------------
TESTER COMMENTS
------------------------------

Additional comments from tester:

this report is from an automated smoke testing program
and was not reviewed by a human for accuracy

------------------------------
PROGRAM OUTPUT
------------------------------

Output from '/usr/bin/make test':

PERL_DL_NONLAZY=1 "/tmp/basesmoker-reloperl-nJg2/bin/perl" "-MExtUtils::Command::MM" "-MTest::Harness" "-e" "undef *Test::Harness::Switches; test_harness(0, 'blib/lib', 'blib/arch')" t/*.t
t/00_compile.t ....... ok
t/01_pod.t ........... ok
t/02_pod_coverage.t .. ok
t/10_init.t .......... ok
t/11_request.t ....... ok
t/12_response.t ...... ok
# Sleep 1
t/20_poe.t ........... ok
# Sleep 1
t/25_keepalive.t ..... ok
# Sleep 1
28392: Moving to status=wait at /home/sand/src/perl/repoperls/installed-perls/perl/v5.25.0-74-gadec5bb/8942/lib/site_perl/5.25.1/POE/Component/Daemon.pm line 1050.
28392: requestN=0 < max requests=1 at /home/sand/src/perl/repoperls/installed-perls/perl/v5.25.0-74-gadec5bb/8942/lib/site_perl/5.25.1/POE/Component/Daemon.pm line 1060.
28391: Spawning 1 spares at /home/sand/src/perl/repoperls/installed-perls/perl/v5.25.0-74-gadec5bb/8942/lib/site_perl/5.25.1/POE/Component/Daemon.pm line 972.
28393: Moving to status=wait at /home/sand/src/perl/repoperls/installed-perls/perl/v5.25.0-74-gadec5bb/8942/lib/site_perl/5.25.1/POE/Component/Daemon.pm line 1050.
28393: requestN=0 < max requests=1 at /home/sand/src/perl/repoperls/installed-perls/perl/v5.25.0-74-gadec5bb/8942/lib/site_perl/5.25.1/POE/Component/Daemon.pm line 1060.
28394: Moving to status=wait at /home/sand/src/perl/repoperls/installed-perls/perl/v5.25.0-74-gadec5bb/8942/lib/site_perl/5.25.1/POE/Component/Daemon.pm line 1050.
28394: requestN=0 < max requests=1 at /home/sand/src/perl/repoperls/installed-perls/perl/v5.25.0-74-gadec5bb/8942/lib/site_perl/5.25.1/POE/Component/Daemon.pm line 1060.
28394: Moving to status=wait at /home/sand/src/perl/repoperls/installed-perls/perl/v5.25.0-74-gadec5bb/8942/lib/site_perl/5.25.1/POE/Component/Daemon.pm line 1050.
28394: Handled 1 requests, shutting down status=done at /home/sand/src/perl/repoperls/installed-perls/perl/v5.25.0-74-gadec5bb/8942/lib/site_perl/5.25.1/POE/Component/Daemon.pm line 1054.
28394: shutdown at /home/sand/src/perl/repoperls/installed-perls/perl/v5.25.0-74-gadec5bb/8942/lib/site_perl/5.25.1/POE/Component/Daemon.pm line 525.
28392: Moving to status=wait at /home/sand/src/perl/repoperls/installed-perls/perl/v5.25.0-74-gadec5bb/8942/lib/site_perl/5.25.1/POE/Component/Daemon.pm line 1050.
28392: Handled 1 requests, shutting down status=done at /home/sand/src/perl/repoperls/installed-perls/perl/v5.25.0-74-gadec5bb/8942/lib/site_perl/5.25.1/POE/Component/Daemon.pm line 1054.
28392: shutdown at /home/sand/src/perl/repoperls/installed-perls/perl/v5.25.0-74-gadec5bb/8942/lib/site_perl/5.25.1/POE/Component/Daemon.pm line 525.
28393: Moving to status=wait at /home/sand/src/perl/repoperls/installed-perls/perl/v5.25.0-74-gadec5bb/8942/lib/site_perl/5.25.1/POE/Component/Daemon.pm line 1050.
28393: Handled 1 requests, shutting down status=done at /home/sand/src/perl/repoperls/installed-perls/perl/v5.25.0-74-gadec5bb/8942/lib/site_perl/5.25.1/POE/Component/Daemon.pm line 1054.
28393: shutdown at /home/sand/src/perl/repoperls/installed-perls/perl/v5.25.0-74-gadec5bb/8942/lib/site_perl/5.25.1/POE/Component/Daemon.pm line 525.
28391: shutdown at /home/sand/src/perl/repoperls/installed-perls/perl/v5.25.0-74-gadec5bb/8942/lib/site_perl/5.25.1/POE/Component/Daemon.pm line 525.
28391: Unable to kill 28392: No such process at /home/sand/src/perl/repoperls/installed-perls/perl/v5.25.0-74-gadec5bb/8942/lib/site_perl/5.25.1/POE/Component/Daemon.pm line 533.
t/26_prefork.t ....... ok
# Sleep 1
t/30_specials.t ...... ok
# Sleep 1
# Sleep 1
t/31_error.t ......... ok
# Sleep 1
t/32_stream.t ........ ok
All tests successful.
Files=12, Tests=202, 10 wallclock secs ( 0.07 usr  0.06 sys +  2.50 cusr  0.69 csys =  3.32 CPU)
Result: PASS

------------------------------
PREREQUISITES
------------------------------

Prerequisite modules loaded:

requires:

    Module                  Need   Have  
    ----------------------- ------ ------
    Data::Dump              1      1.23  
    HTTP::Date              1      6.02  
    HTTP::Request           1      6.11  
    HTTP::Response          1      6.11  
    HTTP::Status            1      6.11  
    POE                     1      1.367 
    POE::Session::Multiplex 0.06   0.0600
    POE::Session::PlainCall 0.03   0.0301
    POEx::URI               0.0301 0.0301
    Scalar::Util            0      1.45  
    Storable                1      2.56  

build_requires:

    Module                  Need   Have  
    ----------------------- ------ ------
    ExtUtils::MakeMaker     0      7.16  

configure_requires:

    Module                  Need   Have  
    ----------------------- ------ ------
    ExtUtils::MakeMaker     0      7.16  


------------------------------
ENVIRONMENT AND OTHER CONTEXT
------------------------------

Environment variables:

    AUTOMATED_TESTING = 1
    LANG = en_US.UTF-8
    LANGUAGE = en_US:en
    PATH = /usr/lib/ccache:/home/sand/bin:/usr/local/bin:/usr/bin:/bin:/usr/games:/usr/local/perl/bin:/usr/X11/bin:/sbin:/usr/sbin
    PERL5LIB = 
    PERL5OPT = 
    PERL5_CPANPLUS_IS_RUNNING = 18973
    PERL5_CPAN_IS_RUNNING = 18973
    PERL_CANARY_STABILITY_NOPROMPT = 1
    PERL_MM_USE_DEFAULT = 1
    SHELL = /usr/bin/zsh
    TERM = screen

Perl special variables (and OS-specific diagnostics, for MSWin32):

    $^X = /tmp/basesmoker-reloperl-nJg2/bin/perl
    $UID/$EUID = 1005 / 1005
    $GID = 1005 1005
    $EGID = 1005 1005

Perl module toolchain versions installed:

    Module              Have    
    ------------------- --------
    CPAN                2.12    
    CPAN::Meta          2.150005
    Cwd                 3.63    
    ExtUtils::CBuilder  0.280225
    ExtUtils::Command   7.16    
    ExtUtils::Install   2.04    
    ExtUtils::MakeMaker 7.16    
    ExtUtils::Manifest  1.70    
    ExtUtils::ParseXS   3.31    
    File::Spec          3.63    
    JSON                2.90    
    JSON::PP            2.27300 
    Module::Build       0.4218  
    Module::Signature   0.79    
    Parse::CPAN::Meta   1.4417  
    Test::Harness       3.36    
    Test::More          1.302015
    YAML                1.15    
    YAML::Syck          1.29    
    version             0.9916  


--

Summary of my perl5 (revision 5 version 25 subversion 1) configuration:
  Commit id: adec5bbf0b66ee5ebc2ba80eda2389bb68e23d86
  Platform:
    osname=linux, osvers=4.3.0-1-amd64, archname=x86_64-linux-ld
    uname='linux k83 4.3.0-1-amd64 #1 smp debian 4.3.3-7 (2016-01-19) x86_64 gnulinux '
    config_args='-Dprefix=/home/sand/src/perl/repoperls/installed-perls/perl/v5.25.0-74-gadec5bb/8942 -Dmyhostname=k83 -Dinstallusrbinperl=n -Uversiononly -Dusedevel -des -Ui_db -Dlibswanted=cl pthread socket inet nsl gdbm dbm malloc dl ld sun m crypt sec util c cposix posix ucb BSD gdbm_compat -Uuseithreads -Duselongdouble -DDEBUGGING=-g'
    hint=recommended, useposix=true, d_sigaction=define
    useithreads=undef, usemultiplicity=undef
    use64bitint=define, use64bitall=define, uselongdouble=define
    usemymalloc=n, bincompat5005=undef
  Compiler:
    cc='cc', ccflags ='-fwrapv -fno-strict-aliasing -pipe -fstack-protector-strong -I/usr/local/include -D_LARGEFILE_SOURCE -D_FILE_OFFSET_BITS=64 -D_FORTIFY_SOURCE=2',
    optimize='-O2 -g',
    cppflags='-fwrapv -fno-strict-aliasing -pipe -fstack-protector-strong -I/usr/local/include'
    ccversion='', gccversion='5.3.1 20160121', gccosandvers=''
    intsize=4, longsize=8, ptrsize=8, doublesize=8, byteorder=12345678, doublekind=3
    d_longlong=define, longlongsize=8, d_longdbl=define, longdblsize=16, longdblkind=3
    ivtype='long', ivsize=8, nvtype='long double', nvsize=16, Off_t='off_t', lseeksize=8
    alignbytes=16, prototype=define
  Linker and Libraries:
    ld='cc', ldflags =' -fstack-protector-strong -L/usr/local/lib'
    libpth=/usr/local/lib /usr/lib/gcc/x86_64-linux-gnu/5/include-fixed /usr/include/x86_64-linux-gnu /usr/lib /lib/x86_64-linux-gnu /lib/../lib /usr/lib/x86_64-linux-gnu /usr/lib/../lib /lib
    libs=-lpthread -lnsl -lgdbm -ldl -lm -lcrypt -lutil -lc -lgdbm_compat
    perllibs=-lpthread -lnsl -ldl -lm -lcrypt -lutil -lc
    libc=libc-2.21.so, so=so, useshrplib=false, libperl=libperl.a
    gnulibc_version='2.21'
  Dynamic Linking:
    dlsrc=dl_dlopen.xs, dlext=so, d_dlsymun=undef, ccdlflags='-Wl,-E'
    cccdlflags='-fPIC', lddlflags='-shared -O2 -g -L/usr/local/lib -fstack-protector-strong'


Characteristics of this binary (from libperl): 
  Compile-time options: HAS_TIMES PERLIO_LAYERS PERL_COPY_ON_WRITE
                        PERL_DONT_CREATE_GVSV
                        PERL_HASH_FUNC_ONE_AT_A_TIME_HARD PERL_MALLOC_WRAP
                        PERL_OP_PARENT PERL_PRESERVE_IVUV PERL_USE_DEVEL
                        USE_64_BIT_ALL USE_64_BIT_INT USE_LARGE_FILES
                        USE_LOCALE USE_LOCALE_COLLATE USE_LOCALE_CTYPE
                        USE_LOCALE_NUMERIC USE_LOCALE_TIME USE_LONG_DOUBLE
                        USE_PERLIO USE_PERL_ATOF
  Built under linux
  Compiled at May 14 2016 18:16:52
  %ENV:
    PERL5LIB=""
    PERL5OPT=""
    PERL5_CPANPLUS_IS_RUNNING="18973"
    PERL5_CPAN_IS_RUNNING="18973"
    PERL_CANARY_STABILITY_NOPROMPT="1"
    PERL_MM_USE_DEFAULT="1"
  @INC:
    /home/sand/src/perl/repoperls/installed-perls/perl/v5.25.0-74-gadec5bb/8942/lib/site_perl/5.25.1/x86_64-linux-ld
    /home/sand/src/perl/repoperls/installed-perls/perl/v5.25.0-74-gadec5bb/8942/lib/site_perl/5.25.1
    /home/sand/src/perl/repoperls/installed-perls/perl/v5.25.0-74-gadec5bb/8942/lib/5.25.1/x86_64-linux-ld
    /home/sand/src/perl/repoperls/installed-perls/perl/v5.25.0-74-gadec5bb/8942/lib/5.25.1
    .