Report for Dancer-Plugin-FontSubset-0.1.2

Back
From: metabase:user:e099aa30-bf4f-11e0-b0bb-a7aeb748a6a7
Subject: PASS Dancer-Plugin-FontSubset-0.1.2 v5.16.3 Mac OS X
Date: 2013-08-09T13:41:07Z

This distribution has been tested as part of the CPAN Testers
project, supporting the Perl programming language.  See
http://wiki.cpantesters.org/ for more information or email
questions to cpan-testers-discuss@perl.org


--
Dear Yanick Champoux,

This is a computer-generated report for Dancer-Plugin-FontSubset-0.1.2
on perl 5.16.3, created by CPAN-Reporter-1.2010.

Thank you for uploading your work to CPAN.  Congratulations!
All tests were successful.

Sections of this report:

    * Tester comments
    * Program output
    * Prerequisites
    * Environment and other context

------------------------------
TESTER COMMENTS
------------------------------

Additional comments from tester:

none provided

------------------------------
PROGRAM OUTPUT
------------------------------

Output from './Build test':

t/00-compile.t ................ ok
# 
# 
# Generated by Dist::Zilla::Plugin::ReportVersions::Tiny v1.08
# perl: 5.016003 (wanted v5.12.0) on darwin from /usr/local/bin/perl
# 
# Dancer                                        => 1.3116     (want any version)
# Dancer::Plugin                                => <undef>    (want any version)
# Dancer::Plugin::Cache::CHI                    => 1.4.0      (want any version)
# Dancer::Test                                  => <undef>    (want any version)
# File::Find                                    => 1.20       (want any version)
# File::Temp                                    => 0.2301     (want any version)
# Font::TTF::Font                               => 0.39       (want any version)
# Font::TTF::Scripts::Name                      => <undef>    (want any version)
# List::AllUtils                                => 0.03       (want any version)
# Module::Build                                 => 0.4005     (want 0.3601) 
# Moo                                           => 1.003      (want any version)
# MooX::Singleton                               => 1.20       (want any version)
# Test::More                                    => 0.9805     (want 0.88)   
# strict                                        => 1.07       (want any version)
# version                                       => 0.9902     (want 0.9901) 
# warnings                                      => 1.13       (want any version)
# 
# Thanks for using my code.  I hope it works for you.
# If not, please try and include this output in the bug report.
# That will help me reproduce the issue and solve your problem.
# 
t/000-report-versions-tiny.t .. ok
Use of uninitialized value in array element at /usr/local/lib/perl5/site_perl/5.16.3/Font/TTF/OS_2.pm line 301.
Use of uninitialized value in array element at /usr/local/lib/perl5/site_perl/5.16.3/Font/TTF/OS_2.pm line 301.
Use of uninitialized value in array element at /usr/local/lib/perl5/site_perl/5.16.3/Font/TTF/OS_2.pm line 301.
Use of uninitialized value in array element at /usr/local/lib/perl5/site_perl/5.16.3/Font/TTF/OS_2.pm line 301.
Use of uninitialized value in array element at /usr/local/lib/perl5/site_perl/5.16.3/Font/TTF/OS_2.pm line 301.
Use of uninitialized value in array element at /usr/local/lib/perl5/site_perl/5.16.3/Font/TTF/OS_2.pm line 301.
Use of uninitialized value in array element at /usr/local/lib/perl5/site_perl/5.16.3/Font/TTF/OS_2.pm line 301.
Use of uninitialized value in array element at /usr/local/lib/perl5/site_perl/5.16.3/Font/TTF/OS_2.pm line 301.
Use of uninitialized value in array element at /usr/local/lib/perl5/site_perl/5.16.3/Font/TTF/OS_2.pm line 301.
Use of uninitialized value in array element at /usr/local/lib/perl5/site_perl/5.16.3/Font/TTF/OS_2.pm line 301.
Use of uninitialized value in array element at /usr/local/lib/perl5/site_perl/5.16.3/Font/TTF/OS_2.pm line 301.
Use of uninitialized value in array element at /usr/local/lib/perl5/site_perl/5.16.3/Font/TTF/OS_2.pm line 301.
Use of uninitialized value in array element at /usr/local/lib/perl5/site_perl/5.16.3/Font/TTF/OS_2.pm line 301.
Use of uninitialized value in array element at /usr/local/lib/perl5/site_perl/5.16.3/Font/TTF/OS_2.pm line 301.
Use of uninitialized value in array element at /usr/local/lib/perl5/site_perl/5.16.3/Font/TTF/OS_2.pm line 301.
Use of uninitialized value in array element at /usr/local/lib/perl5/site_perl/5.16.3/Font/TTF/OS_2.pm line 301.
Use of uninitialized value in array element at /usr/local/lib/perl5/site_perl/5.16.3/Font/TTF/OS_2.pm line 301.
Use of uninitialized value in array element at /usr/local/lib/perl5/site_perl/5.16.3/Font/TTF/OS_2.pm line 301.
Use of uninitialized value in array element at /usr/local/lib/perl5/site_perl/5.16.3/Font/TTF/OS_2.pm line 301.
Use of uninitialized value in array element at /usr/local/lib/perl5/site_perl/5.16.3/Font/TTF/OS_2.pm line 301.
Use of uninitialized value in array element at /usr/local/lib/perl5/site_perl/5.16.3/Font/TTF/OS_2.pm line 301.
Use of uninitialized value in array element at /usr/local/lib/perl5/site_perl/5.16.3/Font/TTF/OS_2.pm line 301.
Use of uninitialized value in array element at /usr/local/lib/perl5/site_perl/5.16.3/Font/TTF/OS_2.pm line 301.
Use of uninitialized value in array element at /usr/local/lib/perl5/site_perl/5.16.3/Font/TTF/OS_2.pm line 301.
Use of uninitialized value in array element at /usr/local/lib/perl5/site_perl/5.16.3/Font/TTF/OS_2.pm line 303.
Use of uninitialized value $xMin in numeric lt (<) at /usr/local/lib/perl5/site_perl/5.16.3/Font/TTF/Head.pm line 170.
Use of uninitialized value $yMin in numeric lt (<) at /usr/local/lib/perl5/site_perl/5.16.3/Font/TTF/Head.pm line 171.
Use of uninitialized value $xMax in numeric gt (>) at /usr/local/lib/perl5/site_perl/5.16.3/Font/TTF/Head.pm line 172.
Use of uninitialized value $yMax in numeric gt (>) at /usr/local/lib/perl5/site_perl/5.16.3/Font/TTF/Head.pm line 173.
Use of uninitialized value $maw in numeric gt (>) at /usr/local/lib/perl5/site_perl/5.16.3/Font/TTF/Hhea.pm line 132.
Use of uninitialized value $mlsb in numeric lt (<) at /usr/local/lib/perl5/site_perl/5.16.3/Font/TTF/Hhea.pm line 133.
Use of uninitialized value $mrsb in numeric lt (<) at /usr/local/lib/perl5/site_perl/5.16.3/Font/TTF/Hhea.pm line 134.
Use of uninitialized value $mext in numeric gt (>) at /usr/local/lib/perl5/site_perl/5.16.3/Font/TTF/Hhea.pm line 135.
Use of uninitialized value in numeric gt (>) at /usr/local/lib/perl5/site_perl/5.16.3/Font/TTF/Maxp.pm line 151.
Use of uninitialized value in numeric gt (>) at /usr/local/lib/perl5/site_perl/5.16.3/Font/TTF/Maxp.pm line 151.
Use of uninitialized value in numeric gt (>) at /usr/local/lib/perl5/site_perl/5.16.3/Font/TTF/Maxp.pm line 151.
Use of uninitialized value $n[2] in numeric gt (>) at /usr/local/lib/perl5/site_perl/5.16.3/Font/TTF/Maxp.pm line 151.
Use of uninitialized value in numeric gt (>) at /usr/local/lib/perl5/site_perl/5.16.3/Font/TTF/Maxp.pm line 151.
Use of uninitialized value $n[3] in numeric gt (>) at /usr/local/lib/perl5/site_perl/5.16.3/Font/TTF/Maxp.pm line 151.
Use of uninitialized value in numeric gt (>) at /usr/local/lib/perl5/site_perl/5.16.3/Font/TTF/Maxp.pm line 151.
Use of uninitialized value in numeric gt (>) at /usr/local/lib/perl5/site_perl/5.16.3/Font/TTF/Maxp.pm line 151.
Use of uninitialized value $n[5] in numeric gt (>) at /usr/local/lib/perl5/site_perl/5.16.3/Font/TTF/Maxp.pm line 151.
Use of uninitialized value in numeric gt (>) at /usr/local/lib/perl5/site_perl/5.16.3/Font/TTF/Maxp.pm line 151.
Use of uninitialized value in numeric gt (>) at /usr/local/lib/perl5/site_perl/5.16.3/Font/TTF/Maxp.pm line 151.
Use of uninitialized value $n[2] in numeric gt (>) at /usr/local/lib/perl5/site_perl/5.16.3/Font/TTF/Maxp.pm line 151.
Use of uninitialized value in numeric gt (>) at /usr/local/lib/perl5/site_perl/5.16.3/Font/TTF/Maxp.pm line 151.
Use of uninitialized value $n[3] in numeric gt (>) at /usr/local/lib/perl5/site_perl/5.16.3/Font/TTF/Maxp.pm line 151.
Use of uninitialized value in numeric gt (>) at /usr/local/lib/perl5/site_perl/5.16.3/Font/TTF/Maxp.pm line 151.
Use of uninitialized value $n[5] in numeric gt (>) at /usr/local/lib/perl5/site_perl/5.16.3/Font/TTF/Maxp.pm line 151.
Use of uninitialized value in numeric gt (>) at /usr/local/lib/perl5/site_perl/5.16.3/Font/TTF/Maxp.pm line 151.
Use of uninitialized value $n[2] in numeric gt (>) at /usr/local/lib/perl5/site_perl/5.16.3/Font/TTF/Maxp.pm line 151.
Use of uninitialized value in numeric gt (>) at /usr/local/lib/perl5/site_perl/5.16.3/Font/TTF/Maxp.pm line 151.
Use of uninitialized value $n[3] in numeric gt (>) at /usr/local/lib/perl5/site_perl/5.16.3/Font/TTF/Maxp.pm line 151.
Use of uninitialized value in numeric gt (>) at /usr/local/lib/perl5/site_perl/5.16.3/Font/TTF/Maxp.pm line 151.
Use of uninitialized value $n[5] in numeric gt (>) at /usr/local/lib/perl5/site_perl/5.16.3/Font/TTF/Maxp.pm line 151.
Filehandle $fh opened only for output at /usr/local/lib/perl5/5.16.3/darwin-2level/IO/Handle.pm line 460.
Use of uninitialized value in pack at /usr/local/lib/perl5/site_perl/5.16.3/Font/TTF/Cmap.pm line 330.
Use of uninitialized value in pack at /usr/local/lib/perl5/site_perl/5.16.3/Font/TTF/Cmap.pm line 330.
Use of uninitialized value in pack at /usr/local/lib/perl5/site_perl/5.16.3/Font/TTF/Cmap.pm line 330.
Use of uninitialized value in pack at /usr/local/lib/perl5/site_perl/5.16.3/Font/TTF/Cmap.pm line 330.
Use of uninitialized value in pack at /usr/local/lib/perl5/site_perl/5.16.3/Font/TTF/Cmap.pm line 330.
Use of uninitialized value in pack at /usr/local/lib/perl5/site_perl/5.16.3/Font/TTF/Cmap.pm line 330.
Use of uninitialized value in pack at /usr/local/lib/perl5/site_perl/5.16.3/Font/TTF/Cmap.pm line 330.
Use of uninitialized value in pack at /usr/local/lib/perl5/site_perl/5.16.3/Font/TTF/Cmap.pm line 330.
Use of uninitialized value in pack at /usr/local/lib/perl5/site_perl/5.16.3/Font/TTF/Cmap.pm line 330.
Use of uninitialized value in pack at /usr/local/lib/perl5/site_perl/5.16.3/Font/TTF/Cmap.pm line 330.
Use of uninitialized value in pack at /usr/local/lib/perl5/site_perl/5.16.3/Font/TTF/Cmap.pm line 330.
Use of uninitialized value in pack at /usr/local/lib/perl5/site_perl/5.16.3/Font/TTF/Cmap.pm line 330.
Use of uninitialized value in pack at /usr/local/lib/perl5/site_perl/5.16.3/Font/TTF/Cmap.pm line 330.
Use of uninitialized value in pack at /usr/local/lib/perl5/site_perl/5.16.3/Font/TTF/Cmap.pm line 330.
Use of uninitialized value in pack at /usr/local/lib/perl5/site_perl/5.16.3/Font/TTF/Cmap.pm line 330.
Use of uninitialized value in pack at /usr/local/lib/perl5/site_perl/5.16.3/Font/TTF/Cmap.pm line 330.
Use of uninitialized value in pack at /usr/local/lib/perl5/site_perl/5.16.3/Font/TTF/Cmap.pm line 330.
Use of uninitialized value in pack at /usr/local/lib/perl5/site_perl/5.16.3/Font/TTF/Cmap.pm line 330.
Use of uninitialized value in pack at /usr/local/lib/perl5/site_perl/5.16.3/Font/TTF/Cmap.pm line 330.
Use of uninitialized value in pack at /usr/local/lib/perl5/site_perl/5.16.3/Font/TTF/Cmap.pm line 330.
Use of uninitialized value in pack at /usr/local/lib/perl5/site_perl/5.16.3/Font/TTF/Cmap.pm line 330.
Use of uninitialized value in pack at /usr/local/lib/perl5/site_perl/5.16.3/Font/TTF/Cmap.pm line 330.
Use of uninitialized value in pack at /usr/local/lib/perl5/site_perl/5.16.3/Font/TTF/Cmap.pm line 330.
Use of uninitialized value in pack at /usr/local/lib/perl5/site_perl/5.16.3/Font/TTF/Cmap.pm line 330.
Use of uninitialized value in pack at /usr/local/lib/perl5/site_perl/5.16.3/Font/TTF/Cmap.pm line 330.
Use of uninitialized value in pack at /usr/local/lib/perl5/site_perl/5.16.3/Font/TTF/Cmap.pm line 330.
Use of uninitialized value in pack at /usr/local/lib/perl5/site_perl/5.16.3/Font/TTF/Cmap.pm line 330.
Use of uninitialized value in pack at /usr/local/lib/perl5/site_perl/5.16.3/Font/TTF/Cmap.pm line 330.
Use of uninitialized value in pack at /usr/local/lib/perl5/site_perl/5.16.3/Font/TTF/Cmap.pm line 330.
Use of uninitialized value in pack at /usr/local/lib/perl5/site_perl/5.16.3/Font/TTF/Cmap.pm line 330.
Use of uninitialized value in pack at /usr/local/lib/perl5/site_perl/5.16.3/Font/TTF/Cmap.pm line 330.
Use of uninitialized value in pack at /usr/local/lib/perl5/site_perl/5.16.3/Font/TTF/Cmap.pm line 330.
Use of uninitialized value in pack at /usr/local/lib/perl5/site_perl/5.16.3/Font/TTF/Cmap.pm line 330.
Use of uninitialized value in pack at /usr/local/lib/perl5/site_perl/5.16.3/Font/TTF/Cmap.pm line 330.
Use of uninitialized value in pack at /usr/local/lib/perl5/site_perl/5.16.3/Font/TTF/Cmap.pm line 330.
Use of uninitialized value in pack at /usr/local/lib/perl5/site_perl/5.16.3/Font/TTF/Cmap.pm line 330.
Use of uninitialized value in pack at /usr/local/lib/perl5/site_perl/5.16.3/Font/TTF/Cmap.pm line 330.
Use of uninitialized value in pack at /usr/local/lib/perl5/site_perl/5.16.3/Font/TTF/Cmap.pm line 330.
Use of uninitialized value in pack at /usr/local/lib/perl5/site_perl/5.16.3/Font/TTF/Cmap.pm line 330.
Use of uninitialized value in pack at /usr/local/lib/perl5/site_perl/5.16.3/Font/TTF/Cmap.pm line 330.
Use of uninitialized value in pack at /usr/local/lib/perl5/site_perl/5.16.3/Font/TTF/Cmap.pm line 330.
Use of uninitialized value in pack at /usr/local/lib/perl5/site_perl/5.16.3/Font/TTF/Cmap.pm line 330.
Use of uninitialized value in pack at /usr/local/lib/perl5/site_perl/5.16.3/Font/TTF/Cmap.pm line 330.
Use of uninitialized value in pack at /usr/local/lib/perl5/site_perl/5.16.3/Font/TTF/Cmap.pm line 330.
Use of uninitialized value in pack at /usr/local/lib/perl5/site_perl/5.16.3/Font/TTF/Cmap.pm line 330.
Use of uninitialized value in pack at /usr/local/lib/perl5/site_perl/5.16.3/Font/TTF/Cmap.pm line 330.
Use of uninitialized value in pack at /usr/local/lib/perl5/site_perl/5.16.3/Font/TTF/Cmap.pm line 330.
Use of uninitialized value in pack at /usr/local/lib/perl5/site_perl/5.16.3/Font/TTF/Cmap.pm line 330.
Use of uninitialized value in pack at /usr/local/lib/perl5/site_perl/5.16.3/Font/TTF/Cmap.pm line 330.
Use of uninitialized value in pack at /usr/local/lib/perl5/site_perl/5.16.3/Font/TTF/Cmap.pm line 330.
Use of uninitialized value in pack at /usr/local/lib/perl5/site_perl/5.16.3/Font/TTF/Cmap.pm line 330.
Use of uninitialized value in pack at /usr/local/lib/perl5/site_perl/5.16.3/Font/TTF/Cmap.pm line 330.
Use of uninitialized value in pack at /usr/local/lib/perl5/site_perl/5.16.3/Font/TTF/Cmap.pm line 330.
Use of uninitialized value in pack at /usr/local/lib/perl5/site_perl/5.16.3/Font/TTF/Cmap.pm line 330.
Use of uninitialized value in pack at /usr/local/lib/perl5/site_perl/5.16.3/Font/TTF/Cmap.pm line 330.
Use of uninitialized value in pack at /usr/local/lib/perl5/site_perl/5.16.3/Font/TTF/Cmap.pm line 330.
Use of uninitialized value in pack at /usr/local/lib/perl5/site_perl/5.16.3/Font/TTF/Cmap.pm line 330.
Use of uninitialized value in pack at /usr/local/lib/perl5/site_perl/5.16.3/Font/TTF/Cmap.pm line 330.
Use of uninitialized value in pack at /usr/local/lib/perl5/site_perl/5.16.3/Font/TTF/Cmap.pm line 330.
Use of uninitialized value in pack at /usr/local/lib/perl5/site_perl/5.16.3/Font/TTF/Cmap.pm line 330.
Use of uninitialized value in pack at /usr/local/lib/perl5/site_perl/5.16.3/Font/TTF/Cmap.pm line 330.
Use of uninitialized value in pack at /usr/local/lib/perl5/site_perl/5.16.3/Font/TTF/Cmap.pm line 330.
Use of uninitialized value in pack at /usr/local/lib/perl5/site_perl/5.16.3/Font/TTF/Cmap.pm line 330.
Use of uninitialized value in pack at /usr/local/lib/perl5/site_perl/5.16.3/Font/TTF/Cmap.pm line 330.
Use of uninitialized value in pack at /usr/local/lib/perl5/site_perl/5.16.3/Font/TTF/Cmap.pm line 330.
Use of uninitialized value in pack at /usr/local/lib/perl5/site_perl/5.16.3/Font/TTF/Cmap.pm line 330.
Use of uninitialized value in pack at /usr/local/lib/perl5/site_perl/5.16.3/Font/TTF/Cmap.pm line 330.
Use of uninitialized value in pack at /usr/local/lib/perl5/site_perl/5.16.3/Font/TTF/Cmap.pm line 330.
Use of uninitialized value in pack at /usr/local/lib/perl5/site_perl/5.16.3/Font/TTF/Cmap.pm line 330.
Use of uninitialized value in pack at /usr/local/lib/perl5/site_perl/5.16.3/Font/TTF/Cmap.pm line 330.
Use of uninitialized value in pack at /usr/local/lib/perl5/site_perl/5.16.3/Font/TTF/Cmap.pm line 330.
Use of uninitialized value in pack at /usr/local/lib/perl5/site_perl/5.16.3/Font/TTF/Cmap.pm line 330.
Use of uninitialized value in pack at /usr/local/lib/perl5/site_perl/5.16.3/Font/TTF/Cmap.pm line 330.
Use of uninitialized value in pack at /usr/local/lib/perl5/site_perl/5.16.3/Font/TTF/Cmap.pm line 330.
Use of uninitialized value in pack at /usr/local/lib/perl5/site_perl/5.16.3/Font/TTF/Cmap.pm line 330.
Use of uninitialized value in pack at /usr/local/lib/perl5/site_perl/5.16.3/Font/TTF/Cmap.pm line 330.
Use of uninitialized value in pack at /usr/local/lib/perl5/site_perl/5.16.3/Font/TTF/Cmap.pm line 330.
Use of uninitialized value in pack at /usr/local/lib/perl5/site_perl/5.16.3/Font/TTF/Cmap.pm line 330.
Use of uninitialized value in pack at /usr/local/lib/perl5/site_perl/5.16.3/Font/TTF/Cmap.pm line 330.
Use of uninitialized value in pack at /usr/local/lib/perl5/site_perl/5.16.3/Font/TTF/Cmap.pm line 330.
Use of uninitialized value in pack at /usr/local/lib/perl5/site_perl/5.16.3/Font/TTF/Cmap.pm line 330.
Use of uninitialized value in pack at /usr/local/lib/perl5/site_perl/5.16.3/Font/TTF/Cmap.pm line 330.
Use of uninitialized value in pack at /usr/local/lib/perl5/site_perl/5.16.3/Font/TTF/Cmap.pm line 330.
Use of uninitialized value in pack at /usr/local/lib/perl5/site_perl/5.16.3/Font/TTF/Cmap.pm line 330.
Use of uninitialized value in pack at /usr/local/lib/perl5/site_perl/5.16.3/Font/TTF/Cmap.pm line 330.
Use of uninitialized value in pack at /usr/local/lib/perl5/site_perl/5.16.3/Font/TTF/Cmap.pm line 330.
Use of uninitialized value in pack at /usr/local/lib/perl5/site_perl/5.16.3/Font/TTF/Cmap.pm line 330.
Use of uninitialized value in pack at /usr/local/lib/perl5/site_perl/5.16.3/Font/TTF/Cmap.pm line 330.
Use of uninitialized value in pack at /usr/local/lib/perl5/site_perl/5.16.3/Font/TTF/Cmap.pm line 330.
Use of uninitialized value in pack at /usr/local/lib/perl5/site_perl/5.16.3/Font/TTF/Cmap.pm line 330.
Use of uninitialized value in pack at /usr/local/lib/perl5/site_perl/5.16.3/Font/TTF/Cmap.pm line 330.
Use of uninitialized value in pack at /usr/local/lib/perl5/site_perl/5.16.3/Font/TTF/Cmap.pm line 330.
Use of uninitialized value in pack at /usr/local/lib/perl5/site_perl/5.16.3/Font/TTF/Cmap.pm line 330.
Use of uninitialized value in pack at /usr/local/lib/perl5/site_perl/5.16.3/Font/TTF/Cmap.pm line 330.
Use of uninitialized value in pack at /usr/local/lib/perl5/site_perl/5.16.3/Font/TTF/Cmap.pm line 330.
Use of uninitialized value in pack at /usr/local/lib/perl5/site_perl/5.16.3/Font/TTF/Cmap.pm line 330.
Use of uninitialized value in pack at /usr/local/lib/perl5/site_perl/5.16.3/Font/TTF/Cmap.pm line 330.
Use of uninitialized value in pack at /usr/local/lib/perl5/site_perl/5.16.3/Font/TTF/Cmap.pm line 330.
Use of uninitialized value in pack at /usr/local/lib/perl5/site_perl/5.16.3/Font/TTF/Cmap.pm line 330.
Use of uninitialized value in pack at /usr/local/lib/perl5/site_perl/5.16.3/Font/TTF/Cmap.pm line 330.
Use of uninitialized value in pack at /usr/local/lib/perl5/site_perl/5.16.3/Font/TTF/Cmap.pm line 330.
Use of uninitialized value in pack at /usr/local/lib/perl5/site_perl/5.16.3/Font/TTF/Cmap.pm line 330.
Use of uninitialized value in pack at /usr/local/lib/perl5/site_perl/5.16.3/Font/TTF/Cmap.pm line 330.
Use of uninitialized value in pack at /usr/local/lib/perl5/site_perl/5.16.3/Font/TTF/Cmap.pm line 330.
Use of uninitialized value in pack at /usr/local/lib/perl5/site_perl/5.16.3/Font/TTF/Cmap.pm line 330.
Use of uninitialized value in pack at /usr/local/lib/perl5/site_perl/5.16.3/Font/TTF/Cmap.pm line 330.
Use of uninitialized value in pack at /usr/local/lib/perl5/site_perl/5.16.3/Font/TTF/Cmap.pm line 330.
Use of uninitialized value in pack at /usr/local/lib/perl5/site_perl/5.16.3/Font/TTF/Cmap.pm line 330.
Use of uninitialized value in pack at /usr/local/lib/perl5/site_perl/5.16.3/Font/TTF/Cmap.pm line 330.
Use of uninitialized value in pack at /usr/local/lib/perl5/site_perl/5.16.3/Font/TTF/Cmap.pm line 330.
Use of uninitialized value in pack at /usr/local/lib/perl5/site_perl/5.16.3/Font/TTF/Cmap.pm line 330.
Use of uninitialized value in pack at /usr/local/lib/perl5/site_perl/5.16.3/Font/TTF/Cmap.pm line 330.
Use of uninitialized value in pack at /usr/local/lib/perl5/site_perl/5.16.3/Font/TTF/Cmap.pm line 330.
Use of uninitialized value in pack at /usr/local/lib/perl5/site_perl/5.16.3/Font/TTF/Cmap.pm line 330.
Use of uninitialized value in pack at /usr/local/lib/perl5/site_perl/5.16.3/Font/TTF/Cmap.pm line 330.
Use of uninitialized value in pack at /usr/local/lib/perl5/site_perl/5.16.3/Font/TTF/Cmap.pm line 330.
Use of uninitialized value in pack at /usr/local/lib/perl5/site_perl/5.16.3/Font/TTF/Cmap.pm line 330.
Use of uninitialized value in pack at /usr/local/lib/perl5/site_perl/5.16.3/Font/TTF/Cmap.pm line 330.
Use of uninitialized value in pack at /usr/local/lib/perl5/site_perl/5.16.3/Font/TTF/Cmap.pm line 330.
Use of uninitialized value in pack at /usr/local/lib/perl5/site_perl/5.16.3/Font/TTF/Cmap.pm line 330.
Use of uninitialized value in pack at /usr/local/lib/perl5/site_perl/5.16.3/Font/TTF/Cmap.pm line 330.
Use of uninitialized value in pack at /usr/local/lib/perl5/site_perl/5.16.3/Font/TTF/Cmap.pm line 330.
Use of uninitialized value in pack at /usr/local/lib/perl5/site_perl/5.16.3/Font/TTF/Cmap.pm line 330.
Use of uninitialized value in pack at /usr/local/lib/perl5/site_perl/5.16.3/Font/TTF/Cmap.pm line 330.
Use of uninitialized value in pack at /usr/local/lib/perl5/site_perl/5.16.3/Font/TTF/Cmap.pm line 330.
Use of uninitialized value in pack at /usr/local/lib/perl5/site_perl/5.16.3/Font/TTF/Cmap.pm line 330.
Use of uninitialized value in pack at /usr/local/lib/perl5/site_perl/5.16.3/Font/TTF/Cmap.pm line 330.
Use of uninitialized value in pack at /usr/local/lib/perl5/site_perl/5.16.3/Font/TTF/Cmap.pm line 330.
Use of uninitialized value in pack at /usr/local/lib/perl5/site_perl/5.16.3/Font/TTF/Cmap.pm line 330.
Use of uninitialized value in pack at /usr/local/lib/perl5/site_perl/5.16.3/Font/TTF/Cmap.pm line 330.
Use of uninitialized value in pack at /usr/local/lib/perl5/site_perl/5.16.3/Font/TTF/Cmap.pm line 330.
Use of uninitialized value in pack at /usr/local/lib/perl5/site_perl/5.16.3/Font/TTF/Cmap.pm line 330.
Use of uninitialized value in pack at /usr/local/lib/perl5/site_perl/5.16.3/Font/TTF/Cmap.pm line 330.
Use of uninitialized value in pack at /usr/local/lib/perl5/site_perl/5.16.3/Font/TTF/Cmap.pm line 330.
Use of uninitialized value in pack at /usr/local/lib/perl5/site_perl/5.16.3/Font/TTF/Cmap.pm line 330.
Use of uninitialized value in pack at /usr/local/lib/perl5/site_perl/5.16.3/Font/TTF/Cmap.pm line 330.
Use of uninitialized value in pack at /usr/local/lib/perl5/site_perl/5.16.3/Font/TTF/Cmap.pm line 330.
Use of uninitialized value in pack at /usr/local/lib/perl5/site_perl/5.16.3/Font/TTF/Cmap.pm line 330.
Use of uninitialized value in pack at /usr/local/lib/perl5/site_perl/5.16.3/Font/TTF/Cmap.pm line 330.
Use of uninitialized value in pack at /usr/local/lib/perl5/site_perl/5.16.3/Font/TTF/Cmap.pm line 330.
Use of uninitialized value in pack at /usr/local/lib/perl5/site_perl/5.16.3/Font/TTF/Cmap.pm line 330.
Use of uninitialized value in pack at /usr/local/lib/perl5/site_perl/5.16.3/Font/TTF/Cmap.pm line 330.
Use of uninitialized value in pack at /usr/local/lib/perl5/site_perl/5.16.3/Font/TTF/Cmap.pm line 330.
Use of uninitialized value in pack at /usr/local/lib/perl5/site_perl/5.16.3/Font/TTF/Cmap.pm line 330.
Use of uninitialized value in pack at /usr/local/lib/perl5/site_perl/5.16.3/Font/TTF/Cmap.pm line 330.
Use of uninitialized value in pack at /usr/local/lib/perl5/site_perl/5.16.3/Font/TTF/Cmap.pm line 330.
Use of uninitialized value in pack at /usr/local/lib/perl5/site_perl/5.16.3/Font/TTF/Cmap.pm line 330.
Use of uninitialized value in pack at /usr/local/lib/perl5/site_perl/5.16.3/Font/TTF/Cmap.pm line 330.
Use of uninitialized value in pack at /usr/local/lib/perl5/site_perl/5.16.3/Font/TTF/Cmap.pm line 330.
Use of uninitialized value in pack at /usr/local/lib/perl5/site_perl/5.16.3/Font/TTF/Cmap.pm line 330.
Use of uninitialized value in pack at /usr/local/lib/perl5/site_perl/5.16.3/Font/TTF/Cmap.pm line 330.
Use of uninitialized value in pack at /usr/local/lib/perl5/site_perl/5.16.3/Font/TTF/Cmap.pm line 330.
Use of uninitialized value in pack at /usr/local/lib/perl5/site_perl/5.16.3/Font/TTF/Cmap.pm line 330.
Use of uninitialized value in pack at /usr/local/lib/perl5/site_perl/5.16.3/Font/TTF/Cmap.pm line 330.
Use of uninitialized value in pack at /usr/local/lib/perl5/site_perl/5.16.3/Font/TTF/Cmap.pm line 330.
Use of uninitialized value in pack at /usr/local/lib/perl5/site_perl/5.16.3/Font/TTF/Cmap.pm line 330.
Use of uninitialized value in pack at /usr/local/lib/perl5/site_perl/5.16.3/Font/TTF/Cmap.pm line 330.
Use of uninitialized value in pack at /usr/local/lib/perl5/site_perl/5.16.3/Font/TTF/Cmap.pm line 330.
Use of uninitialized value in pack at /usr/local/lib/perl5/site_perl/5.16.3/Font/TTF/Cmap.pm line 330.
Use of uninitialized value in pack at /usr/local/lib/perl5/site_perl/5.16.3/Font/TTF/Cmap.pm line 330.
Use of uninitialized value in pack at /usr/local/lib/perl5/site_perl/5.16.3/Font/TTF/Cmap.pm line 330.
Use of uninitialized value in pack at /usr/local/lib/perl5/site_perl/5.16.3/Font/TTF/Cmap.pm line 330.
Use of uninitialized value in pack at /usr/local/lib/perl5/site_perl/5.16.3/Font/TTF/Cmap.pm line 330.
Use of uninitialized value in pack at /usr/local/lib/perl5/site_perl/5.16.3/Font/TTF/Cmap.pm line 330.
Use of uninitialized value in pack at /usr/local/lib/perl5/site_perl/5.16.3/Font/TTF/Cmap.pm line 330.
Use of uninitialized value in pack at /usr/local/lib/perl5/site_perl/5.16.3/Font/TTF/Cmap.pm line 330.
Use of uninitialized value in pack at /usr/local/lib/perl5/site_perl/5.16.3/Font/TTF/Cmap.pm line 330.
Use of uninitialized value in pack at /usr/local/lib/perl5/site_perl/5.16.3/Font/TTF/Cmap.pm line 330.
Use of uninitialized value in pack at /usr/local/lib/perl5/site_perl/5.16.3/Font/TTF/Cmap.pm line 330.
Use of uninitialized value in pack at /usr/local/lib/perl5/site_perl/5.16.3/Font/TTF/Cmap.pm line 330.
Use of uninitialized value in pack at /usr/local/lib/perl5/site_perl/5.16.3/Font/TTF/Cmap.pm line 330.
Use of uninitialized value in pack at /usr/local/lib/perl5/site_perl/5.16.3/Font/TTF/Cmap.pm line 330.
Use of uninitialized value in pack at /usr/local/lib/perl5/site_perl/5.16.3/Font/TTF/Cmap.pm line 330.
Use of uninitialized value in pack at /usr/local/lib/perl5/site_perl/5.16.3/Font/TTF/Cmap.pm line 330.
Use of uninitialized value in pack at /usr/local/lib/perl5/site_perl/5.16.3/Font/TTF/Cmap.pm line 330.
Use of uninitialized value in pack at /usr/local/lib/perl5/site_perl/5.16.3/Font/TTF/Cmap.pm line 330.
Use of uninitialized value in pack at /usr/local/lib/perl5/site_perl/5.16.3/Font/TTF/Cmap.pm line 330.
Use of uninitialized value in pack at /usr/local/lib/perl5/site_perl/5.16.3/Font/TTF/Cmap.pm line 330.
Use of uninitialized value in pack at /usr/local/lib/perl5/site_perl/5.16.3/Font/TTF/Cmap.pm line 330.
Use of uninitialized value in pack at /usr/local/lib/perl5/site_perl/5.16.3/Font/TTF/Cmap.pm line 330.
Use of uninitialized value in pack at /usr/local/lib/perl5/site_perl/5.16.3/Font/TTF/Cmap.pm line 330.
Use of uninitialized value in pack at /usr/local/lib/perl5/site_perl/5.16.3/Font/TTF/Cmap.pm line 330.
Use of uninitialized value in pack at /usr/local/lib/perl5/site_perl/5.16.3/Font/TTF/Cmap.pm line 330.
Use of uninitialized value in pack at /usr/local/lib/perl5/site_perl/5.16.3/Font/TTF/Cmap.pm line 330.
Use of uninitialized value in pack at /usr/local/lib/perl5/site_perl/5.16.3/Font/TTF/Cmap.pm line 330.
Use of uninitialized value in pack at /usr/local/lib/perl5/site_perl/5.16.3/Font/TTF/Cmap.pm line 330.
Use of uninitialized value in pack at /usr/local/lib/perl5/site_perl/5.16.3/Font/TTF/Cmap.pm line 330.
Use of uninitialized value in pack at /usr/local/lib/perl5/site_perl/5.16.3/Font/TTF/Cmap.pm line 330.
Use of uninitialized value in pack at /usr/local/lib/perl5/site_perl/5.16.3/Font/TTF/Cmap.pm line 330.
Use of uninitialized value in pack at /usr/local/lib/perl5/site_perl/5.16.3/Font/TTF/Cmap.pm line 330.
Use of uninitialized value in pack at /usr/local/lib/perl5/site_perl/5.16.3/Font/TTF/Cmap.pm line 330.
Use of uninitialized value in pack at /usr/local/lib/perl5/site_perl/5.16.3/Font/TTF/Cmap.pm line 330.
Use of uninitialized value in pack at /usr/local/lib/perl5/site_perl/5.16.3/Font/TTF/Cmap.pm line 330.
Use of uninitialized value in pack at /usr/local/lib/perl5/site_perl/5.16.3/Font/TTF/Cmap.pm line 330.
Use of uninitialized value in pack at /usr/local/lib/perl5/site_perl/5.16.3/Font/TTF/Cmap.pm line 330.
Use of uninitialized value in pack at /usr/local/lib/perl5/site_perl/5.16.3/Font/TTF/Cmap.pm line 330.
Use of uninitialized value in pack at /usr/local/lib/perl5/site_perl/5.16.3/Font/TTF/Cmap.pm line 330.
Use of uninitialized value in pack at /usr/local/lib/perl5/site_perl/5.16.3/Font/TTF/Cmap.pm line 330.
Use of uninitialized value in pack at /usr/local/lib/perl5/site_perl/5.16.3/Font/TTF/Cmap.pm line 330.
Use of uninitialized value in pack at /usr/local/lib/perl5/site_perl/5.16.3/Font/TTF/Cmap.pm line 330.
Use of uninitialized value in pack at /usr/local/lib/perl5/site_perl/5.16.3/Font/TTF/Cmap.pm line 330.
Use of uninitialized value in pack at /usr/local/lib/perl5/site_perl/5.16.3/Font/TTF/Cmap.pm line 330.
Use of uninitialized value in pack at /usr/local/lib/perl5/site_perl/5.16.3/Font/TTF/Cmap.pm line 330.
Use of uninitialized value in pack at /usr/local/lib/perl5/site_perl/5.16.3/Font/TTF/Cmap.pm line 330.
Use of uninitialized value in pack at /usr/local/lib/perl5/site_perl/5.16.3/Font/TTF/Cmap.pm line 330.
Use of uninitialized value in pack at /usr/local/lib/perl5/site_perl/5.16.3/Font/TTF/Cmap.pm line 330.
Use of uninitialized value in pack at /usr/local/lib/perl5/site_perl/5.16.3/Font/TTF/Cmap.pm line 330.
Use of uninitialized value in pack at /usr/local/lib/perl5/site_perl/5.16.3/Font/TTF/Cmap.pm line 330.
Use of uninitialized value in pack at /usr/local/lib/perl5/site_perl/5.16.3/Font/TTF/Cmap.pm line 330.
Use of uninitialized value in pack at /usr/local/lib/perl5/site_perl/5.16.3/Font/TTF/Cmap.pm line 330.
Use of uninitialized value in pack at /usr/local/lib/perl5/site_perl/5.16.3/Font/TTF/Cmap.pm line 330.
Use of uninitialized value in pack at /usr/local/lib/perl5/site_perl/5.16.3/Font/TTF/Cmap.pm line 330.
Use of uninitialized value in pack at /usr/local/lib/perl5/site_perl/5.16.3/Font/TTF/Cmap.pm line 330.
Use of uninitialized value in pack at /usr/local/lib/perl5/site_perl/5.16.3/Font/TTF/Cmap.pm line 330.
Use of uninitialized value in pack at /usr/local/lib/perl5/site_perl/5.16.3/Font/TTF/Cmap.pm line 330.
Use of uninitialized value in pack at /usr/local/lib/perl5/site_perl/5.16.3/Font/TTF/Cmap.pm line 330.
Use of uninitialized value in pack at /usr/local/lib/perl5/site_perl/5.16.3/Font/TTF/Cmap.pm line 330.
Use of uninitialized value in pack at /usr/local/lib/perl5/site_perl/5.16.3/Font/TTF/Cmap.pm line 330.
Use of uninitialized value in pack at /usr/local/lib/perl5/site_perl/5.16.3/Font/TTF/Cmap.pm line 330.
Use of uninitialized value in pack at /usr/local/lib/perl5/site_perl/5.16.3/Font/TTF/Cmap.pm line 330.
Use of uninitialized value in pack at /usr/local/lib/perl5/site_perl/5.16.3/Font/TTF/Cmap.pm line 330.
Use of uninitialized value in pack at /usr/local/lib/perl5/site_perl/5.16.3/Font/TTF/Cmap.pm line 330.
Use of uninitialized value in pack at /usr/local/lib/perl5/site_perl/5.16.3/Font/TTF/Cmap.pm line 330.
Use of uninitialized value in pack at /usr/local/lib/perl5/site_perl/5.16.3/Font/TTF/Cmap.pm line 330.
Use of uninitialized value in pack at /usr/local/lib/perl5/site_perl/5.16.3/Font/TTF/Cmap.pm line 330.
Use of uninitialized value in pack at /usr/local/lib/perl5/site_perl/5.16.3/Font/TTF/Cmap.pm line 330.
Use of uninitialized value in pack at /usr/local/lib/perl5/site_perl/5.16.3/Font/TTF/Cmap.pm line 330.
Use of uninitialized value in pack at /usr/local/lib/perl5/site_perl/5.16.3/Font/TTF/Cmap.pm line 330.
Use of uninitialized value in pack at /usr/local/lib/perl5/site_perl/5.16.3/Font/TTF/Cmap.pm line 330.
Use of uninitialized value in pack at /usr/local/lib/perl5/site_perl/5.16.3/Font/TTF/Cmap.pm line 330.
Use of uninitialized value in pack at /usr/local/lib/perl5/site_perl/5.16.3/Font/TTF/Cmap.pm line 330.
Use of uninitialized value in pack at /usr/local/lib/perl5/site_perl/5.16.3/Font/TTF/Cmap.pm line 330.
Use of uninitialized value in pack at /usr/local/lib/perl5/site_perl/5.16.3/Font/TTF/Cmap.pm line 330.
Use of uninitialized value in pack at /usr/local/lib/perl5/site_perl/5.16.3/Font/TTF/Cmap.pm line 330.
Use of uninitialized value in pack at /usr/local/lib/perl5/site_perl/5.16.3/Font/TTF/Cmap.pm line 330.
Use of uninitialized value in pack at /usr/local/lib/perl5/site_perl/5.16.3/Font/TTF/Cmap.pm line 330.
Use of uninitialized value in pack at /usr/local/lib/perl5/site_perl/5.16.3/Font/TTF/Cmap.pm line 330.
Use of uninitialized value in pack at /usr/local/lib/perl5/site_perl/5.16.3/Font/TTF/Cmap.pm line 330.
Use of uninitialized value in pack at /usr/local/lib/perl5/site_perl/5.16.3/Font/TTF/Cmap.pm line 330.
Use of uninitialized value in pack at /usr/local/lib/perl5/site_perl/5.16.3/Font/TTF/Cmap.pm line 330.
Use of uninitialized value in pack at /usr/local/lib/perl5/site_perl/5.16.3/Font/TTF/Cmap.pm line 330.
Use of uninitialized value in pack at /usr/local/lib/perl5/site_perl/5.16.3/Font/TTF/Cmap.pm line 330.
Use of uninitialized value in pack at /usr/local/lib/perl5/site_perl/5.16.3/Font/TTF/Cmap.pm line 330.
Use of uninitialized value in pack at /usr/local/lib/perl5/site_perl/5.16.3/Font/TTF/Cmap.pm line 330.
Use of uninitialized value in pack at /usr/local/lib/perl5/site_perl/5.16.3/Font/TTF/Cmap.pm line 330.
Use of uninitialized value in pack at /usr/local/lib/perl5/site_perl/5.16.3/Font/TTF/Cmap.pm line 330.
Use of uninitialized value in pack at /usr/local/lib/perl5/site_perl/5.16.3/Font/TTF/Cmap.pm line 330.
Use of uninitialized value in pack at /usr/local/lib/perl5/site_perl/5.16.3/Font/TTF/Cmap.pm line 330.
Use of uninitialized value in pack at /usr/local/lib/perl5/site_perl/5.16.3/Font/TTF/Cmap.pm line 330.
Use of uninitialized value in pack at /usr/local/lib/perl5/site_perl/5.16.3/Font/TTF/Cmap.pm line 330.
Filehandle $fh opened only for output at /usr/local/lib/perl5/5.16.3/darwin-2level/IO/Handle.pm line 460.
Filehandle $fh opened only for output at /usr/local/lib/perl5/5.16.3/darwin-2level/IO/Handle.pm line 460.
Filehandle $fh opened only for output at /usr/local/lib/perl5/5.16.3/darwin-2level/IO/Handle.pm line 460.
Filehandle $fh opened only for output at /usr/local/lib/perl5/5.16.3/darwin-2level/IO/Handle.pm line 460.
Argument " CSUM" isn't numeric in sort at /usr/local/lib/perl5/site_perl/5.16.3/Font/TTF/Hdmx.pm line 83.
Argument " isDirty" isn't numeric in sort at /usr/local/lib/perl5/site_perl/5.16.3/Font/TTF/Hdmx.pm line 83.
Argument " LENGTH" isn't numeric in sort at /usr/local/lib/perl5/site_perl/5.16.3/Font/TTF/Hdmx.pm line 83.
Argument " NAME" isn't numeric in sort at /usr/local/lib/perl5/site_perl/5.16.3/Font/TTF/Hdmx.pm line 83.
Argument " OFFSET" isn't numeric in sort at /usr/local/lib/perl5/site_perl/5.16.3/Font/TTF/Hdmx.pm line 83.
Argument " INFILE" isn't numeric in sort at /usr/local/lib/perl5/site_perl/5.16.3/Font/TTF/Hdmx.pm line 83.
Argument " subsetdone" isn't numeric in sort at /usr/local/lib/perl5/site_perl/5.16.3/Font/TTF/Hdmx.pm line 83.
Argument " PARENT" isn't numeric in sort at /usr/local/lib/perl5/site_perl/5.16.3/Font/TTF/Hdmx.pm line 83.
Argument "Version" isn't numeric in sort at /usr/local/lib/perl5/site_perl/5.16.3/Font/TTF/Hdmx.pm line 83.
Argument " ZLENGTH" isn't numeric in sort at /usr/local/lib/perl5/site_perl/5.16.3/Font/TTF/Hdmx.pm line 83.
Argument " read" isn't numeric in sort at /usr/local/lib/perl5/site_perl/5.16.3/Font/TTF/Hdmx.pm line 83.
Argument "Num" isn't numeric in sort at /usr/local/lib/perl5/site_perl/5.16.3/Font/TTF/Hdmx.pm line 83.
Filehandle $fh opened only for output at /usr/local/lib/perl5/5.16.3/darwin-2level/IO/Handle.pm line 460.
Filehandle $fh opened only for output at /usr/local/lib/perl5/5.16.3/darwin-2level/IO/Handle.pm line 460.
Filehandle $fh opened only for output at /usr/local/lib/perl5/5.16.3/darwin-2level/IO/Handle.pm line 460.
Filehandle $fh opened only for output at /usr/local/lib/perl5/5.16.3/darwin-2level/IO/Handle.pm line 460.
Filehandle $fh opened only for output at /usr/local/lib/perl5/5.16.3/darwin-2level/IO/Handle.pm line 460.
Filehandle $fh opened only for output at /usr/local/lib/perl5/5.16.3/darwin-2level/IO/Handle.pm line 460.
Filehandle $fh opened only for output at /usr/local/lib/perl5/5.16.3/darwin-2level/IO/Handle.pm line 460.
Filehandle $fh opened only for output at /usr/local/lib/perl5/5.16.3/darwin-2level/IO/Handle.pm line 460.
Filehandle $fh opened only for output at /usr/local/lib/perl5/5.16.3/darwin-2level/IO/Handle.pm line 460.
Filehandle $fh opened only for output at /usr/local/lib/perl5/5.16.3/darwin-2level/IO/Handle.pm line 460.
Use of uninitialized value in array element at /usr/local/lib/perl5/site_perl/5.16.3/Font/TTF/OS_2.pm line 301.
Use of uninitialized value in array element at /usr/local/lib/perl5/site_perl/5.16.3/Font/TTF/OS_2.pm line 301.
Use of uninitialized value in array element at /usr/local/lib/perl5/site_perl/5.16.3/Font/TTF/OS_2.pm line 301.
Use of uninitialized value in array element at /usr/local/lib/perl5/site_perl/5.16.3/Font/TTF/OS_2.pm line 301.
Use of uninitialized value in array element at /usr/local/lib/perl5/site_perl/5.16.3/Font/TTF/OS_2.pm line 301.
Use of uninitialized value in array element at /usr/local/lib/perl5/site_perl/5.16.3/Font/TTF/OS_2.pm line 301.
Use of uninitialized value in array element at /usr/local/lib/perl5/site_perl/5.16.3/Font/TTF/OS_2.pm line 301.
Use of uninitialized value in array element at /usr/local/lib/perl5/site_perl/5.16.3/Font/TTF/OS_2.pm line 301.
Use of uninitialized value in array element at /usr/local/lib/perl5/site_perl/5.16.3/Font/TTF/OS_2.pm line 301.
Use of uninitialized value in array element at /usr/local/lib/perl5/site_perl/5.16.3/Font/TTF/OS_2.pm line 301.
Use of uninitialized value in array element at /usr/local/lib/perl5/site_perl/5.16.3/Font/TTF/OS_2.pm line 301.
Use of uninitialized value in array element at /usr/local/lib/perl5/site_perl/5.16.3/Font/TTF/OS_2.pm line 301.
Use of uninitialized value in array element at /usr/local/lib/perl5/site_perl/5.16.3/Font/TTF/OS_2.pm line 301.
Use of uninitialized value in array element at /usr/local/lib/perl5/site_perl/5.16.3/Font/TTF/OS_2.pm line 301.
Use of uninitialized value in array element at /usr/local/lib/perl5/site_perl/5.16.3/Font/TTF/OS_2.pm line 301.
Use of uninitialized value in array element at /usr/local/lib/perl5/site_perl/5.16.3/Font/TTF/OS_2.pm line 301.
Use of uninitialized value in array element at /usr/local/lib/perl5/site_perl/5.16.3/Font/TTF/OS_2.pm line 301.
Use of uninitialized value in array element at /usr/local/lib/perl5/site_perl/5.16.3/Font/TTF/OS_2.pm line 301.
Use of uninitialized value in array element at /usr/local/lib/perl5/site_perl/5.16.3/Font/TTF/OS_2.pm line 301.
Use of uninitialized value in array element at /usr/local/lib/perl5/site_perl/5.16.3/Font/TTF/OS_2.pm line 301.
Use of uninitialized value in array element at /usr/local/lib/perl5/site_perl/5.16.3/Font/TTF/OS_2.pm line 301.
Use of uninitialized value in array element at /usr/local/lib/perl5/site_perl/5.16.3/Font/TTF/OS_2.pm line 301.
Use of uninitialized value in array element at /usr/local/lib/perl5/site_perl/5.16.3/Font/TTF/OS_2.pm line 301.
Use of uninitialized value in array element at /usr/local/lib/perl5/site_perl/5.16.3/Font/TTF/OS_2.pm line 301.
Use of uninitialized value in array element at /usr/local/lib/perl5/site_perl/5.16.3/Font/TTF/OS_2.pm line 303.
Use of uninitialized value $xMin in numeric lt (<) at /usr/local/lib/perl5/site_perl/5.16.3/Font/TTF/Head.pm line 170.
Use of uninitialized value $yMin in numeric lt (<) at /usr/local/lib/perl5/site_perl/5.16.3/Font/TTF/Head.pm line 171.
Use of uninitialized value $xMax in numeric gt (>) at /usr/local/lib/perl5/site_perl/5.16.3/Font/TTF/Head.pm line 172.
Use of uninitialized value $yMax in numeric gt (>) at /usr/local/lib/perl5/site_perl/5.16.3/Font/TTF/Head.pm line 173.
Use of uninitialized value $maw in numeric gt (>) at /usr/local/lib/perl5/site_perl/5.16.3/Font/TTF/Hhea.pm line 132.
Use of uninitialized value $mlsb in numeric lt (<) at /usr/local/lib/perl5/site_perl/5.16.3/Font/TTF/Hhea.pm line 133.
Use of uninitialized value $mrsb in numeric lt (<) at /usr/local/lib/perl5/site_perl/5.16.3/Font/TTF/Hhea.pm line 134.
Use of uninitialized value $mext in numeric gt (>) at /usr/local/lib/perl5/site_perl/5.16.3/Font/TTF/Hhea.pm line 135.
Use of uninitialized value in numeric gt (>) at /usr/local/lib/perl5/site_perl/5.16.3/Font/TTF/Maxp.pm line 151.
Use of uninitialized value in numeric gt (>) at /usr/local/lib/perl5/site_perl/5.16.3/Font/TTF/Maxp.pm line 151.
Use of uninitialized value in numeric gt (>) at /usr/local/lib/perl5/site_perl/5.16.3/Font/TTF/Maxp.pm line 151.
Use of uninitialized value $n[2] in numeric gt (>) at /usr/local/lib/perl5/site_perl/5.16.3/Font/TTF/Maxp.pm line 151.
Use of uninitialized value in numeric gt (>) at /usr/local/lib/perl5/site_perl/5.16.3/Font/TTF/Maxp.pm line 151.
Use of uninitialized value $n[3] in numeric gt (>) at /usr/local/lib/perl5/site_perl/5.16.3/Font/TTF/Maxp.pm line 151.
Use of uninitialized value in numeric gt (>) at /usr/local/lib/perl5/site_perl/5.16.3/Font/TTF/Maxp.pm line 151.
Use of uninitialized value in numeric gt (>) at /usr/local/lib/perl5/site_perl/5.16.3/Font/TTF/Maxp.pm line 151.
Use of uninitialized value $n[5] in numeric gt (>) at /usr/local/lib/perl5/site_perl/5.16.3/Font/TTF/Maxp.pm line 151.
Use of uninitialized value in numeric gt (>) at /usr/local/lib/perl5/site_perl/5.16.3/Font/TTF/Maxp.pm line 151.
Use of uninitialized value in numeric gt (>) at /usr/local/lib/perl5/site_perl/5.16.3/Font/TTF/Maxp.pm line 151.
Use of uninitialized value $n[2] in numeric gt (>) at /usr/local/lib/perl5/site_perl/5.16.3/Font/TTF/Maxp.pm line 151.
Use of uninitialized value in numeric gt (>) at /usr/local/lib/perl5/site_perl/5.16.3/Font/TTF/Maxp.pm line 151.
Use of uninitialized value $n[3] in numeric gt (>) at /usr/local/lib/perl5/site_perl/5.16.3/Font/TTF/Maxp.pm line 151.
Use of uninitialized value in numeric gt (>) at /usr/local/lib/perl5/site_perl/5.16.3/Font/TTF/Maxp.pm line 151.
Use of uninitialized value $n[5] in numeric gt (>) at /usr/local/lib/perl5/site_perl/5.16.3/Font/TTF/Maxp.pm line 151.
Use of uninitialized value in numeric gt (>) at /usr/local/lib/perl5/site_perl/5.16.3/Font/TTF/Maxp.pm line 151.
Use of uninitialized value $n[2] in numeric gt (>) at /usr/local/lib/perl5/site_perl/5.16.3/Font/TTF/Maxp.pm line 151.
Use of uninitialized value in numeric gt (>) at /usr/local/lib/perl5/site_perl/5.16.3/Font/TTF/Maxp.pm line 151.
Use of uninitialized value $n[3] in numeric gt (>) at /usr/local/lib/perl5/site_perl/5.16.3/Font/TTF/Maxp.pm line 151.
Use of uninitialized value in numeric gt (>) at /usr/local/lib/perl5/site_perl/5.16.3/Font/TTF/Maxp.pm line 151.
Use of uninitialized value $n[5] in numeric gt (>) at /usr/local/lib/perl5/site_perl/5.16.3/Font/TTF/Maxp.pm line 151.
Filehandle $fh opened only for output at /usr/local/lib/perl5/5.16.3/darwin-2level/IO/Handle.pm line 460.
Use of uninitialized value in pack at /usr/local/lib/perl5/site_perl/5.16.3/Font/TTF/Cmap.pm line 330.
Use of uninitialized value in pack at /usr/local/lib/perl5/site_perl/5.16.3/Font/TTF/Cmap.pm line 330.
Use of uninitialized value in pack at /usr/local/lib/perl5/site_perl/5.16.3/Font/TTF/Cmap.pm line 330.
Use of uninitialized value in pack at /usr/local/lib/perl5/site_perl/5.16.3/Font/TTF/Cmap.pm line 330.
Use of uninitialized value in pack at /usr/local/lib/perl5/site_perl/5.16.3/Font/TTF/Cmap.pm line 330.
Use of uninitialized value in pack at /usr/local/lib/perl5/site_perl/5.16.3/Font/TTF/Cmap.pm line 330.
Use of uninitialized value in pack at /usr/local/lib/perl5/site_perl/5.16.3/Font/TTF/Cmap.pm line 330.
Use of uninitialized value in pack at /usr/local/lib/perl5/site_perl/5.16.3/Font/TTF/Cmap.pm line 330.
Use of uninitialized value in pack at /usr/local/lib/perl5/site_perl/5.16.3/Font/TTF/Cmap.pm line 330.
Use of uninitialized value in pack at /usr/local/lib/perl5/site_perl/5.16.3/Font/TTF/Cmap.pm line 330.
Use of uninitialized value in pack at /usr/local/lib/perl5/site_perl/5.16.3/Font/TTF/Cmap.pm line 330.
Use of uninitialized value in pack at /usr/local/lib/perl5/site_perl/5.16.3/Font/TTF/Cmap.pm line 330.
Use of uninitialized value in pack at /usr/local/lib/perl5/site_perl/5.16.3/Font/TTF/Cmap.pm line 330.
Use of uninitialized value in pack at /usr/local/lib/perl5/site_perl/5.16.3/Font/TTF/Cmap.pm line 330.
Use of uninitialized value in pack at /usr/local/lib/perl5/site_perl/5.16.3/Font/TTF/Cmap.pm line 330.
Use of uninitialized value in pack at /usr/local/lib/perl5/site_perl/5.16.3/Font/TTF/Cmap.pm line 330.
Use of uninitialized value in pack at /usr/local/lib/perl5/site_perl/5.16.3/Font/TTF/Cmap.pm line 330.
Use of uninitialized value in pack at /usr/local/lib/perl5/site_perl/5.16.3/Font/TTF/Cmap.pm line 330.
Use of uninitialized value in pack at /usr/local/lib/perl5/site_perl/5.16.3/Font/TTF/Cmap.pm line 330.
Use of uninitialized value in pack at /usr/local/lib/perl5/site_perl/5.16.3/Font/TTF/Cmap.pm line 330.
Use of uninitialized value in pack at /usr/local/lib/perl5/site_perl/5.16.3/Font/TTF/Cmap.pm line 330.
Use of uninitialized value in pack at /usr/local/lib/perl5/site_perl/5.16.3/Font/TTF/Cmap.pm line 330.
Use of uninitialized value in pack at /usr/local/lib/perl5/site_perl/5.16.3/Font/TTF/Cmap.pm line 330.
Use of uninitialized value in pack at /usr/local/lib/perl5/site_perl/5.16.3/Font/TTF/Cmap.pm line 330.
Use of uninitialized value in pack at /usr/local/lib/perl5/site_perl/5.16.3/Font/TTF/Cmap.pm line 330.
Use of uninitialized value in pack at /usr/local/lib/perl5/site_perl/5.16.3/Font/TTF/Cmap.pm line 330.
Use of uninitialized value in pack at /usr/local/lib/perl5/site_perl/5.16.3/Font/TTF/Cmap.pm line 330.
Use of uninitialized value in pack at /usr/local/lib/perl5/site_perl/5.16.3/Font/TTF/Cmap.pm line 330.
Use of uninitialized value in pack at /usr/local/lib/perl5/site_perl/5.16.3/Font/TTF/Cmap.pm line 330.
Use of uninitialized value in pack at /usr/local/lib/perl5/site_perl/5.16.3/Font/TTF/Cmap.pm line 330.
Use of uninitialized value in pack at /usr/local/lib/perl5/site_perl/5.16.3/Font/TTF/Cmap.pm line 330.
Use of uninitialized value in pack at /usr/local/lib/perl5/site_perl/5.16.3/Font/TTF/Cmap.pm line 330.
Use of uninitialized value in pack at /usr/local/lib/perl5/site_perl/5.16.3/Font/TTF/Cmap.pm line 330.
Use of uninitialized value in pack at /usr/local/lib/perl5/site_perl/5.16.3/Font/TTF/Cmap.pm line 330.
Use of uninitialized value in pack at /usr/local/lib/perl5/site_perl/5.16.3/Font/TTF/Cmap.pm line 330.
Use of uninitialized value in pack at /usr/local/lib/perl5/site_perl/5.16.3/Font/TTF/Cmap.pm line 330.
Use of uninitialized value in pack at /usr/local/lib/perl5/site_perl/5.16.3/Font/TTF/Cmap.pm line 330.
Use of uninitialized value in pack at /usr/local/lib/perl5/site_perl/5.16.3/Font/TTF/Cmap.pm line 330.
Use of uninitialized value in pack at /usr/local/lib/perl5/site_perl/5.16.3/Font/TTF/Cmap.pm line 330.
Use of uninitialized value in pack at /usr/local/lib/perl5/site_perl/5.16.3/Font/TTF/Cmap.pm line 330.
Use of uninitialized value in pack at /usr/local/lib/perl5/site_perl/5.16.3/Font/TTF/Cmap.pm line 330.
Use of uninitialized value in pack at /usr/local/lib/perl5/site_perl/5.16.3/Font/TTF/Cmap.pm line 330.
Use of uninitialized value in pack at /usr/local/lib/perl5/site_perl/5.16.3/Font/TTF/Cmap.pm line 330.
Use of uninitialized value in pack at /usr/local/lib/perl5/site_perl/5.16.3/Font/TTF/Cmap.pm line 330.
Use of uninitialized value in pack at /usr/local/lib/perl5/site_perl/5.16.3/Font/TTF/Cmap.pm line 330.
Use of uninitialized value in pack at /usr/local/lib/perl5/site_perl/5.16.3/Font/TTF/Cmap.pm line 330.
Use of uninitialized value in pack at /usr/local/lib/perl5/site_perl/5.16.3/Font/TTF/Cmap.pm line 330.
Use of uninitialized value in pack at /usr/local/lib/perl5/site_perl/5.16.3/Font/TTF/Cmap.pm line 330.
Use of uninitialized value in pack at /usr/local/lib/perl5/site_perl/5.16.3/Font/TTF/Cmap.pm line 330.
Use of uninitialized value in pack at /usr/local/lib/perl5/site_perl/5.16.3/Font/TTF/Cmap.pm line 330.
Use of uninitialized value in pack at /usr/local/lib/perl5/site_perl/5.16.3/Font/TTF/Cmap.pm line 330.
Use of uninitialized value in pack at /usr/local/lib/perl5/site_perl/5.16.3/Font/TTF/Cmap.pm line 330.
Use of uninitialized value in pack at /usr/local/lib/perl5/site_perl/5.16.3/Font/TTF/Cmap.pm line 330.
Use of uninitialized value in pack at /usr/local/lib/perl5/site_perl/5.16.3/Font/TTF/Cmap.pm line 330.
Use of uninitialized value in pack at /usr/local/lib/perl5/site_perl/5.16.3/Font/TTF/Cmap.pm line 330.
Use of uninitialized value in pack at /usr/local/lib/perl5/site_perl/5.16.3/Font/TTF/Cmap.pm line 330.
Use of uninitialized value in pack at /usr/local/lib/perl5/site_perl/5.16.3/Font/TTF/Cmap.pm line 330.
Use of uninitialized value in pack at /usr/local/lib/perl5/site_perl/5.16.3/Font/TTF/Cmap.pm line 330.
Use of uninitialized value in pack at /usr/local/lib/perl5/site_perl/5.16.3/Font/TTF/Cmap.pm line 330.
Use of uninitialized value in pack at /usr/local/lib/perl5/site_perl/5.16.3/Font/TTF/Cmap.pm line 330.
Use of uninitialized value in pack at /usr/local/lib/perl5/site_perl/5.16.3/Font/TTF/Cmap.pm line 330.
Use of uninitialized value in pack at /usr/local/lib/perl5/site_perl/5.16.3/Font/TTF/Cmap.pm line 330.
Use of uninitialized value in pack at /usr/local/lib/perl5/site_perl/5.16.3/Font/TTF/Cmap.pm line 330.
Use of uninitialized value in pack at /usr/local/lib/perl5/site_perl/5.16.3/Font/TTF/Cmap.pm line 330.
Use of uninitialized value in pack at /usr/local/lib/perl5/site_perl/5.16.3/Font/TTF/Cmap.pm line 330.
Use of uninitialized value in pack at /usr/local/lib/perl5/site_perl/5.16.3/Font/TTF/Cmap.pm line 330.
Use of uninitialized value in pack at /usr/local/lib/perl5/site_perl/5.16.3/Font/TTF/Cmap.pm line 330.
Use of uninitialized value in pack at /usr/local/lib/perl5/site_perl/5.16.3/Font/TTF/Cmap.pm line 330.
Use of uninitialized value in pack at /usr/local/lib/perl5/site_perl/5.16.3/Font/TTF/Cmap.pm line 330.
Use of uninitialized value in pack at /usr/local/lib/perl5/site_perl/5.16.3/Font/TTF/Cmap.pm line 330.
Use of uninitialized value in pack at /usr/local/lib/perl5/site_perl/5.16.3/Font/TTF/Cmap.pm line 330.
Use of uninitialized value in pack at /usr/local/lib/perl5/site_perl/5.16.3/Font/TTF/Cmap.pm line 330.
Use of uninitialized value in pack at /usr/local/lib/perl5/site_perl/5.16.3/Font/TTF/Cmap.pm line 330.
Use of uninitialized value in pack at /usr/local/lib/perl5/site_perl/5.16.3/Font/TTF/Cmap.pm line 330.
Use of uninitialized value in pack at /usr/local/lib/perl5/site_perl/5.16.3/Font/TTF/Cmap.pm line 330.
Use of uninitialized value in pack at /usr/local/lib/perl5/site_perl/5.16.3/Font/TTF/Cmap.pm line 330.
Use of uninitialized value in pack at /usr/local/lib/perl5/site_perl/5.16.3/Font/TTF/Cmap.pm line 330.
Use of uninitialized value in pack at /usr/local/lib/perl5/site_perl/5.16.3/Font/TTF/Cmap.pm line 330.
Use of uninitialized value in pack at /usr/local/lib/perl5/site_perl/5.16.3/Font/TTF/Cmap.pm line 330.
Use of uninitialized value in pack at /usr/local/lib/perl5/site_perl/5.16.3/Font/TTF/Cmap.pm line 330.
Use of uninitialized value in pack at /usr/local/lib/perl5/site_perl/5.16.3/Font/TTF/Cmap.pm line 330.
Use of uninitialized value in pack at /usr/local/lib/perl5/site_perl/5.16.3/Font/TTF/Cmap.pm line 330.
Use of uninitialized value in pack at /usr/local/lib/perl5/site_perl/5.16.3/Font/TTF/Cmap.pm line 330.
Use of uninitialized value in pack at /usr/local/lib/perl5/site_perl/5.16.3/Font/TTF/Cmap.pm line 330.
Use of uninitialized value in pack at /usr/local/lib/perl5/site_perl/5.16.3/Font/TTF/Cmap.pm line 330.
Use of uninitialized value in pack at /usr/local/lib/perl5/site_perl/5.16.3/Font/TTF/Cmap.pm line 330.
Use of uninitialized value in pack at /usr/local/lib/perl5/site_perl/5.16.3/Font/TTF/Cmap.pm line 330.
Use of uninitialized value in pack at /usr/local/lib/perl5/site_perl/5.16.3/Font/TTF/Cmap.pm line 330.
Use of uninitialized value in pack at /usr/local/lib/perl5/site_perl/5.16.3/Font/TTF/Cmap.pm line 330.
Use of uninitialized value in pack at /usr/local/lib/perl5/site_perl/5.16.3/Font/TTF/Cmap.pm line 330.
Use of uninitialized value in pack at /usr/local/lib/perl5/site_perl/5.16.3/Font/TTF/Cmap.pm line 330.
Use of uninitialized value in pack at /usr/local/lib/perl5/site_perl/5.16.3/Font/TTF/Cmap.pm line 330.
Use of uninitialized value in pack at /usr/local/lib/perl5/site_perl/5.16.3/Font/TTF/Cmap.pm line 330.
Use of uninitialized value in pack at /usr/local/lib/perl5/site_perl/5.16.3/Font/TTF/Cmap.pm line 330.
Use of uninitialized value in pack at /usr/local/lib/perl5/site_perl/5.16.3/Font/TTF/Cmap.pm line 330.
Use of uninitialized value in pack at /usr/local/lib/perl5/site_perl/5.16.3/Font/TTF/Cmap.pm line 330.
Use of uninitialized value in pack at /usr/local/lib/perl5/site_perl/5.16.3/Font/TTF/Cmap.pm line 330.
Use of uninitialized value in pack at /usr/local/lib/perl5/site_perl/5.16.3/Font/TTF/Cmap.pm line 330.
Use of uninitialized value in pack at /usr/local/lib/perl5/site_perl/5.16.3/Font/TTF/Cmap.pm line 330.
Use of uninitialized value in pack at /usr/local/lib/perl5/site_perl/5.16.3/Font/TTF/Cmap.pm line 330.
Use of uninitialized value in pack at /usr/local/lib/perl5/site_perl/5.16.3/Font/TTF/Cmap.pm line 330.
Use of uninitialized value in pack at /usr/local/lib/perl5/site_perl/5.16.3/Font/TTF/Cmap.pm line 330.
Use of uninitialized value in pack at /usr/local/lib/perl5/site_perl/5.16.3/Font/TTF/Cmap.pm line 330.
Use of uninitialized value in pack at /usr/local/lib/perl5/site_perl/5.16.3/Font/TTF/Cmap.pm line 330.
Use of uninitialized value in pack at /usr/local/lib/perl5/site_perl/5.16.3/Font/TTF/Cmap.pm line 330.
Use of uninitialized value in pack at /usr/local/lib/perl5/site_perl/5.16.3/Font/TTF/Cmap.pm line 330.
Use of uninitialized value in pack at /usr/local/lib/perl5/site_perl/5.16.3/Font/TTF/Cmap.pm line 330.
Use of uninitialized value in pack at /usr/local/lib/perl5/site_perl/5.16.3/Font/TTF/Cmap.pm line 330.
Use of uninitialized value in pack at /usr/local/lib/perl5/site_perl/5.16.3/Font/TTF/Cmap.pm line 330.
Use of uninitialized value in pack at /usr/local/lib/perl5/site_perl/5.16.3/Font/TTF/Cmap.pm line 330.
Use of uninitialized value in pack at /usr/local/lib/perl5/site_perl/5.16.3/Font/TTF/Cmap.pm line 330.
Use of uninitialized value in pack at /usr/local/lib/perl5/site_perl/5.16.3/Font/TTF/Cmap.pm line 330.
Use of uninitialized value in pack at /usr/local/lib/perl5/site_perl/5.16.3/Font/TTF/Cmap.pm line 330.
Use of uninitialized value in pack at /usr/local/lib/perl5/site_perl/5.16.3/Font/TTF/Cmap.pm line 330.
Use of uninitialized value in pack at /usr/local/lib/perl5/site_perl/5.16.3/Font/TTF/Cmap.pm line 330.
Use of uninitialized value in pack at /usr/local/lib/perl5/site_perl/5.16.3/Font/TTF/Cmap.pm line 330.
Use of uninitialized value in pack at /usr/local/lib/perl5/site_perl/5.16.3/Font/TTF/Cmap.pm line 330.
Use of uninitialized value in pack at /usr/local/lib/perl5/site_perl/5.16.3/Font/TTF/Cmap.pm line 330.
Use of uninitialized value in pack at /usr/local/lib/perl5/site_perl/5.16.3/Font/TTF/Cmap.pm line 330.
Use of uninitialized value in pack at /usr/local/lib/perl5/site_perl/5.16.3/Font/TTF/Cmap.pm line 330.
Use of uninitialized value in pack at /usr/local/lib/perl5/site_perl/5.16.3/Font/TTF/Cmap.pm line 330.
Use of uninitialized value in pack at /usr/local/lib/perl5/site_perl/5.16.3/Font/TTF/Cmap.pm line 330.
Use of uninitialized value in pack at /usr/local/lib/perl5/site_perl/5.16.3/Font/TTF/Cmap.pm line 330.
Use of uninitialized value in pack at /usr/local/lib/perl5/site_perl/5.16.3/Font/TTF/Cmap.pm line 330.
Use of uninitialized value in pack at /usr/local/lib/perl5/site_perl/5.16.3/Font/TTF/Cmap.pm line 330.
Use of uninitialized value in pack at /usr/local/lib/perl5/site_perl/5.16.3/Font/TTF/Cmap.pm line 330.
Use of uninitialized value in pack at /usr/local/lib/perl5/site_perl/5.16.3/Font/TTF/Cmap.pm line 330.
Use of uninitialized value in pack at /usr/local/lib/perl5/site_perl/5.16.3/Font/TTF/Cmap.pm line 330.
Use of uninitialized value in pack at /usr/local/lib/perl5/site_perl/5.16.3/Font/TTF/Cmap.pm line 330.
Use of uninitialized value in pack at /usr/local/lib/perl5/site_perl/5.16.3/Font/TTF/Cmap.pm line 330.
Use of uninitialized value in pack at /usr/local/lib/perl5/site_perl/5.16.3/Font/TTF/Cmap.pm line 330.
Use of uninitialized value in pack at /usr/local/lib/perl5/site_perl/5.16.3/Font/TTF/Cmap.pm line 330.
Use of uninitialized value in pack at /usr/local/lib/perl5/site_perl/5.16.3/Font/TTF/Cmap.pm line 330.
Use of uninitialized value in pack at /usr/local/lib/perl5/site_perl/5.16.3/Font/TTF/Cmap.pm line 330.
Use of uninitialized value in pack at /usr/local/lib/perl5/site_perl/5.16.3/Font/TTF/Cmap.pm line 330.
Use of uninitialized value in pack at /usr/local/lib/perl5/site_perl/5.16.3/Font/TTF/Cmap.pm line 330.
Use of uninitialized value in pack at /usr/local/lib/perl5/site_perl/5.16.3/Font/TTF/Cmap.pm line 330.
Use of uninitialized value in pack at /usr/local/lib/perl5/site_perl/5.16.3/Font/TTF/Cmap.pm line 330.
Use of uninitialized value in pack at /usr/local/lib/perl5/site_perl/5.16.3/Font/TTF/Cmap.pm line 330.
Use of uninitialized value in pack at /usr/local/lib/perl5/site_perl/5.16.3/Font/TTF/Cmap.pm line 330.
Use of uninitialized value in pack at /usr/local/lib/perl5/site_perl/5.16.3/Font/TTF/Cmap.pm line 330.
Use of uninitialized value in pack at /usr/local/lib/perl5/site_perl/5.16.3/Font/TTF/Cmap.pm line 330.
Use of uninitialized value in pack at /usr/local/lib/perl5/site_perl/5.16.3/Font/TTF/Cmap.pm line 330.
Use of uninitialized value in pack at /usr/local/lib/perl5/site_perl/5.16.3/Font/TTF/Cmap.pm line 330.
Use of uninitialized value in pack at /usr/local/lib/perl5/site_perl/5.16.3/Font/TTF/Cmap.pm line 330.
Use of uninitialized value in pack at /usr/local/lib/perl5/site_perl/5.16.3/Font/TTF/Cmap.pm line 330.
Use of uninitialized value in pack at /usr/local/lib/perl5/site_perl/5.16.3/Font/TTF/Cmap.pm line 330.
Use of uninitialized value in pack at /usr/local/lib/perl5/site_perl/5.16.3/Font/TTF/Cmap.pm line 330.
Use of uninitialized value in pack at /usr/local/lib/perl5/site_perl/5.16.3/Font/TTF/Cmap.pm line 330.
Use of uninitialized value in pack at /usr/local/lib/perl5/site_perl/5.16.3/Font/TTF/Cmap.pm line 330.
Use of uninitialized value in pack at /usr/local/lib/perl5/site_perl/5.16.3/Font/TTF/Cmap.pm line 330.
Use of uninitialized value in pack at /usr/local/lib/perl5/site_perl/5.16.3/Font/TTF/Cmap.pm line 330.
Use of uninitialized value in pack at /usr/local/lib/perl5/site_perl/5.16.3/Font/TTF/Cmap.pm line 330.
Use of uninitialized value in pack at /usr/local/lib/perl5/site_perl/5.16.3/Font/TTF/Cmap.pm line 330.
Use of uninitialized value in pack at /usr/local/lib/perl5/site_perl/5.16.3/Font/TTF/Cmap.pm line 330.
Use of uninitialized value in pack at /usr/local/lib/perl5/site_perl/5.16.3/Font/TTF/Cmap.pm line 330.
Use of uninitialized value in pack at /usr/local/lib/perl5/site_perl/5.16.3/Font/TTF/Cmap.pm line 330.
Use of uninitialized value in pack at /usr/local/lib/perl5/site_perl/5.16.3/Font/TTF/Cmap.pm line 330.
Use of uninitialized value in pack at /usr/local/lib/perl5/site_perl/5.16.3/Font/TTF/Cmap.pm line 330.
Use of uninitialized value in pack at /usr/local/lib/perl5/site_perl/5.16.3/Font/TTF/Cmap.pm line 330.
Use of uninitialized value in pack at /usr/local/lib/perl5/site_perl/5.16.3/Font/TTF/Cmap.pm line 330.
Use of uninitialized value in pack at /usr/local/lib/perl5/site_perl/5.16.3/Font/TTF/Cmap.pm line 330.
Use of uninitialized value in pack at /usr/local/lib/perl5/site_perl/5.16.3/Font/TTF/Cmap.pm line 330.
Use of uninitialized value in pack at /usr/local/lib/perl5/site_perl/5.16.3/Font/TTF/Cmap.pm line 330.
Use of uninitialized value in pack at /usr/local/lib/perl5/site_perl/5.16.3/Font/TTF/Cmap.pm line 330.
Use of uninitialized value in pack at /usr/local/lib/perl5/site_perl/5.16.3/Font/TTF/Cmap.pm line 330.
Use of uninitialized value in pack at /usr/local/lib/perl5/site_perl/5.16.3/Font/TTF/Cmap.pm line 330.
Use of uninitialized value in pack at /usr/local/lib/perl5/site_perl/5.16.3/Font/TTF/Cmap.pm line 330.
Use of uninitialized value in pack at /usr/local/lib/perl5/site_perl/5.16.3/Font/TTF/Cmap.pm line 330.
Use of uninitialized value in pack at /usr/local/lib/perl5/site_perl/5.16.3/Font/TTF/Cmap.pm line 330.
Use of uninitialized value in pack at /usr/local/lib/perl5/site_perl/5.16.3/Font/TTF/Cmap.pm line 330.
Use of uninitialized value in pack at /usr/local/lib/perl5/site_perl/5.16.3/Font/TTF/Cmap.pm line 330.
Use of uninitialized value in pack at /usr/local/lib/perl5/site_perl/5.16.3/Font/TTF/Cmap.pm line 330.
Use of uninitialized value in pack at /usr/local/lib/perl5/site_perl/5.16.3/Font/TTF/Cmap.pm line 330.
Use of uninitialized value in pack at /usr/local/lib/perl5/site_perl/5.16.3/Font/TTF/Cmap.pm line 330.
Use of uninitialized value in pack at /usr/local/lib/perl5/site_perl/5.16.3/Font/TTF/Cmap.pm line 330.
Use of uninitialized value in pack at /usr/local/lib/perl5/site_perl/5.16.3/Font/TTF/Cmap.pm line 330.
Use of uninitialized value in pack at /usr/local/lib/perl5/site_perl/5.16.3/Font/TTF/Cmap.pm line 330.
Use of uninitialized value in pack at /usr/local/lib/perl5/site_perl/5.16.3/Font/TTF/Cmap.pm line 330.
Use of uninitialized value in pack at /usr/local/lib/perl5/site_perl/5.16.3/Font/TTF/Cmap.pm line 330.
Use of uninitialized value in pack at /usr/local/lib/perl5/site_perl/5.16.3/Font/TTF/Cmap.pm line 330.
Use of uninitialized value in pack at /usr/local/lib/perl5/site_perl/5.16.3/Font/TTF/Cmap.pm line 330.
Use of uninitialized value in pack at /usr/local/lib/perl5/site_perl/5.16.3/Font/TTF/Cmap.pm line 330.
Use of uninitialized value in pack at /usr/local/lib/perl5/site_perl/5.16.3/Font/TTF/Cmap.pm line 330.
Use of uninitialized value in pack at /usr/local/lib/perl5/site_perl/5.16.3/Font/TTF/Cmap.pm line 330.
Use of uninitialized value in pack at /usr/local/lib/perl5/site_perl/5.16.3/Font/TTF/Cmap.pm line 330.
Use of uninitialized value in pack at /usr/local/lib/perl5/site_perl/5.16.3/Font/TTF/Cmap.pm line 330.
Use of uninitialized value in pack at /usr/local/lib/perl5/site_perl/5.16.3/Font/TTF/Cmap.pm line 330.
Use of uninitialized value in pack at /usr/local/lib/perl5/site_perl/5.16.3/Font/TTF/Cmap.pm line 330.
Use of uninitialized value in pack at /usr/local/lib/perl5/site_perl/5.16.3/Font/TTF/Cmap.pm line 330.
Use of uninitialized value in pack at /usr/local/lib/perl5/site_perl/5.16.3/Font/TTF/Cmap.pm line 330.
Use of uninitialized value in pack at /usr/local/lib/perl5/site_perl/5.16.3/Font/TTF/Cmap.pm line 330.
Use of uninitialized value in pack at /usr/local/lib/perl5/site_perl/5.16.3/Font/TTF/Cmap.pm line 330.
Use of uninitialized value in pack at /usr/local/lib/perl5/site_perl/5.16.3/Font/TTF/Cmap.pm line 330.
Use of uninitialized value in pack at /usr/local/lib/perl5/site_perl/5.16.3/Font/TTF/Cmap.pm line 330.
Use of uninitialized value in pack at /usr/local/lib/perl5/site_perl/5.16.3/Font/TTF/Cmap.pm line 330.
Use of uninitialized value in pack at /usr/local/lib/perl5/site_perl/5.16.3/Font/TTF/Cmap.pm line 330.
Use of uninitialized value in pack at /usr/local/lib/perl5/site_perl/5.16.3/Font/TTF/Cmap.pm line 330.
Use of uninitialized value in pack at /usr/local/lib/perl5/site_perl/5.16.3/Font/TTF/Cmap.pm line 330.
Use of uninitialized value in pack at /usr/local/lib/perl5/site_perl/5.16.3/Font/TTF/Cmap.pm line 330.
Use of uninitialized value in pack at /usr/local/lib/perl5/site_perl/5.16.3/Font/TTF/Cmap.pm line 330.
Use of uninitialized value in pack at /usr/local/lib/perl5/site_perl/5.16.3/Font/TTF/Cmap.pm line 330.
Use of uninitialized value in pack at /usr/local/lib/perl5/site_perl/5.16.3/Font/TTF/Cmap.pm line 330.
Use of uninitialized value in pack at /usr/local/lib/perl5/site_perl/5.16.3/Font/TTF/Cmap.pm line 330.
Use of uninitialized value in pack at /usr/local/lib/perl5/site_perl/5.16.3/Font/TTF/Cmap.pm line 330.
Use of uninitialized value in pack at /usr/local/lib/perl5/site_perl/5.16.3/Font/TTF/Cmap.pm line 330.
Use of uninitialized value in pack at /usr/local/lib/perl5/site_perl/5.16.3/Font/TTF/Cmap.pm line 330.
Use of uninitialized value in pack at /usr/local/lib/perl5/site_perl/5.16.3/Font/TTF/Cmap.pm line 330.
Use of uninitialized value in pack at /usr/local/lib/perl5/site_perl/5.16.3/Font/TTF/Cmap.pm line 330.
Use of uninitialized value in pack at /usr/local/lib/perl5/site_perl/5.16.3/Font/TTF/Cmap.pm line 330.
Use of uninitialized value in pack at /usr/local/lib/perl5/site_perl/5.16.3/Font/TTF/Cmap.pm line 330.
Use of uninitialized value in pack at /usr/local/lib/perl5/site_perl/5.16.3/Font/TTF/Cmap.pm line 330.
Use of uninitialized value in pack at /usr/local/lib/perl5/site_perl/5.16.3/Font/TTF/Cmap.pm line 330.
Use of uninitialized value in pack at /usr/local/lib/perl5/site_perl/5.16.3/Font/TTF/Cmap.pm line 330.
Use of uninitialized value in pack at /usr/local/lib/perl5/site_perl/5.16.3/Font/TTF/Cmap.pm line 330.
Use of uninitialized value in pack at /usr/local/lib/perl5/site_perl/5.16.3/Font/TTF/Cmap.pm line 330.
Use of uninitialized value in pack at /usr/local/lib/perl5/site_perl/5.16.3/Font/TTF/Cmap.pm line 330.
Use of uninitialized value in pack at /usr/local/lib/perl5/site_perl/5.16.3/Font/TTF/Cmap.pm line 330.
Use of uninitialized value in pack at /usr/local/lib/perl5/site_perl/5.16.3/Font/TTF/Cmap.pm line 330.
Use of uninitialized value in pack at /usr/local/lib/perl5/site_perl/5.16.3/Font/TTF/Cmap.pm line 330.
Use of uninitialized value in pack at /usr/local/lib/perl5/site_perl/5.16.3/Font/TTF/Cmap.pm line 330.
Use of uninitialized value in pack at /usr/local/lib/perl5/site_perl/5.16.3/Font/TTF/Cmap.pm line 330.
Use of uninitialized value in pack at /usr/local/lib/perl5/site_perl/5.16.3/Font/TTF/Cmap.pm line 330.
Use of uninitialized value in pack at /usr/local/lib/perl5/site_perl/5.16.3/Font/TTF/Cmap.pm line 330.
Use of uninitialized value in pack at /usr/local/lib/perl5/site_perl/5.16.3/Font/TTF/Cmap.pm line 330.
Use of uninitialized value in pack at /usr/local/lib/perl5/site_perl/5.16.3/Font/TTF/Cmap.pm line 330.
Use of uninitialized value in pack at /usr/local/lib/perl5/site_perl/5.16.3/Font/TTF/Cmap.pm line 330.
Use of uninitialized value in pack at /usr/local/lib/perl5/site_perl/5.16.3/Font/TTF/Cmap.pm line 330.
Use of uninitialized value in pack at /usr/local/lib/perl5/site_perl/5.16.3/Font/TTF/Cmap.pm line 330.
Use of uninitialized value in pack at /usr/local/lib/perl5/site_perl/5.16.3/Font/TTF/Cmap.pm line 330.
Use of uninitialized value in pack at /usr/local/lib/perl5/site_perl/5.16.3/Font/TTF/Cmap.pm line 330.
Use of uninitialized value in pack at /usr/local/lib/perl5/site_perl/5.16.3/Font/TTF/Cmap.pm line 330.
Use of uninitialized value in pack at /usr/local/lib/perl5/site_perl/5.16.3/Font/TTF/Cmap.pm line 330.
Use of uninitialized value in pack at /usr/local/lib/perl5/site_perl/5.16.3/Font/TTF/Cmap.pm line 330.
Use of uninitialized value in pack at /usr/local/lib/perl5/site_perl/5.16.3/Font/TTF/Cmap.pm line 330.
Use of uninitialized value in pack at /usr/local/lib/perl5/site_perl/5.16.3/Font/TTF/Cmap.pm line 330.
Use of uninitialized value in pack at /usr/local/lib/perl5/site_perl/5.16.3/Font/TTF/Cmap.pm line 330.
Use of uninitialized value in pack at /usr/local/lib/perl5/site_perl/5.16.3/Font/TTF/Cmap.pm line 330.
Use of uninitialized value in pack at /usr/local/lib/perl5/site_perl/5.16.3/Font/TTF/Cmap.pm line 330.
Use of uninitialized value in pack at /usr/local/lib/perl5/site_perl/5.16.3/Font/TTF/Cmap.pm line 330.
Use of uninitialized value in pack at /usr/local/lib/perl5/site_perl/5.16.3/Font/TTF/Cmap.pm line 330.
Use of uninitialized value in pack at /usr/local/lib/perl5/site_perl/5.16.3/Font/TTF/Cmap.pm line 330.
Use of uninitialized value in pack at /usr/local/lib/perl5/site_perl/5.16.3/Font/TTF/Cmap.pm line 330.
Use of uninitialized value in pack at /usr/local/lib/perl5/site_perl/5.16.3/Font/TTF/Cmap.pm line 330.
Use of uninitialized value in pack at /usr/local/lib/perl5/site_perl/5.16.3/Font/TTF/Cmap.pm line 330.
Use of uninitialized value in pack at /usr/local/lib/perl5/site_perl/5.16.3/Font/TTF/Cmap.pm line 330.
Use of uninitialized value in pack at /usr/local/lib/perl5/site_perl/5.16.3/Font/TTF/Cmap.pm line 330.
Use of uninitialized value in pack at /usr/local/lib/perl5/site_perl/5.16.3/Font/TTF/Cmap.pm line 330.
Use of uninitialized value in pack at /usr/local/lib/perl5/site_perl/5.16.3/Font/TTF/Cmap.pm line 330.
Use of uninitialized value in pack at /usr/local/lib/perl5/site_perl/5.16.3/Font/TTF/Cmap.pm line 330.
Filehandle $fh opened only for output at /usr/local/lib/perl5/5.16.3/darwin-2level/IO/Handle.pm line 460.
Filehandle $fh opened only for output at /usr/local/lib/perl5/5.16.3/darwin-2level/IO/Handle.pm line 460.
Filehandle $fh opened only for output at /usr/local/lib/perl5/5.16.3/darwin-2level/IO/Handle.pm line 460.
Filehandle $fh opened only for output at /usr/local/lib/perl5/5.16.3/darwin-2level/IO/Handle.pm line 460.
Argument " CSUM" isn't numeric in sort at /usr/local/lib/perl5/site_perl/5.16.3/Font/TTF/Hdmx.pm line 83.
Argument " isDirty" isn't numeric in sort at /usr/local/lib/perl5/site_perl/5.16.3/Font/TTF/Hdmx.pm line 83.
Argument " LENGTH" isn't numeric in sort at /usr/local/lib/perl5/site_perl/5.16.3/Font/TTF/Hdmx.pm line 83.
Argument " NAME" isn't numeric in sort at /usr/local/lib/perl5/site_perl/5.16.3/Font/TTF/Hdmx.pm line 83.
Argument " OFFSET" isn't numeric in sort at /usr/local/lib/perl5/site_perl/5.16.3/Font/TTF/Hdmx.pm line 83.
Argument " INFILE" isn't numeric in sort at /usr/local/lib/perl5/site_perl/5.16.3/Font/TTF/Hdmx.pm line 83.
Argument " subsetdone" isn't numeric in sort at /usr/local/lib/perl5/site_perl/5.16.3/Font/TTF/Hdmx.pm line 83.
Argument " PARENT" isn't numeric in sort at /usr/local/lib/perl5/site_perl/5.16.3/Font/TTF/Hdmx.pm line 83.
Argument "Version" isn't numeric in sort at /usr/local/lib/perl5/site_perl/5.16.3/Font/TTF/Hdmx.pm line 83.
Argument " ZLENGTH" isn't numeric in sort at /usr/local/lib/perl5/site_perl/5.16.3/Font/TTF/Hdmx.pm line 83.
Argument " read" isn't numeric in sort at /usr/local/lib/perl5/site_perl/5.16.3/Font/TTF/Hdmx.pm line 83.
Argument "Num" isn't numeric in sort at /usr/local/lib/perl5/site_perl/5.16.3/Font/TTF/Hdmx.pm line 83.
Filehandle $fh opened only for output at /usr/local/lib/perl5/5.16.3/darwin-2level/IO/Handle.pm line 460.
Filehandle $fh opened only for output at /usr/local/lib/perl5/5.16.3/darwin-2level/IO/Handle.pm line 460.
Filehandle $fh opened only for output at /usr/local/lib/perl5/5.16.3/darwin-2level/IO/Handle.pm line 460.
Filehandle $fh opened only for output at /usr/local/lib/perl5/5.16.3/darwin-2level/IO/Handle.pm line 460.
Filehandle $fh opened only for output at /usr/local/lib/perl5/5.16.3/darwin-2level/IO/Handle.pm line 460.
Filehandle $fh opened only for output at /usr/local/lib/perl5/5.16.3/darwin-2level/IO/Handle.pm line 460.
Filehandle $fh opened only for output at /usr/local/lib/perl5/5.16.3/darwin-2level/IO/Handle.pm line 460.
Filehandle $fh opened only for output at /usr/local/lib/perl5/5.16.3/darwin-2level/IO/Handle.pm line 460.
Filehandle $fh opened only for output at /usr/local/lib/perl5/5.16.3/darwin-2level/IO/Handle.pm line 460.
Filehandle $fh opened only for output at /usr/local/lib/perl5/5.16.3/darwin-2level/IO/Handle.pm line 460.
t/basic.t ..................... ok
Use of uninitialized value in array element at /usr/local/lib/perl5/site_perl/5.16.3/Font/TTF/OS_2.pm line 301.
Use of uninitialized value in array element at /usr/local/lib/perl5/site_perl/5.16.3/Font/TTF/OS_2.pm line 301.
Use of uninitialized value in array element at /usr/local/lib/perl5/site_perl/5.16.3/Font/TTF/OS_2.pm line 301.
Use of uninitialized value in array element at /usr/local/lib/perl5/site_perl/5.16.3/Font/TTF/OS_2.pm line 301.
Use of uninitialized value in array element at /usr/local/lib/perl5/site_perl/5.16.3/Font/TTF/OS_2.pm line 301.
Use of uninitialized value in array element at /usr/local/lib/perl5/site_perl/5.16.3/Font/TTF/OS_2.pm line 301.
Use of uninitialized value in array element at /usr/local/lib/perl5/site_perl/5.16.3/Font/TTF/OS_2.pm line 301.
Use of uninitialized value in array element at /usr/local/lib/perl5/site_perl/5.16.3/Font/TTF/OS_2.pm line 301.
Use of uninitialized value in array element at /usr/local/lib/perl5/site_perl/5.16.3/Font/TTF/OS_2.pm line 301.
Use of uninitialized value in array element at /usr/local/lib/perl5/site_perl/5.16.3/Font/TTF/OS_2.pm line 301.
Use of uninitialized value in array element at /usr/local/lib/perl5/site_perl/5.16.3/Font/TTF/OS_2.pm line 301.
Use of uninitialized value in array element at /usr/local/lib/perl5/site_perl/5.16.3/Font/TTF/OS_2.pm line 301.
Use of uninitialized value in array element at /usr/local/lib/perl5/site_perl/5.16.3/Font/TTF/OS_2.pm line 301.
Use of uninitialized value in array element at /usr/local/lib/perl5/site_perl/5.16.3/Font/TTF/OS_2.pm line 301.
Use of uninitialized value in array element at /usr/local/lib/perl5/site_perl/5.16.3/Font/TTF/OS_2.pm line 301.
Use of uninitialized value in array element at /usr/local/lib/perl5/site_perl/5.16.3/Font/TTF/OS_2.pm line 301.
Use of uninitialized value in array element at /usr/local/lib/perl5/site_perl/5.16.3/Font/TTF/OS_2.pm line 301.
Use of uninitialized value in array element at /usr/local/lib/perl5/site_perl/5.16.3/Font/TTF/OS_2.pm line 301.
Use of uninitialized value in array element at /usr/local/lib/perl5/site_perl/5.16.3/Font/TTF/OS_2.pm line 301.
Use of uninitialized value in array element at /usr/local/lib/perl5/site_perl/5.16.3/Font/TTF/OS_2.pm line 301.
Use of uninitialized value in array element at /usr/local/lib/perl5/site_perl/5.16.3/Font/TTF/OS_2.pm line 301.
Use of uninitialized value in array element at /usr/local/lib/perl5/site_perl/5.16.3/Font/TTF/OS_2.pm line 301.
Use of uninitialized value in array element at /usr/local/lib/perl5/site_perl/5.16.3/Font/TTF/OS_2.pm line 301.
Use of uninitialized value in array element at /usr/local/lib/perl5/site_perl/5.16.3/Font/TTF/OS_2.pm line 301.
Use of uninitialized value in array element at /usr/local/lib/perl5/site_perl/5.16.3/Font/TTF/OS_2.pm line 303.
Use of uninitialized value $xMin in numeric lt (<) at /usr/local/lib/perl5/site_perl/5.16.3/Font/TTF/Head.pm line 170.
Use of uninitialized value $yMin in numeric lt (<) at /usr/local/lib/perl5/site_perl/5.16.3/Font/TTF/Head.pm line 171.
Use of uninitialized value $xMax in numeric gt (>) at /usr/local/lib/perl5/site_perl/5.16.3/Font/TTF/Head.pm line 172.
Use of uninitialized value $yMax in numeric gt (>) at /usr/local/lib/perl5/site_perl/5.16.3/Font/TTF/Head.pm line 173.
Use of uninitialized value $maw in numeric gt (>) at /usr/local/lib/perl5/site_perl/5.16.3/Font/TTF/Hhea.pm line 132.
Use of uninitialized value $mlsb in numeric lt (<) at /usr/local/lib/perl5/site_perl/5.16.3/Font/TTF/Hhea.pm line 133.
Use of uninitialized value $mrsb in numeric lt (<) at /usr/local/lib/perl5/site_perl/5.16.3/Font/TTF/Hhea.pm line 134.
Use of uninitialized value $mext in numeric gt (>) at /usr/local/lib/perl5/site_perl/5.16.3/Font/TTF/Hhea.pm line 135.
Use of uninitialized value in numeric gt (>) at /usr/local/lib/perl5/site_perl/5.16.3/Font/TTF/Maxp.pm line 151.
Use of uninitialized value in numeric gt (>) at /usr/local/lib/perl5/site_perl/5.16.3/Font/TTF/Maxp.pm line 151.
Use of uninitialized value in numeric gt (>) at /usr/local/lib/perl5/site_perl/5.16.3/Font/TTF/Maxp.pm line 151.
Use of uninitialized value $n[2] in numeric gt (>) at /usr/local/lib/perl5/site_perl/5.16.3/Font/TTF/Maxp.pm line 151.
Use of uninitialized value in numeric gt (>) at /usr/local/lib/perl5/site_perl/5.16.3/Font/TTF/Maxp.pm line 151.
Use of uninitialized value $n[3] in numeric gt (>) at /usr/local/lib/perl5/site_perl/5.16.3/Font/TTF/Maxp.pm line 151.
Use of uninitialized value in numeric gt (>) at /usr/local/lib/perl5/site_perl/5.16.3/Font/TTF/Maxp.pm line 151.
Use of uninitialized value in numeric gt (>) at /usr/local/lib/perl5/site_perl/5.16.3/Font/TTF/Maxp.pm line 151.
Use of uninitialized value $n[5] in numeric gt (>) at /usr/local/lib/perl5/site_perl/5.16.3/Font/TTF/Maxp.pm line 151.
Use of uninitialized value in numeric gt (>) at /usr/local/lib/perl5/site_perl/5.16.3/Font/TTF/Maxp.pm line 151.
Use of uninitialized value in numeric gt (>) at /usr/local/lib/perl5/site_perl/5.16.3/Font/TTF/Maxp.pm line 151.
Use of uninitialized value $n[2] in numeric gt (>) at /usr/local/lib/perl5/site_perl/5.16.3/Font/TTF/Maxp.pm line 151.
Use of uninitialized value in numeric gt (>) at /usr/local/lib/perl5/site_perl/5.16.3/Font/TTF/Maxp.pm line 151.
Use of uninitialized value $n[3] in numeric gt (>) at /usr/local/lib/perl5/site_perl/5.16.3/Font/TTF/Maxp.pm line 151.
Use of uninitialized value in numeric gt (>) at /usr/local/lib/perl5/site_perl/5.16.3/Font/TTF/Maxp.pm line 151.
Use of uninitialized value $n[5] in numeric gt (>) at /usr/local/lib/perl5/site_perl/5.16.3/Font/TTF/Maxp.pm line 151.
Use of uninitialized value in numeric gt (>) at /usr/local/lib/perl5/site_perl/5.16.3/Font/TTF/Maxp.pm line 151.
Use of uninitialized value $n[2] in numeric gt (>) at /usr/local/lib/perl5/site_perl/5.16.3/Font/TTF/Maxp.pm line 151.
Use of uninitialized value in numeric gt (>) at /usr/local/lib/perl5/site_perl/5.16.3/Font/TTF/Maxp.pm line 151.
Use of uninitialized value $n[3] in numeric gt (>) at /usr/local/lib/perl5/site_perl/5.16.3/Font/TTF/Maxp.pm line 151.
Use of uninitialized value in numeric gt (>) at /usr/local/lib/perl5/site_perl/5.16.3/Font/TTF/Maxp.pm line 151.
Use of uninitialized value $n[5] in numeric gt (>) at /usr/local/lib/perl5/site_perl/5.16.3/Font/TTF/Maxp.pm line 151.
Filehandle $fh opened only for output at /usr/local/lib/perl5/5.16.3/darwin-2level/IO/Handle.pm line 460.
Use of uninitialized value in pack at /usr/local/lib/perl5/site_perl/5.16.3/Font/TTF/Cmap.pm line 330.
Use of uninitialized value in pack at /usr/local/lib/perl5/site_perl/5.16.3/Font/TTF/Cmap.pm line 330.
Use of uninitialized value in pack at /usr/local/lib/perl5/site_perl/5.16.3/Font/TTF/Cmap.pm line 330.
Use of uninitialized value in pack at /usr/local/lib/perl5/site_perl/5.16.3/Font/TTF/Cmap.pm line 330.
Use of uninitialized value in pack at /usr/local/lib/perl5/site_perl/5.16.3/Font/TTF/Cmap.pm line 330.
Use of uninitialized value in pack at /usr/local/lib/perl5/site_perl/5.16.3/Font/TTF/Cmap.pm line 330.
Use of uninitialized value in pack at /usr/local/lib/perl5/site_perl/5.16.3/Font/TTF/Cmap.pm line 330.
Use of uninitialized value in pack at /usr/local/lib/perl5/site_perl/5.16.3/Font/TTF/Cmap.pm line 330.
Use of uninitialized value in pack at /usr/local/lib/perl5/site_perl/5.16.3/Font/TTF/Cmap.pm line 330.
Use of uninitialized value in pack at /usr/local/lib/perl5/site_perl/5.16.3/Font/TTF/Cmap.pm line 330.
Use of uninitialized value in pack at /usr/local/lib/perl5/site_perl/5.16.3/Font/TTF/Cmap.pm line 330.
Use of uninitialized value in pack at /usr/local/lib/perl5/site_perl/5.16.3/Font/TTF/Cmap.pm line 330.
Use of uninitialized value in pack at /usr/local/lib/perl5/site_perl/5.16.3/Font/TTF/Cmap.pm line 330.
Use of uninitialized value in pack at /usr/local/lib/perl5/site_perl/5.16.3/Font/TTF/Cmap.pm line 330.
Use of uninitialized value in pack at /usr/local/lib/perl5/site_perl/5.16.3/Font/TTF/Cmap.pm line 330.
Use of uninitialized value in pack at /usr/local/lib/perl5/site_perl/5.16.3/Font/TTF/Cmap.pm line 330.
Use of uninitialized value in pack at /usr/local/lib/perl5/site_perl/5.16.3/Font/TTF/Cmap.pm line 330.
Use of uninitialized value in pack at /usr/local/lib/perl5/site_perl/5.16.3/Font/TTF/Cmap.pm line 330.
Use of uninitialized value in pack at /usr/local/lib/perl5/site_perl/5.16.3/Font/TTF/Cmap.pm line 330.
Use of uninitialized value in pack at /usr/local/lib/perl5/site_perl/5.16.3/Font/TTF/Cmap.pm line 330.
Use of uninitialized value in pack at /usr/local/lib/perl5/site_perl/5.16.3/Font/TTF/Cmap.pm line 330.
Use of uninitialized value in pack at /usr/local/lib/perl5/site_perl/5.16.3/Font/TTF/Cmap.pm line 330.
Use of uninitialized value in pack at /usr/local/lib/perl5/site_perl/5.16.3/Font/TTF/Cmap.pm line 330.
Use of uninitialized value in pack at /usr/local/lib/perl5/site_perl/5.16.3/Font/TTF/Cmap.pm line 330.
Use of uninitialized value in pack at /usr/local/lib/perl5/site_perl/5.16.3/Font/TTF/Cmap.pm line 330.
Use of uninitialized value in pack at /usr/local/lib/perl5/site_perl/5.16.3/Font/TTF/Cmap.pm line 330.
Use of uninitialized value in pack at /usr/local/lib/perl5/site_perl/5.16.3/Font/TTF/Cmap.pm line 330.
Use of uninitialized value in pack at /usr/local/lib/perl5/site_perl/5.16.3/Font/TTF/Cmap.pm line 330.
Use of uninitialized value in pack at /usr/local/lib/perl5/site_perl/5.16.3/Font/TTF/Cmap.pm line 330.
Use of uninitialized value in pack at /usr/local/lib/perl5/site_perl/5.16.3/Font/TTF/Cmap.pm line 330.
Use of uninitialized value in pack at /usr/local/lib/perl5/site_perl/5.16.3/Font/TTF/Cmap.pm line 330.
Use of uninitialized value in pack at /usr/local/lib/perl5/site_perl/5.16.3/Font/TTF/Cmap.pm line 330.
Use of uninitialized value in pack at /usr/local/lib/perl5/site_perl/5.16.3/Font/TTF/Cmap.pm line 330.
Use of uninitialized value in pack at /usr/local/lib/perl5/site_perl/5.16.3/Font/TTF/Cmap.pm line 330.
Use of uninitialized value in pack at /usr/local/lib/perl5/site_perl/5.16.3/Font/TTF/Cmap.pm line 330.
Use of uninitialized value in pack at /usr/local/lib/perl5/site_perl/5.16.3/Font/TTF/Cmap.pm line 330.
Use of uninitialized value in pack at /usr/local/lib/perl5/site_perl/5.16.3/Font/TTF/Cmap.pm line 330.
Use of uninitialized value in pack at /usr/local/lib/perl5/site_perl/5.16.3/Font/TTF/Cmap.pm line 330.
Use of uninitialized value in pack at /usr/local/lib/perl5/site_perl/5.16.3/Font/TTF/Cmap.pm line 330.
Use of uninitialized value in pack at /usr/local/lib/perl5/site_perl/5.16.3/Font/TTF/Cmap.pm line 330.
Use of uninitialized value in pack at /usr/local/lib/perl5/site_perl/5.16.3/Font/TTF/Cmap.pm line 330.
Use of uninitialized value in pack at /usr/local/lib/perl5/site_perl/5.16.3/Font/TTF/Cmap.pm line 330.
Use of uninitialized value in pack at /usr/local/lib/perl5/site_perl/5.16.3/Font/TTF/Cmap.pm line 330.
Use of uninitialized value in pack at /usr/local/lib/perl5/site_perl/5.16.3/Font/TTF/Cmap.pm line 330.
Use of uninitialized value in pack at /usr/local/lib/perl5/site_perl/5.16.3/Font/TTF/Cmap.pm line 330.
Use of uninitialized value in pack at /usr/local/lib/perl5/site_perl/5.16.3/Font/TTF/Cmap.pm line 330.
Use of uninitialized value in pack at /usr/local/lib/perl5/site_perl/5.16.3/Font/TTF/Cmap.pm line 330.
Use of uninitialized value in pack at /usr/local/lib/perl5/site_perl/5.16.3/Font/TTF/Cmap.pm line 330.
Use of uninitialized value in pack at /usr/local/lib/perl5/site_perl/5.16.3/Font/TTF/Cmap.pm line 330.
Use of uninitialized value in pack at /usr/local/lib/perl5/site_perl/5.16.3/Font/TTF/Cmap.pm line 330.
Use of uninitialized value in pack at /usr/local/lib/perl5/site_perl/5.16.3/Font/TTF/Cmap.pm line 330.
Use of uninitialized value in pack at /usr/local/lib/perl5/site_perl/5.16.3/Font/TTF/Cmap.pm line 330.
Use of uninitialized value in pack at /usr/local/lib/perl5/site_perl/5.16.3/Font/TTF/Cmap.pm line 330.
Use of uninitialized value in pack at /usr/local/lib/perl5/site_perl/5.16.3/Font/TTF/Cmap.pm line 330.
Use of uninitialized value in pack at /usr/local/lib/perl5/site_perl/5.16.3/Font/TTF/Cmap.pm line 330.
Use of uninitialized value in pack at /usr/local/lib/perl5/site_perl/5.16.3/Font/TTF/Cmap.pm line 330.
Use of uninitialized value in pack at /usr/local/lib/perl5/site_perl/5.16.3/Font/TTF/Cmap.pm line 330.
Use of uninitialized value in pack at /usr/local/lib/perl5/site_perl/5.16.3/Font/TTF/Cmap.pm line 330.
Use of uninitialized value in pack at /usr/local/lib/perl5/site_perl/5.16.3/Font/TTF/Cmap.pm line 330.
Use of uninitialized value in pack at /usr/local/lib/perl5/site_perl/5.16.3/Font/TTF/Cmap.pm line 330.
Use of uninitialized value in pack at /usr/local/lib/perl5/site_perl/5.16.3/Font/TTF/Cmap.pm line 330.
Use of uninitialized value in pack at /usr/local/lib/perl5/site_perl/5.16.3/Font/TTF/Cmap.pm line 330.
Use of uninitialized value in pack at /usr/local/lib/perl5/site_perl/5.16.3/Font/TTF/Cmap.pm line 330.
Use of uninitialized value in pack at /usr/local/lib/perl5/site_perl/5.16.3/Font/TTF/Cmap.pm line 330.
Use of uninitialized value in pack at /usr/local/lib/perl5/site_perl/5.16.3/Font/TTF/Cmap.pm line 330.
Use of uninitialized value in pack at /usr/local/lib/perl5/site_perl/5.16.3/Font/TTF/Cmap.pm line 330.
Use of uninitialized value in pack at /usr/local/lib/perl5/site_perl/5.16.3/Font/TTF/Cmap.pm line 330.
Use of uninitialized value in pack at /usr/local/lib/perl5/site_perl/5.16.3/Font/TTF/Cmap.pm line 330.
Use of uninitialized value in pack at /usr/local/lib/perl5/site_perl/5.16.3/Font/TTF/Cmap.pm line 330.
Use of uninitialized value in pack at /usr/local/lib/perl5/site_perl/5.16.3/Font/TTF/Cmap.pm line 330.
Use of uninitialized value in pack at /usr/local/lib/perl5/site_perl/5.16.3/Font/TTF/Cmap.pm line 330.
Use of uninitialized value in pack at /usr/local/lib/perl5/site_perl/5.16.3/Font/TTF/Cmap.pm line 330.
Use of uninitialized value in pack at /usr/local/lib/perl5/site_perl/5.16.3/Font/TTF/Cmap.pm line 330.
Use of uninitialized value in pack at /usr/local/lib/perl5/site_perl/5.16.3/Font/TTF/Cmap.pm line 330.
Use of uninitialized value in pack at /usr/local/lib/perl5/site_perl/5.16.3/Font/TTF/Cmap.pm line 330.
Use of uninitialized value in pack at /usr/local/lib/perl5/site_perl/5.16.3/Font/TTF/Cmap.pm line 330.
Use of uninitialized value in pack at /usr/local/lib/perl5/site_perl/5.16.3/Font/TTF/Cmap.pm line 330.
Use of uninitialized value in pack at /usr/local/lib/perl5/site_perl/5.16.3/Font/TTF/Cmap.pm line 330.
Use of uninitialized value in pack at /usr/local/lib/perl5/site_perl/5.16.3/Font/TTF/Cmap.pm line 330.
Use of uninitialized value in pack at /usr/local/lib/perl5/site_perl/5.16.3/Font/TTF/Cmap.pm line 330.
Use of uninitialized value in pack at /usr/local/lib/perl5/site_perl/5.16.3/Font/TTF/Cmap.pm line 330.
Use of uninitialized value in pack at /usr/local/lib/perl5/site_perl/5.16.3/Font/TTF/Cmap.pm line 330.
Use of uninitialized value in pack at /usr/local/lib/perl5/site_perl/5.16.3/Font/TTF/Cmap.pm line 330.
Use of uninitialized value in pack at /usr/local/lib/perl5/site_perl/5.16.3/Font/TTF/Cmap.pm line 330.
Use of uninitialized value in pack at /usr/local/lib/perl5/site_perl/5.16.3/Font/TTF/Cmap.pm line 330.
Use of uninitialized value in pack at /usr/local/lib/perl5/site_perl/5.16.3/Font/TTF/Cmap.pm line 330.
Use of uninitialized value in pack at /usr/local/lib/perl5/site_perl/5.16.3/Font/TTF/Cmap.pm line 330.
Use of uninitialized value in pack at /usr/local/lib/perl5/site_perl/5.16.3/Font/TTF/Cmap.pm line 330.
Use of uninitialized value in pack at /usr/local/lib/perl5/site_perl/5.16.3/Font/TTF/Cmap.pm line 330.
Use of uninitialized value in pack at /usr/local/lib/perl5/site_perl/5.16.3/Font/TTF/Cmap.pm line 330.
Use of uninitialized value in pack at /usr/local/lib/perl5/site_perl/5.16.3/Font/TTF/Cmap.pm line 330.
Use of uninitialized value in pack at /usr/local/lib/perl5/site_perl/5.16.3/Font/TTF/Cmap.pm line 330.
Use of uninitialized value in pack at /usr/local/lib/perl5/site_perl/5.16.3/Font/TTF/Cmap.pm line 330.
Use of uninitialized value in pack at /usr/local/lib/perl5/site_perl/5.16.3/Font/TTF/Cmap.pm line 330.
Use of uninitialized value in pack at /usr/local/lib/perl5/site_perl/5.16.3/Font/TTF/Cmap.pm line 330.
Use of uninitialized value in pack at /usr/local/lib/perl5/site_perl/5.16.3/Font/TTF/Cmap.pm line 330.
Use of uninitialized value in pack at /usr/local/lib/perl5/site_perl/5.16.3/Font/TTF/Cmap.pm line 330.
Use of uninitialized value in pack at /usr/local/lib/perl5/site_perl/5.16.3/Font/TTF/Cmap.pm line 330.
Use of uninitialized value in pack at /usr/local/lib/perl5/site_perl/5.16.3/Font/TTF/Cmap.pm line 330.
Use of uninitialized value in pack at /usr/local/lib/perl5/site_perl/5.16.3/Font/TTF/Cmap.pm line 330.
Use of uninitialized value in pack at /usr/local/lib/perl5/site_perl/5.16.3/Font/TTF/Cmap.pm line 330.
Use of uninitialized value in pack at /usr/local/lib/perl5/site_perl/5.16.3/Font/TTF/Cmap.pm line 330.
Use of uninitialized value in pack at /usr/local/lib/perl5/site_perl/5.16.3/Font/TTF/Cmap.pm line 330.
Use of uninitialized value in pack at /usr/local/lib/perl5/site_perl/5.16.3/Font/TTF/Cmap.pm line 330.
Use of uninitialized value in pack at /usr/local/lib/perl5/site_perl/5.16.3/Font/TTF/Cmap.pm line 330.
Use of uninitialized value in pack at /usr/local/lib/perl5/site_perl/5.16.3/Font/TTF/Cmap.pm line 330.
Use of uninitialized value in pack at /usr/local/lib/perl5/site_perl/5.16.3/Font/TTF/Cmap.pm line 330.
Use of uninitialized value in pack at /usr/local/lib/perl5/site_perl/5.16.3/Font/TTF/Cmap.pm line 330.
Use of uninitialized value in pack at /usr/local/lib/perl5/site_perl/5.16.3/Font/TTF/Cmap.pm line 330.
Use of uninitialized value in pack at /usr/local/lib/perl5/site_perl/5.16.3/Font/TTF/Cmap.pm line 330.
Use of uninitialized value in pack at /usr/local/lib/perl5/site_perl/5.16.3/Font/TTF/Cmap.pm line 330.
Use of uninitialized value in pack at /usr/local/lib/perl5/site_perl/5.16.3/Font/TTF/Cmap.pm line 330.
Use of uninitialized value in pack at /usr/local/lib/perl5/site_perl/5.16.3/Font/TTF/Cmap.pm line 330.
Use of uninitialized value in pack at /usr/local/lib/perl5/site_perl/5.16.3/Font/TTF/Cmap.pm line 330.
Use of uninitialized value in pack at /usr/local/lib/perl5/site_perl/5.16.3/Font/TTF/Cmap.pm line 330.
Use of uninitialized value in pack at /usr/local/lib/perl5/site_perl/5.16.3/Font/TTF/Cmap.pm line 330.
Use of uninitialized value in pack at /usr/local/lib/perl5/site_perl/5.16.3/Font/TTF/Cmap.pm line 330.
Use of uninitialized value in pack at /usr/local/lib/perl5/site_perl/5.16.3/Font/TTF/Cmap.pm line 330.
Use of uninitialized value in pack at /usr/local/lib/perl5/site_perl/5.16.3/Font/TTF/Cmap.pm line 330.
Use of uninitialized value in pack at /usr/local/lib/perl5/site_perl/5.16.3/Font/TTF/Cmap.pm line 330.
Use of uninitialized value in pack at /usr/local/lib/perl5/site_perl/5.16.3/Font/TTF/Cmap.pm line 330.
Use of uninitialized value in pack at /usr/local/lib/perl5/site_perl/5.16.3/Font/TTF/Cmap.pm line 330.
Use of uninitialized value in pack at /usr/local/lib/perl5/site_perl/5.16.3/Font/TTF/Cmap.pm line 330.
Use of uninitialized value in pack at /usr/local/lib/perl5/site_perl/5.16.3/Font/TTF/Cmap.pm line 330.
Use of uninitialized value in pack at /usr/local/lib/perl5/site_perl/5.16.3/Font/TTF/Cmap.pm line 330.
Use of uninitialized value in pack at /usr/local/lib/perl5/site_perl/5.16.3/Font/TTF/Cmap.pm line 330.
Use of uninitialized value in pack at /usr/local/lib/perl5/site_perl/5.16.3/Font/TTF/Cmap.pm line 330.
Use of uninitialized value in pack at /usr/local/lib/perl5/site_perl/5.16.3/Font/TTF/Cmap.pm line 330.
Use of uninitialized value in pack at /usr/local/lib/perl5/site_perl/5.16.3/Font/TTF/Cmap.pm line 330.
Use of uninitialized value in pack at /usr/local/lib/perl5/site_perl/5.16.3/Font/TTF/Cmap.pm line 330.
Use of uninitialized value in pack at /usr/local/lib/perl5/site_perl/5.16.3/Font/TTF/Cmap.pm line 330.
Use of uninitialized value in pack at /usr/local/lib/perl5/site_perl/5.16.3/Font/TTF/Cmap.pm line 330.
Use of uninitialized value in pack at /usr/local/lib/perl5/site_perl/5.16.3/Font/TTF/Cmap.pm line 330.
Use of uninitialized value in pack at /usr/local/lib/perl5/site_perl/5.16.3/Font/TTF/Cmap.pm line 330.
Use of uninitialized value in pack at /usr/local/lib/perl5/site_perl/5.16.3/Font/TTF/Cmap.pm line 330.
Use of uninitialized value in pack at /usr/local/lib/perl5/site_perl/5.16.3/Font/TTF/Cmap.pm line 330.
Use of uninitialized value in pack at /usr/local/lib/perl5/site_perl/5.16.3/Font/TTF/Cmap.pm line 330.
Use of uninitialized value in pack at /usr/local/lib/perl5/site_perl/5.16.3/Font/TTF/Cmap.pm line 330.
Use of uninitialized value in pack at /usr/local/lib/perl5/site_perl/5.16.3/Font/TTF/Cmap.pm line 330.
Use of uninitialized value in pack at /usr/local/lib/perl5/site_perl/5.16.3/Font/TTF/Cmap.pm line 330.
Use of uninitialized value in pack at /usr/local/lib/perl5/site_perl/5.16.3/Font/TTF/Cmap.pm line 330.
Use of uninitialized value in pack at /usr/local/lib/perl5/site_perl/5.16.3/Font/TTF/Cmap.pm line 330.
Use of uninitialized value in pack at /usr/local/lib/perl5/site_perl/5.16.3/Font/TTF/Cmap.pm line 330.
Use of uninitialized value in pack at /usr/local/lib/perl5/site_perl/5.16.3/Font/TTF/Cmap.pm line 330.
Use of uninitialized value in pack at /usr/local/lib/perl5/site_perl/5.16.3/Font/TTF/Cmap.pm line 330.
Use of uninitialized value in pack at /usr/local/lib/perl5/site_perl/5.16.3/Font/TTF/Cmap.pm line 330.
Use of uninitialized value in pack at /usr/local/lib/perl5/site_perl/5.16.3/Font/TTF/Cmap.pm line 330.
Use of uninitialized value in pack at /usr/local/lib/perl5/site_perl/5.16.3/Font/TTF/Cmap.pm line 330.
Use of uninitialized value in pack at /usr/local/lib/perl5/site_perl/5.16.3/Font/TTF/Cmap.pm line 330.
Use of uninitialized value in pack at /usr/local/lib/perl5/site_perl/5.16.3/Font/TTF/Cmap.pm line 330.
Use of uninitialized value in pack at /usr/local/lib/perl5/site_perl/5.16.3/Font/TTF/Cmap.pm line 330.
Use of uninitialized value in pack at /usr/local/lib/perl5/site_perl/5.16.3/Font/TTF/Cmap.pm line 330.
Use of uninitialized value in pack at /usr/local/lib/perl5/site_perl/5.16.3/Font/TTF/Cmap.pm line 330.
Use of uninitialized value in pack at /usr/local/lib/perl5/site_perl/5.16.3/Font/TTF/Cmap.pm line 330.
Use of uninitialized value in pack at /usr/local/lib/perl5/site_perl/5.16.3/Font/TTF/Cmap.pm line 330.
Use of uninitialized value in pack at /usr/local/lib/perl5/site_perl/5.16.3/Font/TTF/Cmap.pm line 330.
Use of uninitialized value in pack at /usr/local/lib/perl5/site_perl/5.16.3/Font/TTF/Cmap.pm line 330.
Use of uninitialized value in pack at /usr/local/lib/perl5/site_perl/5.16.3/Font/TTF/Cmap.pm line 330.
Use of uninitialized value in pack at /usr/local/lib/perl5/site_perl/5.16.3/Font/TTF/Cmap.pm line 330.
Use of uninitialized value in pack at /usr/local/lib/perl5/site_perl/5.16.3/Font/TTF/Cmap.pm line 330.
Use of uninitialized value in pack at /usr/local/lib/perl5/site_perl/5.16.3/Font/TTF/Cmap.pm line 330.
Use of uninitialized value in pack at /usr/local/lib/perl5/site_perl/5.16.3/Font/TTF/Cmap.pm line 330.
Use of uninitialized value in pack at /usr/local/lib/perl5/site_perl/5.16.3/Font/TTF/Cmap.pm line 330.
Use of uninitialized value in pack at /usr/local/lib/perl5/site_perl/5.16.3/Font/TTF/Cmap.pm line 330.
Use of uninitialized value in pack at /usr/local/lib/perl5/site_perl/5.16.3/Font/TTF/Cmap.pm line 330.
Use of uninitialized value in pack at /usr/local/lib/perl5/site_perl/5.16.3/Font/TTF/Cmap.pm line 330.
Use of uninitialized value in pack at /usr/local/lib/perl5/site_perl/5.16.3/Font/TTF/Cmap.pm line 330.
Use of uninitialized value in pack at /usr/local/lib/perl5/site_perl/5.16.3/Font/TTF/Cmap.pm line 330.
Use of uninitialized value in pack at /usr/local/lib/perl5/site_perl/5.16.3/Font/TTF/Cmap.pm line 330.
Use of uninitialized value in pack at /usr/local/lib/perl5/site_perl/5.16.3/Font/TTF/Cmap.pm line 330.
Use of uninitialized value in pack at /usr/local/lib/perl5/site_perl/5.16.3/Font/TTF/Cmap.pm line 330.
Use of uninitialized value in pack at /usr/local/lib/perl5/site_perl/5.16.3/Font/TTF/Cmap.pm line 330.
Use of uninitialized value in pack at /usr/local/lib/perl5/site_perl/5.16.3/Font/TTF/Cmap.pm line 330.
Use of uninitialized value in pack at /usr/local/lib/perl5/site_perl/5.16.3/Font/TTF/Cmap.pm line 330.
Use of uninitialized value in pack at /usr/local/lib/perl5/site_perl/5.16.3/Font/TTF/Cmap.pm line 330.
Use of uninitialized value in pack at /usr/local/lib/perl5/site_perl/5.16.3/Font/TTF/Cmap.pm line 330.
Use of uninitialized value in pack at /usr/local/lib/perl5/site_perl/5.16.3/Font/TTF/Cmap.pm line 330.
Use of uninitialized value in pack at /usr/local/lib/perl5/site_perl/5.16.3/Font/TTF/Cmap.pm line 330.
Use of uninitialized value in pack at /usr/local/lib/perl5/site_perl/5.16.3/Font/TTF/Cmap.pm line 330.
Use of uninitialized value in pack at /usr/local/lib/perl5/site_perl/5.16.3/Font/TTF/Cmap.pm line 330.
Use of uninitialized value in pack at /usr/local/lib/perl5/site_perl/5.16.3/Font/TTF/Cmap.pm line 330.
Use of uninitialized value in pack at /usr/local/lib/perl5/site_perl/5.16.3/Font/TTF/Cmap.pm line 330.
Use of uninitialized value in pack at /usr/local/lib/perl5/site_perl/5.16.3/Font/TTF/Cmap.pm line 330.
Use of uninitialized value in pack at /usr/local/lib/perl5/site_perl/5.16.3/Font/TTF/Cmap.pm line 330.
Use of uninitialized value in pack at /usr/local/lib/perl5/site_perl/5.16.3/Font/TTF/Cmap.pm line 330.
Use of uninitialized value in pack at /usr/local/lib/perl5/site_perl/5.16.3/Font/TTF/Cmap.pm line 330.
Use of uninitialized value in pack at /usr/local/lib/perl5/site_perl/5.16.3/Font/TTF/Cmap.pm line 330.
Use of uninitialized value in pack at /usr/local/lib/perl5/site_perl/5.16.3/Font/TTF/Cmap.pm line 330.
Use of uninitialized value in pack at /usr/local/lib/perl5/site_perl/5.16.3/Font/TTF/Cmap.pm line 330.
Use of uninitialized value in pack at /usr/local/lib/perl5/site_perl/5.16.3/Font/TTF/Cmap.pm line 330.
Use of uninitialized value in pack at /usr/local/lib/perl5/site_perl/5.16.3/Font/TTF/Cmap.pm line 330.
Use of uninitialized value in pack at /usr/local/lib/perl5/site_perl/5.16.3/Font/TTF/Cmap.pm line 330.
Use of uninitialized value in pack at /usr/local/lib/perl5/site_perl/5.16.3/Font/TTF/Cmap.pm line 330.
Use of uninitialized value in pack at /usr/local/lib/perl5/site_perl/5.16.3/Font/TTF/Cmap.pm line 330.
Use of uninitialized value in pack at /usr/local/lib/perl5/site_perl/5.16.3/Font/TTF/Cmap.pm line 330.
Use of uninitialized value in pack at /usr/local/lib/perl5/site_perl/5.16.3/Font/TTF/Cmap.pm line 330.
Use of uninitialized value in pack at /usr/local/lib/perl5/site_perl/5.16.3/Font/TTF/Cmap.pm line 330.
Use of uninitialized value in pack at /usr/local/lib/perl5/site_perl/5.16.3/Font/TTF/Cmap.pm line 330.
Use of uninitialized value in pack at /usr/local/lib/perl5/site_perl/5.16.3/Font/TTF/Cmap.pm line 330.
Use of uninitialized value in pack at /usr/local/lib/perl5/site_perl/5.16.3/Font/TTF/Cmap.pm line 330.
Use of uninitialized value in pack at /usr/local/lib/perl5/site_perl/5.16.3/Font/TTF/Cmap.pm line 330.
Use of uninitialized value in pack at /usr/local/lib/perl5/site_perl/5.16.3/Font/TTF/Cmap.pm line 330.
Use of uninitialized value in pack at /usr/local/lib/perl5/site_perl/5.16.3/Font/TTF/Cmap.pm line 330.
Use of uninitialized value in pack at /usr/local/lib/perl5/site_perl/5.16.3/Font/TTF/Cmap.pm line 330.
Use of uninitialized value in pack at /usr/local/lib/perl5/site_perl/5.16.3/Font/TTF/Cmap.pm line 330.
Use of uninitialized value in pack at /usr/local/lib/perl5/site_perl/5.16.3/Font/TTF/Cmap.pm line 330.
Use of uninitialized value in pack at /usr/local/lib/perl5/site_perl/5.16.3/Font/TTF/Cmap.pm line 330.
Use of uninitialized value in pack at /usr/local/lib/perl5/site_perl/5.16.3/Font/TTF/Cmap.pm line 330.
Use of uninitialized value in pack at /usr/local/lib/perl5/site_perl/5.16.3/Font/TTF/Cmap.pm line 330.
Use of uninitialized value in pack at /usr/local/lib/perl5/site_perl/5.16.3/Font/TTF/Cmap.pm line 330.
Use of uninitialized value in pack at /usr/local/lib/perl5/site_perl/5.16.3/Font/TTF/Cmap.pm line 330.
Use of uninitialized value in pack at /usr/local/lib/perl5/site_perl/5.16.3/Font/TTF/Cmap.pm line 330.
Use of uninitialized value in pack at /usr/local/lib/perl5/site_perl/5.16.3/Font/TTF/Cmap.pm line 330.
Use of uninitialized value in pack at /usr/local/lib/perl5/site_perl/5.16.3/Font/TTF/Cmap.pm line 330.
Use of uninitialized value in pack at /usr/local/lib/perl5/site_perl/5.16.3/Font/TTF/Cmap.pm line 330.
Use of uninitialized value in pack at /usr/local/lib/perl5/site_perl/5.16.3/Font/TTF/Cmap.pm line 330.
Use of uninitialized value in pack at /usr/local/lib/perl5/site_perl/5.16.3/Font/TTF/Cmap.pm line 330.
Use of uninitialized value in pack at /usr/local/lib/perl5/site_perl/5.16.3/Font/TTF/Cmap.pm line 330.
Use of uninitialized value in pack at /usr/local/lib/perl5/site_perl/5.16.3/Font/TTF/Cmap.pm line 330.
Use of uninitialized value in pack at /usr/local/lib/perl5/site_perl/5.16.3/Font/TTF/Cmap.pm line 330.
Use of uninitialized value in pack at /usr/local/lib/perl5/site_perl/5.16.3/Font/TTF/Cmap.pm line 330.
Use of uninitialized value in pack at /usr/local/lib/perl5/site_perl/5.16.3/Font/TTF/Cmap.pm line 330.
Use of uninitialized value in pack at /usr/local/lib/perl5/site_perl/5.16.3/Font/TTF/Cmap.pm line 330.
Use of uninitialized value in pack at /usr/local/lib/perl5/site_perl/5.16.3/Font/TTF/Cmap.pm line 330.
Use of uninitialized value in pack at /usr/local/lib/perl5/site_perl/5.16.3/Font/TTF/Cmap.pm line 330.
Use of uninitialized value in pack at /usr/local/lib/perl5/site_perl/5.16.3/Font/TTF/Cmap.pm line 330.
Use of uninitialized value in pack at /usr/local/lib/perl5/site_perl/5.16.3/Font/TTF/Cmap.pm line 330.
Use of uninitialized value in pack at /usr/local/lib/perl5/site_perl/5.16.3/Font/TTF/Cmap.pm line 330.
Use of uninitialized value in pack at /usr/local/lib/perl5/site_perl/5.16.3/Font/TTF/Cmap.pm line 330.
Use of uninitialized value in pack at /usr/local/lib/perl5/site_perl/5.16.3/Font/TTF/Cmap.pm line 330.
Use of uninitialized value in pack at /usr/local/lib/perl5/site_perl/5.16.3/Font/TTF/Cmap.pm line 330.
Use of uninitialized value in pack at /usr/local/lib/perl5/site_perl/5.16.3/Font/TTF/Cmap.pm line 330.
Use of uninitialized value in pack at /usr/local/lib/perl5/site_perl/5.16.3/Font/TTF/Cmap.pm line 330.
Use of uninitialized value in pack at /usr/local/lib/perl5/site_perl/5.16.3/Font/TTF/Cmap.pm line 330.
Use of uninitialized value in pack at /usr/local/lib/perl5/site_perl/5.16.3/Font/TTF/Cmap.pm line 330.
Use of uninitialized value in pack at /usr/local/lib/perl5/site_perl/5.16.3/Font/TTF/Cmap.pm line 330.
Use of uninitialized value in pack at /usr/local/lib/perl5/site_perl/5.16.3/Font/TTF/Cmap.pm line 330.
Use of uninitialized value in pack at /usr/local/lib/perl5/site_perl/5.16.3/Font/TTF/Cmap.pm line 330.
Use of uninitialized value in pack at /usr/local/lib/perl5/site_perl/5.16.3/Font/TTF/Cmap.pm line 330.
Use of uninitialized value in pack at /usr/local/lib/perl5/site_perl/5.16.3/Font/TTF/Cmap.pm line 330.
Use of uninitialized value in pack at /usr/local/lib/perl5/site_perl/5.16.3/Font/TTF/Cmap.pm line 330.
Use of uninitialized value in pack at /usr/local/lib/perl5/site_perl/5.16.3/Font/TTF/Cmap.pm line 330.
Use of uninitialized value in pack at /usr/local/lib/perl5/site_perl/5.16.3/Font/TTF/Cmap.pm line 330.
Use of uninitialized value in pack at /usr/local/lib/perl5/site_perl/5.16.3/Font/TTF/Cmap.pm line 330.
Use of uninitialized value in pack at /usr/local/lib/perl5/site_perl/5.16.3/Font/TTF/Cmap.pm line 330.
Use of uninitialized value in pack at /usr/local/lib/perl5/site_perl/5.16.3/Font/TTF/Cmap.pm line 330.
Use of uninitialized value in pack at /usr/local/lib/perl5/site_perl/5.16.3/Font/TTF/Cmap.pm line 330.
Use of uninitialized value in pack at /usr/local/lib/perl5/site_perl/5.16.3/Font/TTF/Cmap.pm line 330.
Use of uninitialized value in pack at /usr/local/lib/perl5/site_perl/5.16.3/Font/TTF/Cmap.pm line 330.
Use of uninitialized value in pack at /usr/local/lib/perl5/site_perl/5.16.3/Font/TTF/Cmap.pm line 330.
Filehandle $fh opened only for output at /usr/local/lib/perl5/5.16.3/darwin-2level/IO/Handle.pm line 460.
Filehandle $fh opened only for output at /usr/local/lib/perl5/5.16.3/darwin-2level/IO/Handle.pm line 460.
Filehandle $fh opened only for output at /usr/local/lib/perl5/5.16.3/darwin-2level/IO/Handle.pm line 460.
Filehandle $fh opened only for output at /usr/local/lib/perl5/5.16.3/darwin-2level/IO/Handle.pm line 460.
Argument " CSUM" isn't numeric in sort at /usr/local/lib/perl5/site_perl/5.16.3/Font/TTF/Hdmx.pm line 83.
Argument " isDirty" isn't numeric in sort at /usr/local/lib/perl5/site_perl/5.16.3/Font/TTF/Hdmx.pm line 83.
Argument " LENGTH" isn't numeric in sort at /usr/local/lib/perl5/site_perl/5.16.3/Font/TTF/Hdmx.pm line 83.
Argument " NAME" isn't numeric in sort at /usr/local/lib/perl5/site_perl/5.16.3/Font/TTF/Hdmx.pm line 83.
Argument " OFFSET" isn't numeric in sort at /usr/local/lib/perl5/site_perl/5.16.3/Font/TTF/Hdmx.pm line 83.
Argument " INFILE" isn't numeric in sort at /usr/local/lib/perl5/site_perl/5.16.3/Font/TTF/Hdmx.pm line 83.
Argument " subsetdone" isn't numeric in sort at /usr/local/lib/perl5/site_perl/5.16.3/Font/TTF/Hdmx.pm line 83.
Argument " PARENT" isn't numeric in sort at /usr/local/lib/perl5/site_perl/5.16.3/Font/TTF/Hdmx.pm line 83.
Argument "Version" isn't numeric in sort at /usr/local/lib/perl5/site_perl/5.16.3/Font/TTF/Hdmx.pm line 83.
Argument " ZLENGTH" isn't numeric in sort at /usr/local/lib/perl5/site_perl/5.16.3/Font/TTF/Hdmx.pm line 83.
Argument " read" isn't numeric in sort at /usr/local/lib/perl5/site_perl/5.16.3/Font/TTF/Hdmx.pm line 83.
Argument "Num" isn't numeric in sort at /usr/local/lib/perl5/site_perl/5.16.3/Font/TTF/Hdmx.pm line 83.
Filehandle $fh opened only for output at /usr/local/lib/perl5/5.16.3/darwin-2level/IO/Handle.pm line 460.
Filehandle $fh opened only for output at /usr/local/lib/perl5/5.16.3/darwin-2level/IO/Handle.pm line 460.
Filehandle $fh opened only for output at /usr/local/lib/perl5/5.16.3/darwin-2level/IO/Handle.pm line 460.
Filehandle $fh opened only for output at /usr/local/lib/perl5/5.16.3/darwin-2level/IO/Handle.pm line 460.
Filehandle $fh opened only for output at /usr/local/lib/perl5/5.16.3/darwin-2level/IO/Handle.pm line 460.
Filehandle $fh opened only for output at /usr/local/lib/perl5/5.16.3/darwin-2level/IO/Handle.pm line 460.
Filehandle $fh opened only for output at /usr/local/lib/perl5/5.16.3/darwin-2level/IO/Handle.pm line 460.
Filehandle $fh opened only for output at /usr/local/lib/perl5/5.16.3/darwin-2level/IO/Handle.pm line 460.
Filehandle $fh opened only for output at /usr/local/lib/perl5/5.16.3/darwin-2level/IO/Handle.pm line 460.
Filehandle $fh opened only for output at /usr/local/lib/perl5/5.16.3/darwin-2level/IO/Handle.pm line 460.
t/cache.t ..................... ok
All tests successful.
Files=4, Tests=10,  2 wallclock secs ( 0.04 usr  0.01 sys +  1.45 cusr  0.18 csys =  1.68 CPU)
Result: PASS

------------------------------
PREREQUISITES
------------------------------

Prerequisite modules loaded:

requires:

    Module                     Need    Have    
    -------------------------- ------- --------
    Dancer                     0       1.3116  
    Dancer::Plugin             0       0       
    Font::TTF::Font            0       0.39    
    Font::TTF::Scripts::Name   0       0       
    List::AllUtils             0       0.03    
    Moo                        0       1.003000
    MooX::Singleton            0       1.20    
    perl                       v5.12.0 5.016003
    warnings                   0       1.13    

build_requires:

    Module                     Need    Have    
    -------------------------- ------- --------
    Dancer::Plugin::Cache::CHI 0       1.4.0   
    Dancer::Test               0       0       
    File::Find                 0       1.20    
    File::Temp                 0       0.2301  
    Module::Build              0.3601  0.4005  
    strict                     0       1.07    
    Test::More                 0.88    0.98_05 

configure_requires:

    Module                     Need    Have    
    -------------------------- ------- --------
    Module::Build              0.3601  0.4005  


------------------------------
ENVIRONMENT AND OTHER CONTEXT
------------------------------

Environment variables:

    PATH = /usr/local/apache/bin:/usr/local/bin:/Developer/usr/bin:/usr/bin:/bin:/usr/sbin:/sbin:/usr/local/bin:/opt/X11/bin
    PERL5LIB = 
    PERL5OPT = 
    PERL5_CPANPLUS_IS_RUNNING = 84592
    PERL5_CPAN_IS_RUNNING = 84592
    PERL5_CPAN_IS_RUNNING_IN_RECURSION = 36715,84592
    SHELL = /bin/tcsh
    TERM = xterm

Perl special variables (and OS-specific diagnostics, for MSWin32):

    $^X = /usr/local/bin/perl
    $UID/$EUID = 0 / 0
    $GID = 0 0 1 2 3 4 5 8 9 12 20 29 61 80
    $EGID = 0 0 1 2 3 4 5 8 9 12 20 29 61 80

Perl module toolchain versions installed:

    Module              Have    
    ------------------- --------
    CPAN                2.00    
    CPAN::Meta          2.131560
    Cwd                 3.40    
    ExtUtils::CBuilder  0.280206
    ExtUtils::Command   1.17    
    ExtUtils::Install   1.58    
    ExtUtils::MakeMaker 6.72    
    ExtUtils::Manifest  1.61    
    ExtUtils::ParseXS   3.18_04 
    File::Spec          3.40    
    JSON                2.59    
    JSON::PP            2.27202 
    Module::Build       0.4005  
    Module::Signature   0.73    
    Parse::CPAN::Meta   1.4404  
    Test::Harness       3.28    
    Test::More          0.98_05 
    YAML                0.84    
    YAML::Syck          1.27    
    version             0.9902  


--

Summary of my perl5 (revision 5 version 16 subversion 3) configuration:
   
  Platform:
    osname=darwin, osvers=12.2.0, archname=darwin-2level
    uname='darwin tucumcari.local 12.2.0 darwin kernel version 12.2.0: sat aug 25 00:48:52 pdt 2012; root:xnu-2050.18.24~1release_x86_64 x86_64 '
    config_args='-Dprefix=/usr/local'
    hint=recommended, useposix=true, d_sigaction=define
    useithreads=undef, usemultiplicity=undef
    useperlio=define, d_sfio=undef, uselargefiles=define, usesocks=undef
    use64bitint=define, use64bitall=define, uselongdouble=undef
    usemymalloc=n, bincompat5005=undef
  Compiler:
    cc='gcc', ccflags ='-fno-common -DPERL_DARWIN -fno-strict-aliasing -pipe -fstack-protector -I/usr/local/include -I/opt/local/include',
    optimize='-O3',
    cppflags='-fno-common -DPERL_DARWIN -fno-strict-aliasing -pipe -fstack-protector -I/usr/local/include -I/opt/local/include'
    ccversion='', gccversion='4.2.1 (Based on Apple Inc. build 5658) (LLVM build 2336.11.00)', gccosandvers=''
    intsize=4, longsize=8, ptrsize=8, doublesize=8, byteorder=12345678
    d_longlong=define, longlongsize=8, d_longdbl=define, longdblsize=16
    ivtype='long', ivsize=8, nvtype='double', nvsize=8, Off_t='off_t', lseeksize=8
    alignbytes=8, prototype=define
  Linker and Libraries:
    ld='env MACOSX_DEPLOYMENT_TARGET=10.3 cc', ldflags =' -fstack-protector -L/usr/local/lib -L/opt/local/lib'
    libpth=/usr/local/lib /opt/local/lib /usr/lib
    libs=-lgdbm -ldbm -ldl -lm -lutil -lc
    perllibs=-ldl -lm -lutil -lc
    libc=, so=dylib, useshrplib=false, libperl=libperl.a
    gnulibc_version=''
  Dynamic Linking:
    dlsrc=dl_dlopen.xs, dlext=bundle, d_dlsymun=undef, ccdlflags=' '
    cccdlflags=' ', lddlflags=' -bundle -undefined dynamic_lookup -L/usr/local/lib -L/opt/local/lib -fstack-protector'


Characteristics of this binary (from libperl): 
  Compile-time options: HAS_TIMES PERLIO_LAYERS PERL_DONT_CREATE_GVSV
                        PERL_MALLOC_WRAP PERL_PRESERVE_IVUV USE_64_BIT_ALL
                        USE_64_BIT_INT USE_LARGE_FILES USE_LOCALE
                        USE_LOCALE_COLLATE USE_LOCALE_CTYPE
                        USE_LOCALE_NUMERIC USE_PERLIO USE_PERL_ATOF
  Built under darwin
  Compiled at Mar 12 2013 23:34:14
  %ENV:
    PERL5LIB=""
    PERL5OPT=""
    PERL5_CPANPLUS_IS_RUNNING="84592"
    PERL5_CPAN_IS_RUNNING="84592"
    PERL5_CPAN_IS_RUNNING_IN_RECURSION="36715,84592"
  @INC:
    /usr/local/lib/perl5/site_perl/5.16.3/darwin-2level
    /usr/local/lib/perl5/site_perl/5.16.3
    /usr/local/lib/perl5/5.16.3/darwin-2level
    /usr/local/lib/perl5/5.16.3
    .